{"text_format":"1","workbook":"xlsx","n_sheets":28,"sheets":["Analisis","Dashboard","Ayuda y Version","pBlock","pAccel1","Data","consolida","Prevision","esquema","SEPE contratos","Iass","sabi","Comision Europea","ETT","DNIs","contratos ETT consolidados","TRABAJADORES SEPE","DescargaSeries_201910021213","chart","ine-parados","ine-paro","ine-activos","ine-activos (tasa)","ine-ocupados","ine-temporales","ine-etcl","duracion","rotacion"],"not_rendered":{"charts":65,"images":14,"macros":1,"external_links":1,"defined_names":307,"comments":3,"pivot_tables":1},"unopened":[],"bounds":{"document_bytes":16777216,"sheet_cells":100000,"rows_first":2000,"rows_last":500,"rows_between":2000,"halvings":0,"cell_chars":16384,"cell_head_chars":4096},"cells_cut":0,"cells_raw":0,"read":"whole","date_system":"1900"}

{"sheet":"Analisis","index":0,"n_rows":176,"n_cols":8,"rows_kept":176,"cut":false,"hidden":false,"merged":[]}
[]
[]
[null,null,null,null,null,null,null,"METODOLOGIA"]
[null,null,null,null,null,null,null,"BASE 2015-2018"]
[]
["Fuentes:"]
[]
[]
[]
[]
[]
["Metodología:"]
[]
[]
[]
[]
[]
[]
[]
[]
[]
[]
[]
[]
["Análisis de la Estacionalidad de las Operaciones de ASEMPLEO (a través de las empresas asociadas), 2015-2019. "]
[]
[]
[]
[]
[]
[]
[]
[]
[]
[]
[]
[]
[]
[]
[]
[]
[]
["Fuente: Cifras consolidadas del sector. ASEMPLEO ©. ",null,null,null,null,null,null,"pág. 1 / 3"]
[]
[]
[]
[null,null,null,null,null,null,null,"INDICADORES"]
[null,null,null,null,null,null,null,"GLOSARIO"]
[]
["Glosario: ","Fuente:",null,"Detalle:"]
[]
["\"% i.a.\"","n.a. (no aplica)",null,"  Tasa de variación anual del mes respecto al mes del año anterior (interanual)."]
["\"% i.a.12m\"","n.a. (no aplica)"]
[]
[]
[]
[]
["CPDs a 3M","ASEMPLEO"]
["Facturación a 3M","ASEMPLEO"]
[]
[]
[]
[]
["Afiliados","Seguridad Social",null,"  Número de afiliaciones de trabajadores a la seguridad social (coloquialmente Afiliados)"]
[]
["Contratos","SEPE",null,"  Contrataciones gestionadas por los servicios públicos de empleo (totales (indefinidos y temporales))"]
["Ind. Ocupación ","INE",null,"  Indice de ocupación del sector 78, actividades relacionadas con el empleo."]
[null,null,null,"  Se mide con la muestra de empresas del directorio oficial."]
[null,null,null,"  Permite hacer un foco de volumen más específico que la senda de afiliados totales."]
[]
[]
[null,"sector 78. Actividades relacionadas con el empleo"]
[null,"European Comission"]
["Clima sector 12m","Business and Consumer Surveys"]
["Empleo 3M sector "]
["12m"]
[]
[]
[]
[]
[]
[]
[]
[]
[]
[]
[]
[]
[]
[]
[]
["Fuente: Cifras consolidadas del sector. ASEMPLEO ©. ",null,null,null,null,null,null,"pág. 2 / 3"]
[]
[]
[]
[null,null,null,null,null,null,null,"INDICADORES"]
[null,null,null,null,null,null,null,"DEBATE"]
[]
["Evolución de los Afiliados en media mensual y como dato de fin de mes",null,null,null,"Tasa de variación anual de las dos series de Afiliados (media y fin de mes)"]
[]
[]
[]
[]
[]
[]
[]
[]
[]
[]
[]
[]
[]
[]
[]
[]
[]
[]
[]
[]
["Debate:"]
[]
["Ventajas y desventajas de usar la serie Afiliados media mensual vs. Fin de mes"]
[]
["Media Mensual"]
[]
["(+) sale en la Nota de prensa del Ministerio",null,null,null,"http://prensa.mitramiss.gob.es/WebPrensa/noticias/seguridadsocial/detalle/3596"]
["(-) tiene decimales de personas que obligan a redondeo"]
["(+) la media aritmética suaviza atípicos del fin de mes. No se aprecia tanto en los valores absolutos (afiliados) pero sí en las tasas de variación. La media genera un senda de evolución."]
["(+) facilita un análisis de las tasas de variación de cara a la opinión pública"]
[]
["Fin de Mes"]
["(+) es el dato real más cercano al mercado, con sus subidas y sus bajadas como pasa en las decisiones de los negocios y de la contratación de vuestro sector,"]
["(+) es el dato de las personas sin decimales"]
["(+) es el dato que se relaciona con las contrataciones vigentes del sector de las ETTs, pensando en un porcentaje importante de contratación temporal."]
["(+) es el dato del mes que realmente esta cotizando y que realmente está ocupado en el mercado."]
[]
[]
["Nota: por supuesto, una dato u otro (sea media del mes o fin de mes) es procesado de cara a la modelización extrayendo las señales principales. "]
[]
["Fuente: Cifras consolidadas del sector. ASEMPLEO ©. ",null,null,null,null,null,null,"pág. 3 / 3"]
[]
[]
[]
[]
[]
[]
[]
[]
[]
[]
["No se visualiza junto con los bloques de arriba, es una anotación complementaria de la Metodología."]
[]
["Cómo se construye el modelo ASEMPLEO para enlazar el mercado laboral con el sector ETTs"]
[]
[]
[]
[]
[]
[]
[]
[]
[]
[]
[]
[]
[]
[]
[]
[]
[]
[]
[]
[]
[]
[]
["Otro debate, sobre el uso inicial de la serie con datos corregidos"]

{"sheet":"Dashboard","index":1,"n_rows":88,"n_cols":102,"rows_kept":88,"cut":false,"hidden":false,"merged":[]}
[null,null,null,null,null,null,null,null,null,null,null,null,null,null,null,null,null,null,null,null,null,null,null,null,null,null,null,null,null,null,null,null,null,null,null,null,null,null,null,null,null,null,null,null,null,null,null,null,null,null,null,null,null,null,null,null,null,null,null,null,null,null,null,null,null,null,null,null,null,null,null,null,null,null,null,null,null,null,null,null,null,null,null,null,null,null,null,null,null,null,null,null,null,null,null,null,null,null,null,"PANEL MÉTRICAS"]
[null,null,null,null,null,null,null,null,null,null,null,null,null,null,null,null,null,null,null,null,null,null,null,null,null,null,null,null,null,null,null,null,null,null,null,null,null,null,null,null,null,null,null,null,null,null,null,null,null,null,null,null,null,null,null,null,null,null,null,null,null,null,null,null,null,null,null,null,null,null,null,null,null,null,null,null,null,null,null,null,null,null,null,null,null,null,null,null,null,null,null,null,null,null,null,null,null,null,null,"Título Métrica","Valor","Comentarios"]
[null,null,null,null,null,null,null,null,null,null,null,null,2020]
[null,null,null,null,null,null,null,null,null,null,null,null,"ENERO"]
[null,"Nacional","Último mes de información",null,"DICIEMBRE"]
[null,"CPDs  ","% i.a.","% i.a.12m",null,null,null,"Facturación",{"$f":"C6","v":"% i.a."},{"$f":"D6","v":"% i.a.12m"}]
[{"$f":"Data!A52","v":"2018-12-01"},{"$f":"Data!B52","v":249931},{"$f":"Data!J52","v":9.5784886269970615E-2},{"$f":"Data!P52","v":8.7830314942341836E-2},null,null,{"$f":"A7","v":"2018-12-01"},{"$f":"Data!D52","v":310586470.22700167},{"$f":"Data!L52","v":-1.7661984666306196E-2},{"$f":"Data!Q52","v":6.2516799222319674E-2}]
[{"$f":"Data!A53","v":"2019-01-01"},{"$f":"Data!B53","v":249801},{"$f":"Data!J53","v":4.7576911463750093E-2},{"$f":"Data!P53","v":8.1882663769102804E-2},null,null,{"$f":"A8","v":"2019-01-01"},{"$f":"Data!D53","v":327669711.7211864},{"$f":"Data!L53","v":2.9705793619534404E-2},{"$f":"Data!Q53","v":5.044830550395174E-2}]
[{"$f":"Data!A54","v":"2019-02-01"},{"$f":"Data!B54","v":201433},{"$f":"Data!J54","v":2.6096480057052673E-2},{"$f":"Data!P54","v":7.6453594373945721E-2},null,null,"2019-02-01",{"$f":"Data!D54","v":305837745.17579252},{"$f":"Data!L54","v":4.8889274646584102E-3},{"$f":"Data!Q54","v":4.0265908919912441E-2}]
[{"$f":"Data!A55","v":"2019-03-01"},{"$f":"Data!B55","v":224512},{"$f":"Data!J55","v":4.1335807050092654E-2},{"$f":"Data!P55","v":7.4156695710448695E-2},null,null,"2019-03-01",{"$f":"Data!D55","v":323862464.97319549},{"$f":"Data!L55","v":-1.7153039616734089E-3},{"$f":"Data!Q55","v":3.5030477686431638E-2}]
[{"$f":"Data!A56","v":"2019-04-01"},{"$f":"Data!B56","v":253926},{"$f":"Data!J56","v":6.7701040681173108E-2},{"$f":"Data!P56","v":6.8714031765456873E-2},null,null,"2019-04-01",{"$f":"Data!D56","v":322516955.3229093},{"$f":"Data!L56","v":-1.5588217119112957E-2},{"$f":"Data!Q56","v":1.9724114206040033E-2}]
[{"$f":"Data!A57","v":"2019-05-01"},{"$f":"Data!B57","v":271955},{"$f":"Data!J57","v":4.0641477955413396E-2},{"$f":"Data!P57","v":7.1862508615353926E-2},null,null,"2019-05-01",{"$f":"Data!D57","v":367643444.55845422},{"$f":"Data!L57","v":1.5806565568876385E-2},{"$f":"Data!Q57","v":1.492910269320169E-2}]
[{"$f":"Data!A58","v":"2019-06-01"},{"$f":"Data!B58","v":274286},{"$f":"Data!J58","v":2.0299149273329986E-2},{"$f":"Data!P58","v":6.9624842232776096E-2},null,null,"2019-06-01",{"$f":"Data!D58","v":359918540.23199099},{"$f":"Data!L58","v":-9.4838327298454317E-3},{"$f":"Data!Q58","v":9.2519744785977132E-3}]
[{"$f":"Data!A59","v":"2019-07-01"},{"$f":"Data!B59","v":291354},{"$f":"Data!J59","v":4.888111283912222E-2},{"$f":"Data!P59","v":6.4422554293628753E-2},null,null,"2019-07-01",{"$f":"Data!D59","v":419298301.40928471},{"$f":"Data!L59","v":6.9608350361433091E-2},{"$f":"Data!Q59","v":9.8787801031225975E-3}]
[{"$f":"Data!A60","v":"2019-08-01"},{"$f":"Data!B60","v":230288},{"$f":"Data!J60","v":-1.4169641863372107E-2},{"$f":"Data!P60","v":5.7603400449897091E-2},null,null,"2019-08-01",{"$f":"Data!D60","v":343156055.51918501},{"$f":"Data!L60","v":1.8279795932672149E-2},{"$f":"Data!Q60","v":8.7880021514761264E-3}]
[{"$f":"Data!A61","v":"2019-09-01"},{"$f":"Data!B61","v":266525},{"$f":"Data!J61","v":4.7813557789458283E-2},{"$f":"Data!P61","v":5.7096486663334778E-2},null,null,"2019-09-01",{"$f":"Data!D61","v":361129306.900011},{"$f":"Data!L61","v":7.8944503066422644E-2},{"$f":"Data!Q61","v":1.7231371657674188E-2}]
[{"$f":"Data!A62","v":"2019-10-01"},{"$f":"Data!B62","v":290990},{"$f":"Data!J62","v":-2.1945616020300207E-3},{"$f":"Data!P62","v":4.6395574080019264E-2},null,null,"2019-10-01",{"$f":"Data!D62","v":382719372.74531198},{"$f":"Data!L62","v":5.6864057628574827E-2},{"$f":"Data!Q62","v":1.8795851570521771E-2}]
[{"$f":"Data!A63","v":"2019-11-01"},{"$f":"Data!B63","v":282388.99999999994},{"$f":"Data!J63","v":3.8496475079158765E-2},{"$f":"Data!P63","v":3.7524960295403531E-2},null,null,"2019-11-01",{"$f":"Data!D63","v":364556187.90798074},{"$f":"Data!L63","v":2.6083374212651389E-2},{"$f":"Data!Q63","v":2.2380562235104984E-2}]
[{"$f":"Data!A64","v":"2019-12-01"},{"$f":"Data!B64","v":269180.70055543998},{"$f":"Data!J64","v":7.7020059758253101E-2},{"$f":"Data!P64","v":3.638500231868913E-2},null,null,{"$f":"A19","v":"2019-12-01"},{"$f":"Data!D64","v":341645940.27661502},{"$f":"Data!L64","v":0.10000264991231789},{"$f":"Data!Q64","v":3.1366908482128864E-2}]
[{"$f":"Data!A65","v":"2020-01-01"},{"$f":"Data!C65","v":260667.82850931419},{"$f":"Data!K65","v":4.3501941582756665E-2},{"$f":"Data!P65","v":3.6088896096455381E-2},null,null,{"$f":"A20","v":"2020-01-01"},{"$f":"Data!E65","v":329087398.58794838},{"$f":"Data!M65","v":4.326572814176588E-3},{"$f":"Data!Q65","v":2.9335313533943586E-2}]
[{"$f":"Data!A66","v":"2020-02-01"},{"$f":"Data!C66","v":213743.09605011542},{"$f":"Data!K66","v":6.1112608411310054E-2},{"$f":"Data!P66","v":3.8412093636041922E-2},null,null,{"$f":"A21","v":"2020-02-01"},{"$f":"Data!E66","v":311934445.85100383},{"$f":"Data!M66","v":1.9934428537285331E-2},{"$f":"Data!Q66","v":3.0448061276078908E-2}]
[{"$f":"Data!A67","v":"2020-03-01"},{"$f":"Data!C67","v":237564.17333591476},{"$f":"Data!K67","v":5.8135749251330804E-2},{"$f":"Data!P67","v":3.9668429661587234E-2},null,null,{"$f":"A22","v":"2020-03-01"},{"$f":"Data!E67","v":337243855.20207196},{"$f":"Data!M67","v":4.1318126291615798E-2},{"$f":"Data!Q67","v":3.3850016596900678E-2}]
[]
[]
[]
[]
[]
[]
[null,"Cifras de CONTRATACIÓN (Num. Contratos y % i.a.)",null,null,null,null,null,null,"Cifras de FACTURACIÓN (en €uros y % i.a.)"]
[]
[]
[]
[]
[]
[]
[]
[]
[]
[]
[]
[]
[]
[]
[]
["Fuente: Cifras consolidadas del sector. ASEMPLEO ©. ",null,null,null,null,null,null,null,null,null,null,null,"pág .1 / 2"]
["Nota técnica: Las previsiones se realizan para el horizonte anual y se van mostrando los tres meses inmediatos. "]
[]
[]
[null,null,null,null,null,null,null,null,null,null,null,null,{"$f":"M3","v":2020}]
[null,null,null,null,null,null,null,null,null,null,null,null,{"$f":"M4","v":"ENERO"}]
[null,{"$f":"B5","v":"Nacional"}]
["Número de Afiliados a las Seguridad Social (Trabajadores y % i.a.)",null,null,null,null,null,null,"Número de Contratos en los Servicios Públicos de Empleo (Contratos y % i.a.)"]
[]
[]
[]
[]
[]
[]
[]
[]
[]
[]
[]
[]
[]
[]
[]
[]
["Índice de Ocupación (INE) del sector 78 (actividades relacionadas con el empleo)",null,null,null,null,null,null,"Datos de clima y expectativas del sector desde la opinión de las empresas (CE)"]
[]
[]
[]
[]
[]
[]
[]
[]
[]
[]
[]
[]
[]
[]
[]
[]
[]
["Fuente: INE. SEPE. Comisión Europea. Ministerio de Trabajo y ASEMPLEO ©. ",null,null,null,null,null,null,null,null,null,null,null,"pág .2 / 2"]
["Nota técnica: Las previsiones se realizan sobre las base de variables explicativas seleccionadas. "]

{"sheet":"Ayuda y Version","index":2,"n_rows":2,"n_cols":8,"rows_kept":2,"cut":false,"hidden":true,"merged":[]}
[]
[null,null,null,null,null,null,"Versión de plantilla:",2.5]

{"sheet":"pBlock","index":3,"n_rows":5,"n_cols":3,"rows_kept":5,"cut":false,"hidden":true,"merged":[]}
[]
[]
[]
[null,"Block Test"]
[null,"Info1","Info2"]

{"sheet":"pAccel1","index":4,"n_rows":35,"n_cols":36,"rows_kept":35,"cut":false,"hidden":true,"merged":[]}
["Gauge Configuration",null,null,null,null,null,null,null,null,null,null,null,null,null,null,null,null,null,null,null,null,null,null,"Gauge Configuration",null,null,null,null,null,null,"Gauge Configuration"]
[null,null,null,null,null,"Decal",null,null,null,null,null,null,null,null,null,null,null,null,null,null,null,null,null,null,null,null,null,null,"Decal",null,null,null,null,null,null,"Decal"]
["Title:","CPDs",null,null,null,100,null,null,null,null,null,null,null,null,null,null,null,null,null,null,null,null,null,"Title:","CPDs a 3M",null,null,null,100,null,"Title:","Facturación a 3M",null,null,null,100]
["Real Value:",{"$f":"Dashboard!#REF!","v":{"$error":"#REF!"}},{"$f":"Dashboard!#REF!","v":{"$error":"#REF!"}},null,null,null,null,null,null,null,null,null,null,null,null,null,null,null,null,null,null,null,null,"Real Value:",{"$f":"Data!T67","v":5.3613484793612276E-2},null,null,null,null,null,"Real Value:",{"$f":"Data!U67","v":2.1826231734992207E-2}]
[]
["Color bands"]
["Red:",-50]
["Yellow:",0]
["Green:",50]
[]
["Advanced Parameters",null,null,null,null,null,null,null,null,null,null,null,null,null,null,null,null,null,null,null,null,null,null,"Advanced Parameters",null,null,null,null,null,null,"Advanced Parameters"]
[null,"Value to 100%",{"$f":"IF(ISERROR((B4-F3/100)*B27),0,(B4-F3/100)*B27)","v":0},null,{"$f":"IF(ISERROR((C4-F3/100)*B27),0,(C4-F3/100)*B27)","v":0},null,null,null,null,null,null,null,null,null,null,null,null,null,null,null,null,null,null,null,"Value to 100%",{"$f":"IF(ISERROR((Y4-AC3/100)*Y27),0,(Y4-AC3/100)*Y27)","v":-3.7855460608255509},null,null,null,null,null,"Value to 100%",{"$f":"IF(ISERROR((AF4-AJ3/100)*AF27),0,(AF4-AJ3/100)*AF27)","v":-3.9126950730600312}]
[null,"Relative value",{"$f":"IF(B4<-100%,-100%,IF(B4>100%,100%,2*B4/1))","v":{"$error":"#REF!"}},"ojo1, todo en porcentaje, por 2, y con 1 al final en lugar de 100.",{"$f":"IF(C4<-100%,-100%,IF(C4>100%,100%,2*C4/1))","v":{"$error":"#REF!"}},null,null,null,"Todos los negritas tienen dato 50, en lugar de 100 para que la escala recorra menos. ",null,null,null,null,null,null,null,null,null,null,null,null,null,null,null,"Relative value",{"$f":"IF(Y4<-100%,-100%,IF(Y4>100%,100%,4*Y4/1))","v":0.2144539391744491},null,null,null,null,null,"Relative value",{"$f":"IF(AF4<-100%,-100%,IF(AF4>100%,100%,4*AF4/1))","v":8.730492693996883E-2}]
[]
["Angle",null,{"$f":"C13*PI()/2","v":{"$error":"#REF!"}},null,{"$f":"E13*PI()/2","v":{"$error":"#REF!"}},null,null,null,null,null,null,null,null,null,null,null,null,null,null,null,null,null,null,"Angle",null,{"$f":"Z13*PI()/2","v":0.33686345992192085},null,null,null,null,"Angle",null,{"$f":"AG13*PI()/2","v":0.13713825854839984}]
["x",0,{"$f":"SIN(C15)","v":{"$error":"#REF!"}},{"$f":"B16","v":0},{"$f":"SIN(E15)","v":{"$error":"#REF!"}},null,null,null,null,null,null,null,null,null,null,null,null,null,null,null,null,null,null,"x",0,{"$f":"SIN(Z15)","v":0.33052846879474052},null,null,null,null,"x",0,{"$f":"SIN(AG15)","v":0.13670880495143425}]
["y",0,{"$f":"-COS(C15)","v":{"$error":"#REF!"}},{"$f":"B17","v":0},{"$f":"-COS(E15)","v":{"$error":"#REF!"}},null,null,null,null,null,null,null,null,null,null,null,null,null,null,null,null,null,null,"y",0,{"$f":"-COS(Z15)","v":-0.9437960220917464},null,null,null,null,"y",0,{"$f":"-COS(AG15)","v":-0.99061127726709775}]
[]
[null,null,null,"Value","Label"]
[null,null,{"$f":"B25","v":25},0,{"$f":"B25","v":25}]
[null,null,{"$f":"E21","v":20},{"$f":"D31/D33","v":2.5},{"$f":"E20+$B$26","v":20}]
[null,null,{"$f":"E22","v":15},{"$f":"D21","v":2.5},{"$f":"E21+$B$26","v":15}]
[null,null,10,{"$f":"D22","v":2.5},10]
["White",null,5,2.5,5,null,null,null,null,null,null,null,null,null,null,null,null,null,null,null,null,null,null,"White",null,null,null,null,null,null,"White"]
["Total",25,0,2.5,0,null,null,null,null,null,null,null,null,null,null,null,null,null,null,null,null,null,null,"Total",{"$f":"B25","v":25},null,null,null,null,null,"Total",{"$f":"Y25","v":25}]
["Increment",-5,-5,2.5,-5,null,null,null,null,null,null,null,null,null,null,null,null,null,null,null,null,null,null,"Increment",{"$f":"B26","v":-5},null,null,null,null,null,"Increment",{"$f":"Y26","v":-5}]
["Conversion",{"$f":"100/B25","v":4},-10,2.5,-10,null,null,null,null,null,null,null,null,null,null,null,null,null,null,null,null,null,null,"Conversion",{"$f":"100/Y25","v":4},null,null,null,null,null,"Conversion",{"$f":"100/AF25","v":4}]
[null,null,-15,2.5,-15]
[null,null,-20,2.5,-20]
[null,null,-25,2.5,-25]
[null,null,null,{"$f":"B25","v":25}]
[]
[null,null,null,10]
[]
[null,null,null,{"$f":"SUM(D20:D30)","v":25}]

{"sheet":"Data","index":5,"n_rows":153,"n_cols":76,"rows_kept":153,"cut":false,"hidden":true,"merged":[]}
[]
[]
[null,"Unidades",null,"en Euros",null,null,"Estacionalidad",null,null,null,null,null,null,null,null,null,null,null,null,null,null,null,null,null,null,null,null,null,null,null,null,null,null,null,null,null,null,null,null,null,null,null,null,null,null,"Seg. Social",null,null,null,"IASS_INE",null,null,null,"SEPE",null,null,null,"Mº",null,null,null,"CE",null,"INE","Mº e INE","Mº y SEPE"]
[null,"CDPs ","pry","Facturación  €","pry",{"$f":"B4","v":"CDPs "},{"$f":"D4","v":"Facturación  €"},null,null,"CPDs % i.a.","pry","Facturación % i.a.","pry",null,null,null,null,null,null,null,null,null,null,null,null,null,null,null,null,null,null,null,null,null,null,null,null,null,null,null,null,null,null,null,null,"Afiliados_Seg.Social","pry","% i.a.","pry","Ind_Ocupación_INE_s.78","pry","% i.a.","pry","Contratos SEPE","pry","% i.a.","pry","CDPs_ETT","pry","% i.a.","pry","Clima_Sector_12m","Empleo3M_Sector_12m","Cuota Temporalidad (INE)","Ratio Personas DNIs s/Asalariados Temporales","Cuota CPDs ETT s/ Contratos Temporales","pry"]
["2015-01-01",160218,null,199796888.34949774,null,{"$f":"(AVERAGE(B5,B17,B29,B41,B53)/AVERAGE(B$5:B$64))","v":0.92660213640250877},{"$f":"(AVERAGE(D5,D17,D29,D41,D53)/AVERAGE(D$5:D$64))","v":0.87192100312103815},"ene",{"$f":"A5","v":"2015-01-01"},null,null,null,null,null,null,null,null,{"$f":"B5","v":160218},{"$f":"D5","v":199796888.34949774},null,null,null,null,null,null,null,null,null,null,null,null,null,null,null,null,null,null,null,null,null,null,null,null,null,{"$f":"A5","v":"2015-01-01"},{"$f":"consolida!U159","v":16589693},null,null,null,{"$f":"consolida!F159","v":90.394999999999996},null,null,null,{"$f":"consolida!B159","v":1367795},null,null,null,{"$f":"consolida!P159","v":231337},null,null,null,{"$f":"consolida!I159","v":14.899999999999999},{"$f":"consolida!N159","v":11.433333333333332},{"$f":"consolida!AQ159","v":23.512351230453799},{"$f":"consolida!AS159","v":1.4017922220728412},{"$f":"consolida!AT159","v":18.543215695327504}]
["2015-02-01",144598,null,205269817.02718616,null,{"$f":"(AVERAGE(B6,B18,B30,B42,B54)/AVERAGE(B$5:B$64))","v":0.7916362001726539},{"$f":"(AVERAGE(D6,D18,D30,D42,D54)/AVERAGE(D$5:D$64))","v":0.86121129646014516},"feb",null,null,null,null,null,null,null,null,null,144598,205269817.02718616,null,null,null,null,null,null,null,null,null,null,null,null,null,null,null,null,null,null,null,null,null,null,null,null,null,{"$f":"A6","v":"2015-02-01"},{"$f":"consolida!U160","v":16705373},null,null,null,{"$f":"consolida!F160","v":89.091999999999999},null,null,null,{"$f":"consolida!B160","v":1226950},null,null,null,{"$f":"consolida!P160","v":209171},null,null,null,{"$f":"consolida!I160","v":17.749999999999996},{"$f":"consolida!N160","v":14.983333333333334},{"$f":"consolida!AQ160","v":23.469326357247468},{"$f":"consolida!AS160","v":1.153547622534945},{"$f":"consolida!AT160","v":18.900954124494316}]
["2015-03-01",172644,null,228958856.96233633,null,0.89188565607672499,0.93381226341408663,"mar",null,null,null,null,null,null,null,null,null,172644,228958856.96233633,null,null,null,null,null,null,null,null,null,null,null,null,null,null,null,null,null,null,null,null,null,null,null,null,null,"2015-03-01",{"$f":"consolida!U161","v":16826434},null,null,null,{"$f":"consolida!F161","v":93.721999999999994},null,null,null,{"$f":"consolida!B161","v":1441775},null,null,null,{"$f":"consolida!P161","v":247535},null,null,null,{"$f":"consolida!I161","v":20.116666666666664},{"$f":"consolida!N161","v":18.533333333333335},{"$f":"consolida!AQ161","v":23.809453268026257},{"$f":"consolida!AS161","v":1.2239593793467753},{"$f":"consolida!AT161","v":19.078077263380511}]
["2015-04-01",169105,null,222199034.0040389,null,0.94626202907599488,0.91809099249162851,"abr",null,null,null,null,null,null,null,null,null,169105,222199034.0040389,null,null,null,null,null,null,null,null,null,null,null,null,null,null,null,null,null,null,null,null,null,null,null,null,null,"2015-04-01",{"$f":"consolida!U162","v":16980816},null,null,null,{"$f":"consolida!F162","v":96.703000000000003},null,null,null,{"$f":"consolida!B162","v":1440381},null,null,null,{"$f":"consolida!P162","v":236995},null,null,null,{"$f":"consolida!I162","v":22.375},{"$f":"consolida!N162","v":22},{"$f":"consolida!AQ162","v":24.519060204297709},{"$f":"consolida!AS162","v":1.2092719164220125},{"$f":"consolida!AT162","v":17.996130370667359}]
["2015-05-01",183107,null,243556211.6297586,null,1.0614215104068783,1.0301663179623286,"may",null,null,null,null,null,null,null,null,null,183107,243556211.6297586,null,null,null,null,null,null,null,null,null,null,null,null,null,null,null,null,null,null,null,null,null,null,null,null,null,"2015-05-01",{"$f":"consolida!U163","v":17248258},null,null,null,{"$f":"consolida!F163","v":103.06399999999999},null,null,null,{"$f":"consolida!B163","v":1573293},null,null,null,{"$f":"consolida!P163","v":271494},null,null,null,{"$f":"consolida!I163","v":26.333333333333332},{"$f":"consolida!N163","v":22.783333333333331},{"$f":"consolida!AQ163","v":25.122066118161708},{"$f":"consolida!AS163","v":1.2788063330812731},{"$f":"consolida!AT163","v":18.740681223286174}]
["2015-06-01",200905,null,270713085.81392014,null,1.0897830883825024,1.0612120860268393,"jun",null,null,null,null,null,null,null,null,null,200905,270713085.81392014,null,null,null,null,null,null,null,null,null,null,null,null,null,null,null,null,null,null,null,null,null,null,null,null,null,"2015-06-01",{"$f":"consolida!U164","v":17075016},null,null,null,{"$f":"consolida!F164","v":104.929},null,null,null,{"$f":"consolida!B164","v":1726117},null,null,null,{"$f":"consolida!P164","v":286927},null,null,null,{"$f":"consolida!I164","v":28.833333333333332},{"$f":"consolida!N164","v":20.791666666666668},{"$f":"consolida!AQ164","v":25.627090002379894},{"$f":"consolida!AS164","v":1.2827935146248028},{"$f":"consolida!AT164","v":17.941224102882519}]
["2015-07-01",193688,null,301814967.83747554,null,1.089363062492392,1.1651712504833942,"jul",null,null,null,null,null,null,null,null,null,193688,301814967.83747554,null,null,null,null,null,null,null,null,null,null,null,null,null,null,null,null,null,null,null,null,null,null,null,null,null,"2015-07-01",{"$f":"consolida!U165","v":17127908},null,null,null,{"$f":"consolida!F165","v":104.613},null,null,null,{"$f":"consolida!B165","v":1795713},null,null,null,{"$f":"consolida!P165","v":265407},null,null,null,{"$f":"consolida!I165","v":31.608333333333334},{"$f":"consolida!N165","v":25.933333333333337},{"$f":"consolida!AQ165","v":26.040654944458279},{"$f":"consolida!AS165","v":1.3123253054987409},{"$f":"consolida!AT165","v":15.874820710173134}]
["2015-08-01",174696,null,242881829.07986039,null,0.94271236346850884,0.99860816054632429,"ago",null,null,null,null,null,null,null,null,null,174696,242881829.07986039,null,null,null,null,null,null,null,null,null,null,null,null,null,null,null,null,null,null,null,null,null,null,null,null,null,"2015-08-01",{"$f":"consolida!U166","v":16983303},null,null,null,{"$f":"consolida!F166","v":94.74},null,null,null,{"$f":"consolida!B166","v":1248146},null,null,null,{"$f":"consolida!P166","v":229251},null,null,null,{"$f":"consolida!I166","v":35.858333333333334},{"$f":"consolida!N166","v":26.683333333333337},{"$f":"consolida!AQ166","v":26.228293877091069},{"$f":"consolida!AS166","v":1.0624748543005069},{"$f":"consolida!AT166","v":19.630074255730161}]
["2015-09-01",185882,null,268733230.08056289,null,1.0332467099015372,1.0474702633208401,"sep",null,null,null,null,null,null,null,null,null,185882,268733230.08056289,null,null,null,null,null,null,null,null,null,null,null,null,null,null,null,null,null,null,null,null,null,null,null,null,null,"2015-09-01",{"$f":"consolida!U167","v":17072551},null,null,null,{"$f":"consolida!F167","v":102.21899999999999},null,null,null,{"$f":"consolida!B167","v":1795742},null,null,null,{"$f":"consolida!P167","v":260489},null,null,null,{"$f":"consolida!I167","v":34.458333333333336},{"$f":"consolida!N167","v":26.258333333333336},{"$f":"consolida!AQ167","v":26.191988748888463},{"$f":"consolida!AS167","v":1.2579516366233363},{"$f":"consolida!AT167","v":15.856268573313839}]
["2015-10-01",199180,null,261992577.12830567,null,1.1348768892103327,1.0665382500296801,"oct",null,null,null,null,null,null,null,null,null,199180,261992577.12830567,null,null,null,null,null,null,null,null,null,null,null,null,null,null,null,null,null,null,null,null,null,null,null,null,null,"2015-10-01",{"$f":"consolida!U168","v":17209036},null,null,null,{"$f":"consolida!F168","v":107.047},null,null,null,{"$f":"consolida!B168","v":1760610},null,null,null,{"$f":"consolida!P168","v":298803},null,null,null,{"$f":"consolida!I168","v":34.708333333333336},{"$f":"consolida!N168","v":28.158333333333335},{"$f":"consolida!AQ168","v":25.932972960345985},{"$f":"consolida!AS168","v":1.3519073792152851},{"$f":"consolida!AT168","v":18.571211927222464}]
["2015-11-01",192380,null,260565964.74729463,null,1.0757211577848704,1.0710148374823469,"nov",null,"MES",null,null,null,"SUMA",null,"ACUM",null,192380,260565964.74729463,null,null,null,null,null,null,null,null,null,null,null,null,null,null,null,null,null,null,null,null,null,null,null,null,null,"2015-11-01",{"$f":"consolida!U169","v":17208793},null,null,null,{"$f":"consolida!F169","v":107.937},null,null,null,{"$f":"consolida!B169","v":1604843},null,null,null,{"$f":"consolida!P169","v":296266},null,null,null,{"$f":"consolida!I169","v":38.783333333333339},{"$f":"consolida!N169","v":30.166666666666668},{"$f":"consolida!AQ169","v":25.664043502448951},{"$f":"consolida!AS169","v":1.3141476564184196},{"$f":"consolida!AT169","v":20.127094463496686}]
["2015-12-01",182052,null,250421099.12188354,null,1.0164891966250951,0.97478327866134684,"dic",null,{"$f":"J4","v":"CPDs % i.a."},null,{"$f":"L4","v":"Facturación % i.a."},null,{"$f":"J16","v":"CPDs % i.a."},{"$f":"L16","v":"Facturación % i.a."},{"$f":"N16","v":"CPDs % i.a."},{"$f":"O16","v":"Facturación % i.a."},182052,250421099.12188354,{"$f":"pAccel1!Y3","v":"CPDs a 3M"},{"$f":"pAccel1!AF3","v":"Facturación a 3M"},null,null,null,null,null,null,null,null,null,null,null,null,null,null,null,null,null,null,null,null,null,null,null,"2015-12-01",{"$f":"consolida!U170","v":17180590},null,null,null,{"$f":"consolida!F170","v":105.538},null,null,null,{"$f":"consolida!B170","v":1594915},null,null,null,{"$f":"consolida!P170","v":275116},null,null,null,{"$f":"consolida!I170","v":41.766666666666673},{"$f":"consolida!N170","v":31.850000000000005},{"$f":"consolida!AQ170","v":25.383854675158528},{"$f":"consolida!AS170","v":1.2913425024536069},{"$f":"consolida!AT170","v":18.500703066526704}]
["2016-01-01",175552,null,227000351.28068832,null,{"$f":"F5","v":0.92660213640250877},{"$f":"G5","v":0.87192100312103815},null,{"$f":"A17","v":"2016-01-01"},{"$f":"((R17/R5)-1)","v":9.5707099077506852E-2},null,{"$f":"((S17/S5)-1)","v":0.13615558858756849},null,null,null,null,null,{"$f":"B17","v":175552},{"$f":"D17","v":227000351.28068832},null,null,null,null,null,null,null,null,null,null,null,null,null,null,null,null,null,null,null,null,null,null,null,null,null,"2016-01-01",{"$f":"consolida!U171","v":17112224},null,{"$f":"AT17/AT5-1","v":3.1497327889069338E-2},null,{"$f":"consolida!F171","v":100.075},null,{"$f":"AX17/AX5-1","v":0.10708556889208487},null,{"$f":"consolida!B171","v":1396929},null,{"$f":"BB17/BB5-1","v":2.1299975508025648E-2},null,{"$f":"consolida!P171","v":264702},null,{"$f":"BF17/BF5-1","v":0.14422682061235337},null,{"$f":"consolida!I171","v":45.408333333333331},{"$f":"consolida!N171","v":33.250000000000007},{"$f":"consolida!AQ171","v":25.090942414730272},{"$f":"consolida!AS171","v":1.3449628341936641},{"$f":"consolida!AT171","v":20.821085535708246}]
["2016-02-01",165959,null,241066786.17486185,null,{"$f":"F6","v":0.7916362001726539},0.86121129646014516,null,"2016-02-01",0.14772680120056991,null,0.17438983317715295,null,null,null,null,null,{"$f":"B18","v":165959},{"$f":"D18","v":241066786.17486185},null,null,null,null,null,null,null,null,null,null,null,null,null,null,null,null,null,null,null,null,null,null,null,null,null,"2016-02-01",{"$f":"consolida!U172","v":17136666},null,{"$f":"AT18/AT6-1","v":2.581762167178181E-2},null,{"$f":"consolida!F172","v":97.504999999999995},null,{"$f":"AX18/AX6-1","v":9.4430476361513804E-2},null,{"$f":"consolida!B172","v":1377480},null,{"$f":"BB18/BB6-1","v":0.12268633603651335},null,{"$f":"consolida!P172","v":243391},null,{"$f":"BF18/BF6-1","v":0.16359820433998973},null,{"$f":"consolida!I172","v":46.558333333333337},{"$f":"consolida!N172","v":32.608333333333334},{"$f":"consolida!AQ172","v":24.981473712831715},{"$f":"consolida!AS172","v":1.1498221202575527},{"$f":"consolida!AT172","v":19.658174193694293}]
["2016-03-01",183929,null,250361676.62313125,null,{"$f":"F7","v":0.89188565607672499},0.93381226341408663,null,"2016-03-01",6.5365723685734789E-2,null,9.3478889372319296E-2,null,null,null,null,null,183929,250361676.62313125,{"$f":"(AVERAGE(R17:R19)/AVERAGE(R5:R7))-1","v":0.10049009341096626},{"$f":"(AVERAGE(S17:S19)/AVERAGE(S5:S7))-1","v":0.13312278992077919},null,null,null,null,null,null,null,null,null,null,null,null,null,null,null,null,null,null,null,null,null,null,null,"2016-03-01",{"$f":"consolida!U173","v":17263972},null,2.600301406703287E-2,null,{"$f":"consolida!F173","v":101.212},null,7.991720193764551E-2,null,{"$f":"consolida!B173","v":1508881},null,4.6544016923583786E-2,null,{"$f":"consolida!P173","v":266262},null,7.5653947926555887E-2,null,{"$f":"consolida!I173","v":46.15},{"$f":"consolida!N173","v":32.016666666666666},{"$f":"consolida!AQ173","v":25.056596257881907},{"$f":"consolida!AS173","v":1.2163943723373647},{"$f":"consolida!AT173","v":19.604684295975055},null,null,null,null,null,null,null,null,null,"Aquí salen 4 puntos en la segunda Serie"]
["2016-04-01",189564,null,263007210.76130489,null,{"$f":"F8","v":0.94626202907599488},0.91809099249162851,null,"2016-04-01",0.12098400402117027,null,0.18365595935274959,null,null,null,null,null,189564,263007210.76130489,{"$f":"(AVERAGE(R18:R20)/AVERAGE(R6:R8))-1","v":0.10919158543180085},0.14930504055855298,null,null,null,null,null,null,null,null,null,null,null,null,null,null,null,null,null,null,null,null,null,null,null,"2016-04-01",{"$f":"consolida!U174","v":17536670},null,3.2734233737648388E-2,null,{"$f":"consolida!F174","v":104.85299999999999},null,8.4278667673184815E-2,null,{"$f":"consolida!B174","v":1541729},null,7.0361938959205839E-2,null,{"$f":"consolida!P174","v":273915},null,0.15578387729698928,null,{"$f":"consolida!I174","v":44.908333333333331},{"$f":"consolida!N174","v":33.491666666666667},{"$f":"consolida!AQ174","v":25.313350190242751},{"$f":"consolida!AS174","v":1.2618716243030852},{"$f":"consolida!AT174","v":19.623765880302297},null,null,null,null,null,null,null,null,null,"pero en dashboard salen solo los Tres ultimos, Ok."]
["2016-05-01",211534,null,270004703.6088537,null,{"$f":"F9","v":1.0614215104068783},1.0301663179623286,null,"2016-05-01",0.15524802437918805,null,0.10859296834235832,null,null,null,null,null,211534,270004703.6088537,{"$f":"(AVERAGE(R19:R21)/AVERAGE(R7:R9))-1","v":0.11464287347386715},0.12762010741661522,null,null,null,null,null,null,null,null,null,null,null,null,null,null,null,null,null,null,null,null,null,null,null,"2016-05-01",{"$f":"consolida!U175","v":17598892},null,2.0328661595855113E-2,null,{"$f":"consolida!F175","v":111.40300000000001},null,8.0910890320577744E-2,null,{"$f":"consolida!B175","v":1748449},null,0.11133082013331275,null,{"$f":"consolida!P175","v":311082},null,0.14581537713540627,null,{"$f":"consolida!I175","v":43.116666666666667},{"$f":"consolida!N175","v":33.733333333333334},{"$f":"consolida!AQ175","v":25.682021632547698},{"$f":"consolida!AS175","v":1.3083021871798761},{"$f":"consolida!AT175","v":19.410004061923431}]
["2016-06-01",217649,null,290023474.22477943,null,{"$f":"F10","v":1.0897830883825024},1.0612120860268393,null,"2016-06-01",8.3342873497424197E-2,null,{"$f":"((S22/S10)-1)","v":7.1331566232940347E-2},null,null,null,null,null,217649,290023474.22477943,{"$f":"(AVERAGE(R20:R22)/AVERAGE(R8:R10))-1","v":0.1186548234821927},0.11754348890610222,null,null,null,null,null,null,null,null,null,null,null,null,null,null,null,null,null,null,null,null,null,null,null,"2016-06-01",{"$f":"consolida!U176","v":17569070},null,2.8934321349977088E-2,null,{"$f":"consolida!F176","v":114.262},null,8.8945858628215246E-2,null,{"$f":"consolida!B176","v":1920340},null,0.11252018258322005,null,{"$f":"consolida!P176","v":318281},null,0.10927518149215665,null,{"$f":"consolida!I176","v":39.991666666666667},{"$f":"consolida!N176","v":34.475000000000001},{"$f":"consolida!AQ176","v":26.161110772186596},{"$f":"consolida!AS176","v":1.3568161220349662},{"$f":"consolida!AT176","v":17.962239234287747}]
["2016-07-01",205096,null,306913963.30116636,null,{"$f":"F11","v":1.089363062492392},1.1651712504833942,null,"2016-07-01",5.889884763124198E-2,null,1.6894441982866049E-2,null,null,null,null,null,205096,306913963.30116636,{"$f":"(AVERAGE(R21:R23)/AVERAGE(R9:R11))-1","v":9.7938376319889331E-2},6.2319392760407988E-2,null,null,null,null,null,null,null,null,null,null,null,null,null,null,null,null,null,null,null,null,null,null,null,"2016-07-01",{"$f":"consolida!U177","v":17805681},null,3.9571265796149779E-2,null,{"$f":"consolida!F177","v":114.806},null,9.7435309187194674E-2,null,{"$f":"consolida!B177","v":1816271},null,1.1448377329784876E-2,null,{"$f":"consolida!P177","v":285853},null,7.7036400697796159E-2,null,{"$f":"consolida!I177","v":41.241666666666667},{"$f":"consolida!N177","v":37.299999999999997},{"$f":"consolida!AQ177","v":26.749612669107719},{"$f":"consolida!AS177","v":1.3234205898870228},{"$f":"consolida!AT177","v":17.026400322595826}]
["2016-08-01",198154,null,282512008.08607727,null,{"$f":"F12","v":0.94271236346850884},0.99860816054632429,null,"2016-08-01",0.13427897604982375,null,0.16316650428874335,null,null,null,null,null,198154,282512008.08607727,{"$f":"(AVERAGE(R22:R24)/AVERAGE(R10:R12))-1","v":9.065694225604215E-2},7.853665283803446E-2,null,null,null,null,null,null,null,null,null,null,null,null,null,null,null,null,null,null,null,null,null,null,null,"2016-08-01",{"$f":"consolida!U178","v":17452445},null,2.7623719602718033E-2,null,{"$f":"consolida!F178","v":106.11799999999999},null,0.12009710787418193,null,{"$f":"consolida!B178","v":1451789},null,0.16315639356293254,null,{"$f":"consolida!P178","v":258953},null,0.12956104880676644,null,{"$f":"consolida!I178","v":39.483333333333334},{"$f":"consolida!N178","v":38.133333333333333},{"$f":"consolida!AQ178","v":27.049367081414573},{"$f":"consolida!AS178","v":1.1683451255887447},{"$f":"consolida!AT178","v":19.22927836276417}]
["2016-09-01",207943,null,299676331.11694717,null,{"$f":"F13","v":1.0332467099015372},1.0474702633208401,null,"2016-09-01",0.11868282028383592,null,0.11514430510550522,null,null,null,null,null,207943,299676331.11694717,{"$f":"(AVERAGE(R23:R25)/AVERAGE(R11:R13))-1","v":0.10270700349651607},9.3028623230904328E-2,null,null,null,null,null,null,null,null,null,null,null,null,null,null,null,null,null,null,null,null,null,null,null,"2016-09-01",{"$f":"consolida!U179","v":17603313},null,3.1088617043814937E-2,null,{"$f":"consolida!F179","v":114.053},null,0.11577104060888876,null,{"$f":"consolida!B179","v":1907000},null,6.1956561688705891E-2,null,{"$f":"consolida!P179","v":296811},null,0.13943774977062362,null,{"$f":"consolida!I179","v":38.958333333333336},{"$f":"consolida!N179","v":41.391666666666666},{"$f":"consolida!AQ179","v":27.065045086954626},{"$f":"consolida!AS179","v":1.2912215238561593},{"$f":"consolida!AT179","v":17.097526019765112}]
["2016-10-01",225634,null,281198921.78282785,null,{"$f":"F14","v":1.1348768892103327},1.0665382500296801,null,"2016-10-01",0.13281453961241096,null,7.3308735938408809E-2,null,null,null,null,null,225634,281198921.78282785,{"$f":"(AVERAGE(R24:R26)/AVERAGE(R12:R14))-1","v":0.1285787786865038},0.11605317797511416,null,null,null,null,null,null,null,null,null,null,null,null,null,null,null,null,null,null,null,null,null,null,null,"2016-10-01",{"$f":"consolida!U180","v":17666175},null,2.6563893526633242E-2,null,{"$f":"consolida!F180","v":115.544},null,7.9376348706642785E-2,null,{"$f":"consolida!B180","v":1867360},null,6.0632394454194882E-2,null,{"$f":"consolida!P180","v":332326},null,0.11219097532487954,null,{"$f":"consolida!I180","v":38.875},{"$f":"consolida!N180","v":41.608333333333327},{"$f":"consolida!AQ180","v":26.797690106198402},{"$f":"consolida!AS180","v":1.3648245211059662},{"$f":"consolida!AT180","v":19.542495574909001}]
["2016-11-01",220328,null,302079308.2368536,null,{"$f":"F15","v":1.0757211577848704},1.0710148374823469,null,"2016-11-01",0.14527497660879507,null,0.15931990016355346,null,null,null,null,null,220328,302079308.2368536,{"$f":"(AVERAGE(R25:R27)/AVERAGE(R13:R15))-1","v":0.13241676220295728},0.11583943171033462,null,null,null,null,null,null,null,null,null,null,null,null,null,null,null,null,null,null,null,null,null,null,null,"2016-11-01",{"$f":"consolida!U181","v":17734106},null,3.0525848035942937E-2,null,{"$f":"consolida!F181","v":120.35599999999999},null,0.11505785782447164,null,{"$f":"consolida!B181","v":1743708},null,8.6528713400625401E-2,null,{"$f":"consolida!P181","v":323282},null,9.1188324006129529E-2,null,{"$f":"consolida!I181","v":36.408333333333331},{"$f":"consolida!N181","v":44.366666666666667},{"$f":"consolida!AQ181","v":26.486836803427629},{"$f":"consolida!AS181","v":1.4606406965526375},{"$f":"consolida!AT181","v":20.346866357764778}]
["2016-12-01",208182,null,276641661.88373399,null,{"$f":"F16","v":1.0164891966250951},{"$f":"G16","v":0.97478327866134684},null,"2016-12-01",0.14353041988003423,null,0.1047058848227822,null,null,null,{"$f":"((SUM(R17:R28)/SUM(R5:R16))-1)","v":0.11631884843557083},{"$f":"((SUM(S17:S28)/SUM(S5:S16))-1)","v":0.11281491882611649},208182,276641661.88373399,{"$f":"(AVERAGE(R26:R28)/AVERAGE(R14:R16))-1","v":0.14039455241522147},0.11247417951880401,null,null,null,null,null,null,null,null,null,null,null,null,null,null,null,null,null,null,null,null,null,null,null,"2016-12-01",{"$f":"consolida!U182","v":17741897},null,3.2670996746910319E-2,null,{"$f":"consolida!F182","v":115.708},null,9.6363395175197653E-2,null,{"$f":"consolida!B182","v":1699018},null,6.5271816993382137E-2,null,{"$f":"consolida!P182","v":306679},null,0.11472615187775337,null,{"$f":"consolida!I182","v":37.108333333333334},{"$f":"consolida!N182","v":44.841666666666661},{"$f":"consolida!AQ182","v":26.131503977764485},{"$f":"consolida!AS182","v":1.3623628447946023},{"$f":"consolida!AT182","v":19.450392078765848}]
["2017-01-01",212821,null,264975684.52649346,null,{"$f":"F17","v":0.92660213640250877},{"$f":"G17","v":0.87192100312103815},null,"2017-01-01",{"$f":"((R29/R17)-1)","v":0.21229607181917598},null,0.16729195805890296,null,{"$f":"((SUM($R$29:R29)/SUM($R$17:R17))-1)","v":0.21229607181917598},{"$f":"((SUM($S$29:S29)/SUM($S$17:S17))-1)","v":0.16729195805890296},{"$f":"((SUM(R18:R29)/SUM(R6:R17))-1)","v":0.12558900610868862},{"$f":"((SUM(S18:S29)/SUM(S6:S17))-1)","v":0.11539623169071911},212821,264975684.52649346,{"$f":"(AVERAGE(R27:R29)/AVERAGE(R15:R17))-1","v":0.16609028626287303},0.14323989451195129,null,null,null,null,null,null,null,null,null,null,null,null,null,null,null,null,null,null,null,null,null,null,null,"2017-01-01",{"$f":"consolida!U183","v":17603835},null,2.8728644505822354E-2,null,{"$f":"consolida!F183","v":111.443},null,0.1135948038970771,null,{"$f":"consolida!B183","v":1633592},null,0.16941662747355091,null,{"$f":"consolida!P183","v":316513},null,0.19573331519973403,null,{"$f":"consolida!I183","v":35.766666666666666},{"$f":"consolida!N183","v":41.708333333333336},{"$f":"consolida!AQ183","v":25.730487491655236},{"$f":"consolida!AS183","v":1.4748430942656841},{"$f":"consolida!AT183","v":21.336564583431642}]
["2017-02-01",177524,null,264704995.43320668,null,{"$f":"F18","v":0.7916362001726539},0.86121129646014516,null,"2017-02-01",6.968588627311556E-2,null,9.8056682272266382E-2,null,{"$f":"((SUM($R$29:R30)/SUM($R$17:R18))-1)","v":0.14299392991733795},{"$f":"((SUM($S$29:S30)/SUM($S$17:S18))-1)","v":0.13163398490029876},{"$f":"((SUM(R19:R30)/SUM(R7:R18))-1)","v":0.11990433455572513},0.11000215450547213,177524,264704995.43320668,{"$f":"(AVERAGE(R28:R30)/AVERAGE(R16:R18))-1","v":0.14318047684805846},0.12224849453959608,null,null,null,null,null,null,null,null,null,null,null,null,null,null,null,null,null,null,null,null,null,null,null,"2017-02-01",{"$f":"consolida!U184","v":17728908},null,3.4559931319195991E-2,null,{"$f":"consolida!F184","v":107.75},null,0.10507153479308751,null,{"$f":"consolida!B184","v":1452528},null,5.4482097743705937E-2,null,{"$f":"consolida!P184","v":266143},null,9.3479216569223977E-2,null,{"$f":"consolida!I184","v":35.18333333333333},{"$f":"consolida!N184","v":40.125},{"$f":"consolida!AQ184","v":25.644892146277996},{"$f":"consolida!AS184","v":1.2179094343265799},{"$f":"consolida!AT184","v":20.449634870483521}]
["2017-03-01",201316,null,305008132.35298514,null,{"$f":"F19","v":0.89188565607672499},0.93381226341408663,null,"2017-03-01",9.4531041869416965E-2,null,0.21827005022063761,null,{"$f":"((SUM($R$29:R31)/SUM($R$17:R19))-1)","v":0.12602961327649198},{"$f":"((SUM($S$29:S31)/SUM($S$17:S19))-1)","v":0.16182535549203503},{"$f":"((SUM(R20:R31)/SUM(R8:R19))-1)","v":0.12205662074794854},0.12015873576736391,201316,305008132.35298514,{"$f":"(AVERAGE(R29:R31)/AVERAGE(R17:R19))-1","v":0.1260296132764922},0.16182535549203503,null,null,null,null,null,null,null,null,null,null,null,null,null,null,null,null,null,null,null,null,null,null,null,"2017-03-01",{"$f":"consolida!U185","v":17852834},null,3.41092999919137E-2,null,{"$f":"consolida!F185","v":112.384},null,0.11038216812235691,null,{"$f":"consolida!B185","v":1732773},null,0.14838280818699423,null,{"$f":"consolida!P185","v":296002},null,0.11169449639828444,null,{"$f":"consolida!I185","v":33.449999999999996},{"$f":"consolida!N185","v":39.68333333333333},{"$f":"consolida!AQ185","v":25.874714176740625},{"$f":"consolida!AS185","v":1.3367403334490362},{"$f":"consolida!AT185","v":19.043519939267021}]
["2017-04-01",208427,null,273144021.78702712,null,{"$f":"F20","v":0.94626202907599488},0.91809099249162851,null,"2017-04-01",9.9507290413791694E-2,null,3.8541950984461781E-2,null,{"$f":"((SUM($R$29:R32)/SUM($R$17:R20))-1)","v":0.11899793567588435},{"$f":"((SUM($S$29:S32)/SUM($S$17:S20))-1)","v":0.12878761942769912},{"$f":"((SUM(R21:R32)/SUM(R9:R20))-1)","v":0.12021856451182678},0.10861639397548717,208427,273144021.78702712,{"$f":"(AVERAGE(R30:R32)/AVERAGE(R18:R20))-1","v":8.8636245671533276E-2},0.11720214076935642,null,null,null,null,null,null,null,null,null,null,null,null,null,null,null,null,null,null,null,null,null,null,null,"2017-04-01",{"$f":"consolida!U186","v":18184000},null,3.6912937290831227E-2,null,{"$f":"consolida!F186","v":113.54300000000001},null,8.2877933869321962E-2,null,{"$f":"consolida!B186","v":1604476},null,4.0699111192693316E-2,null,{"$f":"consolida!P186","v":300996},null,9.886643666830941E-2,null,{"$f":"consolida!I186","v":33.266666666666659},{"$f":"consolida!N186","v":41.808333333333337},{"$f":"consolida!AQ186","v":26.41123109082325},{"$f":"consolida!AS186","v":1.3169085338844864},{"$f":"consolida!AT186","v":20.715086013483567}]
["2017-05-01",259778,null,337304801.37749255,null,{"$f":"F21","v":1.0614215104068783},1.0301663179623286,null,"2017-05-01",0.22806735560240909,null,0.24925527914555934,null,{"$f":"((SUM($R$29:R33)/SUM($R$17:R21))-1)","v":0.14389911692774615},{"$f":"((SUM($S$29:S33)/SUM($S$17:S21))-1)","v":0.15477912986614384},{"$f":"((SUM(R22:R33)/SUM(R10:R21))-1)","v":0.12749005573929395},0.12083389127977151,259778,337304801.37749255,{"$f":"(AVERAGE(R31:R33)/AVERAGE(R19:R21))-1","v":0.14442752214855026},0.16860839584436071,null,null,null,null,null,null,null,null,null,null,null,null,null,null,null,null,null,null,null,null,null,null,null,"2017-05-01",{"$f":"consolida!U187","v":18261899},null,3.7673223973418324E-2,null,{"$f":"consolida!F187","v":124.492},null,0.11749234760284732,null,{"$f":"consolida!B187","v":2027569},null,0.15963862829284703,null,{"$f":"consolida!P187","v":374096},null,0.20256395419857154,null,{"$f":"consolida!I187","v":33.841666666666661},{"$f":"consolida!N187","v":41.30833333333333},{"$f":"consolida!AQ187","v":26.839481921574471},{"$f":"consolida!AS187","v":1.5063289263190198},{"$f":"consolida!AT187","v":20.109423093669736}]
["2017-06-01",257775,null,344041052.34073436,null,{"$f":"F22","v":1.0897830883825024},1.0612120860268393,null,"2017-06-01",0.18436105840137107,null,0.18625243442911521,null,{"$f":"((SUM($R$29:R34)/SUM($R$17:R22))-1)","v":0.15159584927988168},{"$f":"((SUM($S$29:S34)/SUM($S$17:S22))-1)","v":0.16070077054962884},{"$f":"((SUM(R23:R34)/SUM(R11:R22))-1)","v":0.13684159564096987},0.13118400182446655,257775,344041052.34073436,{"$f":"(AVERAGE(R32:R34)/AVERAGE(R20:R22))-1","v":0.17330669886076211},0.15971911868179967,null,null,null,null,null,null,null,null,null,null,null,null,null,null,null,null,null,null,null,null,null,null,null,"2017-06-01",{"$f":"consolida!U188","v":18196843},null,3.5731714883030286E-2,null,{"$f":"consolida!F188","v":128.18},null,0.12180777511333618,null,{"$f":"consolida!B188","v":2089520},null,8.8098982471853882E-2,null,{"$f":"consolida!P188","v":363611},null,0.14242131952582771,null,{"$f":"consolida!I188","v":31.108333333333331},{"$f":"consolida!N188","v":39.299999999999997},{"$f":"consolida!AQ188","v":27.164816327496467},{"$f":"consolida!AS188","v":1.4959087104394986},{"$f":"consolida!AT188","v":18.907958054307255}]
["2017-07-01",251060,null,367511664.9351179,null,{"$f":"F23","v":1.089363062492392},1.1651712504833942,null,"2017-07-01",0.22410968522057972,null,0.19744198335638674,null,{"$f":"((SUM($R$29:R35)/SUM($R$17:R23))-1)","v":0.16261822019546668},{"$f":"((SUM($S$29:S35)/SUM($S$17:S23))-1)","v":0.1668014654434502},{"$f":"((SUM(R24:R35)/SUM(R12:R23))-1)","v":0.15129103781827058},0.14868488736763741,251060,367511664.9351179,{"$f":"(AVERAGE(R33:R35)/AVERAGE(R21:R23))-1","v":0.21179007975985331},0.20983566132847575,null,null,null,null,null,null,null,null,null,null,null,null,null,null,null,null,null,null,null,null,null,null,null,"2017-07-01",{"$f":"consolida!U189","v":18276939},null,2.6466721491865464E-2,null,{"$f":"consolida!F189","v":124.773},null,8.6816020068637423E-2,null,{"$f":"consolida!B189","v":1928639},null,6.1867419564591408E-2,null,{"$f":"consolida!P189","v":331594},null,0.16001581232311723,null,{"$f":"consolida!I189","v":30.291666666666668},{"$f":"consolida!N189","v":38.724999999999994},{"$f":"consolida!AQ189","v":27.391150267679119},{"$f":"consolida!AS189","v":1.4575899666919345},{"$f":"consolida!AT189","v":18.664097023540492}]
["2017-08-01",218139,null,326471103.5722385,null,{"$f":"F24","v":0.94271236346850884},0.99860816054632429,null,"2017-08-01",0.10085589995659938,null,0.15560080360466499,null,{"$f":"((SUM($R$29:R36)/SUM($R$17:R24))-1)","v":0.15470936781271227},{"$f":"((SUM($S$29:S36)/SUM($S$17:S24))-1)","v":0.1653164891145491},{"$f":"((SUM(R25:R36)/SUM(R13:R24))-1)","v":0.14824717340917437},0.14819207682698377,218139,326471103.5722385,{"$f":"(AVERAGE(R34:R36)/AVERAGE(R22:R24))-1","v":0.17084099024156907},0.18031096162180549,null,null,null,null,null,null,null,null,null,null,null,null,null,null,null,null,null,null,null,null,null,null,null,"2017-08-01",{"$f":"consolida!U190","v":18040193},null,3.367711515492533E-2,null,{"$f":"consolida!F190","v":116.77200000000001},null,0.10039767051772563,null,{"$f":"consolida!B190","v":1536400},null,5.8280507704632001E-2,null,{"$f":"consolida!P190","v":285704},null,0.10330446065502241,null,{"$f":"consolida!I190","v":33.341666666666669},{"$f":"consolida!N190","v":38.641666666666666},{"$f":"consolida!AQ190","v":27.438242694853976},{"$f":"consolida!AS190","v":1.2705610800926419},{"$f":"consolida!AT190","v":20.105586276880377}]
["2017-09-01",241468,null,342733767.38746631,null,{"$f":"F25","v":1.0332467099015372},1.0474702633208401,null,"2017-09-01",0.16122206566222474,null,0.14367980317309814,null,{"$f":"((SUM($R$29:R37)/SUM($R$17:R25))-1)","v":0.15548086454215038},{"$f":"((SUM($S$29:S37)/SUM($S$17:S25))-1)","v":0.16264879718073422},{"$f":"((SUM(R26:R37)/SUM(R14:R25))-1)","v":0.15176522718841445},0.15054222646883453,241468,342733767.38746631,{"$f":"(AVERAGE(R35:R37)/AVERAGE(R23:R25))-1","v":0.16275382735077137},0.16602615129313114,null,null,null,null,null,null,null,null,null,null,null,null,null,null,null,null,null,null,null,null,null,null,null,"2017-09-01",{"$f":"consolida!U191","v":18400141},null,4.5265797409839825E-2,null,{"$f":"consolida!F191","v":125.35899999999999},null,9.9129352143301874E-2,null,{"$f":"consolida!B191","v":1993267},null,4.523702149973774E-2,null,{"$f":"consolida!P191","v":325618},null,9.7055028283992151E-2,null,{"$f":"consolida!I191","v":35.241666666666667},{"$f":"consolida!N191","v":37.766666666666666},{"$f":"consolida!AQ191","v":27.307881805696809},{"$f":"consolida!AS191","v":1.4292468462769881},{"$f":"consolida!AT191","v":18.084091932752671}]
["2017-10-01",262469,null,348193713.74074477,null,{"$f":"F26","v":1.1348768892103327},1.0665382500296801,null,"2017-10-01",0.16325110577306612,null,0.23824697311484555,null,{"$f":"((SUM($R$29:R38)/SUM($R$17:R26))-1)","v":0.15636588131128804},{"$f":"((SUM($S$29:S38)/SUM($S$17:S26))-1)","v":0.17048801710369288},{"$f":"((SUM(R27:R38)/SUM(R15:R26))-1)","v":0.15446798610539147},0.16447351084283723,262469,348193713.74074477,{"$f":"(AVERAGE(R36:R38)/AVERAGE(R24:R26))-1","v":0.14301181990435796},0.17838035221731285,null,null,null,null,null,null,null,null,null,null,null,null,null,null,null,null,null,null,null,null,null,null,null,"2017-10-01",{"$f":"consolida!U192","v":18281362},null,3.4822874787552971E-2,null,{"$f":"consolida!F192","v":129.227},null,0.11842241916499341,null,{"$f":"consolida!B192","v":2032184},null,8.8265786993402484E-2,null,{"$f":"consolida!P192","v":362397},null,9.0486450052057243E-2,null,{"$f":"consolida!I192","v":36.416666666666671},{"$f":"consolida!N192","v":37.225000000000001},{"$f":"consolida!AQ192","v":27.000814933160651},{"$f":"consolida!AS192","v":1.5022873006648028},{"$f":"consolida!AT192","v":19.806989564078656}]
["2017-11-01",236691,null,360609182.6978274,null,{"$f":"F27","v":1.0757211577848704},1.0710148374823469,null,"2017-11-01",7.4266548055626158E-2,null,0.19375664888335176,null,{"$f":"((SUM($R$29:R39)/SUM($R$17:R27))-1)","v":0.1481487201897751},{"$f":"((SUM($S$29:S39)/SUM($S$17:S27))-1)","v":0.17282024480923086},{"$f":"((SUM(R28:R39)/SUM(R16:R27))-1)","v":0.14779595820078417},0.16759479021712775,236691,360609182.6978274,{"$f":"(AVERAGE(R37:R39)/AVERAGE(R25:R27))-1","v":0.13262324037895401},0.19092953376037114,null,null,null,null,null,null,null,null,null,null,null,null,null,null,null,null,null,null,null,null,null,null,null,"2017-11-01",{"$f":"consolida!U193","v":18364819},null,3.5564972939712947E-2,null,{"$f":"consolida!F193","v":130.72},null,8.6111203429824812E-2,null,{"$f":"consolida!B193","v":1818339},null,4.280017067077746E-2,null,{"$f":"consolida!P193","v":335660},null,3.82885530280066E-2,null,{"$f":"consolida!I193","v":35.666666666666671},{"$f":"consolida!N193","v":32.383333333333333},{"$f":"consolida!AQ193","v":26.702683689724093},{"$f":"consolida!AS193","v":1.4900383256667484},{"$f":"consolida!AT193","v":20.372576712771917}]
["2017-12-01",228084,null,316170671.78398615,null,{"$f":"F28","v":1.0164891966250951},{"$f":"G28","v":0.97478327866134684},null,"2017-12-01",9.5599043144940499E-2,null,0.14288885351211222,null,{"$f":"((SUM($R$29:R40)/SUM($R$17:R28))-1)","v":0.14360844714557741},{"$f":"((SUM($S$29:S40)/SUM($S$17:S28))-1)","v":0.17030381749979973},{"$f":"((SUM(R29:R40)/SUM(R17:R28))-1)","v":0.14360844714557741},0.17030381749979973,228084,316170671.78398615,{"$f":"(AVERAGE(R38:R40)/AVERAGE(R26:R28))-1","v":0.11174909500048913},0.19194075852088943,null,null,null,null,null,null,null,null,null,null,null,null,null,null,null,null,null,null,null,null,null,null,null,"2017-12-01",{"$f":"consolida!U194","v":18331107},null,3.321009021752297E-2,null,{"$f":"consolida!F194","v":126.086},null,8.9691291872644907E-2,null,{"$f":"consolida!B194","v":1652016},null,-2.7664215446805196E-2,null,{"$f":"consolida!P194","v":314153},null,2.4370759002083631E-2,null,{"$f":"consolida!I194","v":35.491666666666667},{"$f":"consolida!N194","v":31.016666666666662},{"$f":"consolida!AQ194","v":26.41101430559084},{"$f":"consolida!AS194","v":1.393346704855174},{"$f":"consolida!AT194","v":20.655064699736808}]
["2018-01-01",238456,null,318216828.29363292,null,{"$f":"F29","v":0.92660213640250877},0.87192100312103815,null,"2018-01-01",0.12045333872127273,null,0.2009284129684592,null,{"$f":"((SUM($R$41:R41)/SUM($R$29:R29))-1)","v":0.12045333872127273},{"$f":"((SUM($S$41:S41)/SUM($S$29:S29))-1)","v":0.2009284129684592},{"$f":"((SUM(R30:R41)/SUM(R18:R29))-1)","v":0.13666624025816643},{"$f":"((SUM(S30:S41)/SUM(S18:S29))-1)","v":0.17294722067267698},238456,318216828.29363292,{"$f":"(AVERAGE(R39:R41)/AVERAGE(R27:R29))-1","v":9.6518022674718651E-2},0.17932988983066944,null,null,null,null,null,null,null,null,null,null,null,null,null,null,null,null,null,null,null,null,null,null,null,"2018-01-01",{"$f":"consolida!U195","v":18211901},null,3.4541677992323772E-2,null,{"$f":"consolida!F195","v":121.17400000000001},null,8.7318180594564199E-2,null,{"$f":"consolida!B195","v":1749911},null,7.1204437827805167E-2,null,{"$f":"consolida!P195","v":342985},null,8.3636375125192286E-2,null,{"$f":"consolida!I195","v":35.583333333333336},{"$f":"consolida!N195","v":31.583333333333329},{"$f":"consolida!AQ195","v":26.123412402180641},{"$f":"consolida!AS195","v":1.5769425517577997},{"$f":"consolida!AT195","v":21.749786614481806}]
["2018-02-01",196310,null,304349801.07445627,null,{"$f":"F30","v":0.7916362001726539},0.86121129646014516,null,"2018-02-01",0.10582231134945141,null,0.14976976757226779,null,{"$f":"((SUM($R$41:R42)/SUM($R$29:R30))-1)","v":0.11379933136071929},{"$f":"((SUM($S$41:S42)/SUM($S$29:S30))-1)","v":0.17536216237952296},0.13896063958137916,{"$f":"((SUM(S31:S42)/SUM(S19:S30))-1)","v":0.17650273333781219},196310,304349801.07445627,{"$f":"(AVERAGE(R40:R42)/AVERAGE(R28:R30))-1","v":0.10746883599236123},0.16422087351059966,null,null,null,null,null,null,null,null,null,null,null,null,null,null,null,null,null,null,null,null,null,null,null,"2018-02-01",{"$f":"consolida!U196","v":18314467},null,3.3028486582478811E-2,null,{"$f":"consolida!F196","v":116.26},null,7.8979118329466358E-2,null,{"$f":"consolida!B196","v":1546402},null,6.4628014055494898E-2,null,{"$f":"consolida!P196","v":280698},null,5.4688644826277555E-2,null,{"$f":"consolida!I196","v":37.241666666666667},{"$f":"consolida!N196","v":33.641666666666666},{"$f":"consolida!AQ196","v":26.040702536065709},{"$f":"consolida!AS196","v":1.2760681501267448},{"$f":"consolida!AT196","v":20.457323183552397}]
["2018-03-01",215600,null,324418942.06976968,null,{"$f":"F31","v":0.89188565607672499},0.93381226341408663,null,"2018-03-01",7.0953128415029099E-2,null,6.3640302201255494E-2,null,{"$f":"((SUM($R$41:R43)/SUM($R$29:R31))-1)","v":9.9220668592318928E-2},{"$f":"((SUM($S$41:S43)/SUM($S$29:S31))-1)","v":0.13453727601072218},0.13673136772971373,{"$f":"((SUM(S32:S43)/SUM(S20:S31))-1)","v":0.16332861069741544},215600,324418942.06976968,{"$f":"(AVERAGE(R41:R43)/AVERAGE(R29:R31))-1","v":9.9220668592318706E-2},0.13453727601072196,null,null,null,null,null,null,null,null,null,null,null,null,null,null,null,null,null,null,null,null,null,null,null,"2018-03-01",{"$f":"consolida!U197","v":18542644},null,3.8638683359740078E-2,null,{"$f":"consolida!F197","v":119.694},null,6.5044846241457899E-2,null,{"$f":"consolida!B197","v":1646846},null,-4.9589299925610564E-2,null,{"$f":"consolida!P197","v":306027},null,3.3868014405308067E-2,null,{"$f":"consolida!I197","v":40.050000000000004},{"$f":"consolida!N197","v":37.716666666666661},{"$f":"consolida!AQ197","v":26.164643967941348},{"$f":"consolida!AS197","v":1.3613306948507879},{"$f":"consolida!AT197","v":21.055966775790253}]
["2018-04-01",237825,null,327624029.83339095,null,{"$f":"F32","v":0.94626202907599488},0.91809099249162851,null,"2018-04-01",0.14104698527542014,null,0.19945524595388142,null,{"$f":"((SUM($R$41:R44)/SUM($R$29:R32))-1)","v":0.11011663716991138},{"$f":"((SUM($S$41:S44)/SUM($S$29:S32))-1)","v":0.15054326071412172},0.13992058070847202,{"$f":"((SUM(S33:S44)/SUM(S21:S32))-1)","v":0.17582174060003841},237825,327624029.83339095,{"$f":"(AVERAGE(R42:R44)/AVERAGE(R30:R32))-1","v":0.10637069680400923},0.13470328093187178,null,null,null,null,null,null,null,null,null,null,null,null,null,null,null,null,null,null,null,null,null,null,null,"2018-04-01",{"$f":"consolida!U198","v":18659703},null,2.6160525736911522E-2,null,{"$f":"consolida!F198","v":122.977},null,8.3087464660965393E-2,null,{"$f":"consolida!B198","v":1772557},null,0.10475756570992645,null,{"$f":"consolida!P198","v":335215},null,0.11368589615808844,null,{"$f":"consolida!I198","v":40.283333333333331},{"$f":"consolida!N198","v":36.258333333333333},{"$f":"consolida!AQ198","v":26.487902867848788},{"$f":"consolida!AS198","v":1.4159756179619181},{"$f":"consolida!AT198","v":21.177456873078668}]
["2018-05-01",261334,null,361922689.83077985,null,{"$f":"F33","v":1.0614215104068783},1.0301663179623286,null,"2018-05-01",5.9897296922757359E-3,null,7.2984103258394883E-2,null,{"$f":"((SUM($R$41:R45)/SUM($R$29:R33))-1)","v":8.4594656305608362E-2},{"$f":"((SUM($S$41:S45)/SUM($S$29:S33))-1)","v":0.13244043399480332},0.11890546520206446,{"$f":"((SUM(S34:S45)/SUM(S22:S33))-1)","v":0.1601753107513888},261334,361922689.83077985,{"$f":"(AVERAGE(R43:R45)/AVERAGE(R31:R33))-1","v":6.7567708854539443E-2},0.10760604922243333,null,null,null,null,null,null,null,null,null,null,null,null,null,null,null,null,null,null,null,null,null,null,null,"2018-05-01",{"$f":"consolida!U199","v":18832943},null,3.126969435106397E-2,null,{"$f":"consolida!F199","v":131.13900000000001},null,5.3392989107733824E-2,null,{"$f":"consolida!B199","v":2058400},null,1.5205894349341609E-2,null,{"$f":"consolida!P199","v":375424},null,3.5498909370856868E-3,null,{"$f":"consolida!I199","v":42.024999999999999},{"$f":"consolida!N199","v":39.841666666666669},{"$f":"consolida!AQ199","v":26.800642783381708},{"$f":"consolida!AS199","v":1.5271568357000476},{"$f":"consolida!AT199","v":20.202311547729618}]
["2018-06-01",268829,null,363364629.59905064,null,{"$f":"F34","v":1.0897830883825024},1.0612120860268393,null,"2018-06-01",4.2882358646106011E-2,null,5.616648689697179E-2,null,{"$f":"((SUM($R$41:R46)/SUM($R$29:R34))-1)","v":7.6434324675689336E-2},{"$f":"((SUM($S$41:S46)/SUM($S$29:S34))-1)","v":0.11777372171816469},0.10580306917054649,{"$f":"((SUM(S35:S46)/SUM(S23:S34))-1)","v":0.14792437173993989},268829,363364629.59905064,{"$f":"(AVERAGE(R44:R46)/AVERAGE(R32:R34))-1","v":5.7863852998705223E-2},0.10311421449689906,null,null,null,null,null,null,null,null,null,null,null,null,null,null,null,null,null,null,null,null,null,null,null,"2018-06-01",{"$f":"consolida!U200","v":18967952},null,4.2375976975786322E-2,null,{"$f":"consolida!F200","v":134.83600000000001},null,{"$f":"AX46/AX34-1","v":5.1926977687626774E-2},null,{"$f":"consolida!B200","v":2055762},null,-1.6155863547609006E-2,null,{"$f":"consolida!P200","v":368785},null,1.4229492507102481E-2,null,{"$f":"consolida!I200","v":44.641666666666673},{"$f":"consolida!N200","v":41.758333333333333},{"$f":"consolida!AQ200","v":27.107100180058989},{"$f":"consolida!AS200","v":1.5391035249953582},{"$f":"consolida!AT200","v":19.797454356100257}]
["2018-07-01",277776,null,392011058.3164379,null,{"$f":"F35","v":1.089363062492392},1.1651712504833942,null,"2018-07-01",0.10641280968692746,null,6.6662900035146411E-2,null,{"$f":"((SUM($R$41:R47)/SUM($R$29:R35))-1)","v":8.1232178726220017E-2},{"$f":"((SUM($S$41:S47)/SUM($S$29:S35))-1)","v":0.10906416211497461},9.6631648777340873E-2,{"$f":"((SUM(S36:S47)/SUM(S24:S35))-1)","v":0.13540291933139992},277776,392011058.3164379,{"$f":"(AVERAGE(R45:R47)/AVERAGE(R33:R35))-1","v":5.1164890523579531E-2},6.5252770634467661E-2,null,null,null,null,null,null,null,null,null,null,null,null,null,null,null,null,null,null,null,null,null,null,null,"2018-07-01",{"$f":"consolida!U201","v":18812915},null,2.9325260646763551E-2,null,{"$f":"consolida!F201","v":133.971},null,7.3717871654925382E-2,null,{"$f":"consolida!B201","v":2086655},null,8.1931351590422086E-2,null,{"$f":"consolida!P201","v":354574},null,6.930161583140837E-2,null,{"$f":"consolida!I201","v":44.016666666666673},{"$f":"consolida!N201","v":37.883333333333333},{"$f":"consolida!AQ201","v":27.411215032122744},{"$f":"consolida!AS201","v":1.5042624348506464},{"$f":"consolida!AT201","v":18.696190464138223}]
["2018-08-01",233598,null,336995840.32783282,null,{"$f":"F36","v":0.94271236346850884},0.99860816054632429,null,"2018-08-01",7.0867657777838877E-2,null,3.2237881516719025E-2,null,{"$f":"((SUM($R$41:R48)/SUM($R$29:R36))-1)","v":7.9966868885854359E-2},{"$f":"((SUM($S$41:S48)/SUM($S$29:S36))-1)","v":9.8963505733419721E-2},{"$f":"((SUM(R37:R48)/SUM(R25:R36))-1)","v":9.4193988735816525E-2},0.12459063038506635,233598,336995840.32783282,{"$f":"(AVERAGE(R46:R48)/AVERAGE(R34:R36))-1","v":7.3219950094501218E-2},5.2356898082384529E-2,null,null,null,null,null,null,null,null,null,null,null,null,null,null,null,null,null,null,null,null,null,null,null,"2018-08-01",{"$f":"consolida!U202","v":18535422},null,2.7451424715910777E-2,null,{"$f":"consolida!F202","v":123.14700000000001},null,5.4593566950981387E-2,null,{"$f":"consolida!B202","v":1602495},null,4.301939599062754E-2,null,{"$f":"consolida!P202","v":291242},null,1.9383697813121215E-2,null,{"$f":"consolida!I202","v":43.324999999999996},{"$f":"consolida!N202","v":37.958333333333336},{"$f":"consolida!AQ202","v":27.501817946333279},{"$f":"consolida!AS202","v":1.3228135652952115},{"$f":"consolida!AT202","v":20.105427820739568}]
["2018-09-01",254363,null,334706100.15034199,null,{"$f":"F37","v":1.0332467099015372},1.0474702633208401,null,"2018-09-01",5.3402521245051071E-2,null,{"$f":"((S49/S37)-1)","v":-2.3422457898783278E-2},null,{"$f":"((SUM($R$41:R49)/SUM($R$29:R37))-1)","v":7.680441037554453E-2},{"$f":"((SUM($S$41:S49)/SUM($S$29:S37))-1)","v":8.4120137855151267E-2},{"$f":"((SUM(R38:R49)/SUM(R26:R37))-1)","v":8.5326037520895071E-2},{"$f":"((SUM(S38:S49)/SUM(S26:S37))-1)","v":0.10927525105521751},254363,334706100.15034199,{"$f":"(AVERAGE(R47:R49)/AVERAGE(R35:R37))-1","v":7.7490582790533447E-2},2.604035140279537E-2,null,null,null,null,null,null,null,null,null,null,null,null,null,null,null,null,null,null,null,null,null,null,null,"2018-09-01",{"$f":"consolida!U203","v":18956018},null,3.0210475017555583E-2,null,{"$f":"consolida!F203","v":128.864},null,2.7959699742340138E-2,null,{"$f":"consolida!B203","v":1952397},null,-2.0504026806243192E-2,null,{"$f":"consolida!P203","v":331276},null,1.737618927700546E-2,null,{"$f":"consolida!I203","v":38.791666666666664},{"$f":"consolida!N203","v":37.35},{"$f":"consolida!AQ203","v":27.379964026105757},{"$f":"consolida!AS203","v":1.4086148420101319},{"$f":"consolida!AT203","v":19.264387841796108}]
["2018-10-01",291630,null,362127342.66322756,null,{"$f":"F38","v":1.1348768892103327},1.0665382500296801,null,"2018-10-01",0.1111026445027794,null,4.0016888222334179E-2,null,{"$f":"((SUM($R$41:R50)/SUM($R$29:R38))-1)","v":8.0734178839756199E-2},{"$f":"((SUM($S$41:S50)/SUM($S$29:S38))-1)","v":7.928206476385169E-2},{"$f":"((SUM(R39:R50)/SUM(R27:R38))-1)","v":8.1348162220464371E-2},9.3185431098133709E-2,291630,362127342.66322756,{"$f":"(AVERAGE(R48:R50)/AVERAGE(R36:R38))-1","v":7.9652280369379325E-2},1.614971623514716E-2,null,null,null,null,null,null,null,null,null,null,null,null,null,null,null,null,null,null,null,null,null,null,null,"2018-10-01",{"$f":"consolida!U204","v":18792718},null,2.797143888950937E-2,null,{"$f":"consolida!F204","v":135.49799999999999},null,4.8527010609237919E-2,null,{"$f":"consolida!B204","v":2243453},null,0.10396155072572166,null,{"$f":"consolida!P204","v":382899},null,{"$f":"BF50/BF38-1","v":5.6573316004271623E-2},null,{"$f":"consolida!I204","v":32.983333333333334},{"$f":"consolida!N204","v":37.725000000000001},{"$f":"consolida!AQ204","v":27.045919072163251},{"$f":"consolida!AS204","v":1.5789931529338441},{"$f":"consolida!AT204","v":19.134148773017632}]
["2018-11-01",271921,null,355289050.64631528,null,{"$f":"F39","v":1.0757211577848704},1.0710148374823469,null,"2018-11-01",0.14884385126599664,null,-1.4753179638162806E-2,null,{"$f":"((SUM($R$41:R51)/SUM($R$29:R39))-1)","v":8.7112477784090592E-2},{"$f":"((SUM($S$41:S51)/SUM($S$29:S39))-1)","v":6.968860827168899E-2},{"$f":"((SUM(R40:R51)/SUM(R28:R39))-1)","v":8.7758302414417066E-2},7.500176287130178E-2,271921,355289050.64631528,{"$f":"(AVERAGE(R49:R51)/AVERAGE(R37:R39))-1","v":0.10435198237171694},5.5711764886545723E-4,null,null,null,null,null,null,null,null,null,null,null,null,null,null,null,null,null,null,null,null,null,null,null,"2018-11-01",{"$f":"consolida!U205","v":18871968},null,2.7615246303271501E-2,null,{"$f":"consolida!F205","v":135.09399999999999},null,3.3460832313341404E-2,null,{"$f":"consolida!B205","v":1867172},null,2.6855828313642194E-2,null,{"$f":"consolida!P205","v":375486},null,0.11864982422689629,null,{"$f":"consolida!I205","v":31.05},{"$f":"consolida!N205","v":42.358333333333327},{"$f":"consolida!AQ205","v":26.823279772726377},{"$f":"consolida!AS205","v":1.5457217861209804},{"$f":"consolida!AT205","v":22.489591812165678}]
["2018-12-01",249931,null,310586470.22700167,null,{"$f":"F40","v":1.0164891966250951},0.97478327866134684,null,"2018-12-01",9.5784886269970615E-2,null,-1.7661984666306196E-2,null,{"$f":"((SUM($R$41:R52)/SUM($R$29:R40))-1)","v":8.7830314942341836E-2},{"$f":"((SUM($S$41:S52)/SUM($S$29:S40))-1)","v":6.2516799222319674E-2},{"$f":"((SUM(R41:R52)/SUM(R29:R40))-1)","v":8.7830314942341836E-2},6.2516799222319674E-2,249931,310586470.22700167,{"$f":"(AVERAGE(R50:R52)/AVERAGE(R38:R40))-1","v":0.1185819339863925},2.9554862758456313E-3,null,"may-19.2",null,"may-19.1",null,"2019-03-01",null,null,null,null,null,null,null,null,null,null,null,null,null,null,null,null,null,"2018-12-01",{"$f":"consolida!U206","v":18914563},null,3.1828737893461634E-2,null,{"$f":"consolida!F206","v":128.577},null,{"$f":"AX52/AX40-1","v":1.9756356772361761E-2},null,{"$f":"consolida!B206","v":1709631},null,3.4875570212395068E-2,null,{"$f":"consolida!P206","v":340020},null,8.2338860364217448E-2,null,{"$f":"consolida!I206","v":25.775000000000002},{"$f":"consolida!N206","v":44.566666666666663},{"$f":"consolida!AQ206","v":26.711977318651275},{"$f":"consolida!AS206","v":1.348044813319591},{"$f":"consolida!AT206","v":21.728558529139796}]
["2019-01-01",249801,null,327669711.7211864,null,0.92660213640250877,0.87192100312103815,null,"2019-01-01",4.7576911463750093E-2,null,2.9705793619534404E-2,null,{"$f":"((SUM($R$53:R53)/SUM($R$41:R41))-1)","v":4.7576911463750093E-2},{"$f":"((SUM($S$53:S53)/SUM($S$41:S41))-1)","v":2.9705793619534404E-2},{"$f":"((SUM(R42:R53)/SUM(R30:R41))-1)","v":8.1882663769102804E-2},5.044830550395174E-2,249801,327669711.7211864,{"$f":"(AVERAGE(R51:R53)/AVERAGE(R39:R41))-1","v":9.7296620882753926E-2},-1.4587487637589547E-3,null,249801,327669711.7211864,249801,327669711.7211864,249801,327669711.7211864,null,null,null,null,null,null,null,null,null,null,null,null,null,null,null,null,"2019-01-01",{"$f":"consolida!U207","v":18730629},null,2.8482913453131475E-2,null,{"$f":"consolida!F207","v":123.06100000000001},null,1.5572647597669409E-2,null,{"$f":"consolida!B207","v":1858077},null,6.1812286453425402E-2,null,{"$f":"consolida!P207","v":354679},null,3.4094785486245671E-2,null,{"$f":"consolida!I207","v":21.208333333333329},{"$f":"consolida!N207","v":47.224999999999994},null,null,{"$f":"consolida!AT207","v":21.153030692497119}]
["2019-02-01",201433,null,305837745.17579252,null,0.7916362001726539,0.86121129646014516,null,"2019-02-01",2.6096480057052673E-2,null,4.8889274646584102E-3,null,{"$f":"((SUM($R$53:R54)/SUM($R$41:R42))-1)","v":3.7877846933752846E-2},{"$f":"((SUM($S$53:S54)/SUM($S$41:S42))-1)","v":1.7573745544303687E-2},{"$f":"((SUM(R43:R54)/SUM(R31:R42))-1)","v":7.6453594373945721E-2},4.0265908919912441E-2,201433,305837745.17579252,{"$f":"(AVERAGE(R52:R54)/AVERAGE(R40:R42))-1","v":5.7803424605868514E-2},5.7062033918662269E-3,null,201432.99999999997,305837745.17579246,201433,305837745.17579252,201433,305837745.17579252,null,null,null,null,null,null,null,null,null,null,null,null,null,null,null,null,"2019-02-01",{"$f":"consolida!U208","v":18846671},null,2.9059213134621897E-2,null,{"$f":"consolida!F208","v":116.749},null,{"$f":"AX54/AX42-1","v":4.2060897987268309E-3},null,{"$f":"consolida!B208","v":1571017},null,1.5917594519406997E-2,null,{"$f":"consolida!P208","v":287155},null,2.3003370170076032E-2,null,{"$f":"consolida!I208","v":18.166666666666668},{"$f":"consolida!N208","v":46.333333333333321},null,null,{"$f":"consolida!AT208","v":20.477137885789261}]
["2019-03-01",224512,null,323862464.97319549,null,0.89188565607672499,0.93381226341408663,null,"2019-03-01",4.1335807050092654E-2,null,-1.7153039616734089E-3,null,{"$f":"((SUM($R$53:R55)/SUM($R$41:R43))-1)","v":3.9024180230823768E-2},{"$f":"((SUM($S$53:S55)/SUM($S$41:S43))-1)","v":1.0965690233852854E-2},{"$f":"((SUM(R44:R55)/SUM(R32:R43))-1)","v":7.4156695710448695E-2},3.5030477686431638E-2,224512,323862464.97319549,{"$f":"(AVERAGE(R53:R55)/AVERAGE(R41:R43))-1","v":3.9024180230823768E-2},1.0965690233852854E-2,null,224512,323862464.97319549,224512,323862464.97319549,224512,323862464.97319549,null,null,null,null,null,null,null,null,null,null,null,null,null,null,null,null,"2019-03-01",{"$f":"consolida!U209","v":19096989},null,2.9895682622176123E-2,null,{"$f":"consolida!F209","v":121.078},null,1.1562818520560736E-2,null,{"$f":"consolida!B209","v":1709848},null,3.825615752778333E-2,null,{"$f":"consolida!P209","v":321344},null,5.0051139278560308E-2,null,{"$f":"consolida!I209","v":16.766666666666669},{"$f":"consolida!N209","v":43.93333333333333},null,null,{"$f":"consolida!AT209","v":21.00250518454903}]
["2019-04-01",253926,null,322516955.3229093,null,0.94626202907599488,0.91809099249162851,null,"2019-04-01",{"$f":"((R56/R44)-1)","v":6.7701040681173108E-2},null,{"$f":"((S56/S44)-1)","v":-1.5588217119112957E-2},null,{"$f":"((SUM($R$53:R56)/SUM($R$41:R44))-1)","v":4.6702792529985215E-2},{"$f":"((SUM($S$53:S56)/SUM($S$41:S44))-1)","v":4.1403076805404115E-3},{"$f":"((SUM(R45:R56)/SUM(R33:R44))-1)","v":6.8714031765456873E-2},1.9724114206040033E-2,{"$f":"B56","v":253926},322516955.3229093,{"$f":"(AVERAGE(R54:R56)/AVERAGE(R42:R44))-1","v":4.6381986502189276E-2},{"$f":"(AVERAGE(S54:S56)/AVERAGE(S42:S44))-1","v":-4.3659965065601103E-3},null,243486.88227126293,309258004.02950221,245128.9,357151100,253926,322516955.3229093,null,null,null,null,null,null,null,null,null,null,null,null,null,null,null,null,"2019-04-01",{"$f":"consolida!U210","v":19182644},null,{"$f":"AT56/AT44-1","v":2.8025151311357854E-2},null,{"$f":"consolida!F210","v":122.229},null,{"$f":"AX56/AX44-1","v":-6.0824381794970517E-3},null,{"$f":"consolida!B210","v":1765185},null,-4.1589635763475963E-3,null,{"$f":"consolida!P210","v":353127},null,{"$f":"BF56/BF44-1","v":5.3434363020747888E-2},null,{"$f":"consolida!I210","v":12.216666666666669},{"$f":"consolida!N210","v":40.233333333333327},null,null,{"$f":"consolida!AT210","v":22.206382196006174}]
["2019-05-01",271955,null,367643444.55845422,null,1.0614215104068783,{"$f":"G45","v":1.0301663179623286},null,"2019-05-01",4.0641477955413396E-2,null,1.5806565568876385E-2,null,{"$f":"((SUM($R$53:R57)/SUM($R$41:R45))-1)","v":4.5324808072899625E-2},{"$f":"((SUM($S$53:S57)/SUM($S$41:S45))-1)","v":6.7203260878541116E-3},{"$f":"((SUM(R46:R57)/SUM(R34:R45))-1)","v":7.1862508615353926E-2},{"$f":"((SUM(S46:S57)/SUM(S34:S45))-1)","v":1.492910269320169E-2},271955,{"$f":"D57","v":367643444.55845422},{"$f":"(AVERAGE(R55:R57)/AVERAGE(R43:R45))-1","v":4.9854566364327058E-2},{"$f":"(AVERAGE(S55:S57)/AVERAGE(S43:S45))-1","v":5.6415244398477782E-5},null,275202.15454676904,354711577.85834187,274212.8,385882600,285128.7,368493600,null,null,null,null,null,null,null,null,null,null,null,null,null,null,null,null,"2019-05-01",{"$f":"consolida!U211","v":19327792},null,2.6275712723178746E-2,null,{"$f":"consolida!F211","v":133.14099999999999},null,1.5266244214154234E-2,null,{"$f":"consolida!B211","v":2075741},null,8.4245044694908344E-3,null,{"$f":"consolida!P211","v":393071},null,4.7005519093078707E-2,null,{"$f":"consolida!I211","v":9.1416666666666675},{"$f":"consolida!N211","v":35.824999999999996},null,null,{"$f":"consolida!AT211","v":20.780035737320123}]
["2019-06-01",274286,null,359918540.23199099,null,{"$f":"F46","v":1.0897830883825024},1.0612120860268393,null,"2019-06-01",2.0299149273329986E-2,null,-9.4838327298454317E-3,null,{"$f":"((SUM($R$53:R58)/SUM($R$41:R46))-1)","v":4.0581547342905866E-2},{"$f":"((SUM($S$53:S58)/SUM($S$41:S46))-1)","v":3.7761652634584753E-3},6.9624842232776096E-2,9.2519744785977132E-3,274286,{"$f":"D58","v":359918540.23199099},{"$f":"(AVERAGE(R56:R58)/AVERAGE(R44:R46))-1","v":4.1900394276993769E-2},-2.690073719738062E-3,null,290450.57980257168,376571415.44588029,289052.90000000002,407798800,293334.8,385340000,null,null,null,null,null,null,null,null,null,null,null,null,null,null,null,null,"2019-06-01",{"$f":"consolida!U212","v":19458689},null,2.5871902248592704E-2,null,{"$f":"consolida!F212","v":136.696},null,1.3794535583968592E-2,null,{"$f":"consolida!B212","v":2009011},null,-2.2741445751015887E-2,null,{"$f":"consolida!P212","v":381685},null,3.4979730737421555E-2,null,{"$f":"consolida!I212","v":7.049999999999998},{"$f":"consolida!N212","v":34.749999999999993},null,null,{"$f":"consolida!AT212","v":20.801950239038351}]
["2019-07-01",291354,null,419298301.40928471,null,{"$f":"F47","v":1.089363062492392},1.1651712504833942,null,"2019-07-01",4.888111283912222E-2,null,6.9608350361433091E-2,null,{"$f":"((SUM($R$53:R59)/SUM($R$41:R47))-1)","v":4.194077104938887E-2},{"$f":"((SUM($S$53:S59)/SUM($S$41:S47))-1)","v":1.4565436747949523E-2},6.4422554293628753E-2,9.8787801031225975E-3,291354,419298301.40928471,3.6705741398793679E-2,2.645838304454684E-2,null,295009.50984241418,424394110.5915004,292815.2,448094200,296533.7,428012000,null,null,null,null,null,null,null,null,null,null,null,null,null,null,null,null,"2019-07-01",{"$f":"consolida!U213","v":19290343},null,2.5377672731737855E-2,null,{"$f":"consolida!F213","v":135.83500000000001},null,1.3913458882892638E-2,null,{"$f":"consolida!B213","v":2179527},null,4.4507597087204198E-2,null,{"$f":"consolida!P213","v":379951},null,7.157039151206801E-2,null,{"$f":"consolida!I213","v":6.5333333333333341},{"$f":"consolida!N213","v":36.5},null,null,{"$f":"consolida!AT213","v":19.056491728917539}]
["2019-08-01",230288,null,343156055.51918501,null,{"$f":"F48","v":0.94271236346850884},0.99860816054632429,null,"2019-08-01",-1.4169641863372107E-2,null,1.8279795932672149E-2,null,{"$f":"((SUM($R$53:R60)/SUM($R$41:R48))-1)","v":3.5148476883788859E-2},{"$f":"((SUM($S$53:S60)/SUM($S$41:S48))-1)","v":1.5024127738032078E-2},5.7603400449897091E-2,8.7880021514761264E-3,230288,343156055.51918501,2.0155010939460594E-2,2.7464436907638445E-2,null,253055.44347070446,360133709.63005424,249992.7,377947900,252390.6,362182600,null,null,null,null,null,null,null,null,null,null,null,null,null,null,null,null,"2019-08-01",{"$f":"consolida!U214","v":19254763},null,3.8808989619982803E-2,null,{"$f":"consolida!F214","v":122.768},null,-3.0776226785874661E-3,null,{"$f":"consolida!B214","v":1519922},null,-5.1527773877609651E-2,null,{"$f":"consolida!P214","v":299075},null,2.6895159352016584E-2,null,{"$f":"consolida!I214","v":8.8000000000000007},{"$f":"consolida!N214","v":40.549999999999997},null,null,{"$f":"consolida!AT214","v":21.41381668212037}]
["2019-09-01",266525,null,361129306.900011,null,{"$f":"F49","v":1.0332467099015372},1.0474702633208401,null,"2019-09-01",{"$f":"((R61/R49)-1)","v":4.7813557789458283E-2},null,7.8944503066422644E-2,null,{"$f":"((SUM($R$53:R61)/SUM($R$41:R49))-1)","v":3.6623474021915792E-2},{"$f":"((SUM($S$53:S61)/SUM($S$41:S49))-1)","v":2.2007568877246531E-2},5.7096486663334778E-2,1.7231371657674188E-2,266525,{"$f":"D61","v":361129306.900011},2.929204152339504E-2,{"$f":"(AVERAGE(S59:S61)/AVERAGE(S47:S49))-1","v":5.6284604119450465E-2},null,282464.21989162808,376651311.45616496,280540,398381900,282775.09999999998,381957400,null,null,null,null,null,null,null,null,null,null,null,null,null,null,null,null,"2019-09-01",{"$f":"consolida!U215","v":19223638},null,1.4117943969033986E-2,null,{"$f":"consolida!F215","v":129.251},null,3.003166128631829E-3,null,{"$f":"consolida!B215","v":2094635},null,7.2853010939885721E-2,null,{"$f":"consolida!P215","v":358585},null,8.2435793718832695E-2,null,{"$f":"consolida!I215","v":9.0916666666666668},{"$f":"consolida!N215","v":40.733333333333334},null,null,{"$f":"consolida!AT215","v":19.321228592735}]
["2019-10-01",290990,null,382719372.74531198,null,{"$f":"F50","v":1.1348768892103327},1.0665382500296801,null,"2019-10-01",{"$f":"((R62/R50)-1)","v":-2.1945616020300207E-3},null,{"$f":"((S62/S50)-1)","v":5.6864057628574827E-2},null,{"$f":"((SUM($R$53:R62)/SUM($R$41:R50))-1)","v":3.2050865182304378E-2},{"$f":"((SUM($S$53:S62)/SUM($S$41:S50))-1)","v":2.5692173585704081E-2},4.6395574080019264E-2,1.8795851570521771E-2,{"$f":"B62","v":290990},{"$f":"D62","v":382719372.74531198},{"$f":"(AVERAGE(R60:R62)/AVERAGE(R48:R50))-1","v":1.0533728583321356E-2},5.1435428353824753E-2,{"$f":"I62","v":"2019-10-01"},320290.32988408173,394441627.98414153,318663.40000000002,420857900,320153.3,403007500,null,null,null,null,null,null,null,null,null,null,null,null,null,null,null,null,"2019-10-01",{"$f":"consolida!U216","v":19181445},null,2.0684980214144666E-2,null,{"$f":"consolida!F216","v":133.51499999999999},null,-1.46349023601825E-2,null,{"$f":"consolida!B216","v":2224757},null,-8.3335822056446185E-3,null,{"$f":"consolida!P216","v":391788},null,2.3214999255678492E-2,null,{"$f":"consolida!I216","v":6.6916666666666673},{"$f":"consolida!N216","v":39.458333333333336},null,null,{"$f":"consolida!AT216","v":19.718645864317672}]
["2019-11-01",282388.99999999994,null,364556187.90798074,null,{"$f":"F51","v":1.0757211577848704},1.0710148374823469,null,"2019-11-01",{"$f":"((R63/R51)-1)","v":3.8496475079158765E-2},null,{"$f":"((S63/S51)-1)","v":2.6083374212651389E-2},null,{"$f":"((SUM($R$53:R63)/SUM($R$41:R51))-1)","v":3.2688756395483853E-2},{"$f":"((SUM($S$53:S63)/SUM($S$41:S51))-1)","v":2.5728933260951381E-2},{"$f":"((SUM(R52:R63)/SUM(R40:R51))-1)","v":3.7524960295403531E-2},{"$f":"((SUM(S52:S63)/SUM(S40:S51))-1)","v":2.2380562235104984E-2},{"$f":"B63","v":282388.99999999994},{"$f":"D63","v":364556187.90798074},{"$f":"(AVERAGE(R61:R63)/AVERAGE(R49:R51))-1","v":2.6885467176255728E-2},{"$f":"(AVERAGE(S61:S63)/AVERAGE(S49:S51))-1","v":5.3494126818195431E-2},null,290113.39791952528,381384619.29484588,288546.40000000002,398927800,288451,382867600,null,null,null,null,null,null,null,null,null,null,null,null,null,null,null,null,"2019-11-01",{"$f":"consolida!U217","v":19415313},null,2.8791114948901964E-2,null,{"$f":"consolida!F217","v":134.35},null,-5.5072764149407538E-3,null,{"$f":"consolida!B217","v":1764169},null,-5.5165244551653503E-2,null,{"$f":"consolida!P217","v":367946},null,-2.0080642154434503E-2,null,{"$f":"consolida!I217","v":6.9416666666666664},{"$f":"consolida!N217","v":35.941666666666663},null,null,{"$f":"consolida!AT217","v":23.104102396334948}]
["2019-12-01",269180.70055543998,{"$f":"B64","v":269180.70055543998},341645940.27661502,{"$f":"D64","v":341645940.27661502},{"$f":"F52","v":1.0164891966250951},{"$f":"G52","v":0.97478327866134684},null,"2019-12-01",{"$f":"((R64/R52)-1)","v":7.7020059758253101E-2},{"$f":"((R64/R52)-1)","v":7.7020059758253101E-2},{"$f":"((S64/S52)-1)","v":0.10000264991231789},{"$f":"((S64/S52)-1)","v":0.10000264991231789},{"$f":"((SUM($R$53:R64)/SUM($R$41:R52))-1)","v":3.638500231868913E-2},{"$f":"((SUM($S$53:S64)/SUM($S$41:S52))-1)","v":3.1366908482128864E-2},{"$f":"((SUM(R53:R64)/SUM(R41:R52))-1)","v":3.638500231868913E-2},3.1366908482128864E-2,{"$f":"B64","v":269180.70055543998},341645940.27661502,3.5744737505488899E-2,5.9259209827286385E-2,null,271304.56356028747,347471620.15624559,270298.09999999998,366129700,269924.40000000002,352383900,null,null,null,null,null,null,null,null,null,null,null,null,null,null,null,null,"2019-12-01",{"$f":"consolida!U218","v":19261636},{"$f":"AT64","v":19261636},1.8349511960704668E-2,{"$f":"AV64","v":1.8349511960704668E-2},{"$f":"consolida!F218","v":129.9827776026182},{"$f":"AX64","v":129.9827776026182},1.0933352019554032E-2,{"$f":"AZ64","v":1.0933352019554032E-2},{"$f":"consolida!B218","v":1740332},{"$f":"BB64","v":1740332},1.7957676247096543E-2,{"$f":"BD64","v":1.7957676247096543E-2},{"$f":"consolida!P218","v":353689.73467471509},{"$f":"BF64","v":353689.73467471509},4.0202737117566834E-2,{"$f":"BH64","v":4.0202737117566834E-2},{"$f":"consolida!I218","v":9.0250000000000004},{"$f":"consolida!N218","v":31.491666666666664},null,null,{"$f":"consolida!AT218","v":22.08828292025412},{"$f":"BN64","v":22.08828292025412}]
["2020-01-01",null,260667.82850931419,null,329087398.58794838,{"$f":"F53","v":0.92660213640250877},0.87192100312103815,null,"2020-01-01",null,{"$f":"((R65/R53)-1)","v":4.3501941582756665E-2},null,{"$f":"((S65/S53)-1)","v":4.326572814176588E-3},{"$f":"((SUM($R$53:R65)/SUM($R$41:R53))-1)","v":3.6932465759950572E-2},{"$f":"((SUM($S$53:S65)/SUM($S$41:S53))-1)","v":2.9361990488386391E-2},{"$f":"((SUM(R54:R65)/SUM(R42:R53))-1)","v":3.6088896096455381E-2},{"$f":"((SUM(S54:S65)/SUM(S42:S53))-1)","v":2.9335313533943586E-2},{"$f":"C65","v":260667.82850931419},{"$f":"E65","v":329087398.58794838},{"$f":"(AVERAGE(R63:R65)/AVERAGE(R51:R53))-1","v":5.2594273675802716E-2},4.2015494421961508E-2,null,null,null,null,null,null,null,null,null,null,null,null,null,null,null,null,null,null,null,null,null,null,null,"2020-01-01",null,{"$f":"consolida!U219","v":19074196.547519092},null,{"$f":"AU65/AT53-1","v":1.8342552592285788E-2},null,{"$f":"consolida!F219","v":123.81201921292183},null,{"$f":"AY65/AX53-1","v":6.1028206574123001E-3},null,{"$f":"consolida!B219","v":1764837},null,{"$f":"BC65/BB53-1","v":-5.0180912846991776E-2},null,{"$f":"consolida!P219","v":357575.79144104966},null,{"$f":"BG65/BF53-1","v":8.1673610251795647E-3},{"$f":"consolida!I219","v":8.6833333333333353},{"$f":"consolida!N219","v":30.074999999999999},null,null,null,{"$f":"consolida!AT219","v":22.547766947821319}]
["2020-02-01",null,213743.09605011542,null,311934445.85100383,{"$f":"F54","v":0.7916362001726539},0.86121129646014516,null,"2020-02-01",null,{"$f":"((R66/R54)-1)","v":6.1112608411310054E-2},null,{"$f":"((S66/S54)-1)","v":1.9934428537285331E-2},{"$f":"((SUM($R$53:R66)/SUM($R$41:R54))-1)","v":3.8344745042233175E-2},{"$f":"((SUM($S$53:S66)/SUM($S$41:S54))-1)","v":2.8751782886627497E-2},{"$f":"((SUM(R55:R66)/SUM(R43:R54))-1)","v":3.8412093636041922E-2},{"$f":"((SUM(S55:S66)/SUM(S43:S54))-1)","v":3.0448061276078908E-2},{"$f":"C66","v":213743.09605011542},311934445.85100383,{"$f":"(AVERAGE(R64:R66)/AVERAGE(R52:R54))-1","v":6.0508760583984689E-2},{"$f":"(AVERAGE(S64:S66)/AVERAGE(S52:S54))-1","v":4.0858071938981277E-2},null,null,null,null,null,null,null,null,null,null,null,null,null,null,null,null,null,null,null,null,null,null,null,"2020-02-01",null,{"$f":"consolida!U220","v":19061918.772278588},null,{"$f":"AU66/AT54-1","v":1.1420996964322638E-2},null,{"$f":"consolida!F220","v":118.17117684587383},null,{"$f":"AY66/AX54-1","v":1.218149059841056E-2},null,{"$f":"consolida!B220","v":1505774.3348056846},null,{"$f":"BC66/BB54-1","v":-4.1528936475108358E-2},null,{"$f":"consolida!P220","v":296751.20673122571},null,{"$f":"BG66/BF54-1","v":3.3418212224149757E-2},null,null,null,null,null,{"$f":"consolida!AT220","v":22.018621826766445}]
["2020-03-01",null,237564.17333591476,null,337243855.20207196,0.89188565607672499,0.93381226341408663,null,"2020-03-01",null,{"$f":"((R67/R55)-1)","v":5.8135749251330804E-2},null,{"$f":"((S67/S55)-1)","v":4.1318126291615798E-2},{"$f":"((SUM($R$53:R67)/SUM($R$41:R55))-1)","v":3.9554364445555823E-2},{"$f":"((SUM($S$53:S67)/SUM($S$41:S55))-1)","v":2.95578397081111E-2},{"$f":"((SUM(R56:R67)/SUM(R44:R55))-1)","v":3.9668429661587234E-2},{"$f":"((SUM(S56:S67)/SUM(S44:S55))-1)","v":3.3850016596900678E-2},237564.17333591476,337243855.20207196,{"$f":"(AVERAGE(R65:R67)/AVERAGE(R53:R55))-1","v":5.3613484793612276E-2},{"$f":"(AVERAGE(S65:S67)/AVERAGE(S53:S55))-1","v":2.1826231734992207E-2},null,null,null,null,null,null,null,null,null,null,null,null,null,null,null,null,null,null,null,null,null,null,null,"2020-03-01",null,{"$f":"consolida!U221","v":19224622.645718146},null,{"$f":"AU67/AT55-1","v":6.6834434327918135E-3},null,{"$f":"consolida!F221","v":122.87299971877172},null,{"$f":"AY67/AX55-1","v":1.4825151710234019E-2},null,{"$f":"consolida!B221","v":1689434.2373989564},null,{"$f":"BC67/BB55-1","v":-1.1938934104694376E-2},null,{"$f":"consolida!P221","v":332886.27982967766},null,{"$f":"BG67/BF55-1","v":3.5918765652004359E-2},null,null,null,null,null,{"$f":"consolida!AT221","v":21.959309712599428}]
["2020-04-01",null,258850.13363790838,null,336786267.77606797,0.94626202907599488,0.91809099249162851,null,"2020-04-01",null,null,null,null,null,null,null,null,258850.13363790838,336786267.77606797,null,null,null,null,null,null,null,null,null,null,null,null,null,null,null,null,null,null,null,null,null,null,null,null,null,"2020-04-01"]
["2020-05-01",null,284932.53448781342,null,379519026.9663195,1.0614215104068783,{"$f":"G57","v":1.0301663179623286},null,"2020-05-01",null,null,null,null,null,null,null,null,284932.53448781342,379519026.9663195,null,null,null,null,null,null,null,null,null,null,null,null,null,null,null,null,null,null,null,null,null,null,null,null,null,"2020-05-01"]
["2020-06-01",null,291213.73600286583,null,390749963.13625163,{"$f":"F58","v":1.0897830883825024},1.0612120860268393,null,"2020-06-01",null,null,null,null,null,null,null,null,291213.73600286583,390749963.13625163,null,null,null,null,null,null,null,null,null,null,null,null,null,null,null,null,null,null,null,null,null,null,null,null,null,{"$f":"A70","v":"2020-06-01"}]
["2020-07-01",null,295401.90481273906,null,437805530.55953097,{"$f":"F59","v":1.089363062492392},1.1651712504833942,null,"2020-07-01",null,null,null,null,null,null,null,null,295401.90481273906,437805530.55953097,null,null,null,null,null,null,null,null,null,null,null,null,null,null,null,null,null,null,null,null,null,null,null,null,null,"2020-07-01"]
["2020-08-01",null,241516.77844843821,null,361174169.37739772,{"$f":"F60","v":0.94271236346850884},0.99860816054632429,null,"2020-08-01",null,null,null,null,null,null,null,null,241516.77844843821,361174169.37739772,null,null,null,null,null,null,null,null,null,null,null,null,null,null,null,null,null,null,null,null,null,null,null,null,null,"2020-08-01"]
["2020-09-01",null,278036.36285917618,null,387060347.69801235,{"$f":"F61","v":1.0332467099015372},1.0474702633208401,null,"2020-09-01",null,null,null,null,null,null,null,null,278036.36285917618,387060347.69801235,null,null,null,null,null,null,null,null,null,null,null,null,null,null,null,null,null,null,null,null,null,null,null,null,null,"2020-09-01"]
["2020-10-01",null,307865.83273065602,null,408782159.98291147,{"$f":"F62","v":1.1348768892103327},1.0665382500296801,null,"2020-10-01",null,null,null,null,null,null,null,null,307865.83273065602,408782159.98291147,null,null,null,null,null,null,null,null,null,null,null,null,null,null,null,null,null,null,null,null,null,null,null,null,null,"2020-10-01"]
["2020-11-01",null,296723.24979341036,null,396082385.69030476,{"$f":"F63","v":1.0757211577848704},1.0710148374823469,null,"2020-11-01",null,null,null,null,null,null,null,null,296723.24979341036,396082385.69030476,null,null,null,null,null,null,null,null,null,null,null,null,null,null,null,null,null,null,null,null,null,null,null,null,null,"2020-11-01"]
["2020-12-01",null,281132.10836216895,null,375859688.54021925,{"$f":"F64","v":1.0164891966250951},{"$f":"G64","v":0.97478327866134684},null,"2020-12-01",null,null,null,null,null,null,null,null,281132.10836216895,375859688.54021925,null,null,null,null,null,null,null,null,null,null,null,null,null,null,null,null,null,null,null,null,null,null,null,null,null,"2020-12-01"]
[null,"viene de Eviews"]
[null,null,null,null,null,"factores Estacionalidad. ",null,null,null,null,null,null,null,{"$f":"AVERAGE(J53:J64)","v":3.6624822373450182E-2}]
[null,null,null,null,null,"para 2019 no se calculan, se dejan heredadas de la parte 2015-2018"]
[null,null,null,null,null,"mientras se llega al cierre del año",null,null,null,null,null,null,null,null,null,null,null,null,null,null,null,null,null,null,null,null,null,null,null,null,null,null,null,null,null,null,null,null,null,null,null,null,null,null,null,null,null,null,null,null,null,null,null,null,null,null,null,null,null,null,"max",{"$f":"MAX(BJ5:BJ65)","v":46.558333333333337},{"$f":"MAX(BK5:BK65)","v":47.224999999999994}]
[null,null,null,null,null,null,null,null,null,null,null,null,null,null,null,null,null,null,null,null,null,null,null,null,null,null,null,null,null,null,null,null,null,null,null,null,null,null,null,null,null,null,null,null,null,null,null,null,null,null,null,null,null,null,null,null,null,null,null,null,"min.",{"$f":"MIN(BJ5:BJ65)","v":6.5333333333333341},{"$f":"MIN(BK5:BK65)","v":11.433333333333332}]
[null,null,null,null,null,null,null,null,null,null,null,null,null,null,null,null,null,null,null,null,null,null,null,null,null,null,null,null,null,null,null,null,null,null,null,null,null,null,null,null,null,null,null,null,null,null,null,null,null,null,null,null,null,null,null,null,null,null,null,null,"avg.",{"$f":"AVERAGE(BJ5:BJ65)","v":30.341803278688523},{"$f":"AVERAGE(BK5:BK65)","v":35.215983606557373}]
[null,null,null,null,null,null,null,null,null,null,null,null,null,null,null,null,null,null,null,null,null,null,null,null,null,null,null,null,null,null,null,null,null,null,null,null,null,null,null,null,null,null,null,null,null,null,null,null,null,null,null,null,null,null,null,null,null,null,null,null,null,"Este grafico no tiene prevision"]
[null,null,null,null,null,null,null,null,null,null,null,null,null,null,null,null,null,null,null,null,null,null,null,null,null,null,null,null,null,null,null,null,null,null,null,null,null,null,null,null,null,null,null,null,null,null,null,null,null,null,null,null,null,null,null,null,null,null,null,null,null,"Aquí en BJ y BK termina la actualizacion de graficos"]
[null,null,null,null,null,null,null,null,null,null,null,null,null,null,null,null,null,null,null,null,null,null,null,null,null,null,null,null,null,null,null,null,null,null,null,null,null,null,null,null,null,null,null,null,null,null,null,null,null,null,null,null,null,null,null,null,null,null,null,null,null,"Son seis graficos, se saltan dos, penultimo y antepenultimo. "]
[null,null,null,null,null,null,null,null,null,null,null,null,null,null,null,null,null,null,null,null,null,null,null,null,null,null,null,null,null,null,null,null,null,null,null,null,null,null,null,null,null,null,null,null,null,null,null,null,null,null,null,null,null,null,null,null,null,null,null,null,null,"Tambien se actualizan sumando un dato mas al rango por la dcha. "]
[]
[]
[]
[]
[]
[]
[]
[]
[]
[]
[null,null,null,null,null,null,null,null,null,null,null,null,null,null,null,null,null,null,null,null,null,null,null,null,null,null,null,null,null,null,null,null,null,null,null,null,null,null,null,null,null,null,null,null,null,null,null,null,null,null,null,null,null,null,null,null,null,null,null,null,null,null,null,null,null,null,null,null,null,null,null,null,null,null,null,"ESTA LLEVA SOLO CIERRE OBSERVADO"]
[null,null,null,null,null,null,null,null,null,null,null,null,null,null,null,null,null,null,null,null,null,null,null,null,null,null,null,null,null,null,null,null,null,null,null,null,null,null,null,null,null,null,null,null,null,null,null,null,null,null,null,null,null,null,null,null,null,null,null,null,null,null,null,null,null,null,null,null,null,null,null,null,null,null,null,"QUE SUELE SER EL MISMO MES DE CIERRE DE CIFRAS ASEMPLEO"]
[null,null,null,null,null,null,null,null,null,null,null,null,null,null,null,null,null,null,null,null,null,null,null,null,null,null,null,null,null,null,null,null,null,null,null,null,null,null,null,null,null,null,null,null,null,null,null,null,null,null,null,null,null,null,null,null,null,null,null,null,null,null,null,null,null,null,null,null,null,null,null,null,null,null,null,"O, COMO MUCHO, EL SIGUIENTE. "]
[]
[]
[]
[]
[]
[]
[null,null,"b","a","b","a"]
["2019-01-01",null,249801,null,327669711.7211864]
["2019-02-01",null,201432.99999999997,null,305837745.17579246]
["2019-03-01",null,224512,null,323862464.97319549]
["2019-04-01",null,253926,null,322516955.3229093]
["2019-05-01",null,271955,null,367643444.55845422]
["2019-06-01",null,274286,null,359918540.23199099]
["2019-07-01",null,291354,null,419298301.40928471]
["2019-08-01",null,230288,null,343156055.51918501]
["2019-09-01",null,266525,null,361129306.900011,null,null,"a-b","a-b"]
["2019-10-01",null,290990,290990,382719372.74531198,382719372.74531198,null,{"$f":"D116-C116","v":0},{"$f":"F116-E116","v":0}]
["2019-11-01",null,263918.01482892374,263918.01482892374,360568692.16252774,362070643.77271116,null,{"$f":"D117-C117","v":0},{"$f":"F117-E117","v":1501951.6101834178}]
["2019-12-01",null,255642.71726430379,255642.71726430379,343141416.19715327,345232144.76258862,null,{"$f":"D118-C118","v":0},2090728.5654353499]
["2020-01-01",null,250354.25637670577,250354.25637670577,329524101.5577445,330507381.78550529,null,0,983280.22776079178]
["2020-02-01",null,207837.83904518309,207837.83904518309,313158321.8457703,314116466.75426543,null,0,958144.90849512815]
["2020-03-01",null,232264.80784165021,232264.80784165021,338558732.40229976,340954914.3055501,null,0,2396181.9032503366]
["2020-04-01",null,255086.2904790772,255086.2904790772,340153185.96251231,342267471.81028855,null,0,2114285.8477762341]
["2020-05-01",null,280905.8301049149,280905.8301049149,381805793.18418473,385567040.43175071,null,0,3761247.2475659847]
["2020-06-01",null,288287.13378327474,288287.13378327474,393351626.27505386,397954905.80019528,null,0,4603279.525141418]
["2020-07-01",null,294085.87431902805,294085.87431902805,441093805.606933,440505556.8155055,null,0,-588248.7914274931]
["2020-08-01",null,240664.66269002768,240664.66269002768,363693438.59031224,366613830.31625342,null,0,2920391.7259411812]
["2020-09-01",null,276808.73760637757,276808.73760637757,389093874.80417836,391914977.03091937,null,0,2821102.2267410159]
["2020-10-01",null,305157.62092625978,305157.62092625978,408145101.99010873,412104638.38171643,null,0,3959536.3916077018]
["2020-11-01",null,279663.1224667473,279663.1224667473,384477338.25489563,388468928.69037235,null,0,3991590.4354767203]
["2020-12-01",null,269189.08963352232,269189.08963352232,370345696.60261941,373748330.72471577,null,{"$f":"D130-C130","v":0},{"$f":"F130-E130","v":3402634.1220963597}]
[]
[null,null,null,null,{"$f":"AVERAGE(E117:E130)","v":368365080.38830662},null,null,null,{"$f":"AVERAGE(I117:I130)","v":2494007.5675745821},{"$f":"I132/E132","v":6.7704777145150699E-3}]
[null,null,null,2019,{"$f":"SUM(E107:E118)","v":4217462006.9170022}]
[null,null,null,2020,{"$f":"SUM(E119:E130)","v":4453401017.0766134},{"$f":"SUM(F119:F130)","v":4484724442.8470392},null,null,{"$f":"SUM(I119:I130)","v":31323425.770425379},{"$f":"I134/E134","v":7.0335964918307086E-3}]
[null,null,null,null,null,null,null,null,null,null,null,null,null,null,null,null,null,null,null,null,null,null,null,null,null,null,null,null,null,null,null,null,null,null,null,null,null,null,null,null,null,null,null,null,null,null,null,null,null,null,null,null,null,null,null,null,null,null,null,null,null,null,null,null,null,null,null,null,null,null,null,null,null,null,null,"NO SE USAN"]
[]
[]
[]
[]
[]
[]
[]
[]
[]
[]
[]
[]
[]
[]
[]
[]
[]
[null,null,null,null,null,null,null,null,null,null,null,null,null,null,null,null,null,null,null,null,null,null,null,null,null,null,null,null,null,null,null,null,null,null,null,null,null,null,null,null,null,null,null,null,null,null,null,null,null,null,null,null,null,null,null,null,null,null,null,null,null,null,null,null,null,null,null,null,null,null,null,null,null,null,null,"NO SE USAN"]

{"sheet":"consolida","index":6,"n_rows":365,"n_cols":49,"rows_kept":365,"cut":false,"hidden":true,"merged":[[0,1,0,3],[0,4,0,7],[0,8,0,14],[0,15,0,16]]}
[null,"Sepe",null,null,"Iass",null,null,null,"CE",null,null,null,null,null,null,"ETT",null,null,"ASEMPLEO",null,"HFM-CEPREDE","HFREG-CEPREDE","Afi",null,null,"Ine","Ine","Ine","Ine","Ine","Ine","Ine","Ine","Ine","Afi",null,null,"HFM-CEPREDE",null,null,null,null,"RATIOS",null,null,null,"ASEMPLEO"]
[null,"contrat_tot","contrat_indef.","contrat_temp","Cifra_Negocios","Ind_ocupa","Ratio_Produc_ind","Ratio_Produc_tasa","iclima","negocio","demanda1","demanda2","empleo1","empleo2","precios","cpds_ett","dnis_ett","fact_ett","fact_asempleo","cpds_asempleo","afiliados_cep","pib_cep","ocupados_afi","paroreg_afi","afiliados_afi","ocupados_ine_epa","asalariados_ine_epa","indefinidos_ine_epa","temporales_ine_epa","parados","t_paro","activos","t_activos","ectl","ocupados_%","paroreg_%","afiliados_%","afiliados","pib","paroreg","paroreg_%","tasa_paro_reg","cuota","cuota_cpds","personas","cuota_cpds","cuota_fact","cuota_cpds"]
["2002-01-01",{"$f":"'SEPE contratos'!E21","v":1270019},{"$f":"'SEPE contratos'!H21","v":110318},{"$f":"'SEPE contratos'!M21","v":1159701},{"$f":"Iass!B9","v":55.811999999999998},{"$f":"Iass!N9","v":72.456999999999994},{"$f":"Iass!Y9","v":77.027754392260235},{"$f":"Iass!Z9","v":"."},null,null,null,null,null,null,null,{"$f":"ETT!C6","v":145304},{"$f":"DNIs!B2","v":45346.063706895831},{"$f":"sabi!B2*1000","v":97499107.423303023},null,null,15727566,84.726390886079784,{"$f":"Z3","v":16426200.665396998},{"$f":"AN3","v":2075022},{"$f":"U3","v":15727566},16426200.665396998,13249612.747883435,9009077.289786566,4240684.5548484959,null,null,null,null,null,null,null,null,3.4431170807399436,3.18164871804936,2075022,2.8568114528234156,11.655732301393483,{"$f":"AC3/AA3*100","v":32.006101880418548},{"$f":"D3/B3*100","v":91.31367326000634},{"$f":"Q3/AC3*100","v":1.0693099927711054},{"$f":"P3/D3*100","v":12.529436466813429},{"$f":"S3/R3*100","v":0},{"$f":"T3/P3*100","v":0}]
["2002-02-01",{"$f":"'SEPE contratos'!E22","v":1139766},{"$f":"'SEPE contratos'!H22","v":114180},{"$f":"'SEPE contratos'!M22","v":1025586},{"$f":"Iass!B10","v":54.741999999999997},{"$f":"Iass!N10","v":72.335999999999999},{"$f":"Iass!Y10","v":75.677394381773951},{"$f":"Iass!Z10","v":"."},null,null,null,null,null,null,null,{"$f":"ETT!C7","v":123434},{"$f":"DNIs!B3","v":37597.777144550571},{"$f":"sabi!B3*1000","v":95629902.86258249},null,null,15822158,84.908857397277046,{"$f":"Z4","v":16468275.166347478},{"$f":"AN4","v":2149908},{"$f":"U4","v":15822158},16468275.166347478,13289953.186969396,9031669.3224456552,4258396.1387116564,null,null,null,null,null,null,null,null,3.0763910776424153,3.0757157222861715,2149908,7.8581268806998006,11.962497800753681,{"$f":"AC4/AA4*100","v":32.042220757308243},{"$f":"D4/B4*100","v":89.982154231658072},{"$f":"Q4/AC4*100","v":0.88290933769082069},{"$f":"P4/D4*100","v":12.035460702466686},{"$f":"S4/R4*100","v":0},{"$f":"T4/P4*100","v":0}]
["2002-03-01",{"$f":"'SEPE contratos'!E23","v":1000369},{"$f":"'SEPE contratos'!H23","v":106402},{"$f":"'SEPE contratos'!M23","v":893967},{"$f":"Iass!B11","v":55.960999999999999},{"$f":"Iass!N11","v":73.11},{"$f":"Iass!Y11","v":76.543564491861588},{"$f":"Iass!Z11","v":"."},null,null,null,null,null,null,null,{"$f":"ETT!C8","v":133838},{"$f":"DNIs!B4","v":40721.292811421095},{"$f":"sabi!B4*1000","v":97759398.525683731},null,null,15912352,85.134821785458016,16552424.168248432,2083103,15912352,16552424.168248432,13370634.065141328,9076853.3877638299,4293819.3064379804,null,null,null,null,null,null,null,null,2.5643418769284665,3.050929171658546,2083103,5.1537955967826399,11.575717313065994,32.1138046671431,89.363724785554126,0.94836996867486301,14.971246142195405,0,0]
["2002-04-01",{"$f":"'SEPE contratos'!E24","v":1247220},{"$f":"'SEPE contratos'!H24","v":126442},{"$f":"'SEPE contratos'!M24","v":1120778},{"$f":"Iass!B12","v":60.622999999999998},{"$f":"Iass!N12","v":76.478999999999999},{"$f":"Iass!Y12","v":79.267511342983042},{"$f":"Iass!Z12","v":"."},null,null,null,null,null,null,null,{"$f":"ETT!C9","v":154172},{"$f":"DNIs!B5","v":42445.416684628464},{"$f":"sabi!B5*1000","v":105903540.26594459},null,null,16023487,85.419352855975248,16678647.671099858,2060070,16023487,16678647.671099858,13491655.382399218,9144629.4857410882,4346954.0580274612,null,null,null,null,null,null,null,null,3.0043401545680304,3.1147659273437993,2060070,7.8314933683267807,11.391951262685765,32.21957524721806,89.86209329548916,0.9764404251350457,13.755801773410969,0,0]
["2002-05-01",{"$f":"'SEPE contratos'!E25","v":1238066},{"$f":"'SEPE contratos'!H25","v":116370},{"$f":"'SEPE contratos'!M25","v":1121696},{"$f":"Iass!B13","v":63.323},{"$f":"Iass!N13","v":80.597999999999999},{"$f":"Iass!Y13","v":78.566465669123303},{"$f":"Iass!Z13","v":"."},null,null,null,null,null,null,null,{"$f":"ETT!C10","v":162888},{"$f":"DNIs!B6","v":47159.618483127175},{"$f":"sabi!B6*1000","v":110620224.67150106},null,null,16154714,85.645075112533149,16776392.793486077,2002924,16154714,16776392.793486077,13591994.174912833,9210076.3959286083,4381797.2024037763,null,null,null,null,null,null,null,null,3.028872893921486,3.0886872970910018,2002924,5.5122913577255295,11.030751907268996,32.238074457767176,90.600662646417888,1.0762620063123012,14.521581604998147,0,0]
["2002-06-01",{"$f":"'SEPE contratos'!E26","v":1074375},{"$f":"'SEPE contratos'!H26","v":95169},{"$f":"'SEPE contratos'!M26","v":979206},{"$f":"Iass!B14","v":61.137},{"$f":"Iass!N14","v":82.703999999999994},{"$f":"Iass!Y14","v":73.922663958212425},{"$f":"Iass!Z14","v":"."},null,null,null,null,null,null,null,{"$f":"ETT!C11","v":165979},{"$f":"DNIs!B7","v":48223.022398052235},{"$f":"sabi!B7*1000","v":106801457.22315054},null,null,16290434,85.84367369840561,16845659.535407063,1962963,16290434,16845659.535407063,13671650.442682179,9273194.1183263883,4398348.7395669194,null,null,null,null,null,null,null,null,2.9251899121343072,2.9736449048186917,1962963,6.5347810324353883,10.753959934142669,32.171307758392537,91.141919720767888,1.0963892418135195,16.950365908705624,0,0]
["2002-07-01",{"$f":"'SEPE contratos'!E27","v":1317913},{"$f":"'SEPE contratos'!H27","v":101701},{"$f":"'SEPE contratos'!M27","v":1216212},{"$f":"Iass!B15","v":76.271000000000001},{"$f":"Iass!N15","v":88.972999999999999},{"$f":"Iass!Y15","v":85.723758893147362},{"$f":"Iass!Z15","v":"."},null,null,null,null,null,null,null,{"$f":"ETT!C12","v":177192},{"$f":"DNIs!B8","v":49179.942165316032},{"$f":"sabi!B8*1000","v":133239346.77636966},null,null,16326631,86.034088116317264,16886447.896862809,1961852,16326631,16886447.896862809,13730624.185707251,9333982.6529344302,4396608.669516894,null,null,null,null,null,null,null,null,3.0452331272003308,2.7649802054199504,1961852,6.8699345985102411,10.727253867912392,32.020457410038922,92.283178024649587,1.11858811784402,14.569170506457757,0,0]
["2002-08-01",{"$f":"'SEPE contratos'!E28","v":1019106},{"$f":"'SEPE contratos'!H28","v":78792},{"$f":"'SEPE contratos'!M28","v":940314},{"$f":"Iass!B16","v":58.271999999999998},{"$f":"Iass!N16","v":82.081999999999994},{"$f":"Iass!Y16","v":70.992422211934411},{"$f":"Iass!Z16","v":"."},null,null,null,null,null,null,null,{"$f":"ETT!C13","v":139394},{"$f":"DNIs!B9","v":41901.286288392752},{"$f":"sabi!B9*1000","v":101796530.99281003},null,null,16276570,86.226966355209242,16921284.064577825,1983982,16276570,16921284.064577825,13780524.482181603,9379717.7968846131,4400817.1498662429,null,null,null,null,null,null,null,null,3.8293481912885952,2.6356307027848929,1983982,5.6144940173424418,10.864852278288192,31.935048303542846,92.268517700808346,0.95212513634351492,14.824197023547454,0,0]
["2002-09-01",{"$f":"'SEPE contratos'!E29","v":1186710},{"$f":"'SEPE contratos'!H29","v":104191},{"$f":"'SEPE contratos'!M29","v":1082519},{"$f":"Iass!B17","v":68.337999999999994},{"$f":"Iass!N17","v":86.221000000000004},{"$f":"Iass!Y17","v":79.259113209078976},{"$f":"Iass!Z17","v":"."},null,null,null,null,null,null,null,{"$f":"ETT!C14","v":175118},{"$f":"DNIs!B10","v":48180.103173632575},{"$f":"sabi!B10*1000","v":119381029.22478466},null,null,16187368,86.413918945851577,16950168.038552139,2006786,16187368,16950168.038552139,13821351.332105219,9410399.5501769409,4410974.1806149622,null,null,null,null,null,null,null,null,2.7334198490645667,2.5813474327055119,2006786,6.2249594401818875,11.029839584736942,31.914203427915457,91.220180161960371,1.0922780592407704,16.176898511712036,0,0]
["2002-10-01",{"$f":"'SEPE contratos'!E30","v":1545378},{"$f":"'SEPE contratos'!H30","v":141657},{"$f":"'SEPE contratos'!M30","v":1403721},{"$f":"Iass!B18","v":72.236000000000004},{"$f":"Iass!N18","v":86.512},{"$f":"Iass!Y18","v":83.498243018309608},{"$f":"Iass!Z18","v":"."},null,null,null,null,null,null,null,{"$f":"ETT!C15","v":172418},{"$f":"DNIs!B11","v":51127.327349200015},{"$f":"sabi!B11*1000","v":126190523.97028807},null,null,16236870,86.581587504869859,16973099.818785708,2064512,16236870,16973099.818785708,13853104.735478099,9426027.9128114004,4427079.7617630549,null,null,null,null,null,null,null,null,2.9913658964231038,2.599889362222398,2064512,6.3683047479299537,11.280634435148123,31.957310987660463,90.833504812414816,1.1548770318255774,12.282925168178007,0,0]
["2002-11-01",{"$f":"'SEPE contratos'!E31","v":1181989},{"$f":"'SEPE contratos'!H31","v":106451},{"$f":"'SEPE contratos'!M31","v":1075538},{"$f":"Iass!B19","v":65.629000000000005},{"$f":"Iass!N19","v":83.316999999999993},{"$f":"Iass!Y19","v":78.77023896683751},{"$f":"Iass!Z19","v":"."},null,null,null,null,null,null,null,{"$f":"ETT!C16","v":158138},{"$f":"DNIs!B12","v":50042.714015198435},{"$f":"sabi!B12*1000","v":114648622.53787634},null,null,16369029,86.841492186381416,16992932.899753038,2117144,16369029,16992932.899753038,13873414.534711286,9450314.0688604694,4423096.3357273145,null,null,null,null,null,null,null,null,3.103615517227265,2.682279087170532,2117144,6.6111003964535175,11.452581342823093,31.881814852866441,90.993909418784781,1.1313955251433525,14.70315321262475,0,0]
["2002-12-01",{"$f":"'SEPE contratos'!E32","v":958337},{"$f":"'SEPE contratos'!H32","v":81287},{"$f":"'SEPE contratos'!M32","v":877050},{"$f":"Iass!B20","v":68.444000000000003},{"$f":"Iass!N20","v":79.956000000000003},{"$f":"Iass!Y20","v":85.602081144629551},{"$f":"Iass!Z20","v":"."},null,null,null,null,null,null,null,{"$f":"ETT!C17","v":141578},{"$f":"DNIs!B13","v":47614.435779584819},{"$f":"sabi!B13*1000","v":119566202.76070653},null,null,16188390,87.176924926033877,17009667.28145415,2127018,16188390,17009667.28145415,13882280.729804752,9483258.018324146,4399023.9025077568,null,null,null,null,null,null,null,null,2.7915735799255659,2.8289203071089317,2127018,6.9543901464010682,11.613271186751614,31.68804887415374,91.517910714080742,1.0823863846805015,16.142523231286699,0,0]
["2003-01-01",{"$f":"'SEPE contratos'!E33","v":1355698},{"$f":"'SEPE contratos'!H33","v":121355},{"$f":"'SEPE contratos'!M33","v":1234343},{"$f":"Iass!B21","v":57.46},{"$f":"Iass!N21","v":74.242999999999995},{"$f":"Iass!Y21","v":77.394501838557176},{"$f":"Iass!Z21","v":0.5},null,null,null,null,null,null,null,{"$f":"ETT!C18","v":149560},{"$f":"DNIs!B14","v":45496.078799217103},{"$f":"sabi!B14*1000","v":107562254.61027974},null,null,16207199,87.306944667919083,17023302.963889021,2185156,16207199,17023302.963889021,13879703.32075851,9524859.7612024415,4354862.462104369,null,null,null,null,null,null,null,null,3.0496327276579249,3.0452937136164415,2185156,5.3076063771853921,11.880784162767629,31.375760428475648,91.048522606067124,1.0447190742559609,12.116567275060499,0,0]
["2003-02-01",{"$f":"'SEPE contratos'!E34","v":1197509},{"$f":"'SEPE contratos'!H34","v":120089},{"$f":"'SEPE contratos'!M34","v":1077420},{"$f":"Iass!B22","v":58.865000000000002},{"$f":"Iass!N22","v":74.569999999999993},{"$f":"Iass!Y22","v":78.939251709802889},{"$f":"Iass!Z22","v":4.4000000000000004},null,null,null,null,null,null,null,{"$f":"ETT!C19","v":125895},{"$f":"DNIs!B15","v":37722.159142641322},{"$f":"sabi!B15*1000","v":110192344.54636471},null,null,16335717,87.595204454180347,17078759.661579143,2180216,16335717,17078759.661579143,13922931.477926567,9567615.3760191593,4355325.2554247603,null,null,null,null,null,null,null,null,3.2458214612697045,3.1638763148514921,2180216,1.4097347421378137,11.774810375475003,31.281668392390628,89.971766391734846,0.86611577621342095,11.684858272539957,0,0]
["2003-03-01",{"$f":"'SEPE contratos'!E35","v":1127638},{"$f":"'SEPE contratos'!H35","v":115826},{"$f":"'SEPE contratos'!M35","v":1011812},{"$f":"Iass!B23","v":62.755000000000003},{"$f":"Iass!N23","v":77.674999999999997},{"$f":"Iass!Y23","v":80.79176054071452},{"$f":"Iass!Z23","v":5.8999999999999995},null,null,null,null,null,null,null,{"$f":"ETT!C20","v":145993},{"$f":"DNIs!B16","v":40856.008109755086},{"$f":"sabi!B16*1000","v":117474230.56157508},null,null,16455090,87.843147115689206,17176037.374524511,2163498,16455090,17176037.374524511,14011965.201308902,9611524.8627743106,4400412.2824689345,null,null,null,null,null,null,null,null,3.4107968451175585,3.1815996320650717,2163498,3.8593866937928656,11.620097077178999,31.404676069691341,89.728441219611256,0.92845864176235893,14.428866232066826,0,0]
["2003-04-01",{"$f":"'SEPE contratos'!E36","v":1052755},{"$f":"'SEPE contratos'!H36","v":107626},{"$f":"'SEPE contratos'!M36","v":945129},{"$f":"Iass!B24","v":61.237000000000002},{"$f":"Iass!N24","v":78.301000000000002},{"$f":"Iass!Y24","v":78.207174876438359},{"$f":"Iass!Z24","v":-1.4},null,null,null,null,null,null,null,{"$f":"ETT!C21","v":142840},{"$f":"DNIs!B17","v":42585.835776872424},{"$f":"sabi!B17*1000","v":114632610.26052384},null,null,16559933,88.055098061586676,17315136.102725103,2104475,16559933,17315136.102725103,14146804.49090554,9656588.221467901,4490123.5432368899,null,null,null,null,null,null,null,null,3.3478730316316208,3.0856168952366656,2104475,2.1555092788109187,11.27533753012686,31.73948962200916,89.776728678562435,0.94843349780466568,15.113280832563596,0,0]
["2003-05-01",{"$f":"'SEPE contratos'!E37","v":1196038},{"$f":"'SEPE contratos'!H37","v":108383},{"$f":"'SEPE contratos'!M37","v":1087655},{"$f":"Iass!B25","v":65.096999999999994},{"$f":"Iass!N25","v":82.5},{"$f":"Iass!Y25","v":78.905454545454532},{"$f":"Iass!Z25","v":0.39999999999999991},null,null,null,null,null,null,null,{"$f":"ETT!C22","v":175205},{"$f":"DNIs!B18","v":47315.633227125923},{"$f":"sabi!B18*1000","v":121858337.77176085},null,null,16707449,88.251994852560216,17430958.707729589,2035601,16707449,17430958.707729589,14259410.945124019,9701162.8950393237,4558133.701000724,null,null,null,null,null,null,null,null,3.4215090406428672,3.0437739491782061,2035601,1.6314647984646546,10.860564315839738,{"$f":"AC19/AA19*100","v":31.965792405747095},90.938164172041354,{"$f":"Q19/AC19*100","v":1.0380483840730237},16.108508672327162,0,0]
["2003-06-01",{"$f":"'SEPE contratos'!E38","v":1199220},{"$f":"'SEPE contratos'!H38","v":99440},{"$f":"'SEPE contratos'!M38","v":1099780},{"$f":"Iass!B26","v":69.174000000000007},{"$f":"Iass!N26","v":86.703000000000003},{"$f":"Iass!Y26","v":79.782706480744608},{"$f":"Iass!Z26","v":8.3000000000000007},null,null,null,null,null,null,null,{"$f":"ETT!C23","v":189303},{"$f":"DNIs!B19","v":48382.555124063787},{"$f":"sabi!B19*1000","v":129490278.46173845},null,null,16734940.999999998,88.451710480794944,17523505.189537857,2020367,16734940.999999998,17523505.189537857,14349784.563964309,9745248.8834886067,4604442.7557604257,null,null,null,null,null,null,null,null,2.7286381688787387,3.0382502068525676,2020367,2.924354661804629,10.772241117021379,32.087190823221604,91.70794349660612,1.0507798161576534,17.212806197603157,0,0]
["2003-07-01",{"$f":"'SEPE contratos'!E39","v":1301862},{"$f":"'SEPE contratos'!H39","v":95906},{"$f":"'SEPE contratos'!M39","v":1205956},{"$f":"Iass!B27","v":81.195999999999998},{"$f":"Iass!N27","v":91.001999999999995},{"$f":"Iass!Y27","v":89.224412650271418},{"$f":"Iass!Z27","v":4.2},null,null,null,null,null,null,null,{"$f":"ETT!C24","v":184615},{"$f":"DNIs!B20","v":49342.640599560997},{"$f":"sabi!B20*1000","v":151994862.9539901},null,null,16817780,88.661922233742473,17592775.548149981,1995964,16817780,17592775.548149981,14417925.347426444,9788846.1868157294,4629050.7075160109,null,null,null,null,null,null,null,null,3.0082691279051943,3.0545206868977828,1995964,1.7387652075691706,10.609073877054986,32.106219140205788,92.633166956251884,{"$f":"Q21/AC21*100","v":1.0659343290287413},15.308601640524197,0,0]
["2003-08-01",{"$f":"'SEPE contratos'!E40","v":970553},{"$f":"'SEPE contratos'!H40","v":67539},{"$f":"'SEPE contratos'!M40","v":903014},{"$f":"Iass!B28","v":62.838999999999999},{"$f":"Iass!N28","v":84.427000000000007},{"$f":"Iass!Y28","v":74.429980930271114},{"$f":"Iass!Z28","v":4.9000000000000004},null,null,null,null,null,null,null,{"$f":"ETT!C25","v":151573},{"$f":"DNIs!B21","v":42039.905273528108},{"$f":"sabi!B21*1000","v":117631474.37270045},null,null,16660731,88.917846716288111,17650011.476688638,2016675,16660731,17650011.476688638,14472966.532720612,9820410.8725346699,4652564.6648174087,null,null,null,null,null,null,null,null,2.3602085697416619,3.1207259398398457,2016675,1.6478476115206586,10.797404093480647,32.146586218511928,93.041183737518722,0.90358562002228449,{"$f":"P22/D22*100","v":16.785232565608062},0,0]
["2003-09-01",{"$f":"'SEPE contratos'!E41","v":1283644},{"$f":"'SEPE contratos'!H41","v":103657},{"$f":"'SEPE contratos'!M41","v":1179987},{"$f":"Iass!B29","v":72.667000000000002},{"$f":"Iass!N29","v":90.221999999999994},{"$f":"Iass!Y29","v":80.542439759703839},{"$f":"Iass!Z29","v":1.7000000000000002},null,null,null,null,null,null,null,{"$f":"ETT!C26","v":194014},{"$f":"DNIs!B22","v":48339.493913088125},{"$f":"sabi!B22*1000","v":136029000.27436823},null,null,16680559.000000002,89.215557528325022,17695212.975153901,2039630,16680559.000000002,17695212.975153901,14514908.119846802,9839942.9406454265,4674984.6276646145,null,null,null,null,null,null,null,null,3.0467646129994641,3.2419733907106387,2039630,1.6366468572134751,10.895349400585646,32.208158598484857,91.924785999856667,1.0340032698083135,16.442045547959427,0,0]
["2003-10-01",{"$f":"'SEPE contratos'!E42","v":1557842},{"$f":"'SEPE contratos'!H42","v":132619},{"$f":"'SEPE contratos'!M42","v":1425223},{"$f":"Iass!B30","v":77.283000000000001},{"$f":"Iass!N30","v":90.811000000000007},{"$f":"Iass!Y30","v":85.103126273248833},{"$f":"Iass!Z30","v":2},null,null,null,null,null,null,null,{"$f":"ETT!C27","v":192802},{"$f":"DNIs!B23","v":51296.46817654957},{"$f":"sabi!B23*1000","v":144669922.08573353},null,null,16738305,89.551699384951789,17728380.043545678,2096606,16738305,17728380.043545678,14543750.108805023,9847442.3911480047,4696310.5960576423,null,null,null,null,null,null,null,null,3.0882491514682364,3.4299408264501632,2096606,1.5545562341124697,11.131488755110125,32.29091919844263,91.487005742559262,{"$f":"Q24/AC24*100","v":1.0922716274262361},13.527847922746124,0,0]
["2003-11-01",{"$f":"'SEPE contratos'!E43","v":1288834},{"$f":"'SEPE contratos'!H43","v":107113},{"$f":"'SEPE contratos'!M43","v":1181721},{"$f":"Iass!B31","v":70.891000000000005},{"$f":"Iass!N31","v":87.816000000000003},{"$f":"Iass!Y31","v":80.726746834289884},{"$f":"Iass!Z31","v":2.5999999999999996},null,null,null,null,null,null,null,{"$f":"ETT!C28","v":175510},{"$f":"DNIs!B24","v":50208.266694952974},{"$f":"sabi!B24*1000","v":132704416.8391462},null,null,16866901,89.852964418135429,17745761.777982485,2143206,16866901,17745761.777982485,14552948.024439266,9857910.4604115877,4695034.141112172,null,null,null,null,null,null,null,null,3.0415487687143861,3.4678064488330724,2143206,1.2309979859659981,11.274034386024233,32.261739224435075,91.689154693311934,1.0693908752505792,14.852067450777298,0,0]
["2003-12-01",{"$f":"'SEPE contratos'!E44","v":1136470},{"$f":"'SEPE contratos'!H44","v":90215},{"$f":"'SEPE contratos'!M44","v":1046255},{"$f":"Iass!B32","v":67.656999999999996},{"$f":"Iass!N32","v":87.900999999999996},{"$f":"Iass!Y32","v":76.969545283898938},{"$f":"Iass!Z32","v":-11},null,null,null,null,null,null,null,{"$f":"ETT!C29","v":163830},{"$f":"DNIs!B25","v":47771.95516264459},{"$f":"sabi!B25*1000","v":126650530.11081961},null,null,16589561.000000002,90.112107320167951,17747358.178464286,2181248,16589561.000000002,17747358.178464286,14542501.866749514,9871347.1484361999,4671155.2628282066,null,null,null,null,null,null,null,null,2.4781401980060958,3.3673786818477254,2181248,2.5495787999913588,11.620426162772207,32.12071282939629,92.061823013365952,1.0227010766009197,15.658706529478952,0,0]
["2004-01-01",{"$f":"'SEPE contratos'!E45","v":1390153},{"$f":"'SEPE contratos'!H45","v":113783},{"$f":"'SEPE contratos'!M45","v":1276370},{"$f":"Iass!B33","v":63.381999999999998},{"$f":"Iass!N33","v":79.492000000000004},{"$f":"Iass!Y33","v":79.733809691541282},{"$f":"Iass!Z33","v":3.2000000000000011},null,null,null,null,null,null,null,{"$f":"ETT!C30","v":166701},{"$f":"DNIs!B26","v":52501.651584136365},{"$f":"sabi!B26*1000","v":117285912.18511489},null,null,16713456.999999998,90.047577676346378,17733169.244991072,2232560,16713456.999999998,17733169.244991072,14512411.635735778,9887752.4552218188,4624673.9612057479,null,null,null,null,null,null,null,null,3.1236612816317066,3.1393999069752194,2232560,2.1693645671064132,11.783796034807738,31.867025807191261,91.815073592618944,1.1352508744302507,13.060554541394737,0,0]
["2004-02-01",{"$f":"'SEPE contratos'!E46","v":1382830},{"$f":"'SEPE contratos'!H46","v":134326},{"$f":"'SEPE contratos'!M46","v":1248504},{"$f":"Iass!B34","v":65.44},{"$f":"Iass!N34","v":79.424999999999997},{"$f":"Iass!Y34","v":82.392193893610326},{"$f":"Iass!Z34","v":4.6999999999999993},null,null,null,null,null,null,null,{"$f":"ETT!C31","v":154610},{"$f":"DNIs!B27","v":43530.688986374342},{"$f":"sabi!B27*1000","v":121094160.69852513},null,null,16839767,90.224718089823,17757395.077877525,2219300,16839767,17757395.077877525,14522280.351178914,9912214.4405007716,4610073.1648953073,null,null,null,null,null,null,null,null,3.0855701038405625,3.0018123465914148,2219300,1.7926664147038585,11.644326555964151,31.744829692129329,90.286152310840819,0.94425158624056038,12.383620717274434,0,0]
["2004-03-01",{"$f":"'SEPE contratos'!E47","v":1420641},{"$f":"'SEPE contratos'!H47","v":144848},{"$f":"'SEPE contratos'!M47","v":1275793},{"$f":"Iass!B35","v":72.730999999999995},{"$f":"Iass!N35","v":82.713999999999999},{"$f":"Iass!Y35","v":87.930700969606107},{"$f":"Iass!Z35","v":9.4},null,null,null,null,null,null,null,{"$f":"ETT!C32","v":179317},{"$f":"DNIs!B28","v":47147.093980633843},{"$f":"sabi!B28*1000","v":134585871.05385745},null,null,16894920,90.442523883321073,17820035.67712364,2181546,16894920,17820035.67712364,14572108.013078921,9944733.1042730641,4627352.8738969015,null,null,null,null,null,null,null,null,2.6729115428721473,2.9588694923884353,2181546,0.83420460753835801,11.435797385113155,{"$f":"AC29/AA29*100","v":31.754862575433208},89.80403916260336,1.0188782931725966,14.055336563219894,0,0]
["2004-04-01",{"$f":"'SEPE contratos'!E48","v":1256809},{"$f":"'SEPE contratos'!H48","v":126813},{"$f":"'SEPE contratos'!M48","v":1129996},{"$f":"Iass!B36","v":68.052999999999997},{"$f":"Iass!N36","v":83.26},{"$f":"Iass!Y36","v":81.735527263992296},{"$f":"Iass!Z36","v":4.8},null,null,null,null,null,null,null,{"$f":"ETT!C33","v":161139},{"$f":"DNIs!B29","v":49143.28380350615},{"$f":"sabi!B29*1000","v":125929415.00636812},null,null,16998997,90.704977703527206,17921091.042729408,2162405,16998997,17921091.042729408,14661894.621435804,9985308.4465386812,4676513.0882105185,null,null,null,null,null,null,null,null,2.6513633841392936,3.0094653641286269,2162405,2.7527055441380899,11.285212846116375,31.895694307974491,89.909922669236138,1.050853122327323,14.26013897394327,0,0]
["2004-05-01",{"$f":"'SEPE contratos'!E49","v":1278684},{"$f":"'SEPE contratos'!H49","v":122697},{"$f":"'SEPE contratos'!M49","v":1155987},{"$f":"Iass!B37","v":74.451999999999998},{"$f":"Iass!N37","v":89.382999999999996},{"$f":"Iass!Y37","v":83.295481243636942},{"$f":"Iass!Z37","v":6.1},null,null,null,null,null,null,null,{"$f":"ETT!C34","v":189973},{"$f":"DNIs!B30","v":54601.384465161827},{"$f":"sabi!B30*1000","v":137770514.2470445},null,null,17135324,91.000994947474808,18019711.602081824,2090702,17135324,18019711.602081824,14751845.307446552,10010745.947199974,4740993.325630514,null,null,null,null,null,null,null,null,2.5609834272126264,3.1149809370389923,2090702,2.706866424215737,10.874332532370444,32.138306949553744,90.404431431065063,1.1516865921320463,16.433835328597986,0,0]
["2004-06-01",{"$f":"'SEPE contratos'!E50","v":1391623},{"$f":"'SEPE contratos'!H50","v":117330},{"$f":"'SEPE contratos'!M50","v":1274293},{"$f":"Iass!B38","v":79.031000000000006},{"$f":"Iass!N38","v":94.707999999999998},{"$f":"Iass!Y38","v":83.447016091565658},{"$f":"Iass!Z38","v":5},null,null,null,null,null,null,null,{"$f":"ETT!C35","v":200129},{"$f":"DNIs!B31","v":55832.593025963812},{"$f":"sabi!B31*1000","v":146243774.66633773},null,null,17156672,91.345798532758849,18115897.355180904,2054113,17156672,18115897.355180904,14841960.071111195,10021045.606256964,4820793.5861568982,null,null,null,null,null,null,null,null,2.520062664099032,3.2717815389951888,2054113,1.6702905957185044,10.692499031143184,32.480841904030086,91.568837249743638,1.1581618675043326,15.705100789221946,0,0]
["2004-07-01",{"$f":"'SEPE contratos'!E51","v":1486989},{"$f":"'SEPE contratos'!H51","v":110801},{"$f":"'SEPE contratos'!M51","v":1376188},{"$f":"Iass!B39","v":92.391999999999996},{"$f":"Iass!N39","v":98.924000000000007},{"$f":"Iass!Y39","v":93.396951194856655},{"$f":"Iass!Z39","v":5.1000000000000014},null,null,null,null,null,null,null,{"$f":"ETT!C36","v":199572},{"$f":"DNIs!B32","v":56940.514289859893},{"$f":"sabi!B32*1000","v":170967782.6292502},null,null,17280888,91.746129923083515,18209648.302026648,2014218,17280888,18209648.302026648,14932238.912429713,10016207.423709629,4915913.8697896656,null,null,null,null,null,null,null,null,2.7536809257821204,3.4785599905146327,2014218,0.91454555292580508,10.439009767554529,32.921478812514984,92.548633513765068,1.1582895021774695,14.501797719497628,0,0]
["2004-08-01",{"$f":"'SEPE contratos'!E52","v":1125142},{"$f":"'SEPE contratos'!H52","v":81385},{"$f":"'SEPE contratos'!M52","v":1043757},{"$f":"Iass!B40","v":73.224999999999994},{"$f":"Iass!N40","v":89.951999999999998},{"$f":"Iass!Y40","v":81.404526858769117},{"$f":"Iass!Z40","v":10},null,null,null,null,null,null,null,{"$f":"ETT!C37","v":174148},{"$f":"DNIs!B33","v":48513.289882442587},{"$f":"sabi!B33*1000","v":135499998.73394716},null,null,17073043,92.044908611983914,18292674.812216092,2049639,17073043,18292674.812216092,15020854.438435398,10034342.310289456,4986408.5383550767,null,null,null,null,null,null,null,null,2.4747533586611636,3.5169028396547732,2049639,1.6345717579679508,10.718365760618726,33.196570533270346,92.766690782141282,0.97291045266913123,16.684726425786845,0,0]
["2004-09-01",{"$f":"'SEPE contratos'!E53","v":1475755},{"$f":"'SEPE contratos'!H53","v":123422},{"$f":"'SEPE contratos'!M53","v":1352333},{"$f":"Iass!B41","v":84.224999999999994},{"$f":"Iass!N41","v":97.143000000000001},{"$f":"Iass!Y41","v":86.702078379296495},{"$f":"Iass!Z41","v":8.1999999999999993},null,null,null,null,null,null,null,{"$f":"ETT!C38","v":204651},{"$f":"DNIs!B34","v":55782.90116778385},{"$f":"sabi!B34*1000","v":155855068.53351584},null,null,17143750,92.238556463214394,18364976.885749217,2050514,17143750,18364976.885749217,15107806.649128279,10075450.265996426,5032277.591853139,null,null,null,null,null,null,null,null,2.7768313999548822,3.3883732545313401,2050514,0.53362619690826563,10.6829519485613,33.309120964580927,91.636687661569837,1.1085020678925179,15.133180954690895,0,0]
["2004-10-01",{"$f":"'SEPE contratos'!E54","v":1472055},{"$f":"'SEPE contratos'!H54","v":127838},{"$f":"'SEPE contratos'!M54","v":1344217},{"$f":"Iass!B42","v":79.144000000000005},{"$f":"Iass!N42","v":95.703000000000003},{"$f":"Iass!Y42","v":82.69751209470968},{"$f":"Iass!Z42","v":-3.0000000000000004},null,null,null,null,null,null,null,{"$f":"ETT!C39","v":210196},{"$f":"DNIs!B35","v":59195.195954959709},{"$f":"sabi!B35*1000","v":146452876.747006},null,null,17264424,92.325373433088117,18426554.52262605,2075811,17264424,18426554.52262605,15193095.544508325,10139531.290830551,5053521.0302838525,null,null,null,null,null,null,null,null,3.1432035681032255,3.0970756307743295,2075811,-0.99184109937680009,10.733121908808243,33.261957811556655,91.315677743019108,1.1713653826752701,15.637058599913555,0,0]
["2004-11-01",{"$f":"'SEPE contratos'!E55","v":1446781},{"$f":"'SEPE contratos'!H55","v":124812},{"$f":"'SEPE contratos'!M55","v":1321969},{"$f":"Iass!B43","v":81.789000000000001},{"$f":"Iass!N43","v":95.156999999999996},{"$f":"Iass!Y43","v":85.951637819603405},{"$f":"Iass!Z43","v":7},null,null,null,null,null,null,null,{"$f":"ETT!C40","v":195963},{"$f":"DNIs!B36","v":57939.431138561769},{"$f":"sabi!B36*1000","v":151347345.80335686},null,null,17318242,92.531016787761004,18490133.039873671,2121089,17318242,18490133.039873671,15228296.109970413,10200153.078915032,5028141.1171781048,null,null,null,null,null,null,null,null,2.6758976056123096,2.9804177293329279,2121089,-1.0319586637961953,10.911327143922803,33.018409156662202,91.373124197788059,1.1523032028798459,14.823569992942346,0,0]
["2004-12-01",{"$f":"'SEPE contratos'!E56","v":1223322},{"$f":"'SEPE contratos'!H56","v":91663},{"$f":"'SEPE contratos'!M56","v":1131659},{"$f":"Iass!B44","v":80.603999999999999},{"$f":"Iass!N44","v":93.045000000000002},{"$f":"Iass!Y44","v":86.629050459455101},{"$f":"Iass!Z44","v":13.200000000000001},null,null,null,null,null,null,null,{"$f":"ETT!C41","v":173078},{"$f":"DNIs!B37","v":55127.971720615853},{"$f":"sabi!B37*1000","v":149154549.64767602},null,null,17161920,92.852390204721416,18555712.43749211,2112715,17161920,18555712.43749211,15213408.345514545,10257315.630249865,4956137.8525358867,null,null,null,null,null,null,null,null,3.4501154069116025,3.0412485101314313,2112715,-3.1419169209553455,10.961115476376076,32.577432617176363,92.507042299574437,1.1123171582567815,15.29418314174146,0,0]
["2005-01-01",{"$f":"'SEPE contratos'!E57","v":1284958},{"$f":"'SEPE contratos'!H57","v":119535},{"$f":"'SEPE contratos'!M57","v":1165423},{"$f":"Iass!B45","v":70.33},{"$f":"Iass!N45","v":85.975999999999999},{"$f":"Iass!Y45","v":81.801898204149992},{"$f":"Iass!Z45","v":2.8000000000000007},null,null,null,null,null,null,null,{"$f":"ETT!C42","v":181410},{"$f":"DNIs!B38","v":56781.867675333524},{"$f":"sabi!B38*1000","v":129924847.51901115},null,null,17188173,93.00143557296083,18623292.715481345,2176599,17188173,18623292.715481345,15148432.251140704,10311018.944835067,4837511.2363572111,null,null,null,null,null,null,null,null,2.8403220231457693,3.2803039366122282,2176599,-2.5065843695130208,11.2399929108383,31.934071831049959,90.697361314533239,1.1737826518846899,15.566021950828155,0,0]
["2005-02-01",{"$f":"'SEPE contratos'!E58","v":1230315},{"$f":"'SEPE contratos'!H58","v":135134},{"$f":"'SEPE contratos'!M58","v":1095181},{"$f":"Iass!B46","v":74.683999999999997},{"$f":"Iass!N46","v":87.075999999999993},{"$f":"Iass!Y46","v":85.768753732371721},{"$f":"Iass!Z46","v":4.5},null,null,null,null,null,null,null,{"$f":"ETT!C43","v":158141},{"$f":"DNIs!B39","v":47079.544114518081},{"$f":"sabi!B39*1000","v":137968254.11787048},null,null,17290315,93.35544824492203,18724793.248365566,2165420,17290315,18724793.248365566,15179339.039190009,10359905.56485391,4819546.1550440807,null,null,null,null,null,null,null,null,2.6755002013982843,3.4699371697283978,2165420,-2.4277925471995698,11.129983010150992,31.750698384171926,89.016308831478113,0.97684600582661052,14.439713618114267,0,0]
["2005-03-01",{"$f":"'SEPE contratos'!E59","v":1307345},{"$f":"'SEPE contratos'!H59","v":140672},{"$f":"'SEPE contratos'!M59","v":1166673},{"$f":"Iass!B47","v":77.863},{"$f":"Iass!N47","v":88.835999999999999},{"$f":"Iass!Y47","v":87.648025575217261},{"$f":"Iass!Z47","v":-0.30000000000000071},null,null,null,null,null,null,null,{"$f":"ETT!C44","v":175944},{"$f":"DNIs!B40","v":50990.777830954241},{"$f":"sabi!B40*1000","v":143841012.40399212},null,null,17383847,93.706846864008156,18860214.036144786,2144835,17383847,18860214.036144786,15306128.709662452,10403975.490306394,4902242.6085965103,null,null,null,null,null,null,null,null,2.8939290627004954,3.6092931788549789,2144835,-1.6827974289792658,10.982999262315808,32.02797194238817,89.239871648264241,1.0401520671689619,15.0808324183383,0,0]
["2005-04-01",{"$f":"'SEPE contratos'!E60","v":1322797},{"$f":"'SEPE contratos'!H60","v":133147},{"$f":"'SEPE contratos'!M60","v":1189650},{"$f":"Iass!B48","v":81.826999999999998},{"$f":"Iass!N48","v":91.137},{"$f":"Iass!Y48","v":89.78460998277319},{"$f":"Iass!Z48","v":10.7},null,null,null,null,null,null,null,{"$f":"ETT!C45","v":186795},{"$f":"DNIs!B41","v":53149.70774948335},{"$f":"sabi!B41*1000","v":151163948.49904916},null,null,17576953,94.057401514945184,19029555.078818996,2095945,17576953,19029555.078818996,15528801.262558037,10443228.721192518,5085600.5970144952,null,null,null,null,null,null,null,null,3.3999417730351977,3.6961548960454076,2095945,-3.0734298154138529,10.653971773756973,32.749473130785319,89.934434384111853,1.0451018859146139,15.701676963812886,0,0]
["2005-05-01",{"$f":"'SEPE contratos'!E61","v":1429695},{"$f":"'SEPE contratos'!H61","v":134439},{"$f":"'SEPE contratos'!M61","v":1295256},{"$f":"Iass!B49","v":84.959000000000003},{"$f":"Iass!N49","v":96.147000000000006},{"$f":"Iass!Y49","v":88.363651491986232},{"$f":"Iass!Z49","v":6.5},null,null,null,null,null,null,null,{"$f":"ETT!C46","v":198525},{"$f":"DNIs!B42","v":59052.782037196368},{"$f":"sabi!B42*1000","v":156949880.85266131},null,null,17789125,94.390007158818904,19170174.030371204,2007393,17789125,19170174.030371204,15705143.453861671,10463745.488018489,5241389.6463575615,null,null,null,null,null,null,null,null,3.8155158315068993,3.7241307291878631,2007393,-3.9847381405862747,10.14013171407214,33.373713915798575,90.596665722409313,1.1266626986649309,15.327085919694639,0,0]
["2005-06-01",{"$f":"'SEPE contratos'!E62","v":1566969},{"$f":"'SEPE contratos'!H62","v":133022},{"$f":"'SEPE contratos'!M62","v":1433947},{"$f":"Iass!B50","v":90.445999999999998},{"$f":"Iass!N50","v":103.886},{"$f":"Iass!Y50","v":87.062741851645072},{"$f":"Iass!Z50","v":4.7000000000000011},null,null,null,null,null,null,null,{"$f":"ETT!C47","v":215479},{"$f":"DNIs!B43","v":60384.365320212928},{"$f":"sabi!B43*1000","v":167086346.63307953},null,null,17942395,94.717007487245908,19282070.890801359,1974860,17942395,19282070.890801359,15835155.283573359,10465525.790784299,5369609.7566257073,null,null,null,null,null,null,null,null,4.5796935442957709,3.6904284399085188,1974860,-3.8582590149616847,9.9153221666339064,33.909422803045615,91.510872263586577,1.1245577994881848,15.02698495830041,0,0]
["2005-07-01",{"$f":"'SEPE contratos'!E63","v":1570198},{"$f":"'SEPE contratos'!H63","v":116265},{"$f":"'SEPE contratos'!M63","v":1453933},{"$f":"Iass!B51","v":95.873000000000005},{"$f":"Iass!N51","v":104.637},{"$f":"Iass!Y51","v":91.624377610214367},{"$f":"Iass!Z51","v":-2},null,null,null,null,null,null,null,{"$f":"ETT!C48","v":209069},{"$f":"DNIs!B44","v":61582.610264953757},{"$f":"sabi!B44*1000","v":177111970.79752821},null,null,18157011,95.043687552390494,19365245.660109557,1989417,18157011,19365245.660109557,15918836.751693109,10448569.629489966,5470260.9278189382,null,null,null,null,null,null,null,null,5.069895713692496,3.5942378120244647,1989417,-1.2312967116766882,9.8747877291200208,34.363446356952728,92.595519800687555,1.1257709838259493,14.379548438614433,0,0]
["2005-08-01",{"$f":"'SEPE contratos'!E64","v":1298453},{"$f":"'SEPE contratos'!H64","v":92117},{"$f":"'SEPE contratos'!M64","v":1206336},{"$f":"Iass!B52","v":82.468999999999994},{"$f":"Iass!N52","v":96.287000000000006},{"$f":"Iass!Y52","v":85.649153052852398},{"$f":"Iass!Z52","v":5.6},null,null,null,null,null,null,null,{"$f":"ETT!C49","v":183549},{"$f":"DNIs!B45","v":52468.353346664822},{"$f":"sabi!B45*1000","v":152349953.78992367},null,null,17968476,95.36408368051714,19428680.107352354,2019110,17968476,19428680.107352354,15977604.554951493,10458303.367047746,5519303.0247524874,null,null,null,null,null,null,null,null,5.2447182379848689,3.6060116847553005,2019110,-1.4894818063083348,10.101820199798015,34.543995664494297,92.905634628284588,0.95063367804520493,15.215412621359222,0,0]
["2005-09-01",{"$f":"'SEPE contratos'!E65","v":1617951},{"$f":"'SEPE contratos'!H65","v":138892},{"$f":"'SEPE contratos'!M65","v":1479059},{"$f":"Iass!B53","v":92.858999999999995},{"$f":"Iass!N53","v":105.875},{"$f":"Iass!Y53","v":87.706257378984645},{"$f":"Iass!Z53","v":1.3000000000000007},null,null,null,null,null,null,null,{"$f":"ETT!C50","v":224343},{"$f":"DNIs!B46","v":60330.622315362991},{"$f":"sabi!B46*1000","v":171544026.95532289},null,null,18094408,95.676867627058485,19472374.232529733,2013286,18094408,19472374.232529733,16011458.693348533,10494727.003457641,5516736.0474263616,null,null,null,null,null,null,null,null,5.5452161866569538,3.7276380995410547,2013286,-1.8155447853562601,10.012515607209856,34.454924770334131,91.415562028763546,1.0935926931560938,15.167954760425378,0,0]
["2005-10-01",{"$f":"'SEPE contratos'!E66","v":1637186},{"$f":"'SEPE contratos'!H66","v":148234},{"$f":"'SEPE contratos'!M66","v":1488952},{"$f":"Iass!B54","v":90.716999999999999},{"$f":"Iass!N54","v":104.997},{"$f":"Iass!Y54","v":86.399611417469075},{"$f":"Iass!Z54","v":4.9000000000000004},null,null,null,null,null,null,null,{"$f":"ETT!C51","v":226201},{"$f":"DNIs!B47","v":64021.105666427604},{"$f":"sabi!B47*1000","v":167586981.26520884},null,null,18194803,95.979934432730573,19496328.035641719,2052861,18194803,19496328.035641719,16020399.166884214,10557840.538719675,5462559.9958405541,null,null,null,null,null,null,null,null,5.3889953119779621,3.9584796888670026,2052861,-1.1055919830851635,10.138754771908502,34.097527402015167,90.945805791156289,1.1719982154004027,15.191960519882441,0,0]
["2005-11-01",{"$f":"'SEPE contratos'!E67","v":1569481},{"$f":"'SEPE contratos'!H67","v":142901},{"$f":"'SEPE contratos'!M67","v":1426580},{"$f":"Iass!B55","v":95.222999999999999},{"$f":"Iass!N55","v":105.252},{"$f":"Iass!Y55","v":90.4714399726371},{"$f":"Iass!Z55","v":5.7999999999999989},null,null,null,null,null,null,null,{"$f":"ETT!C52","v":229273},{"$f":"DNIs!B48","v":62662.964170216226},{"$f":"sabi!B48*1000","v":175911186.62452438},null,null,18283385,96.336757431098874,19511970.459686365,2095580,18283385,19511970.459686365,16026234.910103286,10615513.518494284,5410720.9860631423,null,null,null,null,null,null,null,null,5.5729848329870935,4.1129785900416689,2095580,-1.2026369473416731,10.283054119774974,33.761647800707742,90.895015613441643,1.1581259564413429,16.071513690083979,0,0]
["2005-12-01",{"$f":"'SEPE contratos'!E68","v":1329617},{"$f":"'SEPE contratos'!H68","v":108480},{"$f":"'SEPE contratos'!M68","v":1221137},{"$f":"Iass!B56","v":88.311000000000007},{"$f":"Iass!N56","v":101.449},{"$f":"Iass!Y56","v":87.049650563337252},{"$f":"Iass!Z56","v":0.59999999999999964},null,null,null,null,null,null,null,{"$f":"ETT!C53","v":195316},{"$f":"DNIs!B49","v":59622.299508676108},{"$f":"sabi!B49*1000","v":163142232.46482861},null,null,18156182,96.738740182670028,19519301.504663687,2102937,18156182,19519301.504663687,16028965.923005769,10667745.942781478,5361219.0180941289,null,null,null,null,null,null,null,null,5.7934193843113047,4.1853405410293449,2102937,-0.46281680207694853,10.380199652314595,33.447067289595857,91.841259550682636,1.1121034098299414,15.994601752301337,0,0]
["2006-01-01",{"$f":"'SEPE contratos'!E69","v":1472539},{"$f":"'SEPE contratos'!H69","v":159739},{"$f":"'SEPE contratos'!M69","v":1312800},{"$f":"Iass!B57","v":83.460999999999999},{"$f":"Iass!N57","v":89.403999999999996},{"$f":"Iass!Y57","v":93.352646414030687},{"$f":"Iass!Z57","v":14.7},null,null,null,null,null,null,null,{"$f":"ETT!C54","v":195195},{"$f":"DNIs!B50","v":62067.712991018729},{"$f":"sabi!B50*1000","v":162135122.73783162},null,null,18123841,96.873391794916174,19518321.170573667,2171503,18123841,19518321.170573667,16028592.205591656,10714537.811581237,5314054.091933514,null,null,null,null,null,null,null,null,5.443673390999737,4.1634215544565514,2171503,-0.23412672706364379,10.699513149419888,33.153592179353588,89.152137906024905,1.1679917425988309,14.868601462522852,0,0]
["2006-02-01",{"$f":"'SEPE contratos'!E70","v":1366664},{"$f":"'SEPE contratos'!H70","v":160557},{"$f":"'SEPE contratos'!M70","v":1206107},{"$f":"Iass!B58","v":85.32},{"$f":"Iass!N58","v":91.674999999999997},{"$f":"Iass!Y58","v":93.067902917916541},{"$f":"Iass!Z58","v":8.8999999999999986},null,null,null,null,null,null,null,{"$f":"ETT!C55","v":172885},{"$f":"DNIs!B51","v":51462.196498289966},{"$f":"sabi!B51*1000","v":165746500.42525002},null,null,18238966,97.235753862073636,19563135.209118821,2169277,18238966,19563135.209118821,16058429.622042669,10735357.420094093,5323072.2914426643,null,null,null,null,null,null,null,null,5.4866033383428769,4.1564760288067282,2169277,0.17811787089803133,10.629415770872583,33.148149705348075,88.251903906153956,0.96677620893896654,14.334134533669069,0,0]
["2006-03-01",{"$f":"'SEPE contratos'!E71","v":1555516},{"$f":"'SEPE contratos'!H71","v":176266},{"$f":"'SEPE contratos'!M71","v":1379250},{"$f":"Iass!B59","v":97.085999999999999},{"$f":"Iass!N59","v":98.606999999999999},{"$f":"Iass!Y59","v":98.457513158295058},{"$f":"Iass!Z59","v":13.7},null,null,null,null,null,null,null,{"$f":"ETT!C56","v":207018},{"$f":"DNIs!B52","v":55737.528425387056},{"$f":"sabi!B52*1000","v":188603665.49795857},null,null,18360036,97.603965628345435,19653743.620299187,2148530,18360036,19653743.620299187,16118478.172358822,10730204.768320045,5388273.6166215939,null,null,null,null,null,null,null,null,5.6154946600714961,4.1587583781188808,2148530,0.17227432413216004,10.476256604191633,33.429170911816044,88.668326137436068,1.034422755619713,15.009461663947798,0,0]
["2006-04-01",{"$f":"'SEPE contratos'!E72","v":1304213},{"$f":"'SEPE contratos'!H72","v":145658},{"$f":"'SEPE contratos'!M72","v":1158555},{"$f":"Iass!B60","v":84.79},{"$f":"Iass!N60","v":96.906999999999996},{"$f":"Iass!Y60","v":87.496259300153767},{"$f":"Iass!Z60","v":-2.6999999999999997},null,null,null,null,null,null,null,{"$f":"ETT!C57","v":191129},{"$f":"DNIs!B53","v":58097.433938132257},{"$f":"sabi!B53*1000","v":164716898.39494789},null,null,18559178,97.981446166580611,19790146.404114708,2075676,18559178,19790146.404114708,16208737.856540112,10699079.856259082,5509658.0674702991,null,null,null,null,null,null,null,null,5.58814147139155,4.1717490647140067,2075676,-0.9670578187881862,10.059077713852496,33.991900641709691,88.831732240055885,1.0544653266442554,16.497188307849001,0,0]
["2006-05-01",{"$f":"'SEPE contratos'!E73","v":1637566},{"$f":"'SEPE contratos'!H73","v":166868},{"$f":"'SEPE contratos'!M73","v":1470698},{"$f":"Iass!B61","v":98.376000000000005},{"$f":"Iass!N61","v":107.47},{"$f":"Iass!Y61","v":91.538103656834465},{"$f":"Iass!Z61","v":4},null,null,null,null,null,null,null,{"$f":"ETT!C58","v":243270},{"$f":"DNIs!B54","v":64550.027620844048},{"$f":"sabi!B54*1000","v":191109677.98680732},null,null,18640331,98.338500084801595,19900337.296980474,2004528,18640331,19900337.296980474,16299899.385178642,10696413.736048372,5603485.6295791976,null,null,null,null,null,null,null,null,4.7849795872478174,4.183243230744119,2004528,-0.14272242655025691,9.709574669412854,34.377424652537421,89.809998497770465,1.1519620444835785,16.541125370402355,0,0]
["2006-06-01",{"$f":"'SEPE contratos'!E74","v":1655753},{"$f":"'SEPE contratos'!H74","v":152484},{"$f":"'SEPE contratos'!M74","v":1503269},{"$f":"Iass!B62","v":104.892},{"$f":"Iass!N62","v":110.154},{"$f":"Iass!Y62","v":95.223051364453397},{"$f":"Iass!Z62","v":10},null,null,null,null,null,null,null,{"$f":"ETT!C59","v":236201},{"$f":"DNIs!B55","v":66005.568490096106},{"$f":"sabi!B55*1000","v":203767955.0235036},null,null,18642858,98.695428107681039,19984316.298896469,1959754,18642858,19984316.298896469,16391962.758274425,10722206.407687914,5669756.3029482979,null,null,null,null,null,null,null,null,3.9039548510664268,4.2004674236127988,1959754,-0.76491498131513458,9.512162826732844,34.588635824506667,90.790655369490509,1.164169409817013,15.712490578865127,0,0]
["2006-07-01",{"$f":"'SEPE contratos'!E75","v":1670892},{"$f":"'SEPE contratos'!H75","v":168285},{"$f":"'SEPE contratos'!M75","v":1502607},{"$f":"Iass!B63","v":106.81699999999999},{"$f":"Iass!N63","v":111.633},{"$f":"Iass!Y63","v":95.685863499144517},{"$f":"Iass!Z63","v":4.7},null,null,null,null,null,null,null,{"$f":"ETT!C60","v":225327},{"$f":"DNIs!B56","v":67315.358505253011},{"$f":"sabi!B56*1000","v":207507547.30337474},null,null,18771167,99.067595843229512,20042083.409862682,1954984,18771167,20042083.409862682,16484927.975827439,10776457.871177716,5708470.0875775935,null,null,null,null,null,null,null,null,3.3824730292888017,4.2333557690366517,1954984,-1.7308085735670331,9.4324508202222415,34.628419947895253,89.928433435554183,1.1792189058105145,14.995737408384228,0,0]
["2006-08-01",{"$f":"'SEPE contratos'!E76","v":1322920},{"$f":"'SEPE contratos'!H76","v":139997},{"$f":"'SEPE contratos'!M76","v":1182923},{"$f":"Iass!B64","v":90.138999999999996},{"$f":"Iass!N64","v":102.53400000000001},{"$f":"Iass!Y64","v":87.911326974467002},{"$f":"Iass!Z64","v":2.8000000000000007},null,null,null,null,null,null,null,{"$f":"ETT!C61","v":193005},{"$f":"DNIs!B57","v":57352.651998920366},{"$f":"sabi!B57*1000","v":175108108.31963918},null,null,18583552,99.402088910835673,20093212.630205102,1983677,18583552,20093212.630205102,16555998.298343385,10831452.333665706,5724545.9680511598,null,null,null,null,null,null,null,null,3.4230838497377292,4.2342658379047764,1983677,-1.7548821015199723,9.6448432601202612,34.576869753749406,89.417576270673962,1.0018725034091265,16.315939414484291,0,0]
["2006-09-01",{"$f":"'SEPE contratos'!E77","v":1674735},{"$f":"'SEPE contratos'!H77","v":200688},{"$f":"'SEPE contratos'!M77","v":1474047},{"$f":"Iass!B65","v":103.129},{"$f":"Iass!N65","v":114.71899999999999},{"$f":"Iass!Y65","v":89.897052798577405},{"$f":"Iass!Z65","v":2.6999999999999993},null,null,null,null,null,null,null,{"$f":"ETT!C62","v":236885},{"$f":"DNIs!B58","v":65946.822528808363},{"$f":"sabi!B58*1000","v":200343071.28874373},null,null,18814068,99.702954440504442,20137703.959923755,1966166,18814068,20137703.959923755,16605173.725822246,10887189.795151882,5717983.9443690097,null,null,null,null,null,null,null,null,3.9772508722031752,4.2084327983871894,1966166,-2.3404523748737138,9.4617125100708694,34.434954061800212,88.016731005203809,1.1533229748529088,16.070383101759987,0,0]
["2006-10-01",{"$f":"'SEPE contratos'!E78","v":1819192},{"$f":"'SEPE contratos'!H78","v":239673},{"$f":"'SEPE contratos'!M78","v":1579519},{"$f":"Iass!B66","v":106.749},{"$f":"Iass!N66","v":115.989},{"$f":"Iass!Y66","v":92.033727336212905},{"$f":"Iass!Z66","v":7.1999999999999993},null,null,null,null,null,null,null,{"$f":"ETT!C63","v":244931},{"$f":"DNIs!B59","v":69980.854356393291},{"$f":"sabi!B59*1000","v":207375447.42024162},null,null,18767751,99.966324881418799,20175557.399018589,1992836,18767751,20175557.399018589,16632454.258264003,10943670.255636245,5688784.016531135,null,null,null,null,null,null,null,null,3.1489651193255641,4.1536157422223345,1992836,-2.9239680621337749,9.5991312769720825,34.202913942809161,86.82530486061944,1.2301548828894668,15.506682730628754,0,0]
["2006-11-01",{"$f":"'SEPE contratos'!E79","v":1660499},{"$f":"'SEPE contratos'!H79","v":231908},{"$f":"'SEPE contratos'!M79","v":1428591},{"$f":"Iass!B67","v":109.92100000000001},{"$f":"Iass!N67","v":116.00700000000001},{"$f":"Iass!Y67","v":94.753764859017124},{"$f":"Iass!Z67","v":5.2000000000000011},null,null,null,null,null,null,null,{"$f":"ETT!C64","v":221397},{"$f":"DNIs!B60","v":68496.282959939213},{"$f":"sabi!B60*1000","v":213537518.43933326},null,null,18884115,100.30643236911888,20199902.709526233,2023164,18884115,20199902.709526233,16648608.697674721,11027712.679028973,5620896.022172749,null,null,null,null,null,null,null,null,3.2856607242039759,4.1205412750581329,2023164,-3.455654281869458,9.6768403004522963,33.761956474824281,86.03383681652322,1.2186007833936425,15.497577683185741,0,0]
["2006-12-01",{"$f":"'SEPE contratos'!E80","v":1386283},{"$f":"'SEPE contratos'!H80","v":235122},{"$f":"'SEPE contratos'!M80","v":1151161},{"$f":"Iass!B68","v":96.513999999999996},{"$f":"Iass!N68","v":109.78},{"$f":"Iass!Y68","v":87.915831663326642},{"$f":"Iass!Z68","v":1.1000000000000014},null,null,null,null,null,null,null,{"$f":"ETT!C65","v":189854},{"$f":"DNIs!B61","v":65172.561686917586},{"$f":"sabi!B61*1000","v":187492472.3633683},null,null,18770259,100.7111346275793,20210739.891446676,2022873,18770259,20210739.891446676,16653637.044054342,11139317.065330077,5514319.9612938678,null,null,null,null,null,null,null,null,3.382192357402003,4.1061364668074001,2022873,-3.8072467220844008,9.7285632582912474,33.111805827800133,83.039393832283878,1.1818784935291575,16.492393331601747,0,0]
["2007-01-01",{"$f":"'SEPE contratos'!E81","v":1653150},{"$f":"'SEPE contratos'!H81","v":255422},{"$f":"'SEPE contratos'!M81","v":1397728},{"$f":"Iass!B69","v":99.537000000000006},{"$f":"Iass!N69","v":103.42100000000001},{"$f":"Iass!Y69","v":96.244476460293356},{"$f":"Iass!Z69","v":3.6000000000000014},null,null,null,null,null,null,null,{"$f":"ETT!C66","v":221340},{"$f":"DNIs!B62","v":64539.331286012624},{"$f":"sabi!B62*1000","v":196178731.82480711},null,null,18757058,100.8529628437868,20208068.944779925,2082508,18757058,20208068.944779925,16647539.29740289,11278483.41453954,5369055.8338944847,null,null,null,null,null,null,null,null,3.4938344471241001,4.1081796994208926,2082508,-4.098313472281645,9.9930487995767283,32.251348009925337,84.549375434776024,1.2020610938441023,15.835699077359831,0,0]
["2007-02-01",{"$f":"'SEPE contratos'!E82","v":1408327},{"$f":"'SEPE contratos'!H82","v":175887},{"$f":"'SEPE contratos'!M82","v":1232440},{"$f":"Iass!B70","v":94.736000000000004},{"$f":"Iass!N70","v":103.408},{"$f":"Iass!Y70","v":91.613801640105223},{"$f":"Iass!Z70","v":-1.8000000000000007},null,null,null,null,null,null,null,{"$f":"ETT!C67","v":190278},{"$f":"DNIs!B63","v":53511.489121399019},{"$f":"sabi!B63*1000","v":186716380.221977},null,null,18871589,101.19843356015654,20251974.499526143,2075275,18871589,20251974.499526143,16686335.387686104,11393987.440936055,5292347.9266232038,null,null,null,null,null,null,null,null,3.4685244766616607,4.0753626507727478,2075275,-4.3333331796723051,9.9073302810387265,31.716657993874197,87.510926084638015,1.0111105668659648,15.439128882541949,0,0]
["2007-03-01",{"$f":"'SEPE contratos'!E83","v":1564432},{"$f":"'SEPE contratos'!H83","v":193165},{"$f":"'SEPE contratos'!M83","v":1371267},{"$f":"Iass!B71","v":106.574},{"$f":"Iass!N71","v":109.544},{"$f":"Iass!Y71","v":97.28876068063974},{"$f":"Iass!Z71","v":-1.2999999999999989},null,null,null,null,null,null,null,{"$f":"ETT!C68","v":219356},{"$f":"DNIs!B64","v":57957.07041163461},{"$f":"sabi!B64*1000","v":210048044.09914893},null,null,19085110,101.51859282860482,20342456.555685304,2059451,19085110,20342456.555685304,16770025.314903913,11485829.144519616,5284196.239480013,null,null,null,null,null,null,null,null,3.9491970495046935,4.0105276208446705,2059451,-4.1460440394129989,9.7398617072257974,31.509769009017681,87.652707180625299,1.0968001146251494,15.996592931938128,0,0]
["2007-04-01",{"$f":"'SEPE contratos'!E84","v":1385980},{"$f":"'SEPE contratos'!H84","v":168931},{"$f":"'SEPE contratos'!M84","v":1217049},{"$f":"Iass!B72","v":95.4},{"$f":"Iass!N72","v":104.617},{"$f":"Iass!Y72","v":91.189768393282165},{"$f":"Iass!Z72","v":4.5},null,null,null,null,null,null,null,{"$f":"ETT!C69","v":205890},{"$f":"DNIs!B65","v":60410.950478277133},{"$f":"sabi!B65*1000","v":188025066.21745276},null,null,19109008,101.81274254084514,20479515.113257416,2023124,19109008,20479515.113257416,16898609.079056341,11554008.525290202,5344600.7724649142,null,null,null,null,null,null,null,null,2.9625773296640512,3.9103780444430716,2023124,-2.5318016877393212,9.5736861761037648,31.627459677074022,87.811440280523527,1.1303173623278091,16.917149597099211,0,0]
["2007-05-01",{"$f":"'SEPE contratos'!E85","v":1625492},{"$f":"'SEPE contratos'!H85","v":190378},{"$f":"'SEPE contratos'!M85","v":1435114},{"$f":"Iass!B73","v":108.911},{"$f":"Iass!N73","v":112.28},{"$f":"Iass!Y73","v":96.999465621660136},{"$f":"Iass!Z73","v":6.1999999999999993},null,null,null,null,null,null,null,{"$f":"ETT!C70","v":241030},{"$f":"DNIs!B66","v":67120.494962425088},{"$f":"sabi!B66*1000","v":214654066.94768339},null,null,19234065,102.09595259701877,20589818.417705126,1973231,19234065,20589818.417705126,16992848.210800335,11598646.976513941,5394201.3263618611,null,null,null,null,null,null,null,null,3.1852116789127916,3.8209546401080563,1973231,-1.5613151824269811,9.3044912467860126,31.743950510505993,88.287976809482913,1.2443083025915673,16.795181428095606,0,0]
["2007-06-01",{"$f":"'SEPE contratos'!E86","v":1582127},{"$f":"'SEPE contratos'!H86","v":178278},{"$f":"'SEPE contratos'!M86","v":1403849},{"$f":"Iass!B74","v":113.113},{"$f":"Iass!N74","v":114.938},{"$f":"Iass!Y74","v":98.412187440185136},{"$f":"Iass!Z74","v":3.5},null,null,null,null,null,null,null,{"$f":"ETT!C71","v":243203},{"$f":"DNIs!B67","v":68633.997391209326},{"$f":"sabi!B67*1000","v":222935841.87688398},null,null,19358772,102.38866521956741,{"$f":"Z68","v":20673366.469028447},{"$f":"AN68","v":1965869},{"$f":"U68","v":19358772},20673366.469028447,17052742.710135914,11619744.498190826,5432997.9011708498,null,null,null,null,null,null,null,null,3.8401515475792403,3.7418860066108732,1965869,0.31202895873665426,9.2187671529851318,{"$f":"AC68/AA68*100","v":31.859965247359014},{"$f":"D68/B68*100","v":88.731751622973377},{"$f":"Q68/AC68*100","v":1.2632803958274714},{"$f":"P68/D68*100","v":17.324014192409582},{"$f":"S68/R68*100","v":0},{"$f":"T68/P68*100","v":0}]
["2007-07-01",{"$f":"'SEPE contratos'!E87","v":1754918},{"$f":"'SEPE contratos'!H87","v":180841},{"$f":"'SEPE contratos'!M87","v":1574077},{"$f":"Iass!B75","v":123.095},{"$f":"Iass!N75","v":117.74299999999999},{"$f":"Iass!Y75","v":104.5454931503359},{"$f":"Iass!Z75","v":9.6999999999999993},null,null,null,null,null,null,null,{"$f":"ETT!C72","v":235606},{"$f":"DNIs!B68","v":69995.944974416649},{"$f":"sabi!B68*1000","v":242609491.8871839},null,null,19302685,102.70413677498017,20730159.267227381,1970338,19302685,20730159.267227381,17078292.577063058,11617301.090320855,5460990.4968918711,null,null,null,null,null,null,null,null,2.8315660928273756,3.6708550426010516,1970338,0.78537727162983906,9.2621438899398534,31.976208817421455,89.695188037275813,1.2817444933159088,14.967882765582624,0,0]
["2007-08-01",{"$f":"'SEPE contratos'!E88","v":1287035},{"$f":"'SEPE contratos'!H88","v":127583},{"$f":"'SEPE contratos'!M88","v":1159452},{"$f":"Iass!B76","v":99.427000000000007},{"$f":"Iass!N76","v":108.464},{"$f":"Iass!Y76","v":91.668203274819305},{"$f":"Iass!Z76","v":4.5000000000000009},null,null,null,null,null,null,null,{"$f":"ETT!C73","v":198431},{"$f":"DNIs!B69","v":59636.510338721964},{"$f":"sabi!B69*1000","v":195961931.4339903},null,null,19047968,103.01361267775442,20761788.016354322,2028296,19047968,20761788.016354322,17096910.61099571,11643014.420611482,5453895.7731526308,null,null,null,null,null,null,null,null,2.4990701454705722,3.633283835289951,2028296,2.2493077249975624,9.6236031205530548,31.899890554759125,90.087060569448383,1.0934662637355281,17.114205676474747,0,0]
["2007-09-01",{"$f":"'SEPE contratos'!E89","v":1595921},{"$f":"'SEPE contratos'!H89","v":192289},{"$f":"'SEPE contratos'!M89","v":1403632},{"$f":"Iass!B77","v":107.25},{"$f":"Iass!N77","v":116.946},{"$f":"Iass!Y77","v":91.708993894618033},{"$f":"Iass!Z77","v":2.1},null,null,null,null,null,null,null,{"$f":"ETT!C74","v":241126},{"$f":"DNIs!B70","v":68572.912088165962},{"$f":"sabi!B70*1000","v":211380381.04635018},null,null,19307990,103.31854933443314,20768252.716409344,2017363,19307990,20768252.716409344,17108596.811933901,11696884.489062674,5411713.7299531391,null,null,null,null,null,null,null,null,2.6252801892711286,3.6262426523256805,2017363,2.6039001793337846,9.4599278145595065,31.631546347379359,87.951220643127073,1.2671200937444957,17.178719208453497,0,0]
["2007-10-01",{"$f":"'SEPE contratos'!E90","v":1911389},{"$f":"'SEPE contratos'!H90","v":233084},{"$f":"'SEPE contratos'!M90","v":1678305},{"$f":"Iass!B78","v":115.91},{"$f":"Iass!N78","v":118.872},{"$f":"Iass!Y78","v":97.508244161787459},{"$f":"Iass!Z78","v":6.1},null,null,null,null,null,null,null,{"$f":"ETT!C75","v":266761},{"$f":"DNIs!B71","v":72767.584390277305},{"$f":"sabi!B71*1000","v":228448484.54156128},null,null,19232271,103.61081503485808,20749553.367392346,2048577,19232271,20749553.367392346,17113351.179877579,11778911.29567446,5334444.3672933709,null,null,null,null,null,null,null,null,2.4750967763798704,3.645038314117043,2048577,2.7970691015216431,9.6263880085981537,31.171243500021077,87.805517348901759,1.3641080378760919,15.894667536591978,0,0]
["2007-11-01",{"$f":"'SEPE contratos'!E91","v":1592018},{"$f":"'SEPE contratos'!H91","v":190015},{"$f":"'SEPE contratos'!M91","v":1402003},{"$f":"Iass!B79","v":115.045},{"$f":"Iass!N79","v":117.027},{"$f":"Iass!Y79","v":98.306373742811488},{"$f":"Iass!Z79","v":3.8000000000000003},null,null,null,null,null,null,null,{"$f":"ETT!C76","v":234417},{"$f":"DNIs!B72","v":71223.895400361522},{"$f":"sabi!B72*1000","v":226743645.10468397},null,null,19325697,103.89857363191273,20721138.504591607,2094473,19325697,20721138.504591607,17100776.386953488,11834959.525570324,5265818.7511578212,null,null,null,null,null,null,null,null,2.3383780494876216,3.5812340894039094,2094473,3.5246277612689836,9.7780409772658192,30.792863622117274,88.064519371012139,1.3525702035357972,16.720149671577023,0,0]
["2007-12-01",{"$f":"'SEPE contratos'!E92","v":1261319},{"$f":"'SEPE contratos'!H92","v":134511},{"$f":"'SEPE contratos'!M92","v":1126808},{"$f":"Iass!B80","v":100.34699999999999},{"$f":"Iass!N80","v":110.23099999999999},{"$f":"Iass!Y80","v":91.033375366276275},{"$f":"Iass!Z80","v":3.6},null,null,null,null,null,null,null,{"$f":"ETT!C77","v":207605},{"$f":"DNIs!B73","v":67767.819157098784},{"$f":"sabi!B73*1000","v":197775171.06627598},null,null,19195755,104.16388719756662,20683008.128007114,2129547,19195755,20683008.128007114,17070872.433161601,11865029.178750243,5205836.8815464647,null,null,null,null,null,null,null,null,2.2668627001896979,3.4289850843083647,2129547,5.2733908653682215,9.9860109835724717,30.495435437931633,89.335687482706589,1.3017660887017157,18.424168092523306,0,0]
["2008-01-01",{"$f":"'SEPE contratos'!E93","v":1581360},{"$f":"'SEPE contratos'!H93","v":196763},{"$f":"'SEPE contratos'!M93","v":1384597},{"$f":"Iass!B81","v":101.675},{"$f":"Iass!N81","v":105.203},{"$f":"Iass!Y81","v":96.64648346530042},{"$f":"Iass!Z81","v":0.40000000000000013},null,null,null,null,null,null,null,{"$f":"ETT!C78","v":213690},{"$f":"DNIs!B74","v":54357.036265568539},{"$f":"sabi!B74*1000","v":206299612.55439132},null,null,19111058,104.06620793125205,20635162.237638842,2261925,19111058,20635162.237638842,17023639.318501923,11869120.255214235,5154498.758459311,null,null,null,null,null,null,null,null,1.8872895738766715,3.1860239828111587,2261925,8.6154290883876605,10.583103912074417,30.278477251672093,87.557355693833159,1.0545552305422603,15.433371587544967,0,0]
["2008-02-01",{"$f":"'SEPE contratos'!E94","v":1427302},{"$f":"'SEPE contratos'!H94","v":186135},{"$f":"'SEPE contratos'!M94","v":1241167},{"$f":"Iass!B82","v":98.665999999999997},{"$f":"Iass!N82","v":103.282},{"$f":"Iass!Y82","v":95.530682984450337},{"$f":"Iass!Z82","v":4.1999999999999993},null,null,null,null,null,null,null,{"$f":"ETT!C79","v":181814},{"$f":"DNIs!B75","v":45069.043896754163},{"$f":"sabi!B75*1000","v":200194320.84870005},null,null,19176237,104.19905008678734,20611829.086815368,2315331,19176237,20611829.086815368,17001676.550958686,11898327.832918296,5103340.1588424332,null,null,null,null,null,null,null,null,1.6143208714433088,2.9649899863332694,2315331,11.567430822421132,10.773206496612996,30.016687728097423,86.958961733396308,0.88312835307801552,14.648633100944513,0,0]
["2008-03-01",{"$f":"'SEPE contratos'!E95","v":1285644},{"$f":"'SEPE contratos'!H95","v":168133},{"$f":"'SEPE contratos'!M95","v":1117511},{"$f":"Iass!B83","v":95.42},{"$f":"Iass!N83","v":99.978999999999999},{"$f":"Iass!Y83","v":95.440042408905867},{"$f":"Iass!Z83","v":-1.8000000000000007},null,null,null,null,null,null,null,{"$f":"ETT!C80","v":186492},{"$f":"DNIs!B76","v":48813.25101200887},{"$f":"sabi!B76*1000","v":193608153.7245146},null,null,19224988,104.32194053876705,20613008.6755367,2300975,19224988,20613008.6755367,17004984.130531929,11952651.911862429,5052361.0826958353,null,null,null,null,null,null,null,null,0.73291691795331904,2.7615502107174308,2300975,11.727591479476818,10.689301101186507,29.711060262764228,86.922273973199424,0.96614731633478446,16.688157879430271,0,0]
["2008-04-01",{"$f":"'SEPE contratos'!E96","v":1459666},{"$f":"'SEPE contratos'!H96","v":189283},{"$f":"'SEPE contratos'!M96","v":1270383},{"$f":"Iass!B84","v":102.26600000000001},{"$f":"Iass!N84","v":100.038},{"$f":"Iass!Y84","v":102.227153681601},{"$f":"Iass!Z84","v":11.600000000000001},null,null,null,null,null,null,null,{"$f":"ETT!C81","v":182504},{"$f":"DNIs!B77","v":50879.985282662085},{"$f":"sabi!B77*1000","v":207498757.58531976},null,null,19251454,104.43275963672599,20638701.003802832,2338517,19251454,20638701.003802832,17033562.057221636,12032092.492046639,5001561.5300195171,null,null,null,null,null,null,null,null,0.74543900970682753,2.5730876137864835,2338517,15.589405295968017,10.831496716693136,29.362980645020336,87.032444408515374,1.0172820023762368,14.366061258691277,0,0]
["2008-05-01",{"$f":"'SEPE contratos'!E97","v":1384915},{"$f":"'SEPE contratos'!H97","v":164464},{"$f":"'SEPE contratos'!M97","v":1220451},{"$f":"Iass!B85","v":99.093000000000004},{"$f":"Iass!N85","v":100.496},{"$f":"Iass!Y85","v":98.603924534309826},{"$f":"Iass!Z85","v":1.5},null,null,null,null,null,null,null,{"$f":"ETT!C82","v":198822},{"$f":"DNIs!B78","v":56530.972759337696},{"$f":"sabi!B78*1000","v":201060708.20607135},null,null,19384100,104.3877292474604,20651273.333014939,2353575,19384100,20651273.333014939,17043659.995975953,12065683.268056432,4978090.4943351895,null,null,null,null,null,null,null,null,0.78004831531972574,2.2448212720284739,2353575,19.275188764011908,10.827169879023399,29.207872578486828,88.124614145994514,1.1355955224933543,16.290862967870073,0,0]
["2008-06-01",{"$f":"'SEPE contratos'!E98","v":1419348},{"$f":"'SEPE contratos'!H98","v":153986},{"$f":"'SEPE contratos'!M98","v":1265362},{"$f":"Iass!B86","v":97.102999999999994},{"$f":"Iass!N86","v":100.931},{"$f":"Iass!Y86","v":96.207309944417474},{"$f":"Iass!Z86","v":-2},null,null,null,null,null,null,null,{"$f":"ETT!C83","v":207775},{"$f":"DNIs!B79","v":57805.691675232025},{"$f":"sabi!B79*1000","v":197022977.8988843},null,null,19184842,104.21169734288551,20650725.66317302,2390424,19184842,20650725.66317302,17035277.946794868,12053424.23989181,4981947.9756428553,null,null,null,null,null,null,null,null,-0.8984557491559908,1.7806897686862073,2390424,21.596301686429765,11.079464790839658,29.244888115137517,89.150934090864254,1.1603029970976957,16.420202282034708,0,0]
["2008-07-01",{"$f":"'SEPE contratos'!E99","v":1626466},{"$f":"'SEPE contratos'!H99","v":160363},{"$f":"'SEPE contratos'!M99","v":1466103},{"$f":"Iass!B87","v":112.983},{"$f":"Iass!N87","v":102.794},{"$f":"Iass!Y87","v":109.91205712395666},{"$f":"Iass!Z87","v":4.5},null,null,null,null,null,null,null,{"$f":"ETT!C84","v":202814},{"$f":"DNIs!B80","v":58952.766376767519},{"$f":"sabi!B80*1000","v":229243659.9481957},null,null,19169826,103.93150643294267,20637057.994277086,2426916,19169826,20637057.994277086,17008415.909678422,11995315.407552799,5013133.9739425266,null,null,null,null,null,null,null,null,-0.68829284630609333,1.1947990182395558,2426916,23.172572421584526,11.237417199316452,29.474431955123272,90.140402566054263,1.175966305372939,13.833543755111338,0,0]
["2008-08-01",{"$f":"'SEPE contratos'!E100","v":1049939},{"$f":"'SEPE contratos'!H100","v":97584},{"$f":"'SEPE contratos'!M100","v":952355},{"$f":"Iass!B88","v":85.099000000000004},{"$f":"Iass!N88","v":91.953000000000003},{"$f":"Iass!Y88","v":92.546192076386845},{"$f":"Iass!Z88","v":0.79999999999999893},null,null,null,null,null,null,null,{"$f":"ETT!C85","v":160363},{"$f":"DNIs!B81","v":50227.727660643061},{"$f":"sabi!B81*1000","v":172666739.40266684},null,null,19055340,103.64445527414308,20573147.581342965,2530001,19055340,20573147.581342965,16935463.468138594,11950251.643802162,4985204.9930599341,null,null,null,null,null,null,null,null,3.8702290974024223E-2,0.61222294400234756,2530001,24.735295045693519,11.720922083185991,29.436483993714209,90.705745762372857,1.007535853200956,16.838573851137443,0,0]
["2008-09-01",{"$f":"'SEPE contratos'!E101","v":1501595},{"$f":"'SEPE contratos'!H101","v":173481},{"$f":"'SEPE contratos'!M101","v":1328114},{"$f":"Iass!B89","v":92.954999999999998},{"$f":"Iass!N89","v":94.144000000000005},{"$f":"Iass!Y89","v":98.737041128484009},{"$f":"Iass!Z89","v":6.1999999999999993},null,null,null,null,null,null,null,{"$f":"ETT!C86","v":194685},{"$f":"DNIs!B82","v":57754.243729201924},{"$f":"sabi!B82*1000","v":188606643.5701347},null,null,18837302,103.34539426154357,20458994.424370669,2625368,18837302,20458994.424370669,16816420.622175369,11918232.948639903,4898161.0329950741,null,null,null,null,null,null,null,null,-2.4377887081980076,2.6402092206670114E-2,2625368,30.138601729088911,12.232252557580207,29.127250935529041,88.446884812482722,1.1791005510059147,14.658756703114342,0,0]
["2008-10-01",{"$f":"'SEPE contratos'!E102","v":1584811},{"$f":"'SEPE contratos'!H102","v":180229},{"$f":"'SEPE contratos'!M102","v":1404582},{"$f":"Iass!B90","v":88.323999999999998},{"$f":"Iass!N90","v":91.036000000000001},{"$f":"Iass!Y90","v":97.020958741596729},{"$f":"Iass!Z90","v":-0.40000000000000213},null,null,null,null,null,null,null,{"$f":"ETT!C87","v":185088},{"$f":"DNIs!B83","v":61287.127474736764},{"$f":"sabi!B83*1000","v":179210297.31255531},null,null,18706423,103.02011797781293,20294598.5233602,2818026,18706423,20294598.5233602,16651287.371788785,11899259.32206605,4752002.093747966,null,null,null,null,null,null,null,null,-2.7341960811596344,-0.56925253504822815,2818026,37.560169815437746,13.092209700698959,28.538346541294938,88.627729110916064,1.2897117102572404,13.177443538362303,0,0]
["2008-11-01",{"$f":"'SEPE contratos'!E103","v":1162614},{"$f":"'SEPE contratos'!H103","v":129123},{"$f":"'SEPE contratos'!M103","v":1033491},{"$f":"Iass!B91","v":75.866},{"$f":"Iass!N91","v":78.858000000000004},{"$f":"Iass!Y91","v":96.205838342336861},{"$f":"Iass!Z91","v":-1.5},null,null,null,null,null,null,null,{"$f":"ETT!C88","v":148194},{"$f":"DNIs!B84","v":59986.984496252007},{"$f":"sabi!B84*1000","v":153932888.18344188},null,null,18659607,102.61419728976267,20074025.655585125,2989269,18659607,20074025.655585125,16479438.530348668,11900621.423871771,4578810.7886245968,null,null,null,null,null,null,null,null,-3.4466544725398562,-1.2361810113399279,2989269,42.721772971052864,13.807963979284651,27.784992675522417,88.893734291862998,1.3100996583060633,14.339166959363942,0,0]
["2008-12-01",{"$f":"'SEPE contratos'!E104","v":1117577},{"$f":"'SEPE contratos'!H104","v":103061},{"$f":"'SEPE contratos'!M104","v":1014516},{"$f":"Iass!B92","v":71.724999999999994},{"$f":"Iass!N92","v":76.099000000000004},{"$f":"Iass!Y92","v":94.252224076531874},{"$f":"Iass!Z92","v":2.5},null,null,null,null,null,null,null,{"$f":"ETT!C89","v":145344},{"$f":"DNIs!B85","v":57076.169370835341},{"$f":"sabi!B85*1000","v":145530756.9261246},null,null,18305613,102.13300299729609,19797275.821045469,3128963,18305613,19797275.821045469,16300874.097855005,11922319.254057085,4378587.1176249878,null,null,null,null,null,null,null,null,-4.6371815018476763,-1.9505615425974099,3128963,46.930920050132727,14.597736852830678,26.861057212883793,90.778174568732169,1.3035293768870888,14.326437434205081,0,0]
["2009-01-01",{"$f":"'SEPE contratos'!E105","v":1125773},{"$f":"'SEPE contratos'!H105","v":119201},{"$f":"'SEPE contratos'!M105","v":1006572},{"$f":"Iass!B93","v":60.393999999999998},{"$f":"Iass!N93","v":66.834999999999994},{"$f":"Iass!Y93","v":90.362833844542536},{"$f":"Iass!Z93","v":-4.1000000000000014},null,null,null,null,null,null,null,{"$f":"ETT!C90","v":128947},{"$f":"DNIs!B86","v":35363.623776441898},{"$f":"sabi!B86*1000","v":141157808.25623754},null,null,18150678,101.28072750925864,19464349.019741189,3327801,18150678,19464349.019741189,16115594.074307816,11964352.812621986,4151331.0807491168,null,null,null,null,null,null,null,null,-5.0252581515895178,-2.6762022191437476,3327801,47.122517324844978,15.493652972354328,25.759714855112602,89.411630941584136,0.85186228437507461,12.81050933266572,0,0]
["2009-02-01",{"$f":"'SEPE contratos'!E106","v":1016678},{"$f":"'SEPE contratos'!H106","v":115683},{"$f":"'SEPE contratos'!M106","v":900995},{"$f":"Iass!B94","v":60.040999999999997},{"$f":"Iass!N94","v":62.365000000000002},{"$f":"Iass!Y94","v":96.273550869878932},{"$f":"Iass!Z94","v":0.5},null,null,null,null,null,null,null,{"$f":"ETT!C91","v":100722},{"$f":"DNIs!B87","v":29321.037750145431},{"$f":"sabi!B87*1000","v":140332747.71521601},null,null,18075777,100.74459264793336,19246155.554606874,3481859,18075777,19246155.554606874,15992328.512688223,11987496.592795415,4004943.7609676886,null,null,null,null,null,null,null,null,-5.7386649945972206,-3.3151732712117288,3481859,50.382774644316505,16.15139526430449,25.042905776917905,88.621471104912274,0.73212108584168423,11.178974356128503,0,0]
["2009-03-01",{"$f":"'SEPE contratos'!E107","v":1061112},{"$f":"'SEPE contratos'!H107","v":121228},{"$f":"'SEPE contratos'!M107","v":939884},{"$f":"Iass!B95","v":62.121000000000002},{"$f":"Iass!N95","v":61.746000000000002},{"$f":"Iass!Y95","v":100.60732679039938},{"$f":"Iass!Z95","v":3.3000000000000043},null,null,null,null,null,null,null,{"$f":"ETT!C92","v":111494},{"$f":"DNIs!B88","v":31756.945607925682},{"$f":"sabi!B88*1000","v":145194294.24588087},null,null,17967287,100.33062962556363,19142695.42564249,3605402,17967287,19142695.42564249,15931077.412996229,11991750.594577372,3939425.1582806953,null,null,null,null,null,null,null,null,-6.542011885781152,-3.8264709692205883,3605402,56.690185682156468,16.712807568866356,24.727926782070604,88.575381298109917,0.80613146162130767,11.862527716186252,0,0]
["2009-04-01",{"$f":"'SEPE contratos'!E108","v":1031420},{"$f":"'SEPE contratos'!H108","v":111474},{"$f":"'SEPE contratos'!M108","v":919946},{"$f":"Iass!B96","v":59.622},{"$f":"Iass!N96","v":61.904000000000003},{"$f":"Iass!Y96","v":96.31364693719307},{"$f":"Iass!Z96","v":-3.6000000000000014},null,null,null,null,null,null,null,{"$f":"ETT!C93","v":120636},{"$f":"DNIs!B89","v":33101.522468889583},{"$f":"sabi!B89*1000","v":139353426.56312537},null,null,17955064,100.07323828921473,19153968.632848084,3644880,17955064,19153968.632848084,15931840.775231842,11977114.817967864,3954775.2726881485,null,null,null,null,null,null,null,null,-6.7339848719997981,-4.1746182080203003,3644880,55.862882330981556,16.874488193117536,24.823090617603778,89.192181652479107,0.83700135118903352,13.11337839394921,0,0]
["2009-05-01",{"$f":"'SEPE contratos'!E109","v":1110014},{"$f":"'SEPE contratos'!H109","v":109097},{"$f":"'SEPE contratos'!M109","v":1000917},{"$f":"Iass!B97","v":62.588999999999999},{"$f":"Iass!N97","v":64.358999999999995},{"$f":"Iass!Y97","v":97.249801892509211},{"$f":"Iass!Z97","v":-0.79999999999999716},null,null,null,null,null,null,null,{"$f":"ETT!C94","v":139572},{"$f":"DNIs!B90","v":36777.944305323035},{"$f":"sabi!B90*1000","v":146288142.2152805},null,null,18100171,99.870760375038884,19156960.46001102,3620139,18100171,19156960.46001102,15925476.034364896,11943144.760338262,3982331.3467732663,null,null,null,null,null,null,null,null,-6.623619358133725,-4.3271680213422457,3620139,53.814473726140008,16.667068748097979,25.006042759286856,90.171565403679594,0.92352798154585558,13.94441297330348,0,0]
["2009-06-01",{"$f":"'SEPE contratos'!E110","v":1274698},{"$f":"'SEPE contratos'!H110","v":107735},{"$f":"'SEPE contratos'!M110","v":1166963},{"$f":"Iass!B98","v":66.756},{"$f":"Iass!N98","v":68.120999999999995},{"$f":"Iass!Y98","v":97.996212621658529},{"$f":"Iass!Z98","v":1.1999999999999993},null,null,null,null,null,null,null,{"$f":"ETT!C95","v":150409},{"$f":"DNIs!B91","v":37607.251479874692},{"$f":"sabi!B91*1000","v":156027596.2505115},null,null,17917981,99.744738280671399,19151670.907131296,3564889,17917981,19151670.907131296,15911983.190395387,11889840.421688544,4022093.3805360515,null,null,null,null,null,null,null,null,-6.6034476593552327,-4.2862254225220555,3564889,49.132078660522161,16.594100322722245,25.277134423846189,91.548194160499193,0.93501686613905821,12.888926212741964,0,0]
["2009-07-01",{"$f":"'SEPE contratos'!E111","v":1403023},{"$f":"'SEPE contratos'!H111","v":111143},{"$f":"'SEPE contratos'!M111","v":1291880},{"$f":"Iass!B99","v":77.950999999999993},{"$f":"Iass!N99","v":70.721999999999994},{"$f":"Iass!Y99","v":110.22171318684426},{"$f":"Iass!Z99","v":0.19999999999999929},null,null,null,null,null,null,null,{"$f":"ETT!C96","v":148784},{"$f":"DNIs!B92","v":38353.515827150572},{"$f":"sabi!B92*1000","v":182193468.0826236},null,null,17958362,99.702749758035992,19138099.974208895,3544095,17958362,19138099.974208895,15891362.243323324,11817201.802018721,4074061.373976503,null,null,null,null,null,null,null,null,-6.3196400426378414,-4.0687664080501973,3544095,46.032866403287144,16.482279211161778,25.636954916739118,92.078319457343184,0.94140741403989892,11.516859151004736,0,0]
["2009-08-01",{"$f":"'SEPE contratos'!E112","v":944823},{"$f":"'SEPE contratos'!H112","v":68735},{"$f":"'SEPE contratos'!M112","v":876088},{"$f":"Iass!B100","v":62.953000000000003},{"$f":"Iass!N100","v":65.844999999999999},{"$f":"Iass!Y100","v":95.60786696028552},{"$f":"Iass!Z100","v":2.3999999999999986},null,null,null,null,null,null,null,{"$f":"ETT!C97","v":130430},{"$f":"DNIs!B93","v":32677.176427694398},{"$f":"sabi!B93*1000","v":147138912.85814685},null,null,17796399,99.671744185399888,19104932.26031917,3629080,17796399,19104932.26031917,15865535.324060807,11778865.795585865,4086557.341853587,null,null,null,null,null,null,null,null,-6.6067621989426613,-3.8328799577001904,3629080,43.441840536821921,16.93815106770775,25.757450085255783,92.725092424718696,0.79962603468259763,14.887773830939357,0,0]
["2009-09-01",{"$f":"'SEPE contratos'!E113","v":1354836},{"$f":"'SEPE contratos'!H113","v":128374},{"$f":"'SEPE contratos'!M113","v":1226462},{"$f":"Iass!B101","v":69.998000000000005},{"$f":"Iass!N101","v":71.771000000000001},{"$f":"Iass!Y101","v":97.529642891975882},{"$f":"Iass!Z101","v":-0.89999999999999858},null,null,null,null,null,null,null,{"$f":"ETT!C98","v":153445},{"$f":"DNIs!B94","v":37573.780453261134},{"$f":"sabi!B94*1000","v":163605064.4487882},null,null,17791858,99.625617160195304,19052167.765462127,3709447,17791858,19052167.765462127,15834502.432607828,11774832.402389972,4059581.2841673037,null,null,null,null,null,null,null,null,-5.5498605904391152,-3.5995281198907167,3709447,41.292458809584033,17.252194692368672,25.637567719257468,90.524757239990677,0.92555802737099824,12.511190725843932,0,0]
["2009-10-01",{"$f":"'SEPE contratos'!E114","v":1357868},{"$f":"'SEPE contratos'!H114","v":126497},{"$f":"'SEPE contratos'!M114","v":1231371},{"$f":"Iass!B102","v":70.543999999999997},{"$f":"Iass!N102","v":76.932000000000002},{"$f":"Iass!Y102","v":91.69656319866894},{"$f":"Iass!Z102","v":-4.6000000000000014},null,null,null,null,null,null,null,{"$f":"ETT!C99","v":183066},{"$f":"DNIs!B95","v":39872.205463274775},{"$f":"sabi!B95*1000","v":164881220.41308773},null,null,17870659,99.531398030422878,18979806.489637773,3808353,17870659,18979806.489637773,15798263.568964407,11805101.622431032,3993133.2009176537,null,null,null,null,null,null,null,null,-4.467791624299311,-3.386830952937764,3808353,35.142578528374123,17.567004437287085,25.275772767597953,90.684146028921802,0.998519294425536,14.866843542685348,0,0]
["2009-11-01",{"$f":"'SEPE contratos'!E115","v":1204027},{"$f":"'SEPE contratos'!H115","v":107420},{"$f":"'SEPE contratos'!M115","v":1096607},{"$f":"Iass!B103","v":70.494},{"$f":"Iass!N103","v":75.831000000000003},{"$f":"Iass!Y103","v":92.961981247774645},{"$f":"Iass!Z103","v":-3.3},null,null,null,null,null,null,null,{"$f":"ETT!C100","v":162695},{"$f":"DNIs!B96","v":39026.357891267959},{"$f":"sabi!B96*1000","v":164764356.31379291},null,null,17777153,99.561196709944596,18894661.303450882,3868946,17777153,18894661.303450882,15733956.176328221,11810867.71061665,3923096.2794163493,null,null,null,null,null,null,null,null,-4.7292207172423328,-2.9752185428233937,3868946,29.427830014628988,17.873640880973518,24.933946907254377,91.078273161648369,0.9947846066391729,14.836217532808016,0,0]
["2009-12-01",{"$f":"'SEPE contratos'!E116","v":1137565},{"$f":"'SEPE contratos'!H116","v":85827},{"$f":"'SEPE contratos'!M116","v":1051738},{"$f":"Iass!B104","v":72.301000000000002},{"$f":"Iass!N104","v":74.653000000000006},{"$f":"Iass!Y104","v":96.84942333194914},{"$f":"Iass!Z104","v":2.7},null,null,null,null,null,null,null,{"$f":"ETT!C101","v":160813},{"$f":"DNIs!B97","v":37132.638548750838},{"$f":"sabi!B97*1000","v":168987824.862308},null,null,17640018,99.695121495589703,18796732.206901476,3923603,17640018,18796732.206901476,15641580.254699275,11792130.666946827,3849470.5196633935,null,null,null,null,null,null,null,null,-3.6360159039743767,-2.386585619953816,3923603,25.396273461846629,18.195473756471607,24.610496234911295,92.455200362177109,0.9646167793485998,15.290214863397539,0,0]
["2010-01-01",{"$f":"'SEPE contratos'!E117","v":1050233},{"$f":"'SEPE contratos'!H117","v":94595},{"$f":"'SEPE contratos'!M117","v":955638},{"$f":"Iass!B105","v":58.813000000000002},{"$f":"Iass!N105","v":68.503},{"$f":"Iass!Y105","v":85.854634103615908},{"$f":"Iass!Z105","v":-5.0999999999999996},null,null,null,null,null,null,null,{"$f":"ETT!C102","v":140222},{"$f":"DNIs!B98","v":37371.499046768295},{"$f":"sabi!B98*1000","v":139752126.03363597},null,null,17546714,99.618878757645916,18686019.199989531,4048493,17546714,18686019.199989531,15521135.804077586,11748890.491421556,3772255.9216587869,null,null,null,null,null,null,null,null,-3.3275010443136077,-1.6413703825464041,4048493,21.656703631016395,18.747183113363995,24.303994045769322,90.992951087996659,0.99069362797460458,14.673129364885028,0,0]
["2010-02-01",{"$f":"'SEPE contratos'!E118","v":1028222},{"$f":"'SEPE contratos'!H118","v":101211},{"$f":"'SEPE contratos'!M118","v":927011},{"$f":"Iass!B106","v":66.665000000000006},{"$f":"Iass!N106","v":66.722999999999999},{"$f":"Iass!Y106","v":99.913073452932295},{"$f":"Iass!Z106","v":4},null,null,null,null,null,null,null,{"$f":"ETT!C103","v":121387},{"$f":"DNIs!B99","v":30985.82716683533},{"$f":"sabi!B99*1000","v":158410138.6093609},null,null,17550412,99.73995608685577,18633501.548266906,4130625,17550412,18633501.548266906,15467372.838361926,11728637.578972686,3738735.3309128867,null,null,null,null,null,null,null,null,-2.9064587375690731,-0.99721752311495204,4130625,18.632747621313793,19.051787052436651,24.171754117416349,90.15669767812787,0.82877830133189778,13.094450874908711,0,0]
["2010-03-01",{"$f":"'SEPE contratos'!E119","v":1189327},{"$f":"'SEPE contratos'!H119","v":117934},{"$f":"'SEPE contratos'!M119","v":1071393},{"$f":"Iass!B107","v":69.465000000000003},{"$f":"Iass!N107","v":69.997},{"$f":"Iass!Y107","v":99.239967427175458},{"$f":"Iass!Z107","v":-1.5999999999999996},null,null,null,null,null,null,null,{"$f":"ETT!C104","v":143148},{"$f":"DNIs!B100","v":33560.040962359686},{"$f":"sabi!B100*1000","v":165063530.76575798},null,null,17479448,99.845498648703796,18639179.251733564,4166613,17479448,18639179.251733564,15480291.357552292,11731371.929600196,3748908.7474256949,null,null,null,null,null,null,null,null,-2.7151511522023331,-0.48298990599982544,4166613,15.565837041195408,19.248827765938572,24.217300959240241,90.083971859715618,0.89519492800150791,13.360923582662945,0,0]
["2010-04-01",{"$f":"'SEPE contratos'!E120","v":1078509},{"$f":"'SEPE contratos'!H120","v":102973},{"$f":"'SEPE contratos'!M120","v":975536},{"$f":"Iass!B108","v":68.843999999999994},{"$f":"Iass!N108","v":68.686000000000007},{"$f":"Iass!Y108","v":100.23003232099698},{"$f":"Iass!Z108","v":4.5},null,null,null,null,null,null,null,{"$f":"ETT!C105","v":141275},{"$f":"DNIs!B101","v":34980.960187026176},{"$f":"sabi!B101*1000","v":163587903.43392846},null,null,17604183,99.935506443190008,18703052.310389519,4142425,17604183,18703052.310389519,15559891.361648701,11757093.543304101,3802776.171197209,null,null,null,null,null,null,null,null,-1.9542174842707372,-0.13733594309792704,4142425,13.650517986874732,19.048602890161074,24.439606182406358,90.45228180756952,0.91987954621092771,14.4817823227436,0,0]
["2010-05-01",{"$f":"'SEPE contratos'!E121","v":1182100},{"$f":"'SEPE contratos'!H121","v":108264},{"$f":"'SEPE contratos'!M121","v":1073836},{"$f":"Iass!B109","v":75.239000000000004},{"$f":"Iass!N109","v":73.001999999999995},{"$f":"Iass!Y109","v":103.06429960822992},{"$f":"Iass!Z109","v":6.7999999999999989},null,null,null,null,null,null,null,{"$f":"ETT!C106","v":163868},{"$f":"DNIs!B102","v":38866.1218442237},{"$f":"sabi!B102*1000","v":178783775.8768425},null,null,17699572,100.00997947031439,18755056.342258845,4066202,17699572,18755056.342258845,15624797.841434216,11765478.78925061,3859310.8987415177,null,null,null,null,null,null,null,null,-2.2132332340948579,0.1393638121118832,4066202,12.321709194039233,18.681632915971651,24.69990932303331,90.841383977666865,1.0070741348383605,15.260058332929797,0,0]
["2010-06-01",{"$f":"'SEPE contratos'!E122","v":1297611},{"$f":"'SEPE contratos'!H122","v":98754},{"$f":"'SEPE contratos'!M122","v":1198857},{"$f":"Iass!B110","v":77.876999999999995},{"$f":"Iass!N110","v":74.709999999999994},{"$f":"Iass!Y110","v":104.23905768973366},{"$f":"Iass!Z110","v":7},null,null,null,null,null,null,null,{"$f":"ETT!C107","v":173966},{"$f":"DNIs!B103","v":39742.515408388965},{"$f":"sabi!B103*1000","v":185052221.77276227},null,null,17587252,100.06891773007695,18795191.347341556,3982368,17587252,18795191.347341556,15675010.796908852,11756527.667439723,3918512.9300586204,null,null,null,null,null,null,null,null,-1.8457938983192368,0.32474941108853006,3982368,11.710855513313323,18.462856554728361,24.998470373183796,92.389552801263235,1.0142244294647365,14.510988383101569,0,0]
["2010-07-01",{"$f":"'SEPE contratos'!E123","v":1397265},{"$f":"'SEPE contratos'!H123","v":95823},{"$f":"'SEPE contratos'!M123","v":1301442},{"$f":"Iass!B111","v":90.744},{"$f":"Iass!N111","v":76.706999999999994},{"$f":"Iass!Y111","v":118.29950330478314},{"$f":"Iass!Z111","v":7.8999999999999986},null,null,null,null,null,null,null,{"$f":"ETT!C108","v":173253},{"$f":"DNIs!B104","v":40531.151140947477},{"$f":"sabi!B104*1000","v":215626934.94289127},null,null,17795844,100.11232122247772,18823457.325637672,3908578,17795844,18823457.325637672,15710530.228072593,11730240.177871447,3980382.2651485181,null,null,null,null,null,null,null,null,-0.90497117721538567,0.41115171015584351,3908578,10.284233351532613,18.008210492774239,25.335760202644931,93.142102607594126,1.0182728301206305,13.312387336508271,0,0]
["2010-08-01",{"$f":"'SEPE contratos'!E124","v":1010216},{"$f":"'SEPE contratos'!H124","v":66846},{"$f":"'SEPE contratos'!M124","v":943370},{"$f":"Iass!B112","v":71.984999999999999},{"$f":"Iass!N112","v":72.215000000000003},{"$f":"Iass!Y112","v":99.681506612199684},{"$f":"Iass!Z112","v":4.6000000000000014},null,null,null,null,null,null,null,{"$f":"ETT!C109","v":151630},{"$f":"DNIs!B105","v":34532.520633029162},{"$f":"sabi!B105*1000","v":171051583.70651534},null,null,17509439,100.14018994751667,18827180.825980913,3969661,17509439,18827180.825980913,15715337.414807022,11719063.172074391,3996387.9000589331,null,null,null,null,null,null,null,null,-1.6124610377638793,0.46991304457195243,3969661,9.3847752047350852,18.481505277222976,25.429857435281843,93.382999279362039,0.8640933136775818,16.073226835706034,0,0]
["2010-09-01",{"$f":"'SEPE contratos'!E125","v":1390283},{"$f":"'SEPE contratos'!H125","v":122090},{"$f":"'SEPE contratos'!M125","v":1268193},{"$f":"Iass!B113","v":81.918000000000006},{"$f":"Iass!N113","v":77.593999999999994},{"$f":"Iass!Y113","v":105.57259581926439},{"$f":"Iass!Z113","v":8.9},null,null,null,null,null,null,null,{"$f":"ETT!C110","v":174641},{"$f":"DNIs!B106","v":39707.143964356801},{"$f":"sabi!B106*1000","v":194654492.38133395},null,null,17554774,100.15252390519377,18806361.848371319,4017763,17554774,18806361.848371319,15689432.357112106,11722996.650048563,3966529.834789868,null,null,null,null,null,null,null,null,-1.3325421099921075,0.52860312477940807,4017763,8.311643217978304,18.624434390818291,25.281538200404164,91.218334684377211,1.00105496789892,13.770853489965646,0,0]
["2010-10-01",{"$f":"'SEPE contratos'!E126","v":1346087},{"$f":"'SEPE contratos'!H126","v":118422},{"$f":"'SEPE contratos'!M126","v":1227665},{"$f":"Iass!B114","v":80.783000000000001},{"$f":"Iass!N114","v":80.387},{"$f":"Iass!Y114","v":100.49261696542973},{"$f":"Iass!Z114","v":10},null,null,null,null,null,null,null,{"$f":"ETT!C111","v":196542},{"$f":"DNIs!B107","v":42136.068913162926},{"$f":"sabi!B107*1000","v":191957492.34650868},null,null,17636975,100.14932309550909,18761000.392808873,4085976,17636975,18761000.392808873,15632815.054987876,11742040.611793961,3890808.0693413205,null,null,null,null,null,null,null,null,-1.307640641567831,0.621459792119613,4085976,7.289844192489503,18.809488637156157,24.88872321239355,91.202500284156969,1.082964468105881,16.009416249546902,0,0]
["2010-11-01",{"$f":"'SEPE contratos'!E127","v":1257479},{"$f":"'SEPE contratos'!H127","v":108131},{"$f":"'SEPE contratos'!M127","v":1149348},{"$f":"Iass!B115","v":83.251000000000005},{"$f":"Iass!N115","v":83.027000000000001},{"$f":"Iass!Y115","v":100.26979175448952},{"$f":"Iass!Z115","v":8.6000000000000014},null,null,null,null,null,null,null,{"$f":"ETT!C112","v":193061},{"$f":"DNIs!B108","v":41242.19582111793},{"$f":"sabi!B108*1000","v":197821982.29007584},null,null,17539607,100.13058751846258,18685084.734309077,4110294,17539607,18685084.734309077,15560074.438213825,11729746.143383436,3830321.5759725142,null,null,null,null,null,null,null,null,-1.3362432105973321,0.57194748950103835,4110294,6.238081379269711,18.985278500811621,24.616344807230917,91.400969717983358,1.0767293294596703,16.797436459627548,0,0]
["2010-12-01",{"$f":"'SEPE contratos'!E128","v":1189818},{"$f":"'SEPE contratos'!H128","v":93171},{"$f":"'SEPE contratos'!M128","v":1096647},{"$f":"Iass!B116","v":86.185000000000002},{"$f":"Iass!N116","v":85.144000000000005},{"$f":"Iass!Y116","v":101.22263459550878},{"$f":"Iass!Z116","v":5.0999999999999996},null,null,null,null,null,null,null,{"$f":"ETT!C113","v":184571},{"$f":"DNIs!B109","v":39240.954911783556},{"$f":"sabi!B109*1000","v":204793786.78538617},null,null,17478095,100.09631717405424,18578614.872871883,4100073,17478095,18578614.872871883,15471210.506789953,11686113.244816972,3785070.3546834495,null,null,null,null,null,null,null,null,-0.91792990233909855,0.40174992962249573,4100073,4.497651775676581,19.001024554077066,24.465250169159489,92.169306566214331,1.0367298685275119,16.830484194093451,0,0]
["2011-01-01",{"$f":"'SEPE contratos'!E129","v":1116019},{"$f":"'SEPE contratos'!H129","v":102733},{"$f":"'SEPE contratos'!M129","v":1013286},{"$f":"Iass!B117","v":68.361000000000004},{"$f":"Iass!N117","v":71.549000000000007},{"$f":"Iass!Y117","v":95.544312289479933},{"$f":"Iass!Z117","v":11.799999999999999},null,null,null,null,null,null,null,{"$f":"ETT!C114","v":161960},{"$f":"DNIs!B110","v":37475.05732007038},{"$f":"sabi!B110*1000","v":163968522.56517059},null,null,17276530,99.736173999511479,18441590.808497347,4231003,17276530,18441590.808497347,15366223.260716269,11611141.916094584,3755054.4054741235,null,null,null,null,null,null,null,null,-1.5397982778997843,0.11702807337599846,4231003,4.5080972104929007,19.672191134148207,24.437067858267525,90.794690771393675,0.99798972993411728,15.983641341141594,0,0]
["2011-02-01",{"$f":"'SEPE contratos'!E130","v":1011418},{"$f":"'SEPE contratos'!H130","v":94363},{"$f":"'SEPE contratos'!M130","v":917055},{"$f":"Iass!B118","v":69.676000000000002},{"$f":"Iass!N118","v":73.385000000000005},{"$f":"Iass!Y118","v":94.945833617224224},{"$f":"Iass!Z118","v":-5.5},null,null,null,null,null,null,null,{"$f":"ETT!C115","v":135105},{"$f":"DNIs!B111","v":31071.690427343521},{"$f":"sabi!B111*1000","v":167122639.78366068},null,null,17298626,99.60258846218899,18395791.686028164,4299263,17298626,18395791.686028164,15340859.003658559,11578867.646841642,3761984.6140655233,null,null,null,null,null,null,null,null,-1.4346443832771616,-0.13769903398977507,4299263,4.0826267211378386,19.905940807455767,24.52264643830145,90.670227344184113,0.82593879600599396,14.732486055907223,0,0]
["2011-03-01",{"$f":"'SEPE contratos'!E131","v":1154903},{"$f":"'SEPE contratos'!H131","v":111118},{"$f":"'SEPE contratos'!M131","v":1043785},{"$f":"Iass!B119","v":79.611000000000004},{"$f":"Iass!N119","v":73.418000000000006},{"$f":"Iass!Y119","v":108.43526110763028},{"$f":"Iass!Z119","v":9.6999999999999993},null,null,null,null,null,null,null,{"$f":"ETT!C116","v":155486},{"$f":"DNIs!B112","v":33653.037496688157},{"$f":"sabi!B112*1000","v":190952415.11879286},null,null,17325399,99.46926745167211,18441217.505464293,4333669,17325399,18441217.505464293,15395117.735616805,11589290.437058128,3805860.9804576384,null,null,null,null,null,null,null,null,-0.88131501635521081,-0.37612420111401601,4333669,4.009395641015856,20.008566388913874,24.721220362301807,90.378585907214713,0.88424242686451271,14.896362756697979,0,0]
["2011-04-01",{"$f":"'SEPE contratos'!E132","v":1067046},{"$f":"'SEPE contratos'!H132","v":96242},{"$f":"'SEPE contratos'!M132","v":970804},{"$f":"Iass!B120","v":71.832999999999998},{"$f":"Iass!N120","v":73.358999999999995},{"$f":"Iass!Y120","v":97.919818972450557},{"$f":"Iass!Z120","v":-2.5},null,null,null,null,null,null,null,{"$f":"ETT!C117","v":160420},{"$f":"DNIs!B113","v":35077.894158844749},{"$f":"sabi!B113*1000","v":172296351.4492752},null,null,17498964,99.334530853278125,18577868.266805761,4269360,17498964,18577868.266805761,15528999.456591032,11642410.28674406,3886683.5046504796,null,null,null,null,null,null,null,null,-0.5976931732645574,-0.60131386192876546,4269360,3.0642679107044879,19.612718002543509,25.028550715808283,90.980520052556315,0.90251480772420711,16.524447777306232,0,0]
["2011-05-01",{"$f":"'SEPE contratos'!E133","v":1288914},{"$f":"'SEPE contratos'!H133","v":103176},{"$f":"'SEPE contratos'!M133","v":1185738},{"$f":"Iass!B121","v":80.057000000000002},{"$f":"Iass!N121","v":77.533000000000001},{"$f":"Iass!Y121","v":103.25538802832341},{"$f":"Iass!Z121","v":0.20000000000000018},null,null,null,null,null,null,null,{"$f":"ETT!C118","v":186685},{"$f":"DNIs!B114","v":38973.821791263537},{"$f":"sabi!B114*1000","v":192022176.54802978},null,null,17497250,99.206899030959704,18645129.757034209,4189659,17497250,18645129.757034209,15600345.294389198,11649907.534106065,3950551.5072101401,null,null,null,null,null,null,null,null,-1.1430897877078627,-0.80302379373459165,4189659,3.0361747891521462,19.318838844207811,25.32348760659157,91.995121474357475,0.98654128974479971,15.744203188225391,0,0]
["2011-06-01",{"$f":"'SEPE contratos'!E134","v":1312519},{"$f":"'SEPE contratos'!H134","v":94924},{"$f":"'SEPE contratos'!M134","v":1217595},{"$f":"Iass!B122","v":83.213999999999999},{"$f":"Iass!N122","v":77.381},{"$f":"Iass!Y122","v":107.53802613044545},{"$f":"Iass!Z122","v":3.3000000000000003},null,null,null,null,null,null,null,{"$f":"ETT!C119","v":180971},{"$f":"DNIs!B115","v":39852.643885366131},{"$f":"sabi!B115*1000","v":199594456.44063291},null,null,17362369,99.098399544133372,18643001.976149615,4121801,17362369,18643001.976149615,15609155.249011233,11611782.179144105,3997464.9881366156,null,null,null,null,null,null,null,null,-1.2786704824608197,-0.96987586657686564,4121801,3.5012585476781544,19.185293171670118,25.609745847007552,92.767799932800983,0.99694791583260622,14.862988103597665,0,0]
["2011-07-01",{"$f":"'SEPE contratos'!E135","v":1349286},{"$f":"'SEPE contratos'!H135","v":89911},{"$f":"'SEPE contratos'!M135","v":1259375},{"$f":"Iass!B123","v":92.126999999999995},{"$f":"Iass!N123","v":77.162999999999997},{"$f":"Iass!Y123","v":119.39271412464522},{"$f":"Iass!Z123","v":0.9},null,null,null,null,null,null,null,{"$f":"ETT!C120","v":174466},{"$f":"DNIs!B116","v":40643.464966567626},{"$f":"sabi!B116*1000","v":220972895.04778269},null,null,17591403,99.021396536663531,18571484.924151983,4079742,17591403,18571484.924151983,15555429.320457201,11528034.221858216,4027423.9474299108,null,null,null,null,null,null,null,null,-1.1488131723339401,-1.0897589278490019,4079742,4.3791885437619582,18.82568733677893,25.890792625912155,93.336401622784194,1.0091677831062245,13.85337965260546,0,0]
["2011-08-01",{"$f":"'SEPE contratos'!E136","v":1061303},{"$f":"'SEPE contratos'!H136","v":66118},{"$f":"'SEPE contratos'!M136","v":995185},{"$f":"Iass!B124","v":75.757000000000005},{"$f":"Iass!N124","v":72.141000000000005},{"$f":"Iass!Y124","v":105.01240625996313},{"$f":"Iass!Z124","v":5.3},null,null,null,null,null,null,null,{"$f":"ETT!C121","v":162579},{"$f":"DNIs!B117","v":34628.211956651197},{"$f":"sabi!B117*1000","v":181708333.17197862},null,null,17287084,98.907382527999857,18488366.968035936,4130927,17287084,18488366.968035936,15484900.847973621,11469646.566141609,4015245.7266801056,null,null,null,null,null,null,null,null,-1.2699150441084939,-1.231103627849107,4130927,4.062462764452679,19.287164433709552,25.930070628805783,93.770110891988438,0.86241825068281863,16.336560538995261,0,0]
["2011-09-01",{"$f":"'SEPE contratos'!E137","v":1393728},{"$f":"'SEPE contratos'!H137","v":104716},{"$f":"'SEPE contratos'!M137","v":1289012},{"$f":"Iass!B125","v":86.983000000000004},{"$f":"Iass!N125","v":77.331000000000003},{"$f":"Iass!Y125","v":112.48141107705835},{"$f":"Iass!Z125","v":6.5},{"$f":"'Comision Europea'!R20","v":8.5333333333333332},{"$f":"'Comision Europea'!S20","v":10.649999999999999},{"$f":"'Comision Europea'!T20","v":-2.1750000000000003},{"$f":"'Comision Europea'!U20","v":17.125},{"$f":"'Comision Europea'!V20","v":5.45},{"$f":"'Comision Europea'!W20","v":8.3666666666666671},{"$f":"'Comision Europea'!X20","v":-1.6916666666666664},{"$f":"ETT!C122","v":178077},{"$f":"DNIs!B118","v":39817.174425312092},{"$f":"sabi!B118*1000","v":208634660.08815312},null,null,17255382,98.744072814874926,18393648.107801512,4226744,17255382,18393648.107801512,15397569.83156053,11436619.211994303,3960930.325887206,null,null,null,null,null,null,null,null,-1.705473394302881,-1.4062258691388807,4226744,5.2014267640973388,19.675631732166547,25.724386180528651,92.486625797860128,1.005248038953916,13.814999394885385,0,0]
["2011-10-01",{"$f":"'SEPE contratos'!E138","v":1294801},{"$f":"'SEPE contratos'!H138","v":97265},{"$f":"'SEPE contratos'!M138","v":1197536},{"$f":"Iass!B126","v":80.975999999999999},{"$f":"Iass!N126","v":79.049000000000007},{"$f":"Iass!Y126","v":102.43772849751419},{"$f":"Iass!Z126","v":1.9},{"$f":"'Comision Europea'!R21","v":11.425000000000002},{"$f":"'Comision Europea'!S21","v":12.858333333333334},{"$f":"'Comision Europea'!T21","v":2.5750000000000011},{"$f":"'Comision Europea'!U21","v":18.841666666666665},{"$f":"'Comision Europea'!V21","v":7.25},{"$f":"'Comision Europea'!W21","v":9.4749999999999996},{"$f":"'Comision Europea'!X21","v":-0.15833333333333441},{"$f":"ETT!C123","v":195470},{"$f":"DNIs!B119","v":42252.830045354167},{"$f":"sabi!B119*1000","v":194226460.74863231},null,null,17206525,98.516747187241194,18287328.343448658,4360926,17206525,18287328.343448658,15293436.271217898,11428952.159416262,3864477.7450512061,null,null,null,null,null,null,null,null,-2.4406112726247042,-1.6304265900580561,4360926,6.7291144147689552,20.219941614797225,25.268864868022607,92.488034840875173,1.093364558754738,16.3226825748871,0,0]
["2011-11-01",{"$f":"'SEPE contratos'!E139","v":1217830},{"$f":"'SEPE contratos'!H139","v":83919},{"$f":"'SEPE contratos'!M139","v":1133911},{"$f":"Iass!B127","v":79.504000000000005},{"$f":"Iass!N127","v":81.018000000000001},{"$f":"Iass!Y127","v":98.131279468760042},{"$f":"Iass!Z127","v":-2.1},{"$f":"'Comision Europea'!R22","v":14},{"$f":"'Comision Europea'!S22","v":14.841666666666669},{"$f":"'Comision Europea'!T22","v":3.9916666666666671},{"$f":"'Comision Europea'!U22","v":23.166666666666668},{"$f":"'Comision Europea'!V22","v":9.1083333333333325},{"$f":"'Comision Europea'!W22","v":11.466666666666667},{"$f":"'Comision Europea'!X22","v":0.58333333333333293},{"$f":"ETT!C124","v":198459},{"$f":"DNIs!B120","v":41356.479986735059},{"$f":"sabi!B120*1000","v":190695768.31850508},null,null,17204030,98.292846872654152,18160002.144771278,4420462,17204030,18160002.144771278,15160200.677716624,11400521.276708074,3759681.2910530977,null,null,null,null,null,null,null,null,-1.9132526743615208,-1.8353704453046236,4420462,7.54612687072993,20.441922982514455,24.799680234967493,93.109136743223601,1.0999996219134571,17.502167277678758,0,0]
["2011-12-01",{"$f":"'SEPE contratos'!E140","v":1165465},{"$f":"'SEPE contratos'!H140","v":65678},{"$f":"'SEPE contratos'!M140","v":1099787},{"$f":"Iass!B128","v":76.402000000000001},{"$f":"Iass!N128","v":77.224999999999994},{"$f":"Iass!Y128","v":98.934282939462619},{"$f":"Iass!Z128","v":-2.0999999999999996},{"$f":"'Comision Europea'!R23","v":13.616666666666665},{"$f":"'Comision Europea'!S23","v":12.533333333333333},{"$f":"'Comision Europea'!T23","v":4.4249999999999998},{"$f":"'Comision Europea'!U23","v":23.891666666666669},{"$f":"'Comision Europea'!V23","v":7.4916666666666645},{"$f":"'Comision Europea'!W23","v":11.541666666666666},{"$f":"'Comision Europea'!X23","v":-1.4666666666666675},{"$f":"ETT!C125","v":172858},{"$f":"DNIs!B121","v":39349.693539803367},{"$f":"sabi!B121*1000","v":183255409.6783863},null,null,17111792,98.079027090530175,18011669.511769354,4422359,17111792,18011669.511769354,14997863.051056709,11351326.563869724,3646540.9638928734,null,null,null,null,null,null,null,null,-2.0957833219238164,-2.0150375669081102,4422359,7.860494191200984,20.536491083395859,24.313736906911867,94.364652735174374,1.0790964349347529,15.717407097919869,0,0]
["2012-01-01",{"$f":"'SEPE contratos'!E141","v":1042194},{"$f":"'SEPE contratos'!H141","v":78364},{"$f":"'SEPE contratos'!M141","v":963830},{"$f":"Iass!B129","v":66.504000000000005},{"$f":"Iass!N129","v":70.968999999999994},{"$f":"Iass!Y129","v":93.708520621679909},{"$f":"Iass!Z129","v":-1.9000000000000001},{"$f":"'Comision Europea'!R24","v":9.0416666666666696},{"$f":"'Comision Europea'!S24","v":6.9000000000000021},{"$f":"'Comision Europea'!T24","v":-1.2083333333333328},{"$f":"'Comision Europea'!U24","v":21.424999999999997},{"$f":"'Comision Europea'!V24","v":-1.1500000000000015},{"$f":"'Comision Europea'!W24","v":13.933333333333332},{"$f":"'Comision Europea'!X24","v":-0.483333333333334},{"$f":"ETT!C126","v":165277},{"$f":"DNIs!B122","v":33883.689408575061},{"$f":"sabi!B122*1000","v":169100703.97167045},null,null,16819725,97.582322137449282,17842330.444442913,4599829,16819725,17842330.444442913,14806423.391238159,11281368.020901229,3525056.763570535,null,null,null,null,null,null,null,null,-2.644078411579176,-2.1588100860201682,4599829,8.7172237883074146,21.474905593272389,23.807618291237848,92.480862488173983,0.96122393712191523,17.147941026944586,0,0]
["2012-02-01",{"$f":"'SEPE contratos'!E142","v":989988},{"$f":"'SEPE contratos'!H142","v":96448},{"$f":"'SEPE contratos'!M142","v":893540},{"$f":"Iass!B130","v":66.468999999999994},{"$f":"Iass!N130","v":67.548000000000002},{"$f":"Iass!Y130","v":98.402617397998455},{"$f":"Iass!Z130","v":3.4000000000000004},{"$f":"'Comision Europea'!R25","v":10.058333333333335},{"$f":"'Comision Europea'!S25","v":6.8666666666666671},{"$f":"'Comision Europea'!T25","v":-5.8333333333333869E-2},{"$f":"'Comision Europea'!U25","v":23.349999999999994},{"$f":"'Comision Europea'!V25","v":1.3083333333333327},{"$f":"'Comision Europea'!W25","v":15.741666666666667},{"$f":"'Comision Europea'!X25","v":0},{"$f":"ETT!C127","v":140217},{"$f":"DNIs!B123","v":28093.979919695703},{"$f":"sabi!B123*1000","v":169011708.9542428},null,null,16809794,97.28856554687863,17742072.844276402,4712098,16809794,17742072.844276402,14696520.932852684,11248227.369481672,3448293.1408113372,null,null,null,null,null,null,null,null,-2.8258429311090905,-2.3232459115485637,4712098,9.602459770430416,21.894441250797094,23.463329563277821,90.25765968880431,0.81472133523675905,15.69230252702733,0,0]
["2012-03-01",{"$f":"'SEPE contratos'!E143","v":1054717},{"$f":"'SEPE contratos'!H143","v":117531},{"$f":"'SEPE contratos'!M143","v":937186},{"$f":"Iass!B131","v":69.478999999999999},{"$f":"Iass!N131","v":67.811999999999998},{"$f":"Iass!Y131","v":102.45826697339704},{"$f":"Iass!Z131","v":-5.0999999999999996},{"$f":"'Comision Europea'!R26","v":12.933333333333332},{"$f":"'Comision Europea'!S26","v":10.925000000000004},{"$f":"'Comision Europea'!T26","v":6.2749999999999986},{"$f":"'Comision Europea'!U26","v":21.583333333333332},{"$f":"'Comision Europea'!V26","v":4.2833333333333314},{"$f":"'Comision Europea'!W26","v":16.433333333333334},{"$f":"'Comision Europea'!X26","v":-1.2500000000000007},{"$f":"ETT!C128","v":150230},{"$f":"DNIs!B124","v":30427.947326506459},{"$f":"sabi!B124*1000","v":176665280.45302072},null,null,16885759,96.985245169575933,17710896.711269863,4750867,16885759,17710896.711269863,14668155.675900273,11251904.609611064,3416250.0956152827,null,null,null,null,null,null,null,null,-2.5375461771472096,-2.4980252583884623,4750867,9.6269004393275015,21.957522397438492,23.290249783946386,88.856631684138961,0.89068266300410437,16.02990228193763,0,0]
["2012-04-01",{"$f":"'SEPE contratos'!E144","v":1038612},{"$f":"'SEPE contratos'!H144","v":115253},{"$f":"'SEPE contratos'!M144","v":923359},{"$f":"Iass!B132","v":63.59},{"$f":"Iass!N132","v":66.475999999999999},{"$f":"Iass!Y132","v":95.658583548950006},{"$f":"Iass!Z132","v":-2.0999999999999996},{"$f":"'Comision Europea'!R27","v":10.616666666666669},{"$f":"'Comision Europea'!S27","v":5.3833333333333337},{"$f":"'Comision Europea'!T27","v":0.70833333333333337},{"$f":"'Comision Europea'!U27","v":25.741666666666664},{"$f":"'Comision Europea'!V27","v":6.8083333333333336},{"$f":"'Comision Europea'!W27","v":21.058333333333334},{"$f":"'Comision Europea'!X27","v":-0.97500000000000109},{"$f":"ETT!C129","v":151949},{"$f":"DNIs!B125","v":31716.254911466342},{"$f":"sabi!B125*1000","v":161691233.09212264},null,null,16863390,96.678303720863127,17748802.045423243,4744235,16863390,17748802.045423243,14721327.620380929,11292399.741289396,3428927.6279823626,null,null,null,null,null,null,null,null,-3.6320664469050801,-2.674037181450708,4744235,11.122861506174232,21.956300148674369,23.292244533945343,88.903170770220257,0.92496133930154456,16.456112952816834,0,0]
["2012-05-01",{"$f":"'SEPE contratos'!E145","v":1247101},{"$f":"'SEPE contratos'!H145","v":126489},{"$f":"'SEPE contratos'!M145","v":1120612},{"$f":"Iass!B133","v":71.706999999999994},{"$f":"Iass!N133","v":70.346000000000004},{"$f":"Iass!Y133","v":101.93472265658316},{"$f":"Iass!Z133","v":-1.0999999999999996},{"$f":"'Comision Europea'!R28","v":6.8166666666666664},{"$f":"'Comision Europea'!S28","v":1.6666666666666163E-2},{"$f":"'Comision Europea'!T28","v":2.4666666666666672},{"$f":"'Comision Europea'!U28","v":17.95},{"$f":"'Comision Europea'!V28","v":2.1916666666666669},{"$f":"'Comision Europea'!W28","v":14.516666666666667},{"$f":"'Comision Europea'!X28","v":-1.591666666666667},{"$f":"ETT!C130","v":179067},{"$f":"DNIs!B126","v":35238.821954598359},{"$f":"sabi!B126*1000","v":182330448.99098659},null,null,16893799,96.427372706329436,17765551.844891392,4714122,16893799,17765551.844891392,14733849.89121314,11287073.718240401,3446776.2900866377,null,null,null,null,null,null,null,null,-3.4488333881038447,-2.8017087158226008,4714122,12.51803547735031,21.816638444762919,23.393589018048839,89.857357182778301,1.0223704409232952,15.979393402890562,0,0]
["2012-06-01",{"$f":"'SEPE contratos'!E146","v":1386339},{"$f":"'SEPE contratos'!H146","v":168131},{"$f":"'SEPE contratos'!M146","v":1218208},{"$f":"Iass!B134","v":74.004000000000005},{"$f":"Iass!N134","v":71.034000000000006},{"$f":"Iass!Y134","v":104.18109637638312},{"$f":"Iass!Z134","v":-2.9000000000000004},{"$f":"'Comision Europea'!R29","v":5.45},{"$f":"'Comision Europea'!S29","v":-4.8083333333333327},{"$f":"'Comision Europea'!T29","v":0.67499999999999927},{"$f":"'Comision Europea'!U29","v":20.458333333333332},{"$f":"'Comision Europea'!V29","v":2.7666666666666671},{"$f":"'Comision Europea'!W29","v":15.950000000000001},{"$f":"'Comision Europea'!X29","v":-8},{"$f":"ETT!C131","v":181965},{"$f":"DNIs!B127","v":36033.423404507768},{"$f":"sabi!B127*1000","v":188171064.84902412},null,null,16966420,96.230291406236447,17761146.109674357,4615269,16966420,17761146.109674357,14705722.488396903,11235926.540464066,3469796.0819281079,null,null,null,null,null,null,null,null,-2.2805010076677901,-2.8942253121495449,4615269,11.972145186048522,21.385114946286176,23.594869851963026,87.872302517638175,1.0384882152637798,14.937104336862014,0,0]
["2012-07-01",{"$f":"'SEPE contratos'!E147","v":1526758},{"$f":"'SEPE contratos'!H147","v":230460},{"$f":"'SEPE contratos'!M147","v":1296298},{"$f":"Iass!B135","v":77.613},{"$f":"Iass!N135","v":70.543000000000006},{"$f":"Iass!Y135","v":110.02225592900783},{"$f":"Iass!Z135","v":-7.2000000000000011},{"$f":"'Comision Europea'!R30","v":6.8833333333333337},{"$f":"'Comision Europea'!S30","v":0.98333333333333306},{"$f":"'Comision Europea'!T30","v":1.5666666666666667},{"$f":"'Comision Europea'!U30","v":18.058333333333334},{"$f":"'Comision Europea'!V30","v":7.3833333333333329},{"$f":"'Comision Europea'!W30","v":14.549999999999999},{"$f":"'Comision Europea'!X30","v":-5.6499999999999995},{"$f":"ETT!C132","v":173336},{"$f":"DNIs!B128","v":36748.457291296079},{"$f":"sabi!B128*1000","v":197347722.5032067},null,null,16875350,96.072216683084719,17735584.83977209,4587455,16875350,17735584.83977209,14636945.411932217,11138958.207960414,3497987.0035067671,null,null,null,null,null,null,null,null,-4.070471240980611,-2.9786677168331193,4587455,12.444733024784416,21.373976980175705,23.898340159519655,84.905269859401429,1.0505601437185268,13.371616711589466,0,0]
["2012-08-01",{"$f":"'SEPE contratos'!E148","v":1043794},{"$f":"'SEPE contratos'!H148","v":74440},{"$f":"'SEPE contratos'!M148","v":969354},{"$f":"Iass!B136","v":68.58},{"$f":"Iass!N136","v":66.028999999999996},{"$f":"Iass!Y136","v":103.86345393690652},{"$f":"Iass!Z136","v":-1},{"$f":"'Comision Europea'!R31","v":7.9166666666666679},{"$f":"'Comision Europea'!S31","v":4.916666666666667},{"$f":"'Comision Europea'!T31","v":4.0166666666666657},{"$f":"'Comision Europea'!U31","v":14.774999999999997},{"$f":"'Comision Europea'!V31","v":7.2583333333333337},{"$f":"'Comision Europea'!W31","v":9.5749999999999993},{"$f":"'Comision Europea'!X31","v":-4.95},{"$f":"ETT!C133","v":148812},{"$f":"DNIs!B129","v":31309.667352665463},{"$f":"sabi!B129*1000","v":174379379.86252192},null,null,16682421.999999998,95.840634376444271,17678280.892464723,4625634,16682421.999999998,17678280.892464723,14562717.08386464,11075597.468862664,3487119.4812706397,null,null,null,null,null,null,null,null,-3.4977674661614389,-3.1005474443705614,4625634,11.975689718070548,21.708381093047624,23.9455278928294,92.868324592783637,0.89786620506782344,15.35166719279025,0,0]
["2012-09-01",{"$f":"'SEPE contratos'!E149","v":1274043},{"$f":"'SEPE contratos'!H149","v":117683},{"$f":"'SEPE contratos'!M149","v":1156360},{"$f":"Iass!B137","v":66.119},{"$f":"Iass!N137","v":69.540999999999997},{"$f":"Iass!Y137","v":95.079161933248017},{"$f":"Iass!Z137","v":-13.9},{"$f":"'Comision Europea'!R32","v":4.55},{"$f":"'Comision Europea'!S32","v":-0.55000000000000071},{"$f":"'Comision Europea'!T32","v":-0.86666666666666681},{"$f":"'Comision Europea'!U32","v":15.024999999999999},{"$f":"'Comision Europea'!V32","v":5.6083333333333334},{"$f":"'Comision Europea'!W32","v":7.166666666666667},{"$f":"'Comision Europea'!X32","v":-2.083333333333333},{"$f":"ETT!C134","v":167994},{"$f":"DNIs!B130","v":36001.353108852272},{"$f":"sabi!B130*1000","v":168121758.77996629},null,null,16793649,95.520237552650741,17589234.267752212,4705279,16793649,17589234.267752212,14483037.504194157,11045844.323170811,3437193.5152197178,null,null,null,null,null,null,null,null,-2.6758781694893763,-3.2645760928871237,4705279,11.321598847718239,21.886109856268181,23.732545843538261,90.763027621516699,1.0474054762829068,14.527828703863849,0,0]
["2012-10-01",{"$f":"'SEPE contratos'!E150","v":1427173},{"$f":"'SEPE contratos'!H150","v":130632},{"$f":"'SEPE contratos'!M150","v":1296541},{"$f":"Iass!B138","v":71.5},{"$f":"Iass!N138","v":76.763999999999996},{"$f":"Iass!Y138","v":93.142618935959561},{"$f":"Iass!Z138","v":-8.7999999999999989},{"$f":"'Comision Europea'!R33","v":4.3749999999999991},{"$f":"'Comision Europea'!S33","v":-0.46666666666666695},{"$f":"'Comision Europea'!T33","v":-1.3166666666666667},{"$f":"'Comision Europea'!U33","v":14.85},{"$f":"'Comision Europea'!V33","v":5.3583333333333334},{"$f":"'Comision Europea'!W33","v":9.4500000000000011},{"$f":"'Comision Europea'!X33","v":-5.8333333333333647E-2},{"$f":"ETT!C135","v":201881},{"$f":"DNIs!B131","v":38203.591195665191},{"$f":"sabi!B131*1000","v":181804107.03077164},null,null,16557981,95.108531806857684,{"$f":"Z132","v":17468444.965634562},{"$f":"AN132","v":4833521},{"$f":"U132","v":16557981},17468444.965634562,14397906.672920769,11049698.770884862,3348209.105353998,null,null,null,null,null,null,null,null,-3.7691747752669369,-3.4591735774384906,4833521,10.83703323560179,22.595519473106656,{"$f":"AC132/AA132*100","v":23.254832674052736},{"$f":"D132/B132*100","v":90.846799932453877},{"$f":"Q132/AC132*100","v":1.1410156890910796},{"$f":"P132/D132*100","v":15.570737832432604},{"$f":"S132/R132*100","v":0},{"$f":"T132/P132*100","v":0}]
["2012-11-01",{"$f":"'SEPE contratos'!E151","v":1151771},{"$f":"'SEPE contratos'!H151","v":100179},{"$f":"'SEPE contratos'!M151","v":1051592},{"$f":"Iass!B139","v":72.046999999999997},{"$f":"Iass!N139","v":77.525000000000006},{"$f":"Iass!Y139","v":92.933892292808764},{"$f":"Iass!Z139","v":-5.1000000000000005},{"$f":"'Comision Europea'!R34","v":3.1166666666666658},{"$f":"'Comision Europea'!S34","v":-3.625},{"$f":"'Comision Europea'!T34","v":-2.4166666666666665},{"$f":"'Comision Europea'!U34","v":15.333333333333334},{"$f":"'Comision Europea'!V34","v":6.2333333333333334},{"$f":"'Comision Europea'!W34","v":9.9166666666666696},{"$f":"'Comision Europea'!X34","v":-1.4083333333333339},{"$f":"ETT!C136","v":187719},{"$f":"DNIs!B132","v":37393.141548364933},{"$f":"sabi!B132*1000","v":183194972.01742664},null,null,16381817,94.817673422748811,17341463.915876474,4907817,16381817,17341463.915876474,14294718.960409598,11034913.304648202,3259806.1738713528,null,null,null,null,null,null,null,null,-4.7791883645866733,-3.5355082915883247,4907817,11.024978837053689,23.052613304672125,22.804269065377603,91.302177255721844,1.1470970835041017,17.850934582994167,0,0]
["2012-12-01",{"$f":"'SEPE contratos'!E152","v":1058501},{"$f":"'SEPE contratos'!H152","v":77366},{"$f":"'SEPE contratos'!M152","v":981135},{"$f":"Iass!B140","v":66.775000000000006},{"$f":"Iass!N140","v":75.179000000000002},{"$f":"Iass!Y140","v":88.821346386623929},{"$f":"Iass!Z140","v":-10},{"$f":"'Comision Europea'!R35","v":5.666666666666667},{"$f":"'Comision Europea'!S35","v":0.19999999999999987},{"$f":"'Comision Europea'!T35","v":2.3916666666666679},{"$f":"'Comision Europea'!U35","v":14.35},{"$f":"'Comision Europea'!V35","v":11.374999999999998},{"$f":"'Comision Europea'!W35","v":11.233333333333334},{"$f":"'Comision Europea'!X35","v":-0.75},{"$f":"ETT!C137","v":174953},{"$f":"DNIs!B133","v":35578.67257780637},{"$f":"sabi!B133*1000","v":169789779.67803884},null,null,16332488,94.673957879929532,17208291.118477963,4848723,16332488,17208291.118477963,14173474.366660647,11001487.924460825,3171984.7207717774,null,null,null,null,null,null,null,null,-4.5541928045876201,-3.4721382337673798,4848723,9.641098789130421,22.891623146570797,22.379725949432931,92.690984703840613,1.1216533404092093,17.83169492475551,0,0]
["2013-01-01",{"$f":"'SEPE contratos'!E153","v":1101819},{"$f":"'SEPE contratos'!H153","v":100609},{"$f":"'SEPE contratos'!M153","v":1001210},{"$f":"Iass!B141","v":65.326999999999998},{"$f":"Iass!N141","v":68.177000000000007},{"$f":"Iass!Y141","v":95.819704592457853},{"$f":"Iass!Z141","v":2.0999999999999996},{"$f":"'Comision Europea'!R36","v":7.5166666666666657},{"$f":"'Comision Europea'!S36","v":2.2416666666666663},{"$f":"'Comision Europea'!T36","v":1.900000000000001},{"$f":"'Comision Europea'!U36","v":18.358333333333334},{"$f":"'Comision Europea'!V36","v":15.541666666666666},{"$f":"'Comision Europea'!W36","v":10.050000000000002},{"$f":"'Comision Europea'!X36","v":-4.1333333333333329},{"$f":"ETT!C138","v":165871},{"$f":"DNIs!B134","v":34867.616779773511},{"$f":"sabi!B134*1000","v":175109119.35023272},null,null,16083780,94.415426971359878,17068926.573439028,4980778,16083780,17068926.573439028,14034172.891673917,10949422.630322732,3084744.7460552771,null,null,null,null,null,null,null,null,-4.3754877086278121,-3.2458515827782781,4980778,8.2818078672054938,23.645300319142702,21.980239019895286,90.868826912587281,1.1303242131901405,16.567053864823563,0,0]
["2013-02-01",{"$f":"'SEPE contratos'!E154","v":949844},{"$f":"'SEPE contratos'!H154","v":91584},{"$f":"'SEPE contratos'!M154","v":858260},{"$f":"Iass!B142","v":62.616},{"$f":"Iass!N142","v":65.793000000000006},{"$f":"Iass!Y142","v":95.171218822671094},{"$f":"Iass!Z142","v":-3.1999999999999997},{"$f":"'Comision Europea'!R37","v":9.0499999999999989},{"$f":"'Comision Europea'!S37","v":4.7249999999999996},{"$f":"'Comision Europea'!T37","v":4.3833333333333346},{"$f":"'Comision Europea'!U37","v":18.008333333333336},{"$f":"'Comision Europea'!V37","v":16.2},{"$f":"'Comision Europea'!W37","v":8.3083333333333318},{"$f":"'Comision Europea'!X37","v":-2.7166666666666663},{"$f":"ETT!C139","v":151327},{"$f":"DNIs!B135","v":28909.783519934485},{"$f":"sabi!B135*1000","v":167842279.8725515},null,null,16094638,94.379422507396299,17005040.507097226,5040222,16094638,17005040.507097226,13963967.854169518,10912539.334044619,3051426.1928339545,null,null,null,null,null,null,null,null,-4.254400738045927,-2.9902261464538427,5040222,6.9634375176407692,23.84790814796029,21.852142777046176,90.357995628755887,0.94741873776357233,17.631836506419965,0,0]
["2013-03-01",{"$f":"'SEPE contratos'!E155","v":969627},{"$f":"'SEPE contratos'!H155","v":98068},{"$f":"'SEPE contratos'!M155","v":871559},{"$f":"Iass!B143","v":63.23},{"$f":"Iass!N143","v":67.414000000000001},{"$f":"Iass!Y143","v":93.793574035066896},{"$f":"Iass!Z143","v":-8.4},{"$f":"'Comision Europea'!R38","v":7.8250000000000002},{"$f":"'Comision Europea'!S38","v":3.4666666666666663},{"$f":"'Comision Europea'!T38","v":-1.5666666666666647},{"$f":"'Comision Europea'!U38","v":21.541666666666668},{"$f":"'Comision Europea'!V38","v":11.758333333333331},{"$f":"'Comision Europea'!W38","v":13.791666666666666},{"$f":"'Comision Europea'!X38","v":-5.0166666666666666},{"$f":"ETT!C140","v":152975},{"$f":"DNIs!B136","v":31311.525553863179},{"$f":"sabi!B136*1000","v":169488107.77343541},null,null,16169814,94.368323689063544,17016632.919452615,5035243,16169814,17016632.919452615,13962859.254147438,10890838.035626475,3072029.0611078134,null,null,null,null,null,null,null,null,-4.2399337808860071,-2.697768279684571,5035243,5.9857705972404585,23.745482032894323,22.001432551827214,89.88600771224398,1.0192457470624265,17.551881169261062,0,0]
["2013-04-01",{"$f":"'SEPE contratos'!E156","v":1153140},{"$f":"'SEPE contratos'!H156","v":98349},{"$f":"'SEPE contratos'!M156","v":1054791},{"$f":"Iass!B144","v":66.787999999999997},{"$f":"Iass!N144","v":66.986999999999995},{"$f":"Iass!Y144","v":99.702927433681168},{"$f":"Iass!Z144","v":4.2},{"$f":"'Comision Europea'!R39","v":8.4249999999999989},{"$f":"'Comision Europea'!S39","v":2.9666666666666668},{"$f":"'Comision Europea'!T39","v":-3.2416666666666658},{"$f":"'Comision Europea'!U39","v":25.5},{"$f":"'Comision Europea'!V39","v":6.4583333333333321},{"$f":"'Comision Europea'!W39","v":14.9},{"$f":"'Comision Europea'!X39","v":-3.9083333333333328},{"$f":"ETT!C141","v":179034},{"$f":"DNIs!B137","v":32637.243501079654},{"$f":"sabi!B137*1000","v":179025331.99386689},null,null,16198707,94.38364389860466,17103703.810505159,4989193,16198707,17103703.810505159,14030847.091607686,10884318.735068297,3146553.3508768538,null,null,null,null,null,null,null,null,-3.9415740251515285,-2.373932361766947,4989193,5.1632771142238854,23.547369017222096,22.425968513040896,91.471200374629262,1.0372378873533035,16.973409898264205,0,0]
["2013-05-01",{"$f":"'SEPE contratos'!E157","v":1283261},{"$f":"'SEPE contratos'!H157","v":95856},{"$f":"'SEPE contratos'!M157","v":1187405},{"$f":"Iass!B145","v":71.954999999999998},{"$f":"Iass!N145","v":71.399000000000001},{"$f":"Iass!Y145","v":100.77872239106991},{"$f":"Iass!Z145","v":-1.2},{"$f":"'Comision Europea'!R40","v":5.9416666666666664},{"$f":"'Comision Europea'!S40","v":0.70000000000000018},{"$f":"'Comision Europea'!T40","v":-9.4916666666666654},{"$f":"'Comision Europea'!U40","v":26.558333333333337},{"$f":"'Comision Europea'!V40","v":4.6499999999999986},{"$f":"'Comision Europea'!W40","v":14.475},{"$f":"'Comision Europea'!X40","v":-3.0416666666666661},{"$f":"ETT!C142","v":195898},{"$f":"DNIs!B138","v":36262.100176513108},{"$f":"sabi!B138*1000","v":192875483.0750837},null,null,16281979,94.396245474977164,17168143.675386611,4890928,16281979,17168143.675386611,14078858.732264679,10857849.858625965,3221019.4101607287,null,null,null,null,null,null,null,null,-3.6215655223552745,-2.1063734967713361,4890928,3.7505605497693884,23.09993615897902,22.878412742213843,92.530280278135152,1.1257957670830563,16.497993523692422,0,0]
["2013-06-01",{"$f":"'SEPE contratos'!E158","v":1277255},{"$f":"'SEPE contratos'!H158","v":87349},{"$f":"'SEPE contratos'!M158","v":1189906},{"$f":"Iass!B146","v":72.215000000000003},{"$f":"Iass!N146","v":71.64},{"$f":"Iass!Y146","v":100.80262423227249},{"$f":"Iass!Z146","v":-3.3},{"$f":"'Comision Europea'!R41","v":2.8666666666666671},{"$f":"'Comision Europea'!S41","v":-3.9666666666666668},{"$f":"'Comision Europea'!T41","v":-14.041666666666666},{"$f":"'Comision Europea'!U41","v":26.566666666666666},{"$f":"'Comision Europea'!V41","v":-0.55000000000000071},{"$f":"'Comision Europea'!W41","v":16.158333333333335},{"$f":"'Comision Europea'!X41","v":-0.54166666666666641},{"$f":"ETT!C143","v":189732},{"$f":"DNIs!B139","v":37079.775563452582},{"$f":"sabi!B139*1000","v":193572413.45656553},null,null,16346688,94.398365066239506,17209952.51409696,4763680,16346688,17209952.51409696,14106894.176118417,10811431.406299479,3295427.2389594442,null,null,null,null,null,null,null,null,-3.6526975048360222,-1.9032646871375405,4763680,3.2156522187547498,22.565594308919675,23.360402352335484,93.161193340405788,1.125188719844435,15.945125077106931,0,0]
["2013-07-01",{"$f":"'SEPE contratos'!E159","v":1507341},{"$f":"'SEPE contratos'!H159","v":96338},{"$f":"'SEPE contratos'!M159","v":1411003},{"$f":"Iass!B147","v":84.474000000000004},{"$f":"Iass!N147","v":73.001999999999995},{"$f":"Iass!Y147","v":115.71463795512453},{"$f":"Iass!Z147","v":5.3000000000000007},{"$f":"'Comision Europea'!R42","v":2.9333333333333336},{"$f":"'Comision Europea'!S42","v":-7.8083333333333327},{"$f":"'Comision Europea'!T42","v":-14.841666666666669},{"$f":"'Comision Europea'!U42","v":31.425000000000001},{"$f":"'Comision Europea'!V42","v":-5.5249999999999995},{"$f":"'Comision Europea'!W42","v":19.491666666666667},{"$f":"'Comision Europea'!X42","v":-2.2083333333333326},{"$f":"ETT!C144","v":197199},{"$f":"DNIs!B140","v":37815.572874319718},{"$f":"sabi!B140*1000","v":226432680.94343162},null,null,16284726,94.373611051058489,17229130.326636229,4698814,16284726,17229130.326636229,14114953.423168907,10745063.378088854,3369776.8372730021,null,null,null,null,null,null,null,null,-3.4999214831099801,-1.7674009586190493,4698814,2.4274679533641264,22.392856496091699,23.873807700574499,93.608745466354321,1.122198136566279,13.975803028058763,0,0]
["2013-08-01",{"$f":"'SEPE contratos'!E160","v":1043166},{"$f":"'SEPE contratos'!H160","v":62454},{"$f":"'SEPE contratos'!M160","v":980712},{"$f":"Iass!B148","v":70.807000000000002},{"$f":"Iass!N148","v":70.254000000000005},{"$f":"Iass!Y148","v":100.78714379252428},{"$f":"Iass!Z148","v":-3.2},{"$f":"'Comision Europea'!R43","v":3.2416666666666671},{"$f":"'Comision Europea'!S43","v":-11.033333333333333},{"$f":"'Comision Europea'!T43","v":-15.958333333333334},{"$f":"'Comision Europea'!U43","v":36.708333333333336},{"$f":"'Comision Europea'!V43","v":-8.4666666666666668},{"$f":"'Comision Europea'!W43","v":22.791666666666668},{"$f":"'Comision Europea'!X43","v":-4.2333333333333325},{"$f":"ETT!C145","v":156049},{"$f":"DNIs!B141","v":32218.849299174803},{"$f":"sabi!B141*1000","v":189798267.39069498},null,null,16271446,94.392775238407907,17234577.034791071,4698783,16271446,17234577.034791071,14123678.167552548,10714548.837467985,3409006.608895909,null,null,null,null,null,null,null,null,-2.4635271784876345,-1.5108076744344714,4698783,1.5813832222782764,22.406922690257698,24.136818812026544,94.013033400245021,0.94510961683379291,15.911806932106471,0,0]
["2013-09-01",{"$f":"'SEPE contratos'!E161","v":1392429},{"$f":"'SEPE contratos'!H161","v":107136},{"$f":"'SEPE contratos'!M161","v":1285293},{"$f":"Iass!B149","v":75.022999999999996},{"$f":"Iass!N149","v":77.349000000000004},{"$f":"Iass!Y149","v":96.992850586303632},{"$f":"Iass!Z149","v":2.3000000000000007},{"$f":"'Comision Europea'!R44","v":5.9666666666666677},{"$f":"'Comision Europea'!S44","v":-6.5249999999999995},{"$f":"'Comision Europea'!T44","v":-15.366666666666667},{"$f":"'Comision Europea'!U44","v":39.800000000000004},{"$f":"'Comision Europea'!V44","v":-4.3083333333333327},{"$f":"'Comision Europea'!W44","v":25.416666666666668},{"$f":"'Comision Europea'!X44","v":-6.7333333333333334},{"$f":"ETT!C146","v":196067},{"$f":"DNIs!B142","v":37046.773998438628},{"$f":"sabi!B142*1000","v":201099261.57656878},null,null,16240307,94.448307465464168,17226292.638561495,4724355,16240307,17226292.638561495,14133068.409269353,10719887.784436895,3413116.5538281696,null,null,null,null,null,null,null,null,-3.2949479889689215,-1.1227387225031282,4724355,0.40541697952449773,22.534849357456849,24.149862259137116,92.305819542684048,1.0854236418292476,15.254653997181967,0,0]
["2013-10-01",{"$f":"'SEPE contratos'!E162","v":1582400},{"$f":"'SEPE contratos'!H162","v":119400},{"$f":"'SEPE contratos'!M162","v":1463000},{"$f":"Iass!B150","v":81.346000000000004},{"$f":"Iass!N150","v":82.594999999999999},{"$f":"Iass!Y150","v":98.487801925056004},{"$f":"Iass!Z150","v":6.2000000000000011},{"$f":"'Comision Europea'!R45","v":4.7666666666666675},{"$f":"'Comision Europea'!S45","v":-8.8583333333333325},{"$f":"'Comision Europea'!T45","v":-17.166666666666668},{"$f":"'Comision Europea'!U45","v":40.333333333333336},{"$f":"'Comision Europea'!V45","v":-3.9416666666666664},{"$f":"'Comision Europea'!W45","v":25.458333333333332},{"$f":"'Comision Europea'!X45","v":-7.05},{"$f":"ETT!C147","v":223751},{"$f":"DNIs!B143","v":39312.961506620122},{"$f":"sabi!B143*1000","v":218048072.35391235},null,null,16190225,94.537898676404524,17204277.1379475,4811383,16190225,17204277.1379475,14143124.148319313,10761080.218995556,3382106.6720697819,null,null,null,null,null,null,null,null,-2.2210195796214527,-0.60011085310270273,4811383,-0.45800980279179226,22.909593398753085,23.913434094203943,92.454499494438821,1.1623808861877611,15.293984962406014,0,0]
["2013-11-01",{"$f":"'SEPE contratos'!E163","v":1241479},{"$f":"'SEPE contratos'!H163","v":94014},{"$f":"'SEPE contratos'!M163","v":1147465},{"$f":"Iass!B151","v":77.144999999999996},{"$f":"Iass!N151","v":83.06},{"$f":"Iass!Y151","v":92.878641945581492},{"$f":"Iass!Z151","v":0},{"$f":"'Comision Europea'!R46","v":7.9666666666666677},{"$f":"'Comision Europea'!S46","v":-5.0749999999999993},{"$f":"'Comision Europea'!T46","v":-13.024999999999999},{"$f":"'Comision Europea'!U46","v":42.016666666666666},{"$f":"'Comision Europea'!V46","v":-2.2166666666666659},{"$f":"'Comision Europea'!W46","v":26.366666666666671},{"$f":"'Comision Europea'!X46","v":-5.6416666666666657},{"$f":"ETT!C148","v":209015},{"$f":"DNIs!B144","v":38478.977716347967},{"$f":"sabi!B144*1000","v":206787285.69004703},null,null,16311593,94.650552027337397,17146965.409330558,4808908,16311593,17146965.409330558,14108344.971840011,10769968.163387001,3338499.1975771044,null,null,null,null,null,null,null,null,-0.42867039718488265,-0.17627809357725466,4808908,-2.015335942640073,22.768910642792044,23.663294342750234,92.427258133242688,1.1525831051352011,18.215370403454571,0,0]
["2013-12-01",{"$f":"'SEPE contratos'!E164","v":1290853},{"$f":"'SEPE contratos'!H164","v":83792},{"$f":"'SEPE contratos'!M164","v":1207061},{"$f":"Iass!B152","v":75.326999999999998},{"$f":"Iass!N152","v":83.33},{"$f":"Iass!Y152","v":90.396015840633623},{"$f":"Iass!Z152","v":2},{"$f":"'Comision Europea'!R47","v":8.4583333333333339},{"$f":"'Comision Europea'!S47","v":-4.4249999999999998},{"$f":"'Comision Europea'!T47","v":-14.016666666666667},{"$f":"'Comision Europea'!U47","v":43.85},{"$f":"'Comision Europea'!V47","v":-2.8833333333333315},{"$f":"'Comision Europea'!W47","v":29.516666666666669},{"$f":"'Comision Europea'!X47","v":-5.2749999999999995},{"$f":"ETT!C149","v":215731},{"$f":"DNIs!B145","v":36611.819510482244},{"$f":"sabi!B145*1000","v":201914134.02260903},null,null,16258042,94.81117831237087,17054357.452710673,4701338,16258042,17054357.452710673,14028730.879831452,10746551.617611201,3282294.1303501367,null,null,null,null,null,null,null,null,-0.45581542750865456,0.14509240096423637,4701338,-3.0396663203899221,22.430711213785905,23.396942734634393,93.50878837481882,1.1154338415910552,17.872419040959819,0,0]
["2014-01-01",{"$f":"'SEPE contratos'!E165","v":1259240},{"$f":"'SEPE contratos'!H165","v":98366},{"$f":"'SEPE contratos'!M165","v":1160874},{"$f":"Iass!B153","v":71.411000000000001},{"$f":"Iass!N153","v":76.725999999999999},{"$f":"Iass!Y153","v":93.072752391627361},{"$f":"Iass!Z153","v":-3.1999999999999993},{"$f":"'Comision Europea'!R48","v":10.833333333333334},{"$f":"'Comision Europea'!S48","v":-0.13333333333333167},{"$f":"'Comision Europea'!T48","v":-7.1916666666666655},{"$f":"'Comision Europea'!U48","v":39.841666666666661},{"$f":"'Comision Europea'!V48","v":-2.8666666666666671},{"$f":"'Comision Europea'!W48","v":29.591666666666665},{"$f":"'Comision Europea'!X48","v":-4.458333333333333},{"$f":"ETT!C150","v":207531},{"$f":"DNIs!B146","v":41027.347769657456},{"$f":"sabi!B146*1000","v":209319121.48094642},null,null,16101625,94.745322623258531,16926453.268087853,4814435,16101625,16926453.268087853,13904281.872293625,10690830.581668179,3213491.47038888,null,null,null,null,null,null,null,null,0.1109502865619838,0.34952376526677265,4814435,-3.3396991393713993,23.017886733925987,23.111524204585105,92.188462882373486,1.2767218506011015,17.87713395252198,0,0]
["2014-02-01",{"$f":"'SEPE contratos'!E166","v":1090879},{"$f":"'SEPE contratos'!H166","v":97804},{"$f":"'SEPE contratos'!M166","v":993075},{"$f":"Iass!B154","v":69.224999999999994},{"$f":"Iass!N154","v":75.061999999999998},{"$f":"Iass!Y154","v":92.223761690335976},{"$f":"Iass!Z154","v":-3.5},{"$f":"'Comision Europea'!R49","v":8.2333333333333343},{"$f":"'Comision Europea'!S49","v":-3.4999999999999987},{"$f":"'Comision Europea'!T49","v":-9.5916666666666668},{"$f":"'Comision Europea'!U49","v":37.791666666666664},{"$f":"'Comision Europea'!V49","v":-4.9666666666666668},{"$f":"'Comision Europea'!W49","v":29.5},{"$f":"'Comision Europea'!X49","v":-5.4416666666666664},{"$f":"ETT!C151","v":173810},{"$f":"DNIs!B147","v":33652.457992768963},{"$f":"sabi!B147*1000","v":202911542.8227936},null,null,16168480,94.889267286331048,16912587.270863384,4812486,16168480,16912587.270863384,13892083.216186609,10689477.386429699,3202597.2026061518,null,null,null,null,null,null,null,null,0.45879876266865516,0.54012804198947628,4812486,-4.5183724050250174,22.937390013405484,23.05339777172216,91.034386031814705,1.0507864668520872,17.502202754071948,0,0]
["2014-03-01",{"$f":"'SEPE contratos'!E167","v":1216637},{"$f":"'SEPE contratos'!H167","v":113481},{"$f":"'SEPE contratos'!M167","v":1103156},{"$f":"Iass!B155","v":76.748000000000005},{"$f":"Iass!N155","v":78.790999999999997},{"$f":"Iass!Y155","v":97.407064258608216},{"$f":"Iass!Z155","v":4.5},{"$f":"'Comision Europea'!R50","v":9.2833333333333332},{"$f":"'Comision Europea'!S50","v":-0.47499999999999937},{"$f":"'Comision Europea'!T50","v":-4.741666666666668},{"$f":"'Comision Europea'!U50","v":33.075000000000003},{"$f":"'Comision Europea'!V50","v":-0.55833333333333302},{"$f":"'Comision Europea'!W50","v":25.191666666666666},{"$f":"'Comision Europea'!X50","v":-2.1416666666666671},{"$f":"ETT!C152","v":200962},{"$f":"DNIs!B148","v":36017.446790840688},{"$f":"sabi!B148*1000","v":224962875.96336246},null,null,16269721,95.026312589157001,17012759.461037319,4795866,16269721,17012759.461037319,13992134.911510395,10742492.03189577,3249611.3270019554,null,null,null,null,null,null,null,null,0.61786115783397655,0.69722049564759403,4795866,-4.7540307389335563,22.766353484476838,23.224556849639271,90.672567084512465,1.1083616828745444,18.217006479591284,0,0]
["2014-04-01",{"$f":"'SEPE contratos'!E168","v":1296529},{"$f":"'SEPE contratos'!H168","v":122621},{"$f":"'SEPE contratos'!M168","v":1173908},{"$f":"Iass!B156","v":74.909000000000006},{"$f":"Iass!N156","v":83.105000000000004},{"$f":"Iass!Y156","v":90.137777510378442},{"$f":"Iass!Z156","v":-11.900000000000002},{"$f":"'Comision Europea'!R51","v":8.9666666666666686},{"$f":"'Comision Europea'!S51","v":1.4333333333333342},{"$f":"'Comision Europea'!T51","v":-1.0583333333333342},{"$f":"'Comision Europea'!U51","v":26.533333333333335},{"$f":"'Comision Europea'!V51","v":2.8333333333333339},{"$f":"'Comision Europea'!W51","v":19.150000000000002},{"$f":"'Comision Europea'!X51","v":-3.0666666666666669},{"$f":"ETT!C153","v":206839},{"$f":"DNIs!B149","v":38460.170810092553},{"$f":"sabi!B149*1000","v":219572419.80950019},null,null,16420853,95.142044564509902,17226969.838609669,4684301,16420853,17226969.838609669,14204436.958264982,10849874.518066401,3354533.8435762925,null,null,null,null,null,null,null,null,1.3713810614637278,0.80431310402960632,4684301,-6.1110484200551092,22.195057188400522,23.616098641800978,90.542363495147427,1.1465131253256307,17.619694217945529,0,0]
["2014-05-01",{"$f":"'SEPE contratos'!E169","v":1458577},{"$f":"'SEPE contratos'!H169","v":115935},{"$f":"'SEPE contratos'!M169","v":1342642},{"$f":"Iass!B157","v":85.650999999999996},{"$f":"Iass!N157","v":89.075999999999993},{"$f":"Iass!Y157","v":96.154968790695591},{"$f":"Iass!Z157","v":-5.8000000000000007},{"$f":"'Comision Europea'!R52","v":11.65},{"$f":"'Comision Europea'!S52","v":2.4250000000000003},{"$f":"'Comision Europea'!T52","v":0.94999999999999918},{"$f":"'Comision Europea'!U52","v":31.599999999999998},{"$f":"'Comision Europea'!V52","v":3.3166666666666682},{"$f":"'Comision Europea'!W52","v":24.95},{"$f":"'Comision Europea'!X52","v":-3.0583333333333336},{"$f":"ETT!C154","v":240649},{"$f":"DNIs!B150","v":43085.990868497087},{"$f":"sabi!B150*1000","v":251059249.61090785},null,null,16643365.000000002,95.320216380535825,17375045.054042585,4572385,16643365.000000002,17375045.054042585,14342309.751252515,10905164.25105764,3437139.0900368914,null,null,null,null,null,null,null,null,2.2195459163778519,0.97881774133312738,4572385,-6.512935786419261,21.551842381249777,23.965031781137803,92.051499509453393,1.2535422553422078,17.923541792972365,0,0]
["2014-06-01",{"$f":"'SEPE contratos'!E170","v":1518873},{"$f":"'SEPE contratos'!H170","v":110258},{"$f":"'SEPE contratos'!M170","v":1408615},{"$f":"Iass!B158","v":86.5},{"$f":"Iass!N158","v":88.692999999999998},{"$f":"Iass!Y158","v":97.527426065191165},{"$f":"Iass!Z158","v":-4},{"$f":"'Comision Europea'!R53","v":15.566666666666668},{"$f":"'Comision Europea'!S53","v":7.6250000000000009},{"$f":"'Comision Europea'!T53","v":4.9583333333333348},{"$f":"'Comision Europea'!U53","v":34.141666666666666},{"$f":"'Comision Europea'!V53","v":10.125000000000002},{"$f":"'Comision Europea'!W53","v":25.724999999999998},{"$f":"'Comision Europea'!X53","v":-4.6166666666666671},{"$f":"ETT!C155","v":243893},{"$f":"DNIs!B151","v":42613.452627431587},{"$f":"sabi!B151*1000","v":253547828.87933043},null,null,16555787,95.552239839254966,17456985.1073361,4449701,16555787,17456985.1073361,14405753.290472971,10908361.230869494,3497427.0663837502,null,null,null,null,null,null,null,null,1.279152082672641,1.221566723785207,4449701,-6.5911018372350805,21.183516421994099,24.277988077837769,92.74080189719615,1.2184229097161077,17.314383277190714,0,0]
["2014-07-01",{"$f":"'SEPE contratos'!E171","v":1645236},{"$f":"'SEPE contratos'!H171","v":114071},{"$f":"'SEPE contratos'!M171","v":1531165},{"$f":"Iass!B159","v":102.139},{"$f":"Iass!N159","v":91.694000000000003},{"$f":"Iass!Y159","v":111.39114882107879},{"$f":"Iass!Z159","v":-4.7000000000000028},{"$f":"'Comision Europea'!R54","v":13.716666666666669},{"$f":"'Comision Europea'!S54","v":6.6750000000000007},{"$f":"'Comision Europea'!T54","v":4.2333333333333352},{"$f":"'Comision Europea'!U54","v":30.266666666666666},{"$f":"'Comision Europea'!V54","v":10.108333333333333},{"$f":"'Comision Europea'!W54","v":20.591666666666665},{"$f":"'Comision Europea'!X54","v":-3.65},{"$f":"ETT!C156","v":227113},{"$f":"DNIs!B152","v":44716.515852659875},{"$f":"sabi!B152*1000","v":299388690.10295874},null,null,16605098.000000002,95.830944319256687,17472789.998490199,4419860,16605098.000000002,17472789.998490199,14394767.575926367,10859465.457501953,3535397.7726168693,null,null,null,null,null,null,null,null,1.9673158762388843,1.543483416504108,4419860,-5.9366895561305473,21.021968272183944,24.560297719078321,93.066587407520856,1.2648227647538828,14.83269275355693,0,0]
["2014-08-01",{"$f":"'SEPE contratos'!E172","v":1135109},{"$f":"'SEPE contratos'!H172","v":72955},{"$f":"'SEPE contratos'!M172","v":1062154},{"$f":"Iass!B160","v":81.275000000000006},{"$f":"Iass!N160","v":84.546000000000006},{"$f":"Iass!Y160","v":96.131100229460884},{"$f":"Iass!Z160","v":-5.5},{"$f":"'Comision Europea'!R55","v":9.6750000000000025},{"$f":"'Comision Europea'!S55","v":2.8499999999999996},{"$f":"'Comision Europea'!T55","v":1.6750000000000014},{"$f":"'Comision Europea'!U55","v":24.525000000000002},{"$f":"'Comision Europea'!V55","v":5.0166666666666666},{"$f":"'Comision Europea'!W55","v":17.883333333333336},{"$f":"'Comision Europea'!X55","v":-4.5249999999999995},{"$f":"ETT!C157","v":184011},{"$f":"DNIs!B153","v":36695.619582515719},{"$f":"sabi!B153*1000","v":238232367.53950962},null,null,16611116.000000002,96.076075397174264,17500148.722408194,4427930,16611116.000000002,17500148.722408194,14405770.465342585,10848467.42103201,3557417.119711732,null,null,null,null,null,null,null,null,2.0875219080098928,1.783335698599809,4427930,-5.7643223787946845,21.046248960147718,24.694389850721066,93.572863927605184,1.0315242308579566,17.324323968087491,0,0]
["2014-09-01",{"$f":"'SEPE contratos'!E173","v":1634444},{"$f":"'SEPE contratos'!H173","v":138543},{"$f":"'SEPE contratos'!M173","v":1495901},{"$f":"Iass!B161","v":94.578000000000003},{"$f":"Iass!N161","v":90.787000000000006},{"$f":"Iass!Y161","v":104.17570797581151},{"$f":"Iass!Z161","v":8.7000000000000028},{"$f":"'Comision Europea'!R56","v":12.841666666666667},{"$f":"'Comision Europea'!S56","v":7.5833333333333348},{"$f":"'Comision Europea'!T56","v":10.325000000000001},{"$f":"'Comision Europea'!U56","v":20.633333333333336},{"$f":"'Comision Europea'!V56","v":4.0666666666666673},{"$f":"'Comision Europea'!W56","v":16.283333333333335},{"$f":"'Comision Europea'!X56","v":-5.1333333333333329},{"$f":"ETT!C158","v":235506},{"$f":"DNIs!B154","v":43668.430629162096},{"$f":"sabi!B154*1000","v":277225971.78900939},null,null,16565854,96.2879074609138,17539061.279090092,4447650,16565854,17539061.279090092,14438761.958721627,10875367.121459674,3563485.1076683407,null,null,null,null,null,null,null,null,2.0045618595756931,1.9484233252764409,4447650,-5.8569900018097698,21.165675177257441,24.679990693494634,91.523539503341809,1.225441647986435,15.743421523215776,0,0]
["2014-10-01",{"$f":"'SEPE contratos'!E174","v":1702152},{"$f":"'SEPE contratos'!H174","v":148876},{"$f":"'SEPE contratos'!M174","v":1553276},{"$f":"Iass!B162","v":92.483000000000004},{"$f":"Iass!N162","v":97.126999999999995},{"$f":"Iass!Y162","v":95.218631276576033},{"$f":"Iass!Z162","v":-3.9000000000000021},{"$f":"'Comision Europea'!R57","v":18.200000000000003},{"$f":"'Comision Europea'!S57","v":14.875},{"$f":"'Comision Europea'!T57","v":18.350000000000001},{"$f":"'Comision Europea'!U57","v":21.408333333333331},{"$f":"'Comision Europea'!V57","v":7.1500000000000012},{"$f":"'Comision Europea'!W57","v":14.241666666666667},{"$f":"'Comision Europea'!X57","v":-4.8499999999999996},{"$f":"ETT!C159","v":259463},{"$f":"DNIs!B155","v":47725.596483367066},{"$f":"sabi!B155*1000","v":271085131.30921525},null,null,16575092,96.469605182932241,17589527.668535881,4526804,16575092,17589527.668535881,14493742.056063501,10940164.558784939,3553601.7364866957,null,null,null,null,null,null,null,null,2.3771565867676259,2.0429793965760692,4526804,-5.9147026956698268,21.452119752651612,24.518179796086791,91.253660072660963,1.3430204064046709,16.704243160906369,0,0]
["2014-11-01",{"$f":"'SEPE contratos'!E175","v":1385351},{"$f":"'SEPE contratos'!H175","v":117568},{"$f":"'SEPE contratos'!M175","v":1267783},{"$f":"Iass!B163","v":86.314999999999998},{"$f":"Iass!N163","v":95.85},{"$f":"Iass!Y163","v":90.052164840897248},{"$f":"Iass!Z163","v":-3.5},{"$f":"'Comision Europea'!R58","v":16.658333333333331},{"$f":"'Comision Europea'!S58","v":13.125},{"$f":"'Comision Europea'!T58","v":16.600000000000001},{"$f":"'Comision Europea'!U58","v":20.291666666666664},{"$f":"'Comision Europea'!V58","v":4.3666666666666663},{"$f":"'Comision Europea'!W58","v":12.20833333333333},{"$f":"'Comision Europea'!X58","v":-3.8749999999999996},{"$f":"ETT!C160","v":238998},{"$f":"DNIs!B156","v":44005.410898317394},{"$f":"sabi!B156*1000","v":253005558.9562937},null,null,16731189.999999998,96.737891361406824,17586823.514492545,4512116,16731189.999999998,17586823.514492545,14499505.538348995,10980240.499025961,3519254.5913255014,null,null,null,null,null,null,null,null,2.5723851741519033,2.2053190283857571,4512116,-6.1717129959649846,21.240177964766875,24.271548998809692,91.51348647382504,1.2504185121129041,18.851648902059736,0,0]
["2014-12-01",{"$f":"'SEPE contratos'!E176","v":1384062},{"$f":"'SEPE contratos'!H176","v":99853},{"$f":"'SEPE contratos'!M176","v":1284209},{"$f":"Iass!B164","v":90.441999999999993},{"$f":"Iass!N164","v":95.950999999999993},{"$f":"Iass!Y164","v":94.258527790226267},{"$f":"Iass!Z164","v":5.0000000000000018},{"$f":"'Comision Europea'!R59","v":16.733333333333331},{"$f":"'Comision Europea'!S59","v":10.258333333333335},{"$f":"'Comision Europea'!T59","v":18.599999999999998},{"$f":"'Comision Europea'!U59","v":21.366666666666664},{"$f":"'Comision Europea'!V59","v":8.2583333333333346},{"$f":"'Comision Europea'!W59","v":10.508333333333331},{"$f":"'Comision Europea'!X59","v":-3.9250000000000003},{"$f":"ETT!C161","v":271117},{"$f":"DNIs!B157","v":44006.559694689509},{"$f":"sabi!B157*1000","v":265102575.02317226},null,null,16651883.999999998,97.125805014026099,17530948.816960096,4447711,16651883.999999998,17530948.816960096,14456052.405578127,10995594.94218275,3460443.672184763,null,null,null,null,null,null,null,null,2.4224442279088709,2.4416287829626695,4447711,-5.3947833574186754,21.079603660638984,23.937680738134905,92.785511053695572,1.2717028180061609,21.111594763780662,0,0]
["2015-01-01",{"$f":"'SEPE contratos'!E177","v":1367795},{"$f":"'SEPE contratos'!H177","v":120239},{"$f":"'SEPE contratos'!M177","v":1247556},{"$f":"Iass!B165","v":83.153999999999996},{"$f":"Iass!N165","v":90.394999999999996},{"$f":"Iass!Y165","v":91.989601194756347},{"$f":"Iass!Z165","v":-1.4000000000000021},{"$f":"'Comision Europea'!R60","v":14.899999999999999},{"$f":"'Comision Europea'!S60","v":9.2666666666666675},{"$f":"'Comision Europea'!T60","v":17.000000000000004},{"$f":"'Comision Europea'!U60","v":18.458333333333329},{"$f":"'Comision Europea'!V60","v":11.783333333333333},{"$f":"'Comision Europea'!W60","v":11.433333333333332},{"$f":"'Comision Europea'!X60","v":-3.9250000000000003},{"$f":"ETT!C162","v":231337},{"$f":"DNIs!B158","v":47340.892074782569},{"$f":"sabi!B158*1000","v":254411913.45270106},199796888.34949774,160218,16589693,97.362549503663743,17421903.575938523,4525691,16589693,17421903.575938523,14363382.657750867,10986227.888255281,3377168.9790644734,null,null,null,null,null,null,null,null,3.0311723195640239,2.7623810948559999,4525691,-5.9974638768619748,21.433145615537942,23.512351230453799,91.209282092711263,1.4017922220728412,18.543215695327504,78.532835053985366,69.257403701094077]
["2015-02-01",{"$f":"'SEPE contratos'!E178","v":1226950},{"$f":"'SEPE contratos'!H178","v":120281},{"$f":"'SEPE contratos'!M178","v":1106669},{"$f":"Iass!B166","v":84.774000000000001},{"$f":"Iass!N166","v":89.091999999999999},{"$f":"Iass!Y166","v":95.153324653167516},{"$f":"Iass!Z166","v":3.8000000000000007},{"$f":"'Comision Europea'!R61","v":17.749999999999996},{"$f":"'Comision Europea'!S61","v":12.983333333333334},{"$f":"'Comision Europea'!T61","v":18.741666666666671},{"$f":"'Comision Europea'!U61","v":21.566666666666663},{"$f":"'Comision Europea'!V61","v":17.841666666666669},{"$f":"'Comision Europea'!W61","v":14.983333333333334},{"$f":"'Comision Europea'!X61","v":-2.2416666666666671},{"$f":"ETT!C163","v":209171},{"$f":"DNIs!B159","v":38885.208716338595},{"$f":"sabi!B159*1000","v":259368347.29585207},205269817.02718616,144598,16705373,97.770422293550112,17419314.583726369,4512153,16705373,17419314.583726369,14363103.227478564,10992190.208580371,3370923.571485288,null,null,null,null,null,null,null,null,3.3206151722363408,3.036333918065877,4512153,-6.2407038690606047,21.266159871796553,23.469326357247468,90.196748033742196,1.153547622534945,18.900954124494316,79.142200336821489,69.129085771928231]
["2015-03-01",{"$f":"'SEPE contratos'!E179","v":1441775},{"$f":"'SEPE contratos'!H179","v":144291},{"$f":"'SEPE contratos'!M179","v":1297484},{"$f":"Iass!B167","v":92.790999999999997},{"$f":"Iass!N167","v":93.721999999999994},{"$f":"Iass!Y167","v":99.006636648812446},{"$f":"Iass!Z167","v":1.8999999999999986},{"$f":"'Comision Europea'!R62","v":20.116666666666664},{"$f":"'Comision Europea'!S62","v":15.450000000000001},{"$f":"'Comision Europea'!T62","v":19.95},{"$f":"'Comision Europea'!U62","v":24.983333333333334},{"$f":"'Comision Europea'!V62","v":20.416666666666668},{"$f":"'Comision Europea'!W62","v":18.533333333333335},{"$f":"'Comision Europea'!X62","v":-0.67500000000000016},{"$f":"ETT!C164","v":247535},{"$f":"DNIs!B160","v":42125.101137185688},{"$f":"sabi!B160*1000","v":283896575.76532203},228958856.96233633,172644,16826434,98.128067204960388,17523181.840323638,4451939,16826434,17523181.840323638,14455214.114761189,11013481.903158005,3441707.4494472006,null,null,null,null,null,null,null,null,3.4217734895392482,3.2641007856568263,4451939,-7.1713221345216844,20.922365633876236,23.809453268026257,89.99212775918572,1.2239593793467753,19.078077263380511,80.648685650791734,69.745288545054223]
["2015-04-01",{"$f":"'SEPE contratos'!E180","v":1440381},{"$f":"'SEPE contratos'!H180","v":123459},{"$f":"'SEPE contratos'!M180","v":1316922},{"$f":"Iass!B168","v":89.795000000000002},{"$f":"Iass!N168","v":96.703000000000003},{"$f":"Iass!Y168","v":92.856478082375943},{"$f":"Iass!Z168","v":3.5},{"$f":"'Comision Europea'!R63","v":22.375},{"$f":"'Comision Europea'!S63","v":18.158333333333331},{"$f":"'Comision Europea'!T63","v":20.158333333333331},{"$f":"'Comision Europea'!U63","v":28.858333333333334},{"$f":"'Comision Europea'!V63","v":19.574999999999999},{"$f":"'Comision Europea'!W63","v":22},{"$f":"'Comision Europea'!X63","v":0.25},{"$f":"ETT!C165","v":236995},{"$f":"DNIs!B161","v":43407.064706586243},{"$f":"sabi!B161*1000","v":274730232.68255639},222199034.0040389,169105,16980816,98.413932957771181,17733505.34573032,4333016,16980816,17733505.34573032,14639715.319598762,11050102.971988181,3589520.6129502156,null,null,null,null,null,null,null,null,3.4100725461704062,3.4389511054104003,4333016,-7.4991978525718146,20.329596292210617,24.519060204297709,91.4287261495396,1.2092719164220125,17.996130370667359,80.878988757230843,71.353826030085017]
["2015-05-01",{"$f":"'SEPE contratos'!E181","v":1573293},{"$f":"'SEPE contratos'!H181","v":124605},{"$f":"'SEPE contratos'!M181","v":1448688},{"$f":"Iass!B169","v":99.076999999999998},{"$f":"Iass!N169","v":103.06399999999999},{"$f":"Iass!Y169","v":96.131529923154545},{"$f":"Iass!Z169","v":0},{"$f":"'Comision Europea'!R64","v":26.333333333333332},{"$f":"'Comision Europea'!S64","v":22.625},{"$f":"'Comision Europea'!T64","v":24.383333333333336},{"$f":"'Comision Europea'!U64","v":32.033333333333339},{"$f":"'Comision Europea'!V64","v":22.808333333333334},{"$f":"'Comision Europea'!W64","v":22.783333333333331},{"$f":"'Comision Europea'!X64","v":1.1083333333333336},{"$f":"ETT!C166","v":271494},{"$f":"DNIs!B162","v":47475.473397904847},{"$f":"sabi!B162*1000","v":303128762.8875733},243556211.6297586,183107,17248258,98.743735461053618,17885832.212781362,4215031,17248258,17885832.212781362,14777779.131106727,11065181.010203009,3712483.4441125342,null,null,null,null,null,null,null,null,3.6344393095987471,3.5915981000824346,4215031,-7.815483604289664,19.638327564801461,25.122066118161708,92.079987643751039,1.2788063330812731,18.740681223286174,80.347443545002889,67.44421607844005]
["2015-06-01",{"$f":"'SEPE contratos'!E182","v":1726117},{"$f":"'SEPE contratos'!H182","v":126856},{"$f":"'SEPE contratos'!M182","v":1599261},{"$f":"Iass!B170","v":107.239},{"$f":"Iass!N170","v":104.929},{"$f":"Iass!Y170","v":102.20148862564211},{"$f":"Iass!Z170","v":5.6999999999999993},{"$f":"'Comision Europea'!R65","v":28.833333333333332},{"$f":"'Comision Europea'!S65","v":26.924999999999997},{"$f":"'Comision Europea'!T65","v":27.566666666666666},{"$f":"'Comision Europea'!U65","v":32.05833333333333},{"$f":"'Comision Europea'!V65","v":24.958333333333332},{"$f":"'Comision Europea'!W65","v":20.791666666666668},{"$f":"'Comision Europea'!X65","v":-2.4999999999999616E-2},{"$f":"ETT!C167","v":286927},{"$f":"DNIs!B163","v":48882.077624515237},{"$f":"sabi!B163*1000","v":328100622.78127587},270713085.81392014,200905,17075016,99.098094207976246,17980162.441476777,4120304,17075016,17980162.441476777,14869405.549285082,11058716.017802473,3810595.9429341587,null,null,null,null,null,null,null,null,3.1362387061394381,3.710906593802898,4120304,-7.4026771686457105,19.43968762915587,25.627090002379894,92.650787866639391,1.2827935146248028,17.941224102882519,82.509165486829204,70.019552011487235]
["2015-07-01",{"$f":"'SEPE contratos'!E183","v":1795713},{"$f":"'SEPE contratos'!H183","v":123839},{"$f":"'SEPE contratos'!M183","v":1671874},{"$f":"Iass!B171","v":121.408},{"$f":"Iass!N171","v":104.613},{"$f":"Iass!Y171","v":116.05441006375881},{"$f":"Iass!Z171","v":4.7999999999999989},{"$f":"'Comision Europea'!R66","v":31.608333333333334},{"$f":"'Comision Europea'!S66","v":32.074999999999996},{"$f":"'Comision Europea'!T66","v":30.299999999999997},{"$f":"'Comision Europea'!U66","v":32.5},{"$f":"'Comision Europea'!V66","v":29.283333333333335},{"$f":"'Comision Europea'!W66","v":25.933333333333337},{"$f":"'Comision Europea'!X66","v":-1.7749999999999997},{"$f":"ETT!C168","v":265407},{"$f":"DNIs!B164","v":50968.852799519183},{"$f":"sabi!B164*1000","v":371451061.74646479},301814967.83747554,193688,17127908,99.45442689939533,18016496.031816583,4046276,17127908,18016496.031816583,14914594.574133834,11030707.994786588,3883858.1094150888,null,null,null,null,null,null,null,null,3.1484909032153841,3.7811195599483614,4046276,-8.4523944197327552,19.109477843396469,26.040654944458279,93.103630702679112,1.3123253054987409,15.874820710173134,81.252956020214683,72.977728545215456]
["2015-08-01",{"$f":"'SEPE contratos'!E184","v":1248146},{"$f":"'SEPE contratos'!H184","v":80290},{"$f":"'SEPE contratos'!M184","v":1167856},{"$f":"Iass!B172","v":95.63},{"$f":"Iass!N172","v":94.74},{"$f":"Iass!Y172","v":100.93941313067343},{"$f":"Iass!Z172","v":5.6},{"$f":"'Comision Europea'!R67","v":35.858333333333334},{"$f":"'Comision Europea'!S67","v":36.550000000000004},{"$f":"'Comision Europea'!T67","v":36.5},{"$f":"'Comision Europea'!U67","v":34.55833333333333},{"$f":"'Comision Europea'!V67","v":37.625000000000007},{"$f":"'Comision Europea'!W67","v":26.683333333333337},{"$f":"'Comision Europea'!X67","v":-0.76666666666666661},{"$f":"ETT!C169","v":229251},{"$f":"DNIs!B165","v":41665.536505387456},{"$f":"sabi!B165*1000","v":292582573.09909087},242881829.07986039,174696,16983303,99.796797189016502,18049732.40553616,4067955,16983303,18049732.40553616,14951620.899743253,11030074.992941057,3921555.0689732283,null,null,null,null,null,null,null,null,2.2405899760136627,3.8726829509437555,4067955,-8.1296452292606283,19.324047047449611,26.228293877091069,93.56725895848723,1.0624748543005069,19.630074255730161,83.013088068509816,76.202939136579559]
["2015-09-01",{"$f":"'SEPE contratos'!E185","v":1795742},{"$f":"'SEPE contratos'!H185","v":152928},{"$f":"'SEPE contratos'!M185","v":1642814},{"$f":"Iass!B173","v":109.75700000000001},{"$f":"Iass!N173","v":102.21899999999999},{"$f":"Iass!Y173","v":107.37436288752582},{"$f":"Iass!Z173","v":3.4000000000000004},{"$f":"'Comision Europea'!R68","v":34.458333333333336},{"$f":"'Comision Europea'!S68","v":34.15},{"$f":"'Comision Europea'!T68","v":31.491666666666664},{"$f":"'Comision Europea'!U68","v":37.766666666666666},{"$f":"'Comision Europea'!V68","v":36.94166666666667},{"$f":"'Comision Europea'!W68","v":26.258333333333336},{"$f":"'Comision Europea'!X68","v":2.2249999999999992},{"$f":"ETT!C170","v":260489},{"$f":"DNIs!B166","v":49358.082588399426},{"$f":"sabi!B166*1000","v":335804511.92760563},268733230.08056289,185882,17072551,100.12517375862973,18079871.562635597,4094042,17072551,18079871.562635597,14980484.526113367,11056817.012265909,3923686.82160859,null,null,null,null,null,null,null,null,3.0586832408398656,3.985200633084272,4094042,-7.9504457410092932,19.341998024906513,26.191988748888463,91.483854584901394,1.2579516366233363,15.856268573313839,80.026688306825875,71.358867361001813]
["2015-10-01",{"$f":"'SEPE contratos'!E186","v":1760610},{"$f":"'SEPE contratos'!H186","v":151652},{"$f":"'SEPE contratos'!M186","v":1608958},{"$f":"Iass!B174","v":106.443},{"$f":"Iass!N174","v":107.047},{"$f":"Iass!Y174","v":99.435761861612193},{"$f":"Iass!Z174","v":4.9000000000000004},{"$f":"'Comision Europea'!R69","v":34.708333333333336},{"$f":"'Comision Europea'!S69","v":34.583333333333336},{"$f":"'Comision Europea'!T69","v":31.191666666666666},{"$f":"'Comision Europea'!U69","v":38.375},{"$f":"'Comision Europea'!V69","v":34.250000000000007},{"$f":"'Comision Europea'!W69","v":28.158333333333335},{"$f":"'Comision Europea'!X69","v":1.9416666666666662},{"$f":"ETT!C171","v":298803},{"$f":"DNIs!B167","v":52592.622342985975},{"$f":"sabi!B167*1000","v":325665239.23859179},261992577.12830567,199180,17209036,100.45160076319074,18106913.503114838,4176369,17209036,18106913.503114838,15001185.453244176,11110934.052761132,3890253.3673211676,null,null,null,null,null,null,null,null,3.8246786201850291,4.1277204075911467,4176369,-7.7413336208062011,19.529061993448334,25.932972960345985,91.38639448827395,1.3519073792152851,18.571211927222464,80.448431567595804,66.659303956118237]
["2015-11-01",{"$f":"'SEPE contratos'!E187","v":1604843},{"$f":"'SEPE contratos'!H187","v":132867},{"$f":"'SEPE contratos'!M187","v":1471976},{"$f":"Iass!B175","v":104.852},{"$f":"Iass!N175","v":107.937},{"$f":"Iass!Y175","v":97.141851265089826},{"$f":"Iass!Z175","v":8.9},{"$f":"'Comision Europea'!R70","v":38.783333333333339},{"$f":"'Comision Europea'!S70","v":39.558333333333337},{"$f":"'Comision Europea'!T70","v":35.208333333333336},{"$f":"'Comision Europea'!U70","v":41.616666666666667},{"$f":"'Comision Europea'!V70","v":39.300000000000004},{"$f":"'Comision Europea'!W70","v":30.166666666666668},{"$f":"'Comision Europea'!X70","v":2.566666666666666},{"$f":"ETT!C172","v":296266},{"$f":"DNIs!B168","v":50579.637495716684},{"$f":"sabi!B168*1000","v":320797531.68028736},260565964.74729463,192380,17208793,100.73459410546144,18104138.860895589,4149298,17208793,18104138.860895589,14997071.595091345,11148212.773312464,3848854.9782576575,null,null,null,null,null,null,null,null,2.8545668299744476,4.1314759788624773,4149298,-8.0409723508881434,19.427288702908889,25.664043502448951,91.72087238440146,1.3141476564184196,20.127094463496686,81.224429434506803,64.934889592460834]
["2015-12-01",{"$f":"'SEPE contratos'!E188","v":1594915},{"$f":"'SEPE contratos'!H188","v":107858},{"$f":"'SEPE contratos'!M188","v":1487057},{"$f":"Iass!B176","v":105.078},{"$f":"Iass!N176","v":105.538},{"$f":"Iass!Y176","v":99.564138035589082},{"$f":"Iass!Z176","v":6.1999999999999993},{"$f":"'Comision Europea'!R71","v":41.766666666666673},{"$f":"'Comision Europea'!S71","v":46.925000000000004},{"$f":"'Comision Europea'!T71","v":35.233333333333334},{"$f":"'Comision Europea'!U71","v":43.183333333333337},{"$f":"'Comision Europea'!V71","v":39.908333333333339},{"$f":"'Comision Europea'!W71","v":31.850000000000005},{"$f":"'Comision Europea'!X71","v":2.9166666666666661},{"$f":"ETT!C173","v":275116},{"$f":"DNIs!B169","v":49064.450610678097},{"$f":"sabi!B169*1000","v":321488984.79667759},250421099.12188354,182052,17180590,101.01425161609787,18071547.635977838,4093508,17180590,18071547.635977838,14968142.951654876,11168653.173919922,3799491.6544180578,null,null,null,null,null,null,null,null,3.175052144249868,4.0035154421734127,4093508,-7.9637143690316154,19.24174646558458,25.383854675158528,93.237382556437183,1.2913425024536069,18.500703066526704,77.89414597836371,66.172814376481199]
["2016-01-01",{"$f":"'SEPE contratos'!E189","v":1396929},{"$f":"'SEPE contratos'!H189","v":125612},{"$f":"'SEPE contratos'!M189","v":1271317},{"$f":"Iass!B177","v":90.872},{"$f":"Iass!N177","v":100.075},{"$f":"Iass!Y177","v":90.803897077192104},{"$f":"Iass!Z177","v":-1.3999999999999986},{"$f":"'Comision Europea'!R72","v":45.408333333333331},{"$f":"'Comision Europea'!S72","v":50.70000000000001},{"$f":"'Comision Europea'!T72","v":39.616666666666674},{"$f":"'Comision Europea'!U72","v":45.974999999999994},{"$f":"'Comision Europea'!V72","v":39.449999999999996},{"$f":"'Comision Europea'!W72","v":33.250000000000007},{"$f":"'Comision Europea'!X72","v":1.8749999999999993},{"$f":"ETT!C174","v":264702},{"$f":"DNIs!B170","v":50330.706868341418},{"$f":"sabi!B170*1000","v":288384901.99589646},227000351.28068832,175552,17112224,101.00764405988728,18009139.828361589,4150755,17112224,18009139.828361589,14914399.522934772,11172255.254583484,3742163.3958023703,null,null,null,null,null,null,null,null,3.1497327889069338,3.7438363876105907,4150755,-8.2846133330799603,19.521041712922731,25.090942414730272,91.007989668766271,1.3449628341936641,20.821085535708246,78.714367399136037,66.320617146829264]
["2016-02-01",{"$f":"'SEPE contratos'!E190","v":1377480},{"$f":"'SEPE contratos'!H190","v":139364},{"$f":"'SEPE contratos'!M190","v":1238116},{"$f":"Iass!B178","v":95.471999999999994},{"$f":"Iass!N178","v":97.504999999999995},{"$f":"Iass!Y178","v":97.91497871904005},{"$f":"Iass!Z178","v":3.1999999999999993},{"$f":"'Comision Europea'!R73","v":46.558333333333337},{"$f":"'Comision Europea'!S73","v":51.183333333333344},{"$f":"'Comision Europea'!T73","v":40.841666666666669},{"$f":"'Comision Europea'!U73","v":47.708333333333336},{"$f":"'Comision Europea'!V73","v":39.408333333333331},{"$f":"'Comision Europea'!W73","v":32.608333333333334},{"$f":"'Comision Europea'!X73","v":1.075},{"$f":"ETT!C175","v":243391},{"$f":"DNIs!B171","v":42846.497581994445},{"$f":"sabi!B171*1000","v":302983134.11559367},241066786.17486185,165959,17136666,101.24402553100882,18008883.005183361,4152986,17136666,18008883.005183361,14916489.023551233,11190139.333810123,3726358.7842958793,null,null,null,null,null,null,null,null,2.581762167178181,3.5528160316515733,4152986,-7.9599916048946007,19.507063807337012,24.981473712831715,89.882684322095415,1.1498221202575527,19.658174193694293,79.564424230587832,68.186169578990189]
["2016-03-01",{"$f":"'SEPE contratos'!E191","v":1508881},{"$f":"'SEPE contratos'!H191","v":150726},{"$f":"'SEPE contratos'!M191","v":1358155},{"$f":"Iass!B179","v":103.392},{"$f":"Iass!N179","v":101.212},{"$f":"Iass!Y179","v":102.15389479508359},{"$f":"Iass!Z179","v":3.4000000000000004},{"$f":"'Comision Europea'!R74","v":46.15},{"$f":"'Comision Europea'!S74","v":51.166666666666679},{"$f":"'Comision Europea'!T74","v":39.808333333333337},{"$f":"'Comision Europea'!U74","v":47.533333333333331},{"$f":"'Comision Europea'!V74","v":38.399999999999991},{"$f":"'Comision Europea'!W74","v":32.016666666666666},{"$f":"'Comision Europea'!X74","v":-0.93333333333333357},{"$f":"ETT!C176","v":266262},{"$f":"DNIs!B172","v":45640.063446965039},{"$f":"sabi!B172*1000","v":328117481.59124619},250361676.62313125,183929,17263972,101.49414198624606,18070777.16644321,4094770,17263972,18070777.16644321,14974411.453504303,11222305.411599852,3752077.8198985988,null,null,null,null,null,null,null,null,2.600301406703287,3.430287457160385,4094770,-8.0227738969469229,19.171400637734191,25.056596257881907,90.010743060585966,1.2163943723373647,19.604684295975055,76.302449783830909,69.078201170275904]
["2016-04-01",{"$f":"'SEPE contratos'!E192","v":1541729},{"$f":"'SEPE contratos'!H192","v":145896},{"$f":"'SEPE contratos'!M192","v":1395833},{"$f":"Iass!B180","v":103.226},{"$f":"Iass!N180","v":104.85299999999999},{"$f":"Iass!Y180","v":98.448303815818335},{"$f":"Iass!Z180","v":6.6},{"$f":"'Comision Europea'!R75","v":44.908333333333331},{"$f":"'Comision Europea'!S75","v":47.81666666666667},{"$f":"'Comision Europea'!T75","v":38.966666666666669},{"$f":"'Comision Europea'!U75","v":48},{"$f":"'Comision Europea'!V75","v":36.35},{"$f":"'Comision Europea'!W75","v":33.491666666666667},{"$f":"'Comision Europea'!X75","v":1.825},{"$f":"ETT!C177","v":273915},{"$f":"DNIs!B173","v":48194.921663632114},{"$f":"sabi!B173*1000","v":327590675.82344848},263007210.76130489,189564,17536670,101.73864609909241,18194822.312141094,4011171,17536670,18194822.312141094,15088166.812793942,11268753.487952657,3819320.5026105191,null,null,null,null,null,null,null,null,3.2734233737648388,3.3782951675631456,4011171,-7.4277362465312802,18.615187479803659,25.313350190242751,90.536858293513319,1.2618716243030852,19.623765880302297,80.285316454809546,69.205410437544487]
["2016-05-01",{"$f":"'SEPE contratos'!E193","v":1748449},{"$f":"'SEPE contratos'!H193","v":145760},{"$f":"'SEPE contratos'!M193","v":1602689},{"$f":"Iass!B181","v":110.941},{"$f":"Iass!N181","v":111.40300000000001},{"$f":"Iass!Y181","v":99.585289444628955},{"$f":"Iass!Z181","v":3.9000000000000004},{"$f":"'Comision Europea'!R76","v":43.116666666666667},{"$f":"'Comision Europea'!S76","v":46.816666666666663},{"$f":"'Comision Europea'!T76","v":36.241666666666667},{"$f":"'Comision Europea'!U76","v":46.35},{"$f":"'Comision Europea'!V76","v":37.908333333333331},{"$f":"'Comision Europea'!W76","v":33.733333333333334},{"$f":"'Comision Europea'!X76","v":1.4666666666666661},{"$f":"ETT!C178","v":311082},{"$f":"DNIs!B174","v":51042.635269911181},{"$f":"sabi!B174*1000","v":352074449.91115803},270004703.6088537,211534,17598892,102.01759932735708,18305466.864456799,3891403,17598892,18305466.864456799,15191330.543018484,11289775.391074726,3901440.7963298331,null,null,null,null,null,null,null,null,2.0328661595855113,3.3155155119635276,3891403,-7.6779506485242894,18.107722578959478,25.682021632547698,91.663468594165451,1.3083021871798761,19.410004061923431,76.689661427287987,67.999434232774632]
["2016-06-01",{"$f":"'SEPE contratos'!E194","v":1920340},{"$f":"'SEPE contratos'!H194","v":148395},{"$f":"'SEPE contratos'!M194","v":1771945},{"$f":"Iass!B182","v":116.785},{"$f":"Iass!N182","v":114.262},{"$f":"Iass!Y182","v":102.20808317725927},{"$f":"Iass!Z182","v":0},{"$f":"'Comision Europea'!R77","v":39.991666666666667},{"$f":"'Comision Europea'!S77","v":42.433333333333337},{"$f":"'Comision Europea'!T77","v":31.024999999999995},{"$f":"'Comision Europea'!U77","v":46.550000000000004},{"$f":"'Comision Europea'!V77","v":35.9},{"$f":"'Comision Europea'!W77","v":34.475000000000001},{"$f":"'Comision Europea'!X77","v":3.6083333333333338},{"$f":"ETT!C179","v":318281},{"$f":"DNIs!B175","v":54251.460925620653},{"$f":"sabi!B175*1000","v":370620551.76061678},290023474.22477943,217649,17569070,102.32477788916503,18402710.823390312,3767054,17569070,18402710.823390312,15283902.644177921,11285371.120966069,3998438.7010565423,null,null,null,null,null,null,null,null,2.8934321349977088,3.2560501864112252,3767054,-8.5733965260815665,17.655756031414143,26.161110772186596,92.272462168157716,1.3568161220349662,17.962239234287747,78.253478617695521,68.382655577932709]
["2016-07-01",{"$f":"'SEPE contratos'!E195","v":1816271},{"$f":"'SEPE contratos'!H195","v":137390},{"$f":"'SEPE contratos'!M195","v":1678881},{"$f":"Iass!B183","v":125.652},{"$f":"Iass!N183","v":114.806},{"$f":"Iass!Y183","v":109.44724143337456},{"$f":"Iass!Z183","v":-6.1999999999999993},{"$f":"'Comision Europea'!R78","v":41.241666666666667},{"$f":"'Comision Europea'!S78","v":40.074999999999996},{"$f":"'Comision Europea'!T78","v":31.824999999999999},{"$f":"'Comision Europea'!U78","v":51.866666666666674},{"$f":"'Comision Europea'!V78","v":37.966666666666669},{"$f":"'Comision Europea'!W78","v":37.299999999999997},{"$f":"'Comision Europea'!X78","v":6.3583333333333334},{"$f":"ETT!C180","v":285853},{"$f":"DNIs!B176","v":54396.744654060974},{"$f":"sabi!B176*1000","v":398760230.93569404},306913963.30116636,205096,17805681,102.65491835616533,18486554.188941669,3683061,17805681,18486554.188941669,15365883.116272263,11255540.677626692,4110314.2167906491,null,null,null,null,null,null,null,null,3.9571265796149779,3.2180482624544173,3683061,-8.9765255756157014,17.139490994866055,26.749612669107719,92.43560019402392,1.3234205898870228,17.026400322595826,76.967044226298668,71.748765974119564]
["2016-08-01",{"$f":"'SEPE contratos'!E196","v":1451789},{"$f":"'SEPE contratos'!H196","v":105129},{"$f":"'SEPE contratos'!M196","v":1346660},{"$f":"Iass!B184","v":109.36799999999999},{"$f":"Iass!N184","v":106.11799999999999},{"$f":"Iass!Y184","v":103.06262839480578},{"$f":"Iass!Z184","v":2.4000000000000004},{"$f":"'Comision Europea'!R79","v":39.483333333333334},{"$f":"'Comision Europea'!S79","v":38.1},{"$f":"'Comision Europea'!T79","v":28.758333333333329},{"$f":"'Comision Europea'!U79","v":51.650000000000006},{"$f":"'Comision Europea'!V79","v":31.816666666666663},{"$f":"'Comision Europea'!W79","v":38.133333333333333},{"$f":"'Comision Europea'!X79","v":5.7166666666666659},{"$f":"ETT!C181","v":258953},{"$f":"DNIs!B177","v":48717.33297062225},{"$f":"sabi!B177*1000","v":347082489.2319659},282512008.08607727,198154,17452445,102.91100602268618,18538224.38862028,3697496,17452445,18538224.38862028,15415415.897089224,11245652.558570188,4169772.4331304017,null,null,null,null,null,null,null,null,2.7623719602718033,3.1205498787414339,3697496,-9.1067624887689274,17.482299359605779,27.049367081414573,92.758658455188737,1.1683451255887447,19.22927836276417,81.396214689835816,76.521221997814266]
["2016-09-01",{"$f":"'SEPE contratos'!E197","v":1907000},{"$f":"'SEPE contratos'!H197","v":171012},{"$f":"'SEPE contratos'!M197","v":1735988},{"$f":"Iass!B185","v":119.089},{"$f":"Iass!N185","v":114.053},{"$f":"Iass!Y185","v":104.41549104363762},{"$f":"Iass!Z185","v":-3.0999999999999996},{"$f":"'Comision Europea'!R80","v":38.958333333333336},{"$f":"'Comision Europea'!S80","v":36.06666666666667},{"$f":"'Comision Europea'!T80","v":28.700000000000003},{"$f":"'Comision Europea'!U80","v":52.166666666666664},{"$f":"'Comision Europea'!V80","v":33.608333333333341},{"$f":"'Comision Europea'!W80","v":41.391666666666666},{"$f":"'Comision Europea'!X80","v":4.5250000000000004},{"$f":"ETT!C182","v":296811},{"$f":"DNIs!B178","v":53931.912987476324},{"$f":"sabi!B178*1000","v":377932361.93535209},299676331.11694717,207943,17603313,103.09969748001717,18557721.422426198,3720297,17603313,18557721.422426198,15432500.986628814,11255706.76379656,4176813.350075806,null,null,null,null,null,null,null,null,3.1088617043814937,2.9708050530409809,3720297,-9.1289976995839304,17.446844131927005,27.065045086954626,91.032406921866809,1.2912215238561593,17.097526019765112,79.293641217263328,70.059061153393912]
["2016-10-01",{"$f":"'SEPE contratos'!E198","v":1867360},{"$f":"'SEPE contratos'!H198","v":166830},{"$f":"'SEPE contratos'!M198","v":1700530},{"$f":"Iass!B186","v":113.93},{"$f":"Iass!N186","v":115.544},{"$f":"Iass!Y186","v":98.603129543723611},{"$f":"Iass!Z186","v":-0.90000000000000036},{"$f":"'Comision Europea'!R81","v":38.875},{"$f":"'Comision Europea'!S81","v":35.383333333333333},{"$f":"'Comision Europea'!T81","v":28.016666666666669},{"$f":"'Comision Europea'!U81","v":53.300000000000004},{"$f":"'Comision Europea'!V81","v":36.31666666666667},{"$f":"'Comision Europea'!W81","v":41.608333333333327},{"$f":"'Comision Europea'!X81","v":5.3500000000000005},{"$f":"ETT!C183","v":332326},{"$f":"DNIs!B179","v":56386.864808208062},{"$f":"sabi!B179*1000","v":361560127.26023954},281198921.78282785,225634,17666175,103.23452056556971,18545045.290359378,3764982,17666175,18545045.290359378,15417138.384891009,11285703.293305807,4131436.9676268543,null,null,null,null,null,null,null,null,2.6563893526633242,2.7704086159259456,3764982,-9.8503508669851687,17.5677962697021,26.797690106198402,91.065996915431413,1.3648245211059662,19.542495574909001,77.773764467238877,67.895379837870038]
["2016-11-01",{"$f":"'SEPE contratos'!E199","v":1743708},{"$f":"'SEPE contratos'!H199","v":154854},{"$f":"'SEPE contratos'!M199","v":1588854},{"$f":"Iass!B187","v":119.699},{"$f":"Iass!N187","v":120.35599999999999},{"$f":"Iass!Y187","v":99.454119445644594},{"$f":"Iass!Z187","v":2.6999999999999993},{"$f":"'Comision Europea'!R82","v":36.408333333333331},{"$f":"'Comision Europea'!S82","v":32.133333333333333},{"$f":"'Comision Europea'!T82","v":24.658333333333331},{"$f":"'Comision Europea'!U82","v":52.5},{"$f":"'Comision Europea'!V82","v":32.958333333333336},{"$f":"'Comision Europea'!W82","v":44.366666666666667},{"$f":"'Comision Europea'!X82","v":7.2749999999999995},{"$f":"ETT!C184","v":323282},{"$f":"DNIs!B180","v":59538.492145633936},{"$f":"sabi!B180*1000","v":379868214.45557278},302079308.2368536,220328,17734106,103.43053928687428,18514167.28957016,3789823,17734106,18514167.28957016,15389493.945785865,11313299.955702122,4076190.1462936769,null,null,null,null,null,null,null,null,3.0525848035942937,2.6762853470083852,3789823,-8.6635136835194757,17.60748699737859,26.486836803427629,91.11926996951324,1.4606406965526375,20.346866357764778,79.522133398234899,68.1535006588675]
["2016-12-01",{"$f":"'SEPE contratos'!E200","v":1699018},{"$f":"'SEPE contratos'!H200","v":122294},{"$f":"'SEPE contratos'!M200","v":1576724},{"$f":"Iass!B188","v":117.117},{"$f":"Iass!N188","v":115.708},{"$f":"Iass!Y188","v":101.2177204687662},{"$f":"Iass!Z188","v":1.9000000000000004},{"$f":"'Comision Europea'!R83","v":37.108333333333334},{"$f":"'Comision Europea'!S83","v":31.716666666666665},{"$f":"'Comision Europea'!T83","v":25.416666666666668},{"$f":"'Comision Europea'!U83","v":54.25},{"$f":"'Comision Europea'!V83","v":31.241666666666671},{"$f":"'Comision Europea'!W83","v":44.841666666666661},{"$f":"'Comision Europea'!X83","v":9.9},{"$f":"ETT!C185","v":306679},{"$f":"DNIs!B181","v":54645.366677533646},{"$f":"sabi!B181*1000","v":371674163.29621232},276641661.88373399,208182,17741897,103.71867005973031,18465087.420058519,3702974,17741897,18465087.420058519,15349567.669313358,11338496.750985501,4011072.8860762715,null,null,null,null,null,null,null,null,3.2670996746910319,2.6772642477326047,3702974,-9.5403258036871996,17.267410934763841,26.131503977764485,92.802077435318523,1.3623628447946023,19.450392078765848,74.431232838549363,67.882704717310276]
["2017-01-01",{"$f":"'SEPE contratos'!E201","v":1633592},{"$f":"'SEPE contratos'!H201","v":150162},{"$f":"'SEPE contratos'!M201","v":1483430},{"$f":"Iass!B189","v":109.866},{"$f":"Iass!N189","v":111.443},{"$f":"Iass!Y189","v":98.584926823577973},{"$f":"Iass!Z189","v":9.4999999999999982},{"$f":"'Comision Europea'!R84","v":35.766666666666666},{"$f":"'Comision Europea'!S84","v":30.533333333333331},{"$f":"'Comision Europea'!T84","v":23.758333333333329},{"$f":"'Comision Europea'!U84","v":53.06666666666667},{"$f":"'Comision Europea'!V84","v":33.091666666666669},{"$f":"'Comision Europea'!W84","v":41.708333333333336},{"$f":"'Comision Europea'!X84","v":12.066666666666668},{"$f":"ETT!C186","v":316513},{"$f":"DNIs!B182","v":58051.080564509946},{"$f":"sabi!B182*1000","v":350142722.74439716},264975684.52649346,212821,17603835,103.79536915414455,18397805.681824461,3760231,17603835,18397805.681824461,15297359.555473497,11361293.679155935,3936085.1869746353,null,null,null,null,null,null,null,null,2.8728644505822354,2.7599149749542025,3760231,-9.4085051996564477,17.600727314734936,25.730487491655236,90.807863897472558,1.4748430942656841,21.336564583431642,75.676479136744661,67.239260314742211]
["2017-02-01",{"$f":"'SEPE contratos'!E202","v":1452528},{"$f":"'SEPE contratos'!H202","v":151072},{"$f":"'SEPE contratos'!M202","v":1301456},{"$f":"Iass!B190","v":109.441},{"$f":"Iass!N190","v":107.75},{"$f":"Iass!Y190","v":101.56937354988401},{"$f":"Iass!Z190","v":4.0999999999999996},{"$f":"'Comision Europea'!R85","v":35.18333333333333},{"$f":"'Comision Europea'!S85","v":29.716666666666665},{"$f":"'Comision Europea'!T85","v":25},{"$f":"'Comision Europea'!U85","v":50.900000000000006},{"$f":"'Comision Europea'!V85","v":30.900000000000006},{"$f":"'Comision Europea'!W85","v":40.125},{"$f":"'Comision Europea'!X85","v":12.358333333333334},{"$f":"ETT!C187","v":266143},{"$f":"DNIs!B183","v":47839.474931480559},{"$f":"sabi!B183*1000","v":348788248.59255427},264704995.43320668,177524,17728908,104.12958985349366,18411355.985894643,3750876,17728908,18411355.985894643,15316887.860405993,11388897.651829962,3927999.3719674647,null,null,null,null,null,null,null,null,3.4559931319195991,2.8501082482156415,3750876,-9.6824309063406453,17.462354370043943,25.644892146277996,89.599374332198749,1.2179094343265799,20.449634870483521,75.892750544594307,66.702487008863656]
["2017-03-01",{"$f":"'SEPE contratos'!E203","v":1732773},{"$f":"'SEPE contratos'!H203","v":178428},{"$f":"'SEPE contratos'!M203","v":1554345},{"$f":"Iass!B191","v":126.072},{"$f":"Iass!N191","v":112.384},{"$f":"Iass!Y191","v":112.17966970387243},{"$f":"Iass!Z191","v":10.899999999999999},{"$f":"'Comision Europea'!R86","v":33.449999999999996},{"$f":"'Comision Europea'!S86","v":26.783333333333335},{"$f":"'Comision Europea'!T86","v":21.108333333333334},{"$f":"'Comision Europea'!U86","v":52.516666666666673},{"$f":"'Comision Europea'!V86","v":26.675000000000001},{"$f":"'Comision Europea'!W86","v":39.68333333333333},{"$f":"'Comision Europea'!X86","v":13.466666666666669},{"$f":"ETT!C188","v":296002},{"$f":"DNIs!B184","v":53293.370020752925},{"$f":"sabi!B184*1000","v":401791212.40266907},305008132.35298514,201316,17852834,104.48094964901422,18505738.332269028,3702317,17852834,18505738.332269028,15408152.584110821,11421308.669007564,3986815.4410547498,null,null,null,null,null,null,null,null,3.41092999919137,2.9428374922100602,3702317,-9.5842501532442554,17.176019782927987,25.874714176740625,89.702748138388586,1.3367403334490362,19.043519939267021,75.912096366933639,68.011702623630924]
["2017-04-01",{"$f":"'SEPE contratos'!E204","v":1604476},{"$f":"'SEPE contratos'!H204","v":151448},{"$f":"'SEPE contratos'!M204","v":1453028},{"$f":"Iass!B192","v":113.685},{"$f":"Iass!N192","v":113.54300000000001},{"$f":"Iass!Y192","v":100.12506275155668},{"$f":"Iass!Z192","v":1.7999999999999989},{"$f":"'Comision Europea'!R87","v":33.266666666666659},{"$f":"'Comision Europea'!S87","v":26.533333333333331},{"$f":"'Comision Europea'!T87","v":19.133333333333336},{"$f":"'Comision Europea'!U87","v":54.17499999999999},{"$f":"'Comision Europea'!V87","v":25.55},{"$f":"'Comision Europea'!W87","v":41.808333333333337},{"$f":"'Comision Europea'!X87","v":12.908333333333333},{"$f":"ETT!C189","v":300996},{"$f":"DNIs!B185","v":54158.30322754979},{"$f":"sabi!B185*1000","v":362313868.12295693},273144021.78702712,208427,18184000,104.83291686448059,18680952.720947683,3573036,18184000,18680952.720947683,15571153.726588024,11458526.730688768,4112533.3942364994,null,null,null,null,null,null,null,null,3.6912937290831227,3.0413917267725332,3573036,-10.922870154376362,16.422439159451681,26.41123109082325,90.560905865840311,1.3169085338844864,20.715086013483567,75.388784647440374,69.245770707916392]
["2017-05-01",{"$f":"'SEPE contratos'!E205","v":2027569},{"$f":"'SEPE contratos'!H205","v":167267},{"$f":"'SEPE contratos'!M205","v":1860302},{"$f":"Iass!B193","v":136.22},{"$f":"Iass!N193","v":124.492},{"$f":"Iass!Y193","v":109.42068566654885},{"$f":"Iass!Z193","v":11.100000000000001},{"$f":"'Comision Europea'!R88","v":33.841666666666661},{"$f":"'Comision Europea'!S88","v":25.833333333333329},{"$f":"'Comision Europea'!T88","v":21.575000000000003},{"$f":"'Comision Europea'!U88","v":54.166666666666664},{"$f":"'Comision Europea'!V88","v":21.891666666666666},{"$f":"'Comision Europea'!W88","v":41.30833333333333},{"$f":"'Comision Europea'!X88","v":12.908333333333333},{"$f":"ETT!C190","v":374096},{"$f":"DNIs!B186","v":63478.777231482898},{"$f":"sabi!B186*1000","v":434132868.1506725},337304801.37749255,259778,18261899,105.15289502200304,18824016.777403589,3461128,18261899,18824016.777403589,15701263.717263861,11487011.198090846,4214137.8368537659,null,null,null,null,null,null,null,null,3.7673223973418324,3.0732890357332678,3461128,-11.057066050470743,15.932991290762564,26.839481921574471,91.750367065189891,1.5063289263190198,20.109423093669736,77.696213791494301,69.4415337239639]
["2017-06-01",{"$f":"'SEPE contratos'!E206","v":2089520},{"$f":"'SEPE contratos'!H206","v":166462},{"$f":"'SEPE contratos'!M206","v":1923058},{"$f":"Iass!B194","v":140.501},{"$f":"Iass!N194","v":128.18},{"$f":"Iass!Y194","v":109.61226400374473},{"$f":"Iass!Z194","v":8.1000000000000014},{"$f":"'Comision Europea'!R89","v":31.108333333333331},{"$f":"'Comision Europea'!S89","v":23.133333333333326},{"$f":"'Comision Europea'!T89","v":20.266666666666669},{"$f":"'Comision Europea'!U89","v":49.975000000000001},{"$f":"'Comision Europea'!V89","v":20.141666666666662},{"$f":"'Comision Europea'!W89","v":39.299999999999997},{"$f":"'Comision Europea'!X89","v":11.899999999999999},{"$f":"ETT!C191","v":363611},{"$f":"DNIs!B187","v":64198.848573800649},{"$f":"sabi!B187*1000","v":447776406.60723555},344041052.34073436,257775,18196843,105.43123380339446,18934930.501636818,3362811,18196843,18934930.501636818,15798482.556138379,11506762.071213825,4291628.7689065598,null,null,null,null,null,null,null,null,3.5731714883030286,3.0358784825257414,3362811,-10.731011554387059,15.597703933467578,27.164816327496467,92.033481373712618,1.4959087104394986,18.907958054307255,76.833224632692179,70.893069791617975]
["2017-07-01",{"$f":"'SEPE contratos'!E207","v":1928639},{"$f":"'SEPE contratos'!H207","v":151998},{"$f":"'SEPE contratos'!M207","v":1776641},{"$f":"Iass!B195","v":142.09},{"$f":"Iass!N195","v":124.773},{"$f":"Iass!Y195","v":113.87880390789675},{"$f":"Iass!Z195","v":4.4000000000000004},{"$f":"'Comision Europea'!R90","v":30.291666666666668},{"$f":"'Comision Europea'!S90","v":22.275000000000002},{"$f":"'Comision Europea'!T90","v":19.975000000000005},{"$f":"'Comision Europea'!U90","v":48.666666666666664},{"$f":"'Comision Europea'!V90","v":14.733333333333334},{"$f":"'Comision Europea'!W90","v":38.724999999999994},{"$f":"'Comision Europea'!X90","v":11.466666666666667},{"$f":"ETT!C192","v":331594},{"$f":"DNIs!B188","v":63332.374283339108},{"$f":"sabi!B188*1000","v":452840546.43612576},367511664.9351179,251060,18276939,105.65856718111947,19013693.893647313,3335924,18276939,19013693.893647313,15862810.243211551,11517779.350057693,4345006.1903948719,null,null,null,null,null,null,null,null,2.6466721491865464,2.9259667954075748,3335924,-9.4252308066578365,15.434900966151499,27.391150267679119,92.118898352672531,1.4575899666919345,18.664097023540492,81.156969672316279,75.713070803452425]
["2017-08-01",{"$f":"'SEPE contratos'!E208","v":1536400},{"$f":"'SEPE contratos'!H208","v":115382},{"$f":"'SEPE contratos'!M208","v":1421018},{"$f":"Iass!B196","v":126.67400000000001},{"$f":"Iass!N196","v":116.77200000000001},{"$f":"Iass!Y196","v":108.47977254821362},{"$f":"Iass!Z196","v":5.8000000000000007},{"$f":"'Comision Europea'!R91","v":33.341666666666669},{"$f":"'Comision Europea'!S91","v":25.083333333333332},{"$f":"'Comision Europea'!T91","v":23.474999999999998},{"$f":"'Comision Europea'!U91","v":51.508333333333333},{"$f":"'Comision Europea'!V91","v":17.258333333333336},{"$f":"'Comision Europea'!W91","v":38.641666666666666},{"$f":"'Comision Europea'!X91","v":13.991666666666667},{"$f":"ETT!C193","v":285704},{"$f":"DNIs!B189","v":55471.691780766057},{"$f":"sabi!B189*1000","v":403709785.2012794},326471103.5722385,218139,18040193,105.893896497764,19060014.321411464,3382324,18040193,19060014.321411464,15911809.482568741,11545899.157223739,4365920.9029700002,null,null,null,null,null,null,null,null,3.367711515492533,2.8985145421863425,3382324,-8.5239307899183654,15.788639588896114,27.438242694853976,92.490106743035668,1.2705610800926419,20.105586276880377,80.867770745132745,76.351398650351413]
["2017-09-01",{"$f":"'SEPE contratos'!E209","v":1993267},{"$f":"'SEPE contratos'!H209","v":192690},{"$f":"'SEPE contratos'!M209","v":1800577},{"$f":"Iass!B197","v":138.46299999999999},{"$f":"Iass!N197","v":125.35899999999999},{"$f":"Iass!Y197","v":110.45317847143006},{"$f":"Iass!Z197","v":6.4},{"$f":"'Comision Europea'!R92","v":35.241666666666667},{"$f":"'Comision Europea'!S92","v":28.033333333333335},{"$f":"'Comision Europea'!T92","v":28},{"$f":"'Comision Europea'!U92","v":49.741666666666667},{"$f":"'Comision Europea'!V92","v":15.466666666666667},{"$f":"'Comision Europea'!W92","v":37.766666666666666},{"$f":"'Comision Europea'!X92","v":12.225000000000001},{"$f":"ETT!C194","v":325618},{"$f":"DNIs!B190","v":62234.737443176848},{"$f":"sabi!B190*1000","v":441281304.67439842},342733767.38746631,241468,18400141,106.1388506235522,19073891.784929294,3410182,18400141,19073891.784929294,15945480.274209963,11591121.492711991,4354372.9066319559,null,null,null,null,null,null,null,null,4.5265797409839825,2.9477808546665001,3410182,-8.3357592149229003,15.635632723091723,27.307881805696809,90.332955896023975,1.4292468462769881,18.084091932752671,77.667864864647768,74.156834081653969]
["2017-10-01",{"$f":"'SEPE contratos'!E210","v":2032184},{"$f":"'SEPE contratos'!H210","v":202542},{"$f":"'SEPE contratos'!M210","v":1829642},{"$f":"Iass!B198","v":135.96899999999999},{"$f":"Iass!N198","v":129.227},{"$f":"Iass!Y198","v":105.21717597715647},{"$f":"Iass!Z198","v":7.5},{"$f":"'Comision Europea'!R93","v":36.416666666666671},{"$f":"'Comision Europea'!S93","v":28.683333333333334},{"$f":"'Comision Europea'!T93","v":31.591666666666669},{"$f":"'Comision Europea'!U93","v":49},{"$f":"'Comision Europea'!V93","v":17.541666666666668},{"$f":"'Comision Europea'!W93","v":37.225000000000001},{"$f":"'Comision Europea'!X93","v":11.891666666666667},{"$f":"ETT!C195","v":362397},{"$f":"DNIs!B191","v":64754.023963998545},{"$f":"sabi!B191*1000","v":433332931.65158403},348193713.74074477,262469,18281362,106.4007244552064,19055326.284200788,3467026,18281362,19055326.284200788,15963822.618135216,11653446.35652243,4310362.2013807306,null,null,null,null,null,null,null,null,3.4822874787552971,3.0670011080505506,3467026,-7.9138758166705685,15.941530930936123,27.000814933160651,90.033284387634197,1.5022873006648028,19.806989564078656,80.352469961988859,72.425820302044443]
["2017-11-01",{"$f":"'SEPE contratos'!E211","v":1818339},{"$f":"'SEPE contratos'!H211","v":170732},{"$f":"'SEPE contratos'!M211","v":1647607},{"$f":"Iass!B199","v":139.298},{"$f":"Iass!N199","v":130.72},{"$f":"Iass!Y199","v":106.56211750305997},{"$f":"Iass!Z199","v":7.7999999999999989},{"$f":"'Comision Europea'!R94","v":35.666666666666671},{"$f":"'Comision Europea'!S94","v":28.824999999999999},{"$f":"'Comision Europea'!T94","v":32.800000000000004},{"$f":"'Comision Europea'!U94","v":45.383333333333333},{"$f":"'Comision Europea'!V94","v":18.908333333333335},{"$f":"'Comision Europea'!W94","v":32.383333333333333},{"$f":"'Comision Europea'!X94","v":9.7416666666666671},{"$f":"ETT!C196","v":335660},{"$f":"DNIs!B192","v":63412.125362985855},{"$f":"sabi!B192*1000","v":443942448.00801921},360609182.6978274,236691,18364819,106.65161377950318,19007990.195865065,3474281,18364819,19007990.195865065,15937491.240512667,11681742.805081563,4255737.8740315819,null,null,null,null,null,null,null,null,3.5564972939712947,3.1142392902882934,3474281,-8.326035279220168,15.908535608152349,26.702683689724093,90.610551717804,1.4900383256667484,20.372576712771917,81.228813400450832,70.515104570100689]
["2017-12-01",{"$f":"'SEPE contratos'!E212","v":1652016},{"$f":"'SEPE contratos'!H212","v":131067},{"$f":"'SEPE contratos'!M212","v":1520949},{"$f":"Iass!B200","v":128.47900000000001},{"$f":"Iass!N200","v":126.086},{"$f":"Iass!Y200","v":101.8979109496693},{"$f":"Iass!Z200","v":0.69999999999999929},{"$f":"'Comision Europea'!R95","v":35.491666666666667},{"$f":"'Comision Europea'!S95","v":29.074999999999999},{"$f":"'Comision Europea'!T95","v":34.35},{"$f":"'Comision Europea'!U95","v":43.041666666666664},{"$f":"'Comision Europea'!V95","v":19.341666666666669},{"$f":"'Comision Europea'!W95","v":31.016666666666662},{"$f":"'Comision Europea'!X95","v":5.3249999999999993},{"$f":"ETT!C197","v":314153},{"$f":"DNIs!B193","v":58388.192616156834},{"$f":"sabi!B193*1000","v":409462316.59910625},316170671.78398615,228084,18331107,106.92165952490762,18931883.519922163,3412781,18331107,18931883.519922163,15866486.141342331,11676010.838389395,4190499.9245845112,null,null,null,null,null,null,null,null,3.321009021752297,3.0881513071202633,3412781,-7.8367549974695976,15.695357702357555,26.41101430559084,92.066239067902487,1.393346704855174,20.655064699736808,77.216060908857827,72.602840017443725]
["2018-01-01",{"$f":"'SEPE contratos'!E213","v":1749911},{"$f":"'SEPE contratos'!H213","v":172953},{"$f":"'SEPE contratos'!M213","v":1576958},{"$f":"Iass!B201","v":130.44800000000001},{"$f":"Iass!N201","v":121.17400000000001},{"$f":"Iass!Y201","v":107.65345701223035},{"$f":"Iass!Z201","v":10},{"$f":"'Comision Europea'!R96","v":35.583333333333336},{"$f":"'Comision Europea'!S96","v":28.266666666666666},{"$f":"'Comision Europea'!T96","v":34.4},{"$f":"'Comision Europea'!U96","v":44.041666666666664},{"$f":"'Comision Europea'!V96","v":19.566666666666666},{"$f":"'Comision Europea'!W96","v":31.583333333333329},{"$f":"'Comision Europea'!X96","v":4.1999999999999993},{"$f":"ETT!C198","v":342985},{"$f":"DNIs!B194","v":64885.640734281675},{"$f":"sabi!B194*1000","v":415737154.29883057},318216828.29363292,238456,18211901,106.90007882328344,18827006.256372076,3476528,18211901,18827006.256372076,15750807.320624201,11636250.456445925,4114648.3530395189,null,null,null,null,null,null,null,null,3.4541677992323772,2.9911832237218032,3476528,-7.5448290277911116,16.029413656470922,26.123412402180641,90.116468780412262,1.5769425517577997,{"$f":"P195/D195*100","v":21.749786614481806},76.542792724486603,69.523740105252415]
["2018-02-01",{"$f":"'SEPE contratos'!E214","v":1546402},{"$f":"'SEPE contratos'!H214","v":174287},{"$f":"'SEPE contratos'!M214","v":1372115},{"$f":"Iass!B202","v":124.111},{"$f":"Iass!N202","v":116.26},{"$f":"Iass!Y202","v":106.7529674866678},{"$f":"Iass!Z202","v":5.5},{"$f":"'Comision Europea'!R97","v":37.241666666666667},{"$f":"'Comision Europea'!S97","v":30.408333333333331},{"$f":"'Comision Europea'!T97","v":34.75},{"$f":"'Comision Europea'!U97","v":46.524999999999999},{"$f":"'Comision Europea'!V97","v":18.883333333333333},{"$f":"'Comision Europea'!W97","v":33.641666666666666},{"$f":"'Comision Europea'!X97","v":5.9916666666666663},{"$f":"ETT!C199","v":280698},{"$f":"DNIs!B195","v":52346.538369870759},{"$f":"sabi!B195*1000","v":395541165.50029242},304349801.07445627,196310,18314467,107.14554618817947,{"$f":"Z196","v":18836182.248202499},{"$f":"AN196","v":3470248},{"$f":"U196","v":18314467},18836182.248202499,15752932.124974065,11650872.518623963,4102174.1953728306,null,null,null,null,null,null,null,null,3.3028486582478811,2.8963490002497365,3470248,-7.4816656162453814,15.929737891911829,{"$f":"AC196/AA196*100","v":26.040702536065709},{"$f":"D196/B196*100","v":88.729515352411596},{"$f":"Q196/AC196*100","v":1.2760681501267448},{"$f":"P196/D196*100","v":20.457323183552397},{"$f":"S196/R196*100","v":76.945164655493045},{"$f":"T196/P196*100","v":69.936372898987514}]
["2018-03-01",{"$f":"'SEPE contratos'!E215","v":1646846},{"$f":"'SEPE contratos'!H215","v":193448},{"$f":"'SEPE contratos'!M215","v":1453398},{"$f":"Iass!B203","v":134.70099999999999},{"$f":"Iass!N203","v":119.694},{"$f":"Iass!Y203","v":112.53780473540861},{"$f":"Iass!Z203","v":0.29999999999999982},{"$f":"'Comision Europea'!R98","v":40.050000000000004},{"$f":"'Comision Europea'!S98","v":32.233333333333327},{"$f":"'Comision Europea'!T98","v":40.049999999999997},{"$f":"'Comision Europea'!U98","v":47.833333333333336},{"$f":"'Comision Europea'!V98","v":21.908333333333331},{"$f":"'Comision Europea'!W98","v":37.716666666666661},{"$f":"'Comision Europea'!X98","v":9.5499999999999989},{"$f":"ETT!C200","v":306027},{"$f":"DNIs!B196","v":56537.11812934593},{"$f":"sabi!B196*1000","v":429291445.02948886},324418942.06976968,215600,18542644,107.40206086782896,18959411.495413423,3422551,18542644,18959411.495413423,15872860.554391915,11719877.024923502,4153077.4515844458,null,null,null,null,null,null,null,null,3.8638683359740078,2.7958314205869219,3422551,-7.5565112333708884,15.581700959176553,26.164643967941348,88.253425031848749,1.3613306948507879,21.055966775790253,75.570791318118324,70.451300048688509]
["2018-04-01",{"$f":"'SEPE contratos'!E216","v":1772557},{"$f":"'SEPE contratos'!H216","v":189671},{"$f":"'SEPE contratos'!M216","v":1582886},{"$f":"Iass!B204","v":135.54499999999999},{"$f":"Iass!N204","v":122.977},{"$f":"Iass!Y204","v":110.21979719785},{"$f":"Iass!Z204","v":10.899999999999999},{"$f":"'Comision Europea'!R99","v":40.283333333333331},{"$f":"'Comision Europea'!S99","v":31.974999999999998},{"$f":"'Comision Europea'!T99","v":41.766666666666666},{"$f":"'Comision Europea'!U99","v":47.083333333333321},{"$f":"'Comision Europea'!V99","v":26.216666666666665},{"$f":"'Comision Europea'!W99","v":36.258333333333333},{"$f":"'Comision Europea'!X99","v":9.1749999999999989},{"$f":"ETT!C201","v":335215},{"$f":"DNIs!B197","v":60424.750534026716},{"$f":"sabi!B197*1000","v":431981269.00707543},327624029.83339095,237825,18659703,107.63943343373604,19196693.998004865,3335868,18659703,19196693.998004865,16110592.608877759,11843263.975344554,4267358.1216743672,null,null,null,null,null,null,null,null,2.6160525736911522,2.6771329589955819,3335868,-6.6377164965592321,15.166089573214537,26.487902867848788,89.299582467587783,1.4159756179619181,21.177456873078668,75.842184219340496,70.947004161508289]
["2018-05-01",{"$f":"'SEPE contratos'!E217","v":2058400},{"$f":"'SEPE contratos'!H217","v":200078},{"$f":"'SEPE contratos'!M217","v":1858322},{"$f":"Iass!B205","v":150.065},{"$f":"Iass!N205","v":131.13900000000001},{"$f":"Iass!Y205","v":114.43201488496936},{"$f":"Iass!Z205","v":4.8999999999999995},{"$f":"'Comision Europea'!R100","v":42.024999999999999},{"$f":"'Comision Europea'!S100","v":32.349999999999994},{"$f":"'Comision Europea'!T100","v":43.616666666666667},{"$f":"'Comision Europea'!U100","v":50.091666666666669},{"$f":"'Comision Europea'!V100","v":32.125000000000007},{"$f":"'Comision Europea'!W100","v":39.841666666666669},{"$f":"'Comision Europea'!X100","v":12.066666666666668},{"$f":"ETT!C202","v":375424},{"$f":"DNIs!B198","v":66632.291579604425},{"$f":"sabi!B198*1000","v":478256439.80631357},361922689.83077985,261334,18832943,107.88282614738733,19366569.125146084,3252130,18832943,19366569.125146084,16280056.16583846,11916887.731439758,4363159.6979402732,null,null,null,null,null,null,null,null,3.126969435106397,2.5961540334320374,3252130,-6.0384360243250228,14.725466381750243,26.800642783381708,90.279926156237849,1.5271568357000476,20.202311547729618,75.675445160205882,69.610360552335493]
["2018-06-01",{"$f":"'SEPE contratos'!E218","v":2055762},{"$f":"'SEPE contratos'!H218","v":192972},{"$f":"'SEPE contratos'!M218","v":1862790},{"$f":"Iass!B206","v":151.65},{"$f":"Iass!N206","v":134.83600000000001},{"$f":"Iass!Y206","v":112.46996351122844},{"$f":"Iass!Z206","v":2.7},{"$f":"'Comision Europea'!R101","v":44.641666666666673},{"$f":"'Comision Europea'!S101","v":34.291666666666664},{"$f":"'Comision Europea'!T101","v":46.666666666666657},{"$f":"'Comision Europea'!U101","v":52.949999999999996},{"$f":"'Comision Europea'!V101","v":32.824999999999996},{"$f":"'Comision Europea'!W101","v":41.758333333333333},{"$f":"'Comision Europea'!X101","v":12.066666666666668},{"$f":"ETT!C203","v":368785},{"$f":"DNIs!B199","v":68343.617765052564},{"$f":"sabi!B199*1000","v":483307827.25237375},363364629.59905064,268829,18967952,108.12339411341154,19469036.876837049,3162162,18967952,19469036.876837049,16381251.225273984,11940748.293209095,4440482.1803821595,null,null,null,null,null,null,null,null,4.2375976975786322,2.5534751068524391,3162162,-5.9667046408495743,14.288954860331943,27.107100180058989,90.613115720594124,1.5391035249953582,19.797454356100257,75.182856372261654,72.89586073186274]
["2018-07-01",{"$f":"'SEPE contratos'!E219","v":2086655},{"$f":"'SEPE contratos'!H219","v":190151},{"$f":"'SEPE contratos'!M219","v":1896504},{"$f":"Iass!B207","v":160.24100000000001},{"$f":"Iass!N207","v":133.971},{"$f":"Iass!Y207","v":119.60872129042855},{"$f":"Iass!Z207","v":5.4},{"$f":"'Comision Europea'!R102","v":44.016666666666673},{"$f":"'Comision Europea'!S102","v":34.324999999999996},{"$f":"'Comision Europea'!T102","v":46.133333333333326},{"$f":"'Comision Europea'!U102","v":51.566666666666663},{"$f":"'Comision Europea'!V102","v":32.508333333333333},{"$f":"'Comision Europea'!W102","v":37.883333333333333},{"$f":"'Comision Europea'!X102","v":11.816666666666668},{"$f":"ETT!C204","v":354574},{"$f":"DNIs!B200","v":67681.664356097521},{"$f":"sabi!B200*1000","v":510687303.3085897},392011058.3164379,277776,18812915,108.35746246054941,19504097.253077779,3135021,18812915,19504097.253077779,16414177.787184348,11914845.660652582,4499325.5690000281,null,null,null,null,null,null,null,null,2.9325260646763551,2.5543553650538553,3135021,-6.0224093834271963,14.283898950680374,27.411215032122744,90.887281318665529,1.5042624348506464,18.696190464138223,76.761465534137216,78.340769486764401]
["2018-08-01",{"$f":"'SEPE contratos'!E220","v":1602495},{"$f":"'SEPE contratos'!H220","v":153921},{"$f":"'SEPE contratos'!M220","v":1448574},{"$f":"Iass!B208","v":135.65199999999999},{"$f":"Iass!N208","v":123.14700000000001},{"$f":"Iass!Y208","v":110.1545307640462},{"$f":"Iass!Z208","v":1.5999999999999996},{"$f":"'Comision Europea'!R103","v":43.324999999999996},{"$f":"'Comision Europea'!S103","v":34.024999999999999},{"$f":"'Comision Europea'!T103","v":45.141666666666673},{"$f":"'Comision Europea'!U103","v":50.766666666666659},{"$f":"'Comision Europea'!V103","v":33.875},{"$f":"'Comision Europea'!W103","v":37.958333333333336},{"$f":"'Comision Europea'!X103","v":11.125},{"$f":"ETT!C205","v":291242},{"$f":"DNIs!B201","v":59797.35385755774},{"$f":"sabi!B201*1000","v":432322277.49712491},336995840.32783282,233598,18535422,108.55555453800169,19530789.407326642,3182068,18535422,19530789.407326642,16436976.08727124,11916510.757022379,4520467.2394036716,null,null,null,null,null,null,null,null,2.7451424715910777,2.5135141195733421,3182068,-5.9206628341932905,14.652098377851216,27.501817946333279,90.394915428753279,{"$f":"Q202/AC202*100","v":1.3228135652952115},20.105427820739568,77.950144572430446,80.207525013562602]
["2018-09-01",{"$f":"'SEPE contratos'!E221","v":1952397},{"$f":"'SEPE contratos'!H221","v":232768},{"$f":"'SEPE contratos'!M221","v":1719629},{"$f":"Iass!B209","v":140.49700000000001},{"$f":"Iass!N209","v":128.864},{"$f":"Iass!Y209","v":109.0273466600447},{"$f":"Iass!Z209","v":-1.2999999999999998},{"$f":"'Comision Europea'!R104","v":38.791666666666664},{"$f":"'Comision Europea'!S104","v":27.991666666666664},{"$f":"'Comision Europea'!T104","v":39.400000000000006},{"$f":"'Comision Europea'!U104","v":48.93333333333333},{"$f":"'Comision Europea'!V104","v":27.933333333333337},{"$f":"'Comision Europea'!W104","v":37.35},{"$f":"'Comision Europea'!X104","v":12.550000000000002},{"$f":"ETT!C206","v":331276},{"$f":"DNIs!B202","v":63442.705171141883},{"$f":"sabi!B202*1000","v":447763269.40637487},334706100.15034199,254363,18956018,108.73055940528529,19549113.33958362,3202509,18956018,19549113.33958362,16449646.125534637,11945743.582318487,4503907.1915930836,null,null,null,null,null,null,null,null,3.0210475017555583,2.4418097299029879,3202509,-6.0897922750164035,14.452716103376368,27.379964026105757,88.077834579749918,{"$f":"Q203/AC203*100","v":1.4086148420101319},{"$f":"P203/D203*100","v":19.264387841796108},74.750682563596797,{"$f":"T203/P203*100","v":76.782803462973476}]
["2018-10-01",{"$f":"'SEPE contratos'!E222","v":2243453},{"$f":"'SEPE contratos'!H222","v":242324},{"$f":"'SEPE contratos'!M222","v":2001129},{"$f":"Iass!B210","v":150.29900000000001},{"$f":"Iass!N210","v":135.49799999999999},{"$f":"Iass!Y210","v":110.92340846359356},{"$f":"Iass!Z210","v":5.6},{"$f":"'Comision Europea'!R105","v":32.983333333333334},{"$f":"'Comision Europea'!S105","v":21.566666666666674},{"$f":"'Comision Europea'!T105","v":30.38333333333334},{"$f":"'Comision Europea'!U105","v":46.949999999999996},{"$f":"'Comision Europea'!V105","v":20.566666666666666},{"$f":"'Comision Europea'!W105","v":37.725000000000001},{"$f":"'Comision Europea'!X105","v":11.674999999999999},{"$f":"ETT!C207","v":382899},{"$f":"DNIs!B203","v":70259.596599556971},{"$f":"sabi!B203*1000","v":479002196.69109476},362127342.66322756,291630,18792718,108.89600023866211,19559069.049848717,3254703,18792718,19559069.049848717,16452187.901974546,12002544.136540903,4449645.4255682686,null,null,null,null,null,null,null,null,2.797143888950937,2.3451680392516492,3254703,-6.1240671399637625,14.762284441341233,27.045919072163251,89.198614813860601,1.5789931529338441,19.134148773017632,75.600351139258137,76.163688074400824]
["2018-11-01",{"$f":"'SEPE contratos'!E223","v":1867172},{"$f":"'SEPE contratos'!H223","v":197573},{"$f":"'SEPE contratos'!M223","v":1669599},{"$f":"Iass!B211","v":148.78700000000001},{"$f":"Iass!N211","v":135.09399999999999},{"$f":"Iass!Y211","v":110.13590536959452},{"$f":"Iass!Z211","v":3.5999999999999996},{"$f":"'Comision Europea'!R106","v":31.05},{"$f":"'Comision Europea'!S106","v":18.400000000000002},{"$f":"'Comision Europea'!T106","v":25.808333333333337},{"$f":"'Comision Europea'!U106","v":48.9},{"$f":"'Comision Europea'!V106","v":16.133333333333329},{"$f":"'Comision Europea'!W106","v":42.358333333333327},{"$f":"'Comision Europea'!X106","v":16.008333333333333},{"$f":"ETT!C208","v":375486},{"$f":"DNIs!B204","v":68219.981455491346},{"$f":"sabi!B204*1000","v":474183459.89712447},355289050.64631528,271921,18871968,109.11158890026692,19565706.190025464,3252867,18871968,19565706.190025464,16453882.41960117,12040411.172689188,4413470.9148850618,null,null,null,null,null,null,null,null,2.7615246303271501,2.3065521782442122,3252867,-6.3729445027618681,14.702333373333632,{"$f":"AC205/AA205*100","v":26.823279772726377},89.418596679898798,1.5457217861209804,22.489591812165678,74.926495901690942,72.418412404190832]
["2018-12-01",{"$f":"'SEPE contratos'!E224","v":1709631},{"$f":"'SEPE contratos'!H224","v":144778},{"$f":"'SEPE contratos'!M224","v":1564853},{"$f":"Iass!B212","v":135.22900000000001},{"$f":"Iass!N212","v":128.577},{"$f":"Iass!Y212","v":105.17355359045553},{"$f":"Iass!Z212","v":3.2781412045888692},{"$f":"'Comision Europea'!R107","v":25.775000000000002},{"$f":"'Comision Europea'!S107","v":10.875},{"$f":"'Comision Europea'!T107","v":15.325000000000001},{"$f":"'Comision Europea'!U107","v":51.108333333333327},{"$f":"'Comision Europea'!V107","v":12.924999999999999},{"$f":"'Comision Europea'!W107","v":44.566666666666663},{"$f":"'Comision Europea'!X107","v":18.383333333333333},{"$f":"ETT!C209","v":340020},{"$f":"DNIs!B205","v":59251.741447972418},{"$f":"sabi!B205*1000","v":430974178.51309758},310586470.22700167,249931,18914563,109.41304825447581,19569024.760113839,3202297,18914563,19569024.760113839,16454729.67841449,12059344.690763336,4395383.6595434584,null,null,null,null,null,null,null,null,3.1828737893461634,2.3275334029034838,3202297,-6.1675214436554775,14.478985714970388,{"$f":"AC206/AA206*100","v":26.711977318651275},{"$f":"D206/B206*100","v":91.531622905761537},{"$f":"Q206/AC206*100","v":1.348044813319591},{"$f":"P206/D206*100","v":21.728558529139796},{"$f":"S206/R206*100","v":72.066143567708608},{"$f":"T206/P206*100","v":73.504793835656727}]
["2019-01-01",{"$f":"'SEPE contratos'!E225","v":1858077},{"$f":"'SEPE contratos'!H225","v":181348},{"$f":"'SEPE contratos'!M225","v":1676729},{"$f":"Iass!B213","v":138.81200000000001},{"$f":"Iass!N213","v":123.06100000000001},{"$f":"Iass!Y213","v":112.79934341505434},{"$f":"Iass!Z213","v":4.8544855162050871},{"$f":"'Comision Europea'!R108","v":21.208333333333329},{"$f":"'Comision Europea'!S108","v":2.9083333333333319},{"$f":"'Comision Europea'!T108","v":8.6500000000000021},{"$f":"'Comision Europea'!U108","v":52.083333333333321},{"$f":"'Comision Europea'!V108","v":4.5749999999999975},{"$f":"'Comision Europea'!W108","v":47.224999999999994},{"$f":"'Comision Europea'!X108","v":22.425000000000001},{"$f":"ETT!C210","v":354679},{"$f":"DNIs!B206","v":68726.881654004959},{"$f":"sabi!B206*1000","v":442393182.43690407},327669711.7211864,249801,18730629,109.48967862233584,19394607.65167461,3285761,18819300.09,null,null,null,null,null,null,null,null,null,2.7336742896223676,-5.4872850153946651,2.938783363750388,2.8482913453131475,2.4161447061974419,3285761,-5.4872850153946722,14.924158774440317,null,{"$f":"D207/B207*100","v":90.24001696377492},null,{"$f":"P207/D207*100","v":21.153030692497119},{"$f":"S207/R207*100","v":74.06753194437394},{"$f":"T207/P207*100","v":70.430163612731505}]
["2019-02-01",{"$f":"'SEPE contratos'!E226","v":1571017},{"$f":"'SEPE contratos'!H226","v":168697},{"$f":"'SEPE contratos'!M226","v":1402320},{"$f":"Iass!B214","v":129.393},{"$f":"Iass!N214","v":116.749},{"$f":"Iass!Y214","v":110.83007134964753},{"$f":"Iass!Z214","v":3.8352587514323577},{"$f":"'Comision Europea'!R109","v":18.166666666666668},{"$f":"'Comision Europea'!S109","v":-2.1250000000000004},{"$f":"'Comision Europea'!T109","v":5.2333333333333352},{"$f":"'Comision Europea'!U109","v":51.391666666666659},{"$f":"'Comision Europea'!V109","v":3.9833333333333338},{"$f":"'Comision Europea'!W109","v":46.333333333333321},{"$f":"'Comision Europea'!X109","v":23.3},{"$f":"ETT!C211","v":287155},{"$f":"DNIs!B207","v":53666.806450471347},{"$f":"sabi!B207*1000","v":412374874.32684726},305837745.17579246,201432.99999999997,18846671,109.7682097862824,19325611.17539639,3289040,18888471.900000002,null,null,null,null,null,null,null,null,null,2.5535162697565061,-5.2217593670538847,2.8586995619825206,2.9059213134621897,2.4450933539102344,3289040,-5.2217593670538793,14.85852430942923,null,89.261923963903627,null,{"$f":"P208/D208*100","v":20.477137885789261},74.164980510763684,70.147829569396308]
["2019-03-01",{"$f":"'SEPE contratos'!E227","v":1709848},{"$f":"'SEPE contratos'!H227","v":179821},{"$f":"'SEPE contratos'!M227","v":1530027},{"$f":"Iass!B215","v":140.15100000000001},{"$f":"Iass!N215","v":121.078},{"$f":"Iass!Y215","v":115.75265531310394},{"$f":"Iass!Z215","v":2.8897163216768718},{"$f":"'Comision Europea'!R110","v":16.766666666666669},{"$f":"'Comision Europea'!S110","v":-2.133333333333332},{"$f":"'Comision Europea'!T110","v":4.8583333333333334},{"$f":"'Comision Europea'!U110","v":47.574999999999996},{"$f":"'Comision Europea'!V110","v":3.8333333333333335},{"$f":"'Comision Europea'!W110","v":43.93333333333333},{"$f":"'Comision Europea'!X110","v":18.633333333333336},{"$f":"ETT!C212","v":321344},{"$f":"DNIs!B208","v":57568.364394710923},{"$f":"sabi!B208*1000","v":446660569.05537379},323862464.97319549,224512,19096989,109.98664003348897,19362426.927386537,3253617,19020871.462735094,null,null,null,null,null,null,null,null,null,2.4485792426657049,-4.9359089170621493,2.8039206923606552,2.9895682622176123,2.4154208947162656,3346264.7066684724,-2.2289307984461826,14.911334560838259,null,89.483217221647777,null,21.00250518454903,72.507511835692256,69.866560446126272]
["2019-04-01",{"$f":"'SEPE contratos'!E228","v":1765185},{"$f":"'SEPE contratos'!H228","v":174980},{"$f":"'SEPE contratos'!M228","v":1590205},{"$f":"Iass!B216","v":137.202},{"$f":"Iass!N216","v":122.229},{"$f":"Iass!Y216","v":112.24995704783645},{"$f":"Iass!Z216","v":1.8307160596406691},{"$f":"'Comision Europea'!R111","v":12.216666666666669},{"$f":"'Comision Europea'!S111","v":-6.55},{"$f":"'Comision Europea'!T111","v":-2.8583333333333343},{"$f":"'Comision Europea'!U111","v":46.066666666666663},{"$f":"'Comision Europea'!V111","v":-1.7083333333333328},{"$f":"'Comision Europea'!W111","v":40.233333333333327},{"$f":"'Comision Europea'!X111","v":14.699999999999998},{"$f":"ETT!C213","v":353127},{"$f":"DNIs!B209","v":61674.154128026923},{"$f":"sabi!B209*1000","v":437262120.10999131},322516955.3229093,253926,19182644,110.11798078254742,19621445.49002412,3147444,19221918.747673936,null,null,null,null,null,null,null,null,null,2.5437911384328604,-5.6484249376773894,2.9095432543305031,2.8025151311357854,2.3303072563242684,3223067.8485762104,-3.3814333008317377,14.354805359961741,null,90.087158003268769,null,22.206382196006174,{"$f":"S210/R210*100","v":73.758265463695238},71.907840521965184,{"$f":"A210","v":"2019-04-01"}]
["2019-05-01",{"$f":"'SEPE contratos'!E229","v":2075741},{"$f":"'SEPE contratos'!H229","v":184161},{"$f":"'SEPE contratos'!M229","v":1891580},{"$f":"Iass!B217","v":155.53399999999999},{"$f":"Iass!N217","v":133.14099999999999},{"$f":"Iass!Y217","v":116.81901142397911},{"$f":"Iass!Z217","v":2.1177963295924584},{"$f":"'Comision Europea'!R112","v":9.1416666666666675},{"$f":"'Comision Europea'!S112","v":-6.7},{"$f":"'Comision Europea'!T112","v":-7.3249999999999993},{"$f":"'Comision Europea'!U112","v":41.45},{"$f":"'Comision Europea'!V112","v":-6.1749999999999998},{"$f":"'Comision Europea'!W112","v":35.824999999999996},{"$f":"'Comision Europea'!X112","v":12.208333333333334},{"$f":"ETT!C214","v":393071},{"$f":"DNIs!B210","v":70124.580941205932},{"$f":"sabi!B210*1000","v":495686116.74164641},367643444.55845422,271955,19327792,110.28662831516857,19834207.211886588,3071617,19373376.454483356,null,null,null,null,null,null,null,null,null,2.4058144250966418,-5.550608370514091,2.4197329382226953,2.7970345741244351,2.2762713281059828,3144346.0843820442,-3.3142560604267346,13.959767323186142,null,91.127939372012207,null,{"$f":"P211/D211*100","v":20.780035737320123},{"$f":"S211/R211*100","v":74.168598260352624},{"$f":"T211/P211*100","v":69.187246070048417},"después del mes histórico, esta parte viene vinculada al Data"]
["2019-06-01",{"$f":"'SEPE contratos'!E230","v":2009011},{"$f":"'SEPE contratos'!H230","v":174159},{"$f":"'SEPE contratos'!M230","v":1834852},{"$f":"Iass!B218","v":154.79599999999999},{"$f":"Iass!N218","v":136.696},{"$f":"Iass!Y218","v":113.2410604553169},{"$f":"Iass!Z218","v":0.69506012442541731},{"$f":"'Comision Europea'!R113","v":7.049999999999998},{"$f":"'Comision Europea'!S113","v":-9.4333333333333336},{"$f":"'Comision Europea'!T113","v":-9.8583333333333325},{"$f":"'Comision Europea'!U113","v":40.44166666666667},{"$f":"'Comision Europea'!V113","v":-10.175000000000001},{"$f":"'Comision Europea'!W113","v":34.749999999999993},{"$f":"'Comision Europea'!X113","v":12.208333333333334},{"$f":"ETT!C215","v":381685},{"$f":"DNIs!B211","v":68565.342385808923},{"$f":"sabi!B211*1000","v":493334114.25887525},359918540.23199099,274286,19458689,110.49074589426932,19979626.237126719,2984814,19464909.73240206,null,null,null,null,null,null,null,null,null,2.3055964152669528,-5.6084413132534001,2.4092164925879813,2.7629107172425282,2.2588108391089392,3053036.4333814518,-3.4509796341410826,13.52971768216063,null,91.331107694283403,null,20.801950239038351,72.956345371065311,71.86187563042823,"así se puede obtener a dic-19"]
["2019-07-01",{"$f":"'SEPE contratos'!E231","v":2179527},{"$f":"'SEPE contratos'!H231","v":185713},{"$f":"'SEPE contratos'!M231","v":1993814},{"$f":"Iass!B219","v":166.512},{"$f":"Iass!N219","v":135.83500000000001},{"$f":"Iass!Y219","v":122.58401737401994},{"$f":"Iass!Z219","v":2.522134431978329},{"$f":"'Comision Europea'!R114","v":6.5333333333333341},{"$f":"'Comision Europea'!S114","v":-10.758333333333338},{"$f":"'Comision Europea'!T114","v":-11.291666666666664},{"$f":"'Comision Europea'!U114","v":41.641666666666673},{"$f":"'Comision Europea'!V114","v":-7.791666666666667},{"$f":"'Comision Europea'!W114","v":36.5},{"$f":"'Comision Europea'!X114","v":10.433333333333332},{"$f":"ETT!C216","v":379951},{"$f":"DNIs!B212","v":73071.134116562738},{"$f":"sabi!B212*1000","v":530672950.42167664},419298301.40928471,291354,19290343,110.72912194209611,20013036.173239086,2959769,19495401.937642917,null,null,null,null,null,null,null,null,null,2.1835357500760599,-5.5901379926960741,2.3767094522729906,2.8581592426405233,2.2784574151747501,2997029.0038451911,-4.401629084934644,13.405050788235359,null,91.479206268148999,null,19.056491728917539,79.012563402017605,76.681993204386885]
["2019-08-01",{"$f":"'SEPE contratos'!E232","v":1519922},{"$f":"'SEPE contratos'!H232","v":123277},{"$f":"'SEPE contratos'!M232","v":1396645},{"$f":"Iass!B220","v":136.29},{"$f":"Iass!N220","v":122.768},{"$f":"Iass!Y220","v":111.01427081975758},{"$f":"Iass!Z220","v":0.77808338365504826},{"$f":"'Comision Europea'!R115","v":8.8000000000000007},{"$f":"'Comision Europea'!S115","v":-8.6000000000000032},{"$f":"'Comision Europea'!T115","v":-8.7249999999999996},{"$f":"'Comision Europea'!U115","v":43.716666666666669},{"$f":"'Comision Europea'!V115","v":-9.85},{"$f":"'Comision Europea'!W115","v":40.549999999999997},{"$f":"'Comision Europea'!X115","v":10.733333333333333},{"$f":"ETT!C217","v":299075},{"$f":"DNIs!B213","v":59954.145539044337},{"$f":"sabi!B213*1000","v":434355580.45648539},343156055.51918501,230288,19254763,110.94897686368728,19938344.04500347,3000174,19292938.719318125,null,null,null,null,null,null,null,null,null,2.1229824808200348,-5.716219766516625,2.4051453686745718,2.9855863407298733,2.3127430193412657,3057268.0952253412,-3.9219747904400193,13.793413544748411,null,91.889254843340638,null,{"$f":"P214/D214*100","v":21.41381668212037},79.003487225499811,77.000083591072482]
["2019-09-01",{"$f":"'SEPE contratos'!E233","v":2094635},{"$f":"'SEPE contratos'!H233","v":238723},{"$f":"'SEPE contratos'!M233","v":1855912},{"$f":"Iass!B221","v":147.45699999999999},{"$f":"Iass!N221","v":129.251},{"$f":"Iass!Y221","v":114.08577109654856},{"$f":"Iass!Z221","v":4.6535258179360328},{"$f":"'Comision Europea'!R116","v":9.0916666666666668},{"$f":"'Comision Europea'!S116","v":-10.333333333333336},{"$f":"'Comision Europea'!T116","v":-8.8250000000000011},{"$f":"'Comision Europea'!U116","v":46.425000000000004},{"$f":"'Comision Europea'!V116","v":-4.05},{"$f":"'Comision Europea'!W116","v":40.733333333333334},{"$f":"'Comision Europea'!X116","v":11.20833333333333},{"$f":"ETT!C218","v":358585},{"$f":"DNIs!B214","v":68743.035580824566},{"$f":"sabi!B214*1000","v":469944756.2357617},361129306.900011,266525,19223638,111.15981299555123,19839413.228687838,3020517,19285855.398107573,null,null,null,null,null,null,null,null,null,1.8724315379175183,-5.6827943340674505,2.2432754110934376,2.9349489306871535,2.3326986526495568,3058010.6281082351,-4.5120364030753706,13.540435654608457,null,88.603121784941052,null,19.321228592735,76.845055106613387,74.326868106585607]
["2019-10-01",{"$f":"'SEPE contratos'!E234","v":2224757},{"$f":"'SEPE contratos'!H234","v":237866},{"$f":"'SEPE contratos'!M234","v":1986891},{"$f":"Iass!B222","v":154.892},{"$f":"Iass!N222","v":133.51499999999999},{"$f":"Iass!Y222","v":116.010935100925},{"$f":"Iass!Z222","v":4.5193987916307137},{"$f":"'Comision Europea'!R117","v":6.6916666666666673},{"$f":"'Comision Europea'!S117","v":-14.183333333333332},{"$f":"'Comision Europea'!T117","v":-12.58333333333333},{"$f":"'Comision Europea'!U117","v":46.841666666666669},{"$f":"'Comision Europea'!V117","v":-4.7083333333333339},{"$f":"'Comision Europea'!W117","v":39.458333333333336},{"$f":"'Comision Europea'!X117","v":12.041666666666666},{"$f":"ETT!C219","v":391788},{"$f":"DNIs!B215","v":72455.361810891642},{"$f":"sabi!B215*1000","v":493640065.80134958},382719372.74531198,290990,19181445,111.37196013150968,19804457.731017191,3069391,19381754.760356717,null,null,null,null,null,null,null,null,null,1.5868339762015848,-5.6936685159905496,2.0464406389087126,2.9664614784253418,2.3568490609967796,3112099.5403980301,-4.3814584495718956,13.849428279209262,null,89.308225572500731,null,19.718645864317672,77.530046537860585,74.272310535289492]
["2019-11-01",{"$f":"'SEPE contratos'!E235","v":1764169},{"$f":"'SEPE contratos'!H235","v":171612},{"$f":"'SEPE contratos'!M235","v":1592557},{"$f":"Iass!B223","v":149.09},{"$f":"Iass!N223","v":134.35},{"$f":"Iass!Y223","v":110.97134350576852},{"$f":"Iass!Z223","v":0.75437446547735876},{"$f":"'Comision Europea'!R118","v":6.9416666666666664},{"$f":"'Comision Europea'!S118","v":-14.500000000000002},{"$f":"'Comision Europea'!T118","v":-11.208333333333334},{"$f":"'Comision Europea'!U118","v":46.541666666666664},{"$f":"'Comision Europea'!V118","v":-4.2000000000000011},{"$f":"'Comision Europea'!W118","v":35.941666666666663},{"$f":"'Comision Europea'!X118","v":8.5416666666666661},{"$f":"ETT!C220","v":367946},{"$f":"DNIs!B216","v":68319.5719277678},{"$f":"sabi!B216*1000","v":475149119.45305896},364556187.90798074,282388.99999999994,19415313,111.64646831107743,19867218.813927986,3068715,19346171.848296661,null,null,null,null,null,null,null,null,null,1.5652729119741027,-5.6612213164571452,2.1141961556910993,3.0372266047866026,2.3852974471932709,3116172.599723205,-4.2022744943705064,13.806467086804632,null,{"$f":"D217/B217*100","v":90.272360527817924},null,{"$f":"P217/D217*100","v":23.104102396334948},{"$f":"S217/R217*100","v":76.724584553080717},{"$f":"T217/P217*100","v":76.747403151549392}]
["2019-12-01",{"$f":"'SEPE contratos'!E236","v":1740332},{"$f":"'SEPE contratos'!H236","v":139077},{"$f":"'SEPE contratos'!M236","v":1601255},{"$f":"Iass!B224","v":143.96076045754731},{"$f":"Iass!N224","v":129.9827776026182},{"$f":"Iass!Y224","v":110.75371915628887},{"$f":"Iass!Z224","v":5.3636824921392767},{"$f":"'Comision Europea'!R119","v":9.0250000000000004},{"$f":"'Comision Europea'!S119","v":-12.125},{"$f":"'Comision Europea'!T119","v":-3.2333333333333338},{"$f":"'Comision Europea'!U119","v":42.424999999999997},{"$f":"'Comision Europea'!V119","v":-7.8750000000000009},{"$f":"'Comision Europea'!W119","v":31.491666666666664},{"$f":"'Comision Europea'!X119","v":9.9333333333333336},{"$f":"ETT!C221","v":353689.73467471509},{"$f":"DNIs!B217","v":65285.894291764649},{"$f":"sabi!B217*1000","v":456623458.00855416},341645940.27661502,269180.70055543998,19261636,111.96304480439325,19860648.069963139,3019894,19361143.083980203,null,null,null,null,null,null,null,null,null,1.1355023551301135,-5.6960050863489622,1.7713151193177907,2.9562285664095134,2.3948567444912698,3047990.054325867,-4.8186331771891577,13.535200882678938,null,92.008593762569447,null,22.08828292025412,74.820058909504112,76.106449853005415]
["2020-01-01",{"$f":"'SEPE contratos'!E237","v":1764837},{"$f":"'SEPE contratos'!H237","v":178978},{"$f":"'SEPE contratos'!M237","v":1585859},{"$f":"Iass!B225","v":138.39524505806509},{"$f":"Iass!N225","v":123.81201921292183},{"$f":"Iass!Y225","v":111.77852193821684},{"$f":"Iass!Z225","v":-0.91051183113249889},{"$f":"'Comision Europea'!R120","v":8.6833333333333353},{"$f":"'Comision Europea'!S120","v":-13.241666666666665},{"$f":"'Comision Europea'!T120","v":-2.558333333333334},{"$f":"'Comision Europea'!U120","v":41.81666666666667},{"$f":"'Comision Europea'!V120","v":-9.5666666666666682},{"$f":"'Comision Europea'!W120","v":30.074999999999999},{"$f":"'Comision Europea'!X120","v":6.375},{"$f":"ETT!C222","v":357575.79144104966},{"$f":"DNIs!B218","v":69408.702959405389},{"$f":"sabi!B218*1000","v":439335108.13872308},{"$f":"Data!E65","v":329087398.58794838},{"$f":"Data!C65","v":260667.82850931419},19074196.547519092,111.99695724413301,null,null,null,null,null,null,null,null,null,null,null,null,null,null,null,2.8884676334970605,2.3200184384643561,3150231.5676217279,-4.1247501683254528,14.050607855087128,null,89.858666834387535,null,22.547766947821319,74.90578205373852,72.898623102757824]
["2020-02-01",{"$f":"'SEPE contratos'!E238","v":1505774.3348056846},{"$f":"'SEPE contratos'!H238","v":158045.99346832311},{"$f":"'SEPE contratos'!M238","v":1347728.3413373616},{"$f":"Iass!B226","v":134.18961261266867},{"$f":"Iass!N226","v":118.17117684587383},{"$f":"Iass!Y226","v":113.55528157910035},{"$f":"Iass!Z226","v":2.4888618392560069},null,null,null,null,null,null,null,{"$f":"ETT!C223","v":296751.20673122571},{"$f":"DNIs!B219","v":55213.509232665041},{"$f":"sabi!B219*1000","v":421728744.3275584},{"$f":"Data!E66","v":311934445.85100383},{"$f":"Data!C66","v":213743.09605011542},19061918.772278588,112.23434937790364,null,null,null,null,null,null,null,null,null,null,null,null,null,null,null,2.8082586380189678,2.2243726961354611,3153756.6747711124,-4.1131553653615534,13.997995040716535,null,89.504005360224298,null,22.018621826766445,73.965659217367246,72.027709138755881]
["2020-03-01",{"$f":"'SEPE contratos'!E239","v":1689434.2373989564},{"$f":"'SEPE contratos'!H239","v":173510.994881547},{"$f":"'SEPE contratos'!M239","v":1515923.2425174094},{"$f":"Iass!B227","v":144.41765734668598},{"$f":"Iass!N227","v":122.87299971877172},{"$f":"Iass!Y227","v":117.53408615173804},{"$f":"Iass!Z227","v":1.5618136933343019},null,null,null,null,null,null,null,{"$f":"ETT!C224","v":332886.27982967766},{"$f":"DNIs!B220","v":59737.174008800881},{"$f":"sabi!B220*1000","v":461036421.65288681},{"$f":"Data!E67","v":337243855.20207196},{"$f":"Data!C67","v":237564.17333591476},19224622.645718146,112.40927038122454,null,null,null,null,null,null,null,null,null,null,null,null,null,null,null,2.5857405605538064,2.1304443423741328,3215153.7880252837,-3.9181275283425521,14.089870440708941,null,89.729639009288491,null,21.959309712599428,73.149070087131221,71.364963872186394]
["2020-04-01",{"$f":"'SEPE contratos'!E240","v":1727537.5568916718},{"$f":"'SEPE contratos'!H240","v":170604.84738581793},{"$f":"'SEPE contratos'!M240","v":1556932.7095058539},{"$f":"Iass!B228","v":141.72154519297314},{"$f":"Iass!N228","v":124.68836732177584},{"$f":"Iass!Y228","v":113.66059900940139},{"$f":"Iass!Z228","v":1.2819830837970558},null,null,null,null,null,null,null,{"$f":"ETT!C225","v":356847.38582020433},{"$f":"DNIs!B221","v":64194.694253301495},{"$f":"sabi!B221*1000","v":450822591.58647364},{"$f":"Data!E68","v":336786267.77606797},{"$f":"Data!C68","v":258850.13363790838},19409157.411145844,112.49591850341356,null,null,null,null,null,null,null,null,null,null,null,null,null,null,null,2.4210851689231649,2.0401911704717222,3111934.5525219166,-3.4480594661817965,13.618303189079498,null,90.124391408729537,null,22.919897799145225,74.704833799676166,72.538049576277032]
["2020-05-01",{"$f":"'SEPE contratos'!E241","v":1996887.2440362375},{"$f":"'SEPE contratos'!H241","v":185249.1532270879},{"$f":"'SEPE contratos'!M241","v":1811638.0908091497},{"$f":"Iass!B229","v":158.003321737834},{"$f":"Iass!N229","v":134.46216535287053},{"$f":"Iass!Y229","v":117.50764337550579},{"$f":"Iass!Z229","v":0.59533570366254729},null,null,null,null,null,null,null,{"$f":"ETT!C226","v":405090.41937862372},{"$f":"DNIs!B222","v":71434.89031175767},{"$f":"sabi!B222*1000","v":511439331.61507833},{"$f":"Data!E69","v":379519026.9663195},{"$f":"Data!C69","v":284932.53448781342},19551319.553481698,112.62072778522938,null,null,null,null,null,null,null,null,null,null,null,null,null,null,null,2.3280777413973164,1.953415687332118,3030243.2859858507,-3.6288244148104942,13.218239774850254,null,90.723103981942899,null,22.360449442619867,74.206069714629365,70.338008715406588]
["2020-06-01",{"$f":"'SEPE contratos'!E242","v":2029042.1059254231},{"$f":"'SEPE contratos'!H242","v":185151.16580819964},{"$f":"'SEPE contratos'!M242","v":1843890.9401172234},{"$f":"Iass!B230","v":160.61583003558994},{"$f":"Iass!N230","v":137.98963140700485},{"$f":"Iass!Y230","v":116.39702809397932},{"$f":"Iass!Z230","v":2.8133208299404577},null,null,null,null,null,null,null,{"$f":"ETT!C227","v":403686.38086812763},{"$f":"DNIs!B223","v":71915.836597270056},{"$f":"sabi!B223*1000","v":525269072.58899647},{"$f":"Data!E70","v":390749963.13625163},{"$f":"Data!C70","v":291213.73600286583},19556348.275360864,112.77878463335688,null,null,null,null,null,null,null,null,null,null,null,null,null,null,null,2.186452530765326,1.8677733361933708,2943546.9867831366,-3.5862476255171249,12.820512943162266,null,90.874947086238294,null,21.893180994883771,74.390437877921471,72.138608039392025]
["2020-07-01",{"$f":"'SEPE contratos'!E243","v":2147974.4874679181},{"$f":"'SEPE contratos'!H243","v":193604.25720812165},{"$f":"'SEPE contratos'!M243","v":1954370.2302597964},{"$f":"Iass!B231","v":175.45793868036719},{"$f":"Iass!N231","v":137.53492172409477},{"$f":"Iass!Y231","v":127.57337298838823},{"$f":"Iass!Z231","v":4.1210881730795013},null,null,null,null,null,null,null,{"$f":"ETT!C228","v":391003.12545782846},{"$f":"DNIs!B224","v":74507.783809849425},{"$f":"sabi!B224*1000","v":562048580.17779243},{"$f":"Data!E71","v":437805530.55953097},{"$f":"Data!C71","v":295401.90481273906},19553681.617802121,112.96758096071723,null,null,null,null,null,null,null,null,null,null,null,null,null,null,null,2.1632472395013869,1.8376731164563171,2900229.1959613771,-3.229858895580251,12.73884706867946,null,90.986659369667521,null,20.006604654730747,77.89460662297914,75.549755380305655]
["2020-08-01",{"$f":"'SEPE contratos'!E244","v":1538678.8806269744},{"$f":"'SEPE contratos'!H244","v":135028.78139633848},{"$f":"'SEPE contratos'!M244","v":1403650.0992306359},{"$f":"Iass!B232","v":143.5772691046887},{"$f":"Iass!N232","v":125.48799110596009},{"$f":"Iass!Y232","v":114.41514669196854},{"$f":"Iass!Z232","v":3.1313308474905321},null,null,null,null,null,null,null,{"$f":"ETT!C229","v":318998.29447490996},{"$f":"DNIs!B225","v":62189.033969842174},{"$f":"sabi!B225*1000","v":462021444.21306032},{"$f":"Data!E72","v":361174169.37739772},{"$f":"Data!C72","v":241516.77844843821},19400577.340463154,113.1338719773144,null,null,null,null,null,null,null,null,null,null,null,null,null,null,null,2.1935204900921601,1.8609942765575931,2955883.4618822099,-3.3161839323632702,13.10265284879927,null,91.224368963762117,null,22.726340036577366,78.172598675061266,75.71099364214129]
["2020-09-01",{"$f":"'SEPE contratos'!E245","v":2093843.7026947713},{"$f":"'SEPE contratos'!H245","v":218748.51518937695},{"$f":"'SEPE contratos'!M245","v":1875095.1875053945},{"$f":"Iass!B233","v":154.4283346310896},{"$f":"Iass!N233","v":133.22355456367535},{"$f":"Iass!Y233","v":115.91668991032607},{"$f":"Iass!Z233","v":1.6541874071013707},null,null,null,null,null,null,null,{"$f":"ETT!C230","v":377184.42918749287},{"$f":"DNIs!B226","v":70575.340585134036},{"$f":"sabi!B226*1000","v":503165457.88801116},{"$f":"Data!E73","v":387060347.69801235},{"$f":"Data!C73","v":278036.36285917618},19504130.890984189,113.28798719078573,null,null,null,null,null,null,null,null,null,null,null,null,null,null,null,2.162029326004733,1.8821516012227812,2963966.7010754384,-3.0753302872258081,12.897189246926674,null,89.552777272350937,null,20.11548169398775,76.925063441886707,73.713637505690443]
["2020-10-01",{"$f":"'SEPE contratos'!E246","v":2213314.7383304955},{"$f":"'SEPE contratos'!H246","v":222864.27188710461},{"$f":"'SEPE contratos'!M246","v":1990450.4664433911},{"$f":"Iass!B234","v":160.32373589566046},{"$f":"Iass!N234","v":138.10806189978013},{"$f":"Iass!Y234","v":116.08571845139744},{"$f":"Iass!Z234","v":6.667990339153107E-2},null,null,null,null,null,null,null,{"$f":"ETT!C231","v":418066.4355985992},{"$f":"DNIs!B227","v":75103.576576332314},{"$f":"sabi!B227*1000","v":525526838.78920925},{"$f":"Data!E74","v":408782159.98291147},{"$f":"Data!C74","v":307865.83273065602},19477374.510025285,113.4413518646878,null,null,null,null,null,null,null,null,null,null,null,null,null,null,null,2.1679945018997504,1.8445502844563499,3018155.1524244524,-3.0186819783265206,13.196511719293699,null,89.930746494047611,null,21.003609114956546,77.785210918005177,73.640408919660132]
["2020-11-01",{"$f":"'SEPE contratos'!E247","v":1827130.5883489817},{"$f":"'SEPE contratos'!H247","v":174704.48946661732},{"$f":"'SEPE contratos'!M247","v":1652426.0988823643},{"$f":"Iass!B235","v":156.99338543300888},{"$f":"Iass!N235","v":138.98481419009295},{"$f":"Iass!Y235","v":112.957222231693},{"$f":"Iass!Z235","v":1.8512776559572952},null,null,null,null,null,null,null,{"$f":"ETT!C232","v":393418.96106685267},{"$f":"DNIs!B228","v":72849.815313643208},{"$f":"sabi!B228*1000","v":506719261.88580304},{"$f":"Data!E75","v":396082385.69030476},{"$f":"Data!C75","v":296723.24979341036},19620777.650858309,113.65881125054679,null,null,null,null,null,null,null,null,null,null,null,null,null,null,null,2.1405195484436756,1.8638134811985028,3021107.7142206454,-3.0506938386854365,13.158435843071825,null,90.438314011015351,null,23.808566164196129,78.166040938772923,75.421695230136336]
["2020-12-01",{"$f":"'SEPE contratos'!E248","v":1774364.8478171662},{"$f":"'SEPE contratos'!H248","v":153650.747613632},{"$f":"'SEPE contratos'!M248","v":1620714.1002035341},{"$f":"Iass!B236","v":151.64612047910725},{"$f":"Iass!N236","v":134.3955849146972},{"$f":"Iass!Y236","v":112.8356415691477},{"$f":"Iass!Z236","v":1.9435933759581081},null,null,null,null,null,null,null,{"$f":"ETT!C233","v":375149.91469770268},{"$f":"DNIs!B229","v":69108.191807685333},{"$f":"sabi!B229*1000","v":487273737.63355881},{"$f":"Data!E76","v":375859688.54021925},{"$f":"Data!C76","v":281132.10836216895},19532534.967887279,113.92047554274772,null,null,null,null,null,null,null,null,null,null,null,null,null,null,null,2.0973907164584249,1.87366153886052,2960045.1962278481,-2.8853394050024184,12.921297072531527,null,91.340521212271867,null,23.147198796542227,77.135223902190788,74.938603834871273]
[null,null,null,null,null,null,null,null,null,null,null,null,null,null,null,null,null,null,null,null,null,null,null,null,null,null,null,null,null,null,null,null,null,null,null,null,null,null,null,null,null,null,null,"Baja",null,"Sube","Baja","Baja"]
[null,null,null,null,null,null,null,null,null,null,null,null,null,null,null,null,null,null,"endogena a EXPLICAR",null,{"$f":"((U212/U200)-1)*100","v":2.5871902248592704},null,null,null,null,null,null,null,null,null,null,null,null,null,null,null,null,null,null,null,null,null,"Ine, TriM, no",null,"No disponible "]
[null,null,null,null,null,null,null,null,null,null,null,null,null,null,null,null,null,null,null,null,null,null,null,null,null,null,null,null,null,null,null,null,null,null,null,null,null,null,null,null,null,null,null,null,null,"Otras opciones en modelo Eviews, como a la derecha, mas los ratios de Facturación por Empleado"]
[null,null,null,null,null,null,null,null,null,null,null,null,null,null,null,null,null,null,null,null,"HF-REG-INF (AFILIADOS)",null,null,null,null,null,null,null,null,null,null,null,null,null,null,null,null,"HF-REG-INF (AFILIADOS)"]
[null,null,null,null,null,null,null,null,null,null,null,null,null,null,null,null,null,null,null,null,"datosESP","el pib si sale tambien de HFREG, aunque no entra en explicativas directas",null,null,null,null,null,null,null,null,null,null,null,null,null,null,null,"datosESP","el pib si sale tambien de HFREG, aunque no entra en explicativas directas",null,null,null,null,null,null,"DNI_CPD_ETT_0"]
[null,null,null,null,null,null,null,null,null,null,null,null,null,null,null,null,null,null,null,null,"2019.07,05","PIB en tasas e indices a la Dcha. ",null,null,null,null,null,null,null,null,null,null,null,null,null,null,null,"para el próximo","PIB en tasas e indices a la Dcha. ",null,null,null,null,null,null,"FAC_CPD_ETT_0"]
[null,null,null,null,null,null,null,null,null,null,null,null,null,null,null,null,null,null,null,null,"se aplican Orig.","si queremos las tasas del datos_esp que se tira luego (una semana) del HFREG se reemplazan tasas y el inidce calcula el Nuevo (esta indexado). ",null,null,null,null,null,null,null,null,null,null,null,null,null,null,null,null,"si queremos las tasas del datos_esp que se tira luego (una semana) del HFREG se reemplazan tasas y el inidce calcula el Nuevo (esta indexado). ",null,null,null,null,null,null,"FAC_CPD_ASEMPLEO_0"]
[]
[null,{"$f":"AVERAGE(B159:B170)","v":1548023.3333333333},125763.75,1422259.5833333333,99.999833333333342,99.999916666666664,99.820749697679844,3.9416666666666664,null,null,null,null,null,null,null,{"$f":"AVERAGE(P159:P170)","v":259065.91666666666},46862.083333333336,305952196.44616657,246408630.14851007,{"$f":"AVERAGE(T159:T170)","v":179871.25},{"$f":"AVERAGE(U159:U170)","v":17017314.25},2015]
[null,{"$f":"AVERAGE(B171:B182)","v":1664912.8333333333},142771.83333333334,1522141,110.46191666666668,109.65791666666667,100.60956477991455,1.0416666666666667,null,null,null,null,null,null,null,{"$f":"AVERAGE(P171:P182)","v":290128.08333333331},51660.25,350554065.19274968,274207199.75676876,{"$f":"AVERAGE(T171:T182)","v":200793.66666666666},{"$f":"AVERAGE(U171:U182)","v":17518425.916666668},2016]
[null,{"$f":"AVERAGE(B183:B194)","v":1791775.25},160770.83333333334,1631004.4166666667,128.8965,120.89408333333334,106.49841182138424,6.5083333333333329,null,null,null,null,null,null,null,{"$f":"AVERAGE(P183:P194)","v":322707.25},59051.083333333343,410792888.26591653,320905732.66127664,{"$f":"AVERAGE(T183:T194)","v":229629.33333333334},{"$f":"AVERAGE(U183:U194)","v":18126906.666666668},2017]
[null,{"$f":"AVERAGE(B195:B206)","v":1857640.0833333333},190410.33333333334,1667229.75,141.43541666666667,127.60258333333336,110.75745591387647,4.3731784337157391,null,null,null,null,null,null,null,{"$f":"AVERAGE(P195:P206)","v":340385.91666666669},63151.916666666657,450753998.85064834,340967731.91935307,{"$f":"AVERAGE(T195:T206)","v":249797.75},{"$f":"AVERAGE(U195:U206)","v":18701101.166666668},2018]
[null,{"$f":"AVERAGE(B207:B218)","v":1876018.4166666667},179952.83333333334,1696065.5833333333,146.17414670479562,{"$f":"AVERAGE(F207:F218)","v":128.22131480021821},113.92601300485391,2.9011860404824681,null,null,null,null,null,null,null,{"$f":"AVERAGE(P207:P218)","v":353507.97788955964},65679.606101757076,465674742.27554375,351662835.56182647,{"$f":"AVERAGE(T207:T218)","v":258886.64171295334},{"$f":"AVERAGE(U207:U218)","v":19189212.666666668},2019]
[null,{"$f":"AVERAGE(B219:B230)","v":1859068.3103620233},{"$f":"AVERAGE(C219:C230)","v":179178.43479434724},1679889.8755676763,151.64749968397825,{"$f":"AVERAGE(F219:F230)","v":130.81094068812658},115.85141266590524,1.7165800568196843,null,null,null,null,null,null,null,{"$f":"AVERAGE(P219:P230)","v":368888.21871269122},{"$f":"AVERAGE(Q219:Q230)","v":68019.87911880725},488032215.87476271,371007103.28066993,{"$f":"AVERAGE(T219:T230)","v":270637.31158587674},{"$f":"AVERAGE(U219:U230)","v":19413886.681960382},2020]
[]
["ojo!, son flujos mensuales",null,null,null,null,null,null,null,null,null,null,null,null,null,null,null,null,null,null,null,"tasas de Stock"]
[null,{"$f":"B240/B239-1","v":7.5508874758563049E-2},0.13523836028532332,7.0227276256121796E-2,0.10462100770167959,9.6580080483400499E-2,7.902315747214228E-3,null,null,null,null,null,null,null,null,{"$f":"P240/P239-1","v":0.11990063018067154},0.10238910277498681,0.14578051494535016,0.11281491882611627,0.11631884843557083,{"$f":"U240/U239-1","v":2.9447165357874727E-2},{"$f":"V240","v":2016}]
[null,{"$f":"B241/B240-1","v":7.6197632768962853E-2},0.12606828377679546,7.1519929275058347E-2,0.16688632507583678,0.10246562225709499,5.85316818967625E-2,null,null,null,null,null,null,null,null,{"$f":"P241/P240-1","v":0.11229235823143635},0.1430661549902168,0.17183889463682278,0.17030381749979973,0.14360844714557741,{"$f":"U241/U240-1","v":3.4733757067814119E-2},{"$f":"V241","v":2017}]
[null,{"$f":"B242/B241-1","v":3.6759539642783556E-2},0.18435868860956339,2.2210444658002926E-2,9.7278953785918665E-2,5.5490722250675528E-2,3.9991620716704812E-2,null,null,null,null,null,null,null,null,{"$f":"P242/P241-1","v":5.4782365957587453E-2},6.9445522450194641E-2,9.7277999999999976E-2,6.2516799222319674E-2,8.7830314942341836E-2,{"$f":"U242/U241-1","v":3.1676364343833585E-2},2018]
[null,{"$f":"B243/B242-1","v":9.8933768162212665E-3},-5.4920863888689553E-2,1.7295656662396519E-2,3.3504550343971706E-2,4.8488945186051513E-3,2.8608070353667747E-2,null,null,null,null,null,null,null,null,{"$f":"P243/P242-1","v":3.8550540960668345E-2},4.0025537917277587E-2,3.3101743884559998E-2,3.1366908482128864E-2,3.638500231868913E-2,{"$f":"U243/U242-1","v":2.6100682288699772E-2},2019]
[null,{"$f":"B244/B243-1","v":-9.0351492043242443E-3},{"$f":"C244/C243-1","v":-4.3033417403973706E-3},-9.537194743298949E-3,3.7444056302488926E-2,2.0196532003616374E-2,1.6900439243575427E-2,null,null,null,null,null,null,null,null,{"$f":"P244/P243-1","v":4.3507478713638914E-2},{"$f":"Q244/Q243-1","v":3.5631654267603174E-2},4.8010921721818089E-2,5.5007995621540573E-2,4.5389247568641489E-2,{"$f":"U244/U243-1","v":1.1708349852414424E-2},2020]
[]
[null,null,null,null,null,null,null,null,null,null,"el iclima_78 no trabaja bien, se podria obviar, ",null,null,null,null,null,null,"esta serie de Sabi depende de IASS"]
[]
[]
[]
[]
[]
[]
[]
[]
[]
[]
[]
[]
[]
[]
[]
[]
[]
[null,null,null,null,null,null,null,null,null,null,"el empleo -3M no funciona (roja), OMITIR"]
[]
[]
[]
[]
[]
[]
[]
[]
[]
[]
[]
[]
[]
[]
[]
[]
[]
[null,null,null,null,null,null,null,null,null,null,"cpds de las tres series funcionan fenomenal, "]
[null,null,null,null,null,null,null,null,null,null,"se pueden hacer ratios, Ok. "]
[]
[]
[]
[]
[]
[]
[]
[]
[]
[]
[]
[]
[]
[]
[]
[null,null,null,null,null,null,null,null,null,null,"dnis sector con iass_ocup, ocupados y temporalesy cuota cpds. "]
[]
[null,null,null,null,null,null,null,null,null,null,"la linea roja de la cuota no se ve. Pero si funciona. "]
[]
[]
[]
[]
[]
[]
[]
[]
[]
[]
[]
[]
[]
[]
[]
[]
[null,null,null,null,null,null,null,null,null,null,null,"cuotas (ratios) EXTRAS"]
[]
[null,null,null,null,null,null,null,null,null,null,null,"funciona el AZUL, el morado y quizas le verde. "]
[null,null,null,null,null,null,null,null,null,null,null,"el rojo no discrimina. "]
[]
[]
[]
[]
[]
[]
[]
[]
[]
[]
[]
[]
[]
[null,null,null,null,null,null,null,null,null,null,null,"AQUÍ series"]
[null,null,null,null,null,null,null,null,null,null,null,"ASEMPLEO con sector"]
[]
[]
[]
[]
[]
[]
[]
[]
[]
[]
[]
[]
[]
[]
[]
[]
[]
[]
[null,null,null,null,null,null,null,null,null,null,null,null,null,null,null,null,null,null,"Hacer Cuota. "]
[]
[null,null,null,null,null,null,null,null,null,null,null,null,null,null,null,null,null,null,"con esta cuota de cpds aplicada a los Dnis ETTs se podria generar una serie de Dnis ASEMPLEO."]
[null,null,null,null,null,null,null,null,null,null,null,null,null,null,null,null,null,null,"?¿?"]

{"sheet":"Prevision","index":7,"n_rows":188,"n_cols":67,"rows_kept":188,"cut":false,"hidden":true,"merged":[]}
[null,null,"CPDs",null,2018,2019,null,"Facturación",null,{"$f":"E1","v":2018},{"$f":"F1","v":2019},null,null,null,"Facturación y CPDs",null,null,null,null,null,null,null,null,null,null,null,null,null,null,null,null,null,null,null,null,null,null,null,null,null,null,null,null,null,"cierre datos de ABRIL desde fuente ASEMPLEO",null,null,null,null,null,null,null,null,null,null,null,null,null,null,null,null,null,null,null,"ultimo mes para formulas"]
["ene","2018-01-01",{"$f":"((AVERAGE(P$39:P$50)/AVERAGE(P$27:P$38))-1)","v":9.9225083074462761E-2},"Media de medias",{"$f":"AVERAGE(C2:C13)","v":0.10019317358509465},{"$f":"AVERAGE(C14:C25)","v":5.1883001120945071E-2},null,{"$f":"((AVERAGE(O$39:O$50)/AVERAGE(O$27:O$38))-1)","v":0.12577185056678108},{"$f":"D2","v":"Media de medias"},{"$f":"AVERAGE(H2:H13)","v":0.10704591984196014},{"$f":"AVERAGE(H14:H25)","v":4.9587504113075886E-2},null,null,null,null,"2018-01-01",null,"2018-02-01",null,"2018-03-01",null,"2018-04-01",null,"2018-05-01",null,"2018-06-01",null,"2018-07-01",null,"2018-08-01",null,"2018-09-01",null,"2018-10-01",null,"2018-11-01",null,"2018-12-01",null,"2019-01-01",null,"2019-02-01",null,"2019-03-01",null,"2019-04-01",null,"2019-05-01",null,"2019-06-01",null,"2019-07-01",null,"2019-08-01",null,"2019-09-01",null,"2019-10-01",null,"2019-11-01",null,"2019-12-01",null,"2020-01-01","fact","cpd's"]
["feb","2018-02-01",{"$f":"((AVERAGE(R$39:R$50)/AVERAGE(R$27:R$38))-1)","v":0.12646850376877894},"Máx",{"$f":"MAX(C2:C13)","v":0.12646850376877894},{"$f":"MAX(C14:C25)","v":8.2794011596033723E-2},null,{"$f":"((AVERAGE(Q$39:Q$50)/AVERAGE(Q$27:Q$38))-1)","v":0.1472202370126392},{"$f":"D3","v":"Máx"},{"$f":"MAX(H2:H13)","v":0.1472202370126392},{"$f":"MAX(H14:H25)","v":8.6951000311592308E-2},null,null,"2015-01-01",{"$f":"$AS3","v":199796888.349498},{"$f":"$AT3","v":160218},{"$f":"$AS3","v":199796888.349498},{"$f":"$AT3","v":160218},{"$f":"$AS3","v":199796888.349498},{"$f":"$AT3","v":160218},{"$f":"$AS3","v":199796888.349498},{"$f":"$AT3","v":160218},{"$f":"$AS3","v":199796888.349498},{"$f":"$AT3","v":160218},{"$f":"$AS3","v":199796888.349498},{"$f":"$AT3","v":160218},{"$f":"$AS3","v":199796888.349498},{"$f":"$AT3","v":160218},{"$f":"$AS3","v":199796888.349498},{"$f":"$AT3","v":160218},{"$f":"$AS3","v":199796888.349498},{"$f":"$AT3","v":160218},{"$f":"$AS3","v":199796888.349498},{"$f":"$AT3","v":160218},{"$f":"$AS3","v":199796888.349498},{"$f":"$AT3","v":160218},{"$f":"$AS3","v":199796888.349498},{"$f":"$AT3","v":160218},{"$f":"$AS3","v":199796888.349498},{"$f":"$AT3","v":160218},{"$f":"$AS3","v":199796888.349498},{"$f":"$AT3","v":160218},{"$f":"$AS3","v":199796888.349498},{"$f":"$AT3","v":160218},199796888.349498,160218,{"$f":"$AS3","v":199796888.349498},{"$f":"$AT3","v":160218},{"$f":"$AU3","v":199796888.349498},{"$f":"$AV3","v":160218},{"$f":"$AW3","v":199796888.349498},{"$f":"$AX3","v":160218},{"$f":"$AY3","v":199796888.349498},{"$f":"$AZ3","v":160218},{"$f":"$BA3","v":199796888.349498},{"$f":"$BB3","v":160218},{"$f":"$BC3","v":199796888.349498},{"$f":"$BD3","v":160218},{"$f":"$BE3","v":199796888.349498},{"$f":"$BF3","v":160218},{"$f":"$BG3","v":199796888.349498},{"$f":"$BH3","v":160218}]
["mar","2018-03-01",{"$f":"((AVERAGE(T$39:T$50)/AVERAGE(T$27:T$38))-1)","v":0.11887661559429064},"Mín",{"$f":"MIN(C2:C13)","v":7.7343327529493022E-2},{"$f":"MIN(C14:C25)","v":2.5706707424048458E-2},null,{"$f":"((AVERAGE(S$39:S$50)/AVERAGE(S$27:S$38))-1)","v":0.14339035959155422},{"$f":"D4","v":"Mín"},{"$f":"MIN(H2:H13)","v":6.2516799222319674E-2},{"$f":"MIN(H14:H25)","v":3.0757852846353906E-2},null,null,"2015-02-01",205269817.02718616,144598,{"$f":"$AS4","v":205269817.02718616},{"$f":"$AT4","v":144598},{"$f":"$AS4","v":205269817.02718616},{"$f":"$AT4","v":144598},{"$f":"$AS4","v":205269817.02718616},{"$f":"$AT4","v":144598},{"$f":"$AS4","v":205269817.02718616},{"$f":"$AT4","v":144598},{"$f":"$AS4","v":205269817.02718616},{"$f":"$AT4","v":144598},{"$f":"$AS4","v":205269817.02718616},{"$f":"$AT4","v":144598},{"$f":"$AS4","v":205269817.02718616},{"$f":"$AT4","v":144598},{"$f":"$AS4","v":205269817.02718616},{"$f":"$AT4","v":144598},{"$f":"$AS4","v":205269817.02718616},{"$f":"$AT4","v":144598},{"$f":"$AS4","v":205269817.02718616},{"$f":"$AT4","v":144598},{"$f":"$AS4","v":205269817.02718616},{"$f":"$AT4","v":144598},{"$f":"$AS4","v":205269817.02718616},{"$f":"$AT4","v":144598},{"$f":"$AS4","v":205269817.02718616},{"$f":"$AT4","v":144598},{"$f":"$AS4","v":205269817.02718616},{"$f":"$AT4","v":144598},205269817.02718616,144598,{"$f":"$AS4","v":205269817.02718616},{"$f":"$AT4","v":144598},{"$f":"$AU4","v":205269817.02718616},{"$f":"$AV4","v":144598},{"$f":"$AW4","v":205269817.02718616},144598,{"$f":"$AY4","v":205269817.02718616},{"$f":"$AZ4","v":144598},{"$f":"$BA4","v":205269817.02718616},{"$f":"$BB4","v":144598},205269817.02718616,144598,{"$f":"$BE4","v":205269817.02718616},{"$f":"$BF4","v":144598},{"$f":"$BG4","v":205269817.02718616},{"$f":"$BH4","v":144598}]
["abr","2018-04-01",{"$f":"((AVERAGE(V$39:V$50)/AVERAGE(V$27:V$38))-1)","v":0.11584058783563678},"Media anual",{"$f":"C13","v":8.7830314942341836E-2},{"$f":"C25","v":3.638500231868913E-2},"a Dic",{"$f":"((AVERAGE(U$39:U$50)/AVERAGE(U$27:U$38))-1)","v":0.13916430773779243},{"$f":"D5","v":"Media anual"},{"$f":"H13","v":6.2516799222319674E-2},{"$f":"H25","v":3.1366908482129086E-2},{"$f":"G5","v":"a Dic"},null,"2015-03-01",228958856.96233633,172644,228958856.96233633,172644,228958856.96233633,172644,228958856.96233633,172644,228958856.96233633,172644,228958856.96233633,172644,228958856.96233633,172644,228958856.96233633,172644,228958856.96233633,172644,228958856.96233633,172644,228958856.96233633,172644,228958856.96233633,172644,228958856.96233633,172644,228958856.96233633,172644,228958856.96233633,172644,228958856.96233633,172644,228958856.96233633,172644,228958856.96233633,172644,228958856.96233633,172644,228958856.96233633,172644,228958856.96233633,172644,228958856.96233633,172644,228958856.96233633,172644,228958856.96233633,172644]
["may","2018-05-01",{"$f":"((AVERAGE(X$39:X$50)/AVERAGE(X$27:X$38))-1)","v":0.11885298082475892},null,null,null,null,{"$f":"((AVERAGE(W$39:W$50)/AVERAGE(W$27:W$38))-1)","v":0.14447994521141205},null,null,null,null,null,"2015-04-01",222199034.0040389,169105,222199034.0040389,169105,222199034.0040389,169105,222199034.0040389,169105,222199034.0040389,169105,222199034.0040389,169105,222199034.0040389,169105,222199034.0040389,169105,222199034.0040389,169105,222199034.0040389,169105,222199034.0040389,169105,222199034.0040389,169105,222199034.0040389,169105,222199034.0040389,169105,222199034.0040389,169105,222199034.0040389,169105,222199034.0040389,169105,222199034.0040389,169105,222199034.0040389,169105,222199034.0040389,169105,222199034.0040389,169105,222199034.0040389,169105,222199034.0040389,169105,222199034.0040389,169105]
["jun","2018-06-01",{"$f":"((AVERAGE(Z$39:Z$50)/AVERAGE(Z$27:Z$38))-1)","v":9.5622584390131049E-2},null,null,null,null,{"$f":"((AVERAGE(Y$39:Y$50)/AVERAGE(Y$27:Y$38))-1)","v":0.12094482824996278},null,null,null,null,null,"2015-05-01",243556211.6297586,183107,243556211.6297586,183107,243556211.6297586,183107,243556211.6297586,183107,243556211.6297586,183107,243556211.6297586,183107,243556211.6297586,183107,243556211.6297586,183107,243556211.6297586,183107,243556211.6297586,183107,243556211.6297586,183107,243556211.6297586,183107,243556211.6297586,183107,243556211.6297586,183107,243556211.6297586,183107,243556211.6297586,183107,243556211.6297586,183107,243556211.6297586,183107,243556211.6297586,183107,243556211.6297586,183107,243556211.6297586,183107,243556211.6297586,183107,243556211.6297586,183107,243556211.6297586,183107]
["jul","2018-07-01",{"$f":"((AVERAGE(AB$39:AB$50)/AVERAGE(AB$27:AB$38))-1)","v":9.5168231687799532E-2},null,null,null,null,{"$f":"((AVERAGE(AA$39:AA$50)/AVERAGE(AA$27:AA$38))-1)","v":0.11078170866743942},null,null,null,null,null,"2015-06-01",270713085.81392014,200905,270713085.81392014,200905,270713085.81392014,200905,270713085.81392014,200905,270713085.81392014,200905,270713085.81392014,200905,270713085.81392014,200905,270713085.81392014,200905,270713085.81392014,200905,270713085.81392014,200905,270713085.81392014,200905,270713085.81392014,200905,270713085.81392014,200905,270713085.81392014,200905,270713085.81392014,200905,270713085.81392014,200905,270713085.81392014,200905,270713085.81392014,200905,270713085.81392014,200905,270713085.81392014,200905,270713085.81392014,200905,270713085.81392014,200905,270713085.81392014,200905,270713085.81392014,200905]
["ago","2018-08-01",{"$f":"((AVERAGE(AD$39:AD$50)/AVERAGE(AD$27:AD$38))-1)","v":9.6330394886399384E-2},null,null,null,null,{"$f":"((AVERAGE(AC$39:AC$50)/AVERAGE(AC$27:AC$38))-1)","v":9.4821822535418265E-2},null,null,null,null,null,"2015-07-01",301814967.83747554,193688,301814967.83747554,193688,301814967.83747554,193688,301814967.83747554,193688,301814967.83747554,193688,301814967.83747554,193688,301814967.83747554,193688,301814967.83747554,193688,301814967.83747554,193688,301814967.83747554,193688,301814967.83747554,193688,301814967.83747554,193688,301814967.83747554,193688,301814967.83747554,193688,301814967.83747554,193688,301814967.83747554,193688,301814967.83747554,193688,301814967.83747554,193688,301814967.83747554,193688,301814967.83747554,193688,301814967.83747554,193688,301814967.83747554,193688,301814967.83747554,193688,301814967.83747554,193688]
["sep","2018-09-01",{"$f":"((AVERAGE(AF$39:AF$50)/AVERAGE(AF$27:AF$38))-1)","v":8.4663068361524596E-2},null,null,null,null,{"$f":"((AVERAGE(AE$39:AE$50)/AVERAGE(AE$27:AE$38))-1)","v":6.9498954642494448E-2},null,null,null,null,null,"2015-08-01",242881829.07986039,174696,242881829.07986039,174696,242881829.07986039,174696,242881829.07986039,174696,242881829.07986039,174696,242881829.07986039,174696,242881829.07986039,174696,242881829.07986039,174696,242881829.07986039,174696,242881829.07986039,174696,242881829.07986039,174696,242881829.07986039,174696,242881829.07986039,174696,242881829.07986039,174696,242881829.07986039,174696,242881829.07986039,174696,242881829.07986039,174696,242881829.07986039,174696,242881829.07986039,174696,242881829.07986039,174696,242881829.07986039,174696,242881829.07986039,174696,242881829.07986039,174696,242881829.07986039,174696]
["oct","2018-10-01",{"$f":"((AVERAGE(AH$39:AH$50)/AVERAGE(AH$27:AH$38))-1)","v":7.7343327529493022E-2},null,null,null,null,{"$f":"((AVERAGE(AG$39:AG$50)/AVERAGE(AG$27:AG$38))-1)","v":6.2939947769549587E-2},null,null,null,null,null,"2015-09-01",268733230.08056289,185882,268733230.08056289,185882,268733230.08056289,185882,268733230.08056289,185882,268733230.08056289,185882,268733230.08056289,185882,268733230.08056289,185882,268733230.08056289,185882,268733230.08056289,185882,268733230.08056289,185882,268733230.08056289,185882,268733230.08056289,185882,268733230.08056289,185882,268733230.08056289,185882,268733230.08056289,185882,268733230.08056289,185882,268733230.08056289,185882,268733230.08056289,185882,268733230.08056289,185882,268733230.08056289,185882,268733230.08056289,185882,268733230.08056289,185882,268733230.08056289,185882,268733230.08056289,185882]
["nov","2018-11-01",{"$f":"((AVERAGE(AJ$39:AJ$50)/AVERAGE(AJ$27:AJ$38))-1)","v":8.6096390125518285E-2},null,null,null,null,{"$f":"((AVERAGE(AI$39:AI$50)/AVERAGE(AI$27:AI$38))-1)","v":6.3020276896158522E-2},null,null,null,null,null,"2015-10-01",261992577.12830567,199180,261992577.12830567,199180,261992577.12830567,199180,261992577.12830567,199180,261992577.12830567,199180,261992577.12830567,199180,261992577.12830567,199180,261992577.12830567,199180,261992577.12830567,199180,261992577.12830567,199180,261992577.12830567,199180,261992577.12830567,199180,261992577.12830567,199180,261992577.12830567,199180,261992577.12830567,199180,261992577.12830567,199180,261992577.12830567,199180,261992577.12830567,199180,261992577.12830567,199180,261992577.12830567,199180,261992577.12830567,199180,261992577.12830567,199180,261992577.12830567,199180,261992577.12830567,199180]
["dic","2018-12-01",{"$f":"((AVERAGE(AL$39:AL$50)/AVERAGE(AL$27:AL$38))-1)","v":8.7830314942341836E-2},null,null,null,null,{"$f":"((AVERAGE(AK$39:AK$50)/AVERAGE(AK$27:AK$38))-1)","v":6.2516799222319674E-2},null,null,null,null,null,"2015-11-01",260565964.74729463,192380,260565964.74729463,192380,260565964.74729463,192380,260565964.74729463,192380,260565964.74729463,192380,260565964.74729463,192380,260565964.74729463,192380,260565964.74729463,192380,260565964.74729463,192380,260565964.74729463,192380,260565964.74729463,192380,260565964.74729463,192380,260565964.74729463,192380,260565964.74729463,192380,260565964.74729463,192380,260565964.74729463,192380,260565964.74729463,192380,260565964.74729463,192380,260565964.74729463,192380,260565964.74729463,192380,260565964.74729463,192380,260565964.74729463,192380,260565964.74729463,192380,260565964.74729463,192380]
[{"$f":"D55","v":7.9000000000000001E-2},"2019-01-01",{"$f":"((AVERAGE(AN$51:AN$62)/AVERAGE(AN$39:AN$50))-1)","v":6.9126798156176061E-2},null,null,null,{"$f":"K55","v":0.06},{"$f":"((AVERAGE(AM$51:AM$62)/AVERAGE(AM$39:AM$50))-1)","v":6.4982936115857592E-2},null,null,null,null,null,"2015-12-01",250421099.12188354,182052,250421099.12188354,182052,250421099.12188354,182052,250421099.12188354,182052,250421099.12188354,182052,250421099.12188354,182052,250421099.12188354,182052,250421099.12188354,182052,250421099.12188354,182052,250421099.12188354,182052,250421099.12188354,182052,250421099.12188354,182052,250421099.12188354,182052,250421099.12188354,182052,250421099.12188354,182052,250421099.12188354,182052,250421099.12188354,182052,250421099.12188354,182052,250421099.12188354,182052,250421099.12188354,182052,250421099.12188354,182052,250421099.12188354,182052,250421099.12188354,182052,250421099.12188354,182052]
[{"$f":"A14","v":7.9000000000000001E-2},"2019-02-01",{"$f":"((AVERAGE(AP$51:AP$62)/AVERAGE(AP$39:AP$50))-1)","v":8.2794011596033723E-2},null,null,null,{"$f":"G14","v":0.06},{"$f":"((AVERAGE(AO$51:AO$62)/AVERAGE(AO$39:AO$50))-1)","v":8.6951000311592308E-2},null,null,null,null,null,"2016-01-01",227000351.28068832,175552,227000351.28068832,175552,227000351.28068832,175552,227000351.28068832,175552,227000351.28068832,175552,227000351.28068832,175552,227000351.28068832,175552,227000351.28068832,175552,227000351.28068832,175552,227000351.28068832,175552,227000351.28068832,175552,227000351.28068832,175552,227000351.28068832,175552,227000351.28068832,175552,227000351.28068832,175552,227000351.28068832,175552,227000351.28068832,175552,227000351.28068832,175552,227000351.28068832,175552,227000351.28068832,175552,227000351.28068832,175552,227000351.28068832,175552,227000351.28068832,175552,227000351.28068832,175552]
[{"$f":"A15","v":7.9000000000000001E-2},"2019-03-01",{"$f":"((AVERAGE(AR$51:AR$62)/AVERAGE(AR$39:AR$50))-1)","v":6.9107210285916043E-2},null,null,null,{"$f":"G15","v":0.06},{"$f":"((AVERAGE(AQ$51:AQ$62)/AVERAGE(AQ$39:AQ$50))-1)","v":7.4967885251627342E-2},null,null,null,null,null,"2016-02-01",241066786.17486185,165959,241066786.17486185,165959,241066786.17486185,165959,241066786.17486185,165959,241066786.17486185,165959,241066786.17486185,165959,241066786.17486185,165959,241066786.17486185,165959,241066786.17486185,165959,241066786.17486185,165959,241066786.17486185,165959,241066786.17486185,165959,241066786.17486185,165959,241066786.17486185,165959,241066786.17486185,165959,241066786.17486185,165959,241066786.17486185,165959,241066786.17486185,165959,241066786.17486185,165959,241066786.17486185,165959,241066786.17486185,165959,241066786.17486185,165959,241066786.17486185,165959,241066786.17486185,165959]
[7.9000000000000001E-2,"2019-04-01",{"$f":"((AVERAGE(AT$51:AT$62)/AVERAGE(AT$39:AT$50))-1)","v":7.0053072575040565E-2},null,null,null,0.06,{"$f":"((AVERAGE(AS$51:AS$62)/AVERAGE(AS$39:AS$50))-1)","v":4.9866421237156899E-2},null,null,null,null,null,"2016-03-01",250361676.62313125,183929,250361676.62313125,183929,250361676.62313125,183929,250361676.62313125,183929,250361676.62313125,183929,250361676.62313125,183929,250361676.62313125,183929,250361676.62313125,183929,250361676.62313125,183929,250361676.62313125,183929,250361676.62313125,183929,250361676.62313125,183929,250361676.62313125,183929,250361676.62313125,183929,250361676.62313125,183929,250361676.62313125,183929,250361676.62313125,183929,250361676.62313125,183929,250361676.62313125,183929,250361676.62313125,183929,250361676.62313125,183929,250361676.62313125,183929,250361676.62313125,183929,250361676.62313125,183929]
[7.9000000000000001E-2,"2019-05-01",{"$f":"((AVERAGE(AV$51:AV$62)/AVERAGE(AV$39:AV$50))-1)","v":7.1458608997778894E-2},null,null,null,0.06,{"$f":"((AVERAGE(AU$51:AU$62)/AVERAGE(AU$39:AU$50))-1)","v":6.8666769090588442E-2},null,null,null,null,null,"2016-04-01",263007210.76130489,189564,263007210.76130489,189564,263007210.76130489,189564,263007210.76130489,189564,263007210.76130489,189564,263007210.76130489,189564,263007210.76130489,189564,263007210.76130489,189564,263007210.76130489,189564,263007210.76130489,189564,263007210.76130489,189564,263007210.76130489,189564,263007210.76130489,189564,263007210.76130489,189564,263007210.76130489,189564,263007210.76130489,189564,263007210.76130489,189564,263007210.76130489,189564,263007210.76130489,189564,263007210.76130489,189564,263007210.76130489,189564,263007210.76130489,189564,263007210.76130489,189564,263007210.76130489,189564]
[7.9000000000000001E-2,"2019-06-01",{"$f":"((AVERAGE(AX$51:AX$62)/AVERAGE(AX$39:AX$50))-1)","v":4.4304688873589182E-2},null,null,null,0.06,{"$f":"((AVERAGE(AW$51:AW$62)/AVERAGE(AW$39:AW$50))-1)","v":3.8187688650388685E-2},null,null,null,null,null,"2016-05-01",270004703.6088537,211534,270004703.6088537,211534,270004703.6088537,211534,270004703.6088537,211534,270004703.6088537,211534,270004703.6088537,211534,270004703.6088537,211534,270004703.6088537,211534,270004703.6088537,211534,270004703.6088537,211534,270004703.6088537,211534,270004703.6088537,211534,270004703.6088537,211534,270004703.6088537,211534,270004703.6088537,211534,270004703.6088537,211534,270004703.6088537,211534,270004703.6088537,211534,270004703.6088537,211534,270004703.6088537,211534,270004703.6088537,211534,270004703.6088537,211534,270004703.6088537,211534,270004703.6088537,211534]
[7.9000000000000001E-2,"2019-07-01",{"$f":"((AVERAGE(AZ$51:AZ$62)/AVERAGE(AZ$39:AZ$50))-1)","v":5.0615773914352236E-2},null,null,null,0.06,{"$f":"((AVERAGE(AY$51:AY$62)/AVERAGE(AY$39:AY$50))-1)","v":4.4381980958400735E-2},null,null,null,null,null,"2016-06-01",290023474.22477943,217649,290023474.22477943,217649,290023474.22477943,217649,290023474.22477943,217649,290023474.22477943,217649,290023474.22477943,217649,290023474.22477943,217649,290023474.22477943,217649,290023474.22477943,217649,290023474.22477943,217649,290023474.22477943,217649,290023474.22477943,217649,290023474.22477943,217649,290023474.22477943,217649,290023474.22477943,217649,290023474.22477943,217649,290023474.22477943,217649,290023474.22477943,217649,290023474.22477943,217649,290023474.22477943,217649,290023474.22477943,217649,290023474.22477943,217649,290023474.22477943,217649,290023474.22477943,217649]
[7.9000000000000001E-2,"2019-08-01",{"$f":"((AVERAGE(BB$51:BB$62)/AVERAGE(BB$39:BB$50))-1)","v":3.3665806330256842E-2},null,null,null,0.06,{"$f":"((AVERAGE(BA$51:BA$62)/AVERAGE(BA$39:BA$50))-1)","v":4.0312852342897498E-2},null,null,null,null,null,"2016-07-01",306913963.30116636,205096,306913963.30116636,205096,306913963.30116636,205096,306913963.30116636,205096,306913963.30116636,205096,306913963.30116636,205096,306913963.30116636,205096,306913963.30116636,205096,306913963.30116636,205096,306913963.30116636,205096,306913963.30116636,205096,306913963.30116636,205096,306913963.30116636,205096,306913963.30116636,205096,306913963.30116636,205096,306913963.30116636,205096,306913963.30116636,205096,306913963.30116636,205096,306913963.30116636,205096,306913963.30116636,205096,306913963.30116636,205096,306913963.30116636,205096,306913963.30116636,205096,306913963.30116636,205096]
[7.9000000000000001E-2,"2019-09-01",{"$f":"((AVERAGE(BD$51:BD$62)/AVERAGE(BD$39:BD$50))-1)","v":3.4077812536678298E-2},null,null,null,0.06,{"$f":"((AVERAGE(BC$51:BC$62)/AVERAGE(BC$39:BC$50))-1)","v":3.2267573842564401E-2},null,null,null,null,null,"2016-08-01",282512008.08607727,198154,282512008.08607727,198154,282512008.08607727,198154,282512008.08607727,198154,282512008.08607727,198154,282512008.08607727,198154,282512008.08607727,198154,282512008.08607727,198154,282512008.08607727,198154,282512008.08607727,198154,282512008.08607727,198154,282512008.08607727,198154,282512008.08607727,198154,282512008.08607727,198154,282512008.08607727,198154,282512008.08607727,198154,282512008.08607727,198154,282512008.08607727,198154,282512008.08607727,198154,282512008.08607727,198154,282512008.08607727,198154,282512008.08607727,198154,282512008.08607727,198154,282512008.08607727,198154]
[7.9000000000000001E-2,"2019-10-01",{"$f":"((AVERAGE(BF$51:BF$62)/AVERAGE(BF$39:BF$50))-1)","v":2.5706707424048458E-2},null,null,null,0.06,{"$f":"((AVERAGE(BE$51:BE$62)/AVERAGE(BE$39:BE$50))-1)","v":3.0757852846353906E-2},null,null,null,null,null,"2016-09-01",299676331.11694717,207943,299676331.11694717,207943,299676331.11694717,207943,299676331.11694717,207943,299676331.11694717,207943,299676331.11694717,207943,299676331.11694717,207943,299676331.11694717,207943,299676331.11694717,207943,299676331.11694717,207943,299676331.11694717,207943,299676331.11694717,207943,299676331.11694717,207943,299676331.11694717,207943,299676331.11694717,207943,299676331.11694717,207943,299676331.11694717,207943,299676331.11694717,207943,299676331.11694717,207943,299676331.11694717,207943,299676331.11694717,207943,299676331.11694717,207943,299676331.11694717,207943,299676331.11694717,207943]
[7.9000000000000001E-2,"2019-11-01",{"$f":"((AVERAGE(BH$51:BH$62)/AVERAGE(BH$39:BH$50))-1)","v":3.5300520442781425E-2},null,null,null,0.06,{"$f":"((AVERAGE(BG$51:BG$62)/AVERAGE(BG$39:BG$50))-1)","v":3.2340180227353743E-2},null,null,null,null,null,"2016-10-01",281198921.78282785,225634,281198921.78282785,225634,281198921.78282785,225634,281198921.78282785,225634,281198921.78282785,225634,281198921.78282785,225634,281198921.78282785,225634,281198921.78282785,225634,281198921.78282785,225634,281198921.78282785,225634,281198921.78282785,225634,281198921.78282785,225634,281198921.78282785,225634,281198921.78282785,225634,281198921.78282785,225634,281198921.78282785,225634,281198921.78282785,225634,281198921.78282785,225634,281198921.78282785,225634,281198921.78282785,225634,281198921.78282785,225634,281198921.78282785,225634,281198921.78282785,225634,281198921.78282785,225634]
[7.9000000000000001E-2,"2019-12-01",{"$f":"((AVERAGE(BJ$51:BJ$62)/AVERAGE(BJ$39:BJ$50))-1)","v":3.638500231868913E-2},null,null,null,0.06,{"$f":"((AVERAGE(BI$51:BI$62)/AVERAGE(BI$39:BI$50))-1)","v":3.1366908482129086E-2},null,null,null,null,null,"2016-11-01",302079308.2368536,220328,302079308.2368536,220328,302079308.2368536,220328,302079308.2368536,220328,302079308.2368536,220328,302079308.2368536,220328,302079308.2368536,220328,302079308.2368536,220328,302079308.2368536,220328,302079308.2368536,220328,302079308.2368536,220328,302079308.2368536,220328,302079308.2368536,220328,302079308.2368536,220328,302079308.2368536,220328,302079308.2368536,220328,302079308.2368536,220328,302079308.2368536,220328,302079308.2368536,220328,302079308.2368536,220328,302079308.2368536,220328,302079308.2368536,220328,302079308.2368536,220328,302079308.2368536,220328]
[null,null,null,null,null,null,null,null,null,null,null,null,null,"2016-12-01",276641661.88373399,208182,276641661.88373399,208182,276641661.88373399,208182,276641661.88373399,208182,276641661.88373399,208182,276641661.88373399,208182,276641661.88373399,208182,276641661.88373399,208182,276641661.88373399,208182,276641661.88373399,208182,276641661.88373399,208182,276641661.88373399,208182,276641661.88373399,208182,276641661.88373399,208182,276641661.88373399,208182,276641661.88373399,208182,276641661.88373399,208182,276641661.88373399,208182,276641661.88373399,208182,276641661.88373399,208182,276641661.88373399,208182,276641661.88373399,208182,276641661.88373399,208182,276641661.88373399,208182]
[null,null,null,null,null,null,null,null,null,null,null,null,null,"2017-01-01",264975684.52649346,212821,264975684.52649346,212821,264975684.52649346,212821,264975684.52649346,212821,264975684.52649346,212821,264975684.52649346,212821,264975684.52649346,212821,264975684.52649346,212821,264975684.52649346,212821,264975684.52649346,212821,264975684.52649346,212821,264975684.52649346,212821,264975684.52649346,212821,264975684.52649346,212821,264975684.52649346,212821,264975684.52649346,212821,264975684.52649346,212821,264975684.52649346,212821,264975684.52649346,212821,264975684.52649346,212821,264975684.52649346,212821,264975684.52649346,212821,264975684.52649346,212821,264975684.52649346,212821]
[null,null,null,null,null,null,null,null,null,null,null,null,null,"2017-02-01",264704995.43320668,177524,264704995.43320668,177524,264704995.43320668,177524,264704995.43320668,177524,264704995.43320668,177524,264704995.43320668,177524,264704995.43320668,177524,264704995.43320668,177524,264704995.43320668,177524,264704995.43320668,177524,264704995.43320668,177524,264704995.43320668,177524,264704995.43320668,177524,264704995.43320668,177524,264704995.43320668,177524,264704995.43320668,177524,264704995.43320668,177524,264704995.43320668,177524,264704995.43320668,177524,264704995.43320668,177524,264704995.43320668,177524,264704995.43320668,177524,264704995.43320668,177524,264704995.43320668,177524]
[null,null,null,null,null,null,null,null,null,null,null,null,null,"2017-03-01",305008132.35298514,201316,305008132.35298514,201316,305008132.35298514,201316,305008132.35298514,201316,305008132.35298514,201316,305008132.35298514,201316,305008132.35298514,201316,305008132.35298514,201316,305008132.35298514,201316,305008132.35298514,201316,305008132.35298514,201316,305008132.35298514,201316,305008132.35298514,201316,305008132.35298514,201316,305008132.35298514,201316,305008132.35298514,201316,305008132.35298514,201316,305008132.35298514,201316,305008132.35298514,201316,305008132.35298514,201316,305008132.35298514,201316,305008132.35298514,201316,305008132.35298514,201316,305008132.35298514,201316]
[null,null,null,null,null,null,null,null,null,null,null,null,null,"2017-04-01",273144021.78702712,208427,273144021.78702712,208427,273144021.78702712,208427,273144021.78702712,208427,273144021.78702712,208427,273144021.78702712,208427,273144021.78702712,208427,273144021.78702712,208427,273144021.78702712,208427,273144021.78702712,208427,273144021.78702712,208427,273144021.78702712,208427,273144021.78702712,208427,273144021.78702712,208427,273144021.78702712,208427,273144021.78702712,208427,273144021.78702712,208427,273144021.78702712,208427,273144021.78702712,208427,273144021.78702712,208427,273144021.78702712,208427,273144021.78702712,208427,273144021.78702712,208427,273144021.78702712,208427]
[null,null,null,null,null,null,null,null,null,null,null,null,null,"2017-05-01",337304801.37749255,259778,337304801.37749255,259778,337304801.37749255,259778,337304801.37749255,259778,337304801.37749255,259778,337304801.37749255,259778,337304801.37749255,259778,337304801.37749255,259778,337304801.37749255,259778,337304801.37749255,259778,337304801.37749255,259778,337304801.37749255,259778,337304801.37749255,259778,337304801.37749255,259778,337304801.37749255,259778,337304801.37749255,259778,337304801.37749255,259778,337304801.37749255,259778,337304801.37749255,259778,337304801.37749255,259778,337304801.37749255,259778,337304801.37749255,259778,337304801.37749255,259778,337304801.37749255,259778]
[null,null,null,null,null,null,null,null,null,null,null,null,null,"2017-06-01",344041052.34073436,257775,344041052.34073436,257775,344041052.34073436,257775,344041052.34073436,257775,344041052.34073436,257775,344041052.34073436,257775,344041052.34073436,257775,344041052.34073436,257775,344041052.34073436,257775,344041052.34073436,257775,344041052.34073436,257775,344041052.34073436,257775,344041052.34073436,257775,344041052.34073436,257775,344041052.34073436,257775,344041052.34073436,257775,344041052.34073436,257775,344041052.34073436,257775,344041052.34073436,257775,344041052.34073436,257775,344041052.34073436,257775,344041052.34073436,257775,344041052.34073436,257775,344041052.34073436,257775]
[null,null,null,null,null,null,null,null,null,null,null,null,null,"2017-07-01",367511664.9351179,251060,367511664.9351179,251060,367511664.9351179,251060,367511664.9351179,251060,367511664.9351179,251060,367511664.9351179,251060,367511664.9351179,251060,367511664.9351179,251060,367511664.9351179,251060,367511664.9351179,251060,367511664.9351179,251060,367511664.9351179,251060,367511664.9351179,251060,367511664.9351179,251060,367511664.9351179,251060,367511664.9351179,251060,367511664.9351179,251060,367511664.9351179,251060,367511664.9351179,251060,367511664.9351179,251060,367511664.9351179,251060,367511664.9351179,251060,367511664.9351179,251060,367511664.9351179,251060]
[null,null,null,null,null,null,null,null,null,null,null,null,null,"2017-08-01",326471103.5722385,218139,326471103.5722385,218139,326471103.5722385,218139,326471103.5722385,218139,326471103.5722385,218139,326471103.5722385,218139,326471103.5722385,218139,326471103.5722385,218139,326471103.5722385,218139,326471103.5722385,218139,326471103.5722385,218139,326471103.5722385,218139,326471103.5722385,218139,326471103.5722385,218139,326471103.5722385,218139,326471103.5722385,218139,326471103.5722385,218139,326471103.5722385,218139,326471103.5722385,218139,326471103.5722385,218139,326471103.5722385,218139,326471103.5722385,218139,326471103.5722385,218139,326471103.5722385,218139]
[null,null,null,null,null,null,null,null,null,null,null,null,null,"2017-09-01",342733767.38746631,241468,342733767.38746631,241468,342733767.38746631,241468,342733767.38746631,241468,342733767.38746631,241468,342733767.38746631,241468,342733767.38746631,241468,342733767.38746631,241468,342733767.38746631,241468,342733767.38746631,241468,342733767.38746631,241468,342733767.38746631,241468,342733767.38746631,241468,342733767.38746631,241468,342733767.38746631,241468,342733767.38746631,241468,342733767.38746631,241468,342733767.38746631,241468,342733767.38746631,241468,342733767.38746631,241468,342733767.38746631,241468,342733767.38746631,241468,342733767.38746631,241468,342733767.38746631,241468]
[null,null,null,null,null,null,null,null,null,null,null,null,null,"2017-10-01",348193713.74074477,262469,348193713.74074477,262469,348193713.74074477,262469,348193713.74074477,262469,348193713.74074477,262469,348193713.74074477,262469,348193713.74074477,262469,348193713.74074477,262469,348193713.74074477,262469,348193713.74074477,262469,348193713.74074477,262469,348193713.74074477,262469,348193713.74074477,262469,348193713.74074477,262469,348193713.74074477,262469,348193713.74074477,262469,348193713.74074477,262469,348193713.74074477,262469,348193713.74074477,262469,348193713.74074477,262469,348193713.74074477,262469,348193713.74074477,262469,348193713.74074477,262469,348193713.74074477,262469]
[null,null,null,null,null,null,null,null,null,null,null,null,null,"2017-11-01",360609182.6978274,236691,360609182.6978274,236691,360609182.6978274,236691,360609182.6978274,236691,360609182.6978274,236691,360609182.6978274,236691,360609182.6978274,236691,360609182.6978274,236691,360609182.6978274,236691,360609182.6978274,236691,360609182.6978274,236691,360609182.6978274,236691,360609182.6978274,236691,360609182.6978274,236691,360609182.6978274,236691,360609182.6978274,236691,360609182.6978274,236691,360609182.6978274,236691,360609182.6978274,236691,360609182.6978274,236691,360609182.6978274,236691,360609182.6978274,236691,360609182.6978274,236691,360609182.6978274,236691]
[null,null,null,null,null,null,null,null,null,null,null,null,null,"2017-12-01",316170671.78398615,228084,316170671.78398615,228084,316170671.78398615,228084,316170671.78398615,228084,316170671.78398615,228084,316170671.78398615,228084,316170671.78398615,228084,316170671.78398615,228084,316170671.78398615,228084,316170671.78398615,228084,316170671.78398615,228084,316170671.78398615,228084,316170671.78398615,228084,316170671.78398615,228084,316170671.78398615,228084,316170671.78398615,228084,316170671.78398615,228084,316170671.78398615,228084,316170671.78398615,228084,316170671.78398615,228084,316170671.78398615,228084,316170671.78398615,228084,316170671.78398615,228084,316170671.78398615,228084]
[null,null,null,"CDPs",null,null,null,null,"Facturación",null,null,null,null,"2018-01-01",318216828.29363292,238456,318216828.29363292,238456,318216828.29363292,238456,318216828.29363292,238456,318216828.29363292,238456,318216828.29363292,238456,318216828.29363292,238456,318216828.29363292,238456,318216828.29363292,238456,318216828.29363292,238456,318216828.29363292,238456,318216828.29363292,238456,318216828.29363292,238456,318216828.29363292,238456,318216828.29363292,238456,318216828.29363292,238456,318216828.29363292,238456,318216828.29363292,238456,318216828.29363292,238456,318216828.29363292,238456,318216828.29363292,238456,318216828.29363292,238456,318216828.29363292,238456,318216828.29363292,238456,null,null,{"$f":"BI39","v":318216828.29363292},{"$f":"BJ39","v":238456},{"$f":"N39","v":"2018-01-01"}]
[null,null,null,null,null,null,null,null,null,null,null,null,null,"2018-02-01",304555743.50677007,192625.8129811133,304349801.07445627,196310,304349801.07445627,196310,304349801.07445627,196310,304349801.07445627,196310,304349801.07445627,196310,304349801.07445627,196310,304349801.07445627,196310,304349801.07445627,196310,304349801.07445627,196310,304349801.07445627,196310,304349801.07445627,196310,304349801.07445627,196310,304349801.07445627,196310,304349801.07445627,196310,304349801.07445627,196310,304349801.07445627,196310,304349801.07445627,196310,304349801.07445627,196310,304349801.07445627,196310,304349801.07445627,196310,304349801.07445627,196310,304349801.07445627,196310,304349801.07445627,196310,null,null,{"$f":"BI40","v":304349801.07445627},{"$f":"BJ40","v":196310},"2018-02-01"]
[null,null,null,null,null,null,null,null,null,null,null,null,null,"2018-03-01",330855614.52924216,216676.80449775796,332425308.36748713,219513.69269021499,324418942.06976968,215600,324418942.06976968,215600,324418942.06976968,215600,324418942.06976968,215600,324418942.06976968,215600,324418942.06976968,215600,324418942.06976968,215600,324418942.06976968,215600,324418942.06976968,215600,324418942.06976968,215600,324418942.06976968,215600,324418942.06976968,215600,324418942.06976968,215600,324418942.06976968,215600,324418942.06976968,215600,324418942.06976968,215600,324418942.06976968,215600,324418942.06976968,215600,324418942.06976968,215600,324418942.06976968,215600,324418942.06976968,215600,324418942.06976968,215600,null,null,324418942.06976968,215600,"2018-03-01"]
[null,null,null,null,null,null,null,null,null,null,null,null,null,"2018-04-01",319537850.76959848,226135.79288133842,326121317.76796222,233837.46586832165,329305227.53239,234597.44476715659,327624029.83339095,237825,327624029.83339095,237825,327624029.83339095,237825,327624029.83339095,237825,327624029.83339095,237825,327624029.83339095,237825,327624029.83339095,237825,327624029.83339095,237825,327624029.83339095,237825,327624029.83339095,237825,327624029.83339095,237825,327624029.83339095,237825,327624029.83339095,237825,327624029.83339095,237825,327624029.83339095,237825,327624029.83339095,237825,327624029.83339095,237825,327624029.83339095,237825,327624029.83339095,237825,327624029.83339095,237825,327624029.83339095,237825,null,null,327624029.83339095,237825,"2018-04-01"]
[null,null,null,null,null,null,null,null,null,null,null,null,null,"2018-05-01",377065853.37738436,273408.33630062704,382945177.88190919,282043.55688208831,382215518.43782014,279953.66513878101,380226822.38318437,276993.22577772121,361922689.83077985,261334,361922689.83077985,261334,361922689.83077985,261334,361922689.83077985,261334,361922689.83077985,261334,361922689.83077985,261334,361922689.83077985,261334,361922689.83077985,261334,361922689.83077985,261334,361922689.83077985,261334,361922689.83077985,261334,361922689.83077985,261334,361922689.83077985,261334,361922689.83077985,261334,361922689.83077985,261334,361922689.83077985,261334,361922689.83077985,261334,361922689.83077985,261334,361922689.83077985,261334,361922689.83077985,261334,null,null,361922689.83077985,261334,"2018-05-01"]
[null,null,null,null,null,null,null,null,null,null,null,null,null,"2018-06-01",385890219.39255869,278821.72364268836,393563103.58980912,286218.07833565038,393132779.02852446,284206.08249968902,390302758.9080745,282272.36143604264,394199608.6753723,285295.22646827222,363364629.59905064,268829,363364629.59905064,268829,363364629.59905064,268829,363364629.59905064,268829,363364629.59905064,268829,363364629.59905064,268829,363364629.59905064,268829,363364629.59905064,268829,363364629.59905064,268829,363364629.59905064,268829,363364629.59905064,268829,363364629.59905064,268829,363364629.59905064,268829,363364629.59905064,268829,363364629.59905064,268829,363364629.59905064,268829,363364629.59905064,268829,363364629.59905064,268829,363364629.59905064,268829,null,null,363364629.59905064,268829,{"$f":"N44","v":"2018-06-01"}]
[null,null,null,null,null,null,null,null,null,null,null,null,null,"2018-07-01",423701952.66298229,271881.74462594633,438799146.32142574,280716.61257765337,437061903.64372808,279200.25249880401,434193986.00368738,277762.46704123548,440348496.6468606,281863.37969819433,432213664.33180898,273545.80865522614,392011058.3164379,277776,392011058.3164379,277776,392011058.3164379,277776,392011058.3164379,277776,392011058.3164379,277776,392011058.3164379,277776,392011058.3164379,277776,392011058.3164379,277776,392011058.3164379,277776,392011058.3164379,277776,392011058.3164379,277776,392011058.3164379,277776,392011058.3164379,277776,392011058.3164379,277776,392011058.3164379,277776,392011058.3164379,277776,392011058.3164379,277776,392011058.3164379,277776,null,null,392011058.3164379,277776,"2018-07-01"]
[null,null,null,null,null,null,null,null,null,null,null,null,null,"2018-08-01",358215702.50271815,235964.94044519195,367897151.67090923,243031.51675076989,365986714.07202882,240672.0478038193,363425656.86963809,239138.95480686412,368105679.37302083,242286.89902722841,356390252.38446593,233871.22445672567,357164128.86874002,234720.4759289957,336995840.32783282,233598,336995840.32783282,233598,336995840.32783282,233598,336995840.32783282,233598,336995840.32783282,233598,336995840.32783282,233598,336995840.32783282,233598,336995840.32783282,233598,336995840.32783282,233598,336995840.32783282,233598,336995840.32783282,233598,336995840.32783282,233598,336995840.32783282,233598,336995840.32783282,233598,336995840.32783282,233598,336995840.32783282,233598,336995840.32783282,233598,null,null,336995840.32783282,233598,"2018-08-01"]
[null,null,null,null,null,null,null,null,null,null,null,null,null,"2018-09-01",385952898.47912776,271160.43785182311,395956739.38102996,278295.36957645474,395042698.48195255,275971.0132125963,393298515.48367614,274934.15522624156,399858876.13617074,278168.99724409106,388416163.9557445,270368.15479372564,387828519.80480438,267428.2163930136,373485510.34210074,268883.40638067754,334706100.15034199,254363,334706100.15034199,254363,334706100.15034199,254363,334706100.15034199,254363,334706100.15034199,254363,334706100.15034199,254363,334706100.15034199,254363,334706100.15034199,254363,334706100.15034199,254363,334706100.15034199,254363,334706100.15034199,254363,334706100.15034199,254363,334706100.15034199,254363,334706100.15034199,254363,334706100.15034199,254363,334706100.15034199,254363,null,null,334706100.15034199,254363,"2018-09-01"]
[null,null,null,null,null,null,null,null,null,null,null,null,null,"2018-10-01",392777528.48964792,295682.87633188127,401375857.98748475,303987.08175497787,400470893.75490892,301584.02791112865,399338199.76764262,300465.72686484002,405661150.56139451,304446.76393657905,395880720.67195886,296265.16559865605,396895811.52333832,295181.26020290854,385124570.6702289,296298.24907078047,364083180.59793907,292731.46510262729,362127342.66322756,291630,362127342.66322756,291630,362127342.66322756,291630,362127342.66322756,291630,362127342.66322756,291630,362127342.66322756,291630,362127342.66322756,291630,362127342.66322756,291630,362127342.66322756,291630,362127342.66322756,291630,362127342.66322756,291630,362127342.66322756,291630,362127342.66322756,291630,362127342.66322756,291630,362127342.66322756,291630,null,null,362127342.66322756,291630,"2018-10-01"]
[null,null,null,null,null,null,null,null,null,null,null,null,null,"2018-11-01",385658218.5075497,269357.59331780329,395944096.82321852,276269.69455620332,393525741.89541489,273650.91514013131,393047219.2327472,272662.01921858866,397998407.38927484,276024.4306475381,389721202.03213567,268225.64301385026,388283846.94850403,267275.12182338,384639544.67348331,268232.71906838688,361341274.94393915,260696.72425933724,349951453.81709105,250919.9276573376,355289050.64631528,271921,355289050.64631528,271921,355289050.64631528,271921,355289050.64631528,271921,355289050.64631528,271921,355289050.64631528,271921,355289050.64631528,271921,355289050.64631528,271921,355289050.64631528,271921,355289050.64631528,271921,355289050.64631528,271921,355289050.64631528,271921,355289050.64631528,271921,355289050.64631528,271921,null,null,355289050.64631528,271921,"2018-11-01"]
[null,null,null,null,null,null,null,null,null,null,null,null,null,"2018-12-01",352771275.67567682,258799.81323983092,360200079.02928734,265363.46950473229,359319204.46619236,262921.24688197311,358329521.63416827,262336.85312013113,364537594.12634736,265446.87199572264,354092532.51188403,258415.00714321018,355394330.39712775,257057.93681548178,343861744.10022676,257853.03777016295,329465772.40265912,251326.29798777131,317553556.59110576,242034.63320321217,312525296.68862379,245153.08000315214,310586470.22700167,249931,310586470.22700167,249931,310586470.22700167,249931,310586470.22700167,249931,310586470.22700167,249931,310586470.22700167,249931,310586470.22700167,249931,310586470.22700167,249931,310586470.22700167,249931,310586470.22700167,249931,310586470.22700167,249931,310586470.22700167,249931,310586470.22700167,249931,null,null,310586470.22700167,249931,"2018-12-01"]
[null,"Control ",null,null,null,null,null,null,null,null,null,null,null,"2019-01-01",336991446.16838092,252693.62352774455,347930899.20222056,262156.5612867162,346386941.03223205,259540.15582248507,346249254.42068624,258998.82314226709,352599871.06365108,262582.87010931026,344051906.77350551,255787.81079148626,344587657.93346024,254887.02058911341,337383447.02597624,256532.26750181132,320681508.09629917,248904.99532244168,310358881.11416668,239769.16989448902,303253936.48150563,243295.25489609202,314658967.38818544,250678.27721495883,327669711.7211864,249801,327669711.7211864,249801,327669711.7211864,249801,327669711.7211864,249801,327669711.7211864,249801,327669711.7211864,249801,327669711.7211864,249801,327669711.7211864,249801,327669711.7211864,249801,327669711.7211864,249801,327669711.7211864,249801,327669711.7211864,249801,null,null,327669711.7211864,249801,"2019-01-01"]
["iAnual",null,null,"p",null,null,null,"iAnual",null,null,"p",null,null,"2019-02-01",332968878.47464967,215832.55103476351,339551176.69527388,221903.85028483247,336312682.03635806,219967.4202827455,335883244.83422142,219571.93668832132,340832070.95522869,222384.59849959399,333407222.03221613,216586.59274544512,329142121.07849437,216028.84026048452,328631292.88983446,217351.92609180816,313988893.65154767,210200.66815030904,303431838.2956503,202482.80075144718,294458527.21509826,204783.2480086041,307636255.31275731,213262.86237077761,306958052.63419831,208091.67060676534,305837745.17579252,201433,305837745.17579252,{"$f":"$AT52","v":201433},305837745.17579252,201433,{"$f":"$AS52","v":305837745.17579252},201433,305837745.17579252,201433,305837745.17579252,201433,305837745.17579252,201433,305837745.17579252,201433,305837745.17579252,201433,305837745.17579252,201433,305837745.17579252,201433,null,null,305837745.17579252,201433,"2019-02-01"]
[null,2017,2018,2019,null,null,null,null,2017,2018,2019,null,null,"2019-03-01",360910958.4788363,241061.24161175289,365619596.47109067,245157.14181275282,360827992.4255718,242380.38479106282,357640132.77970278,240923.03755223629,363778394.34548366,243928.55374248605,354869558.98619395,237707.87089016705,352371899.4606306,237115.55098020504,348534817.3740086,238852.82585147102,335010884.01919127,231300.68147027606,323944605.58823997,223113.68593753761,317074078.70281637,225137.76857240158,328141339.82792288,232643.49921585867,330435510.16068995,228780.18492640936,342606618.46855122,232794.96549589504,323862464.97319549,224512,323862464.97319549,224512,{"$f":"$AS53","v":323862464.97319549},224512,{"$f":"$AU53","v":323862464.97319549},224512,{"$f":"$AW53","v":323862464.97319549},{"$f":"$AX53","v":224512},323862464.97319549,224512,323862464.97319549,224512,323862464.97319549,224512,323862464.97319549,224512,323862464.97319549,224512,null,null,323862464.97319549,224512,"2019-03-01"]
["CPDs",0.112,0.109,0.11,"Sector",null,null,"Fact",0.17199999999999999,9.7000000000000003E-2,7.5999999999999998E-2,"Sector",null,"2019-04-01",353086000.14351892,250115.46449006296,361986660.19377398,259088.52332360155,362840638.78334898,257846.13413673581,358338680.88540626,257721.71644283354,369182314.22715122,263739.23583662114,359717417.64133364,257140.67580724141,359228035.85951263,256764.45016403953,354541722.71122253,259700.5724295706,340683697.56178457,251290.76523178909,329833781.80112958,242521.79392195807,324233014.07289618,244873.2638390474,336437594.01068068,253158.10560909336,336193588.04535234,247620.11258250635,347070045.25922656,252148.39866690806,335113122.16510308,246063.74052690959,322516955.3229093,253926,{"$f":"$AS54","v":322516955.3229093},253926,{"$f":"$AU54","v":322516955.3229093},{"$f":"$AV54","v":253926},{"$f":"$AW54","v":322516955.3229093},{"$f":"$AX54","v":253926},322516955.3229093,253926,322516955.3229093,253926,322516955.3229093,253926,322516955.3229093,253926,322516955.3229093,253926,null,null,322516955.3229093,253926,"2019-04-01"]
["CPDs",0.14399999999999999,8.7999999999999995E-2,7.9000000000000001E-2,"Asempleo",null,null,"Fact",0.17,6.3E-2,0.06,"Asempleo",null,"2019-05-01",409828200.59248006,299602.43885326787,419522342.20127606,310163.56712175894,415363171.93290472,305025.81641496543,413681999.39916629,302955.48364145996,426705541.32131034,308850.0275130989,396347941.52675867,288687.02070224559,397791783.7954461,288347.54958077113,390706942.56423777,291052.91857626801,374661848.69701535,281342.45655689348,362638255.75008911,271568.17033040867,355595682.72610253,273838.95421653544,369564944.35867751,283222.99406261364,368273507.83692229,276650.5908160985,377909287.52056283,281584.89361251378,371560098.2781539,276975.36105369555,354711577.85834187,275202.15454676904,367643444.55845422,271955,{"$f":"$AU55","v":367643444.55845422},{"$f":"$AV55","v":271955},367643444.55845422,271955,367643444.55845422,271955,367643444.55845422,271955,367643444.55845422,271955,367643444.55845422,271955,367643444.55845422,271955,null,null,367643444.55845422,271955,"2019-05-01"]
[null,null,null,null,null,null,null,null,null,null,null,null,null,"2019-06-01",425039225.81937826,306959.4745352969,435273100.69675028,316045.21348561387,431656951.83394188,311153.90554689482,430843504.51336086,311158.44954377628,440636269.07803512,316360.58923564909,413419787.75786626,302038.23665222572,412724895.03909236,300280.73119125428,403392874.19073886,304671.04394010943,390735786.46499193,295065.41797660699,378970969.90894783,285324.81156452652,376629869.06582028,287231.00063094543,387438923.61075473,296455.59442356293,385618636.33234215,290215.72944080399,396680288.88920593,295704.31728765927,392392518.02551043,291876.09859913331,376571415.44588029,290450.57980257168,391467160.58948416,291088.37456789287,359918540.23199099,274286,{"$f":"$AW56","v":359918540.23199099},{"$f":"$AX56","v":274286},359918540.23199099,274286,359918540.23199099,274286,359918540.23199099,274286,359918540.23199099,274286,359918540.23199099,274286,null,null,359918540.23199099,274286,"2019-06-01"]
[null,null,{"$f":"E5-C55","v":-1.6968505765815878E-4},{"$f":"F5-D55","v":-4.2614997681310871E-2},{"$f":"L57","v":"may"},"parece que ",null,null,null,{"$f":"J5-J55","v":-4.8320077768032599E-4},{"$f":"K5-K55","v":-2.8633091517870912E-2},"may","parece que ","2019-07-01",463241654.83779937,295575.11107121175,483142175.91808093,306310.34406639065,477421035.10946804,302222.34713082784,476003024.27391863,302160.94299136498,487404095.63221419,308233.55693903734,469799073.38475835,295251.98213467567,438499022.83321494,297500.90171216754,446441672.59668076,309164.09257945587,436556101.65969765,300135.976769706,423877964.08924675,290468.60465830931,425160670.87450963,292274.82591621968,437279031.06374013,301699.7583799393,433589513.29707265,294859.31055853848,443071045.28055114,300329.43499810511,437948779.13627696,295820.43270369497,424394110.5915004,295009.50984241418,438058392.89378774,299144.53998301941,408591899.4165197,284725.35530700942,419298301.40928501,291354,{"$f":"$AY57","v":419298301.40928501},291354,{"$f":"$BA57","v":419298301.40928501},{"$f":"$BB57","v":291354},419298301.40928501,291354,419298301.40928501,291354,419298301.40928501,291354,null,null,419298301.40928501,291354,"2019-07-01"]
[null,null,{"$f":"C13-C55","v":-1.6968505765815878E-4},null,"dic",null,null,null,null,{"$f":"H13-J55","v":-4.8320077768032599E-4},null,"dic",null,"2019-08-01",390686712.75046617,256132.53239781296,404343837.22901827,264953.18979030935,398712610.19425863,260087.0088081921,397080199.38224918,259629.01264585258,406500142.13559651,264432.98143556004,387237637.76508808,252331.15452810223,386862547.73064721,254703.58172708747,381398362.07504725,265003.64227567503,367008171.1108371,256409.46107076053,356722655.64463526,248498.60593266491,359355670.85722876,249785.44605558112,367931033.82795459,257655.86543909836,363884704.0189532,251737.56311545757,371386997.74355692,256135.23928220785,370595739.3991996,253516.26958917757,360133709.63005424,253055.44347070446,369437525.03350866,254609.99174962263,347041608.09787685,241547.39373856824,348783123.16063702,244375.37002359636,{"$f":"BA93","v":343156055.51918501},{"$f":"BB93","v":230288},343156055.51918501,230288,{"$f":"$BC58","v":343156055.51918501},{"$f":"$BD58","v":230288},343156055.51918501,230288,{"$f":"$BG58","v":343156055.51918501},230288,null,null,343156055.51918501,230288,"2019-08-01"]
[null,null,"OK",null,null,null,null,null,null,"OK",null,null,null,"2019-09-01",427360862.72797781,297452.61667428818,441012737.03550375,306647.16086660529,436639973.69815505,301555.69386010588,436219362.22459465,302044.64635802899,447663755.50208449,307209.02316310379,426881748.76657659,294364.05682273465,427726022.65025598,294186.12705354911,417782679.65695018,302295.57724490191,390055031.42043543,293651.46876165678,372069918.62873489,277564.93374540732,375759158.59125602,279081.11281329516,383365737.33657539,287244.97525617637,379365701.00247478,281020.81133156311,387133551.62189704,285761.07030587882,386427107.40130419,282817.00277995691,376651311.45616496,282464.21989162808,384037585.71572495,282364.54524544033,367508166.90391284,270945.84887362376,370284412.40159649,272608.07875924429,{"$f":"BA94","v":366805731.99087811},{"$f":"BB94","v":261416.14631519487},{"$f":"BC94","v":361129306.900011},{"$f":"BD94","v":266525},{"$f":"$BC59","v":361129306.900011},{"$f":"$BD59","v":266525},361129306.900011,266525,361129306.900011,266525,null,null,361129306.900011,266525,"2019-09-01"]
[null,null,"dic cerrado",null,null,null,null,null,null,null,null,null,null,"2019-10-01",434190236.68667072,325918.68997222674,445757559.62864864,336717.75476778334,441888336.0483374,331350.37068812473,442176686.37731212,331691.42914759112,453727435.75519037,337817.47983857582,434147456.7471711,324033.72455453634,439293362.32222557,324793.15339798544,431712271.94350016,334406.41679167422,403198415.72798723,324422.7014702551,386002923.21448994,308981.57257873076,393584288.80269659,317230.47488243866,401082885.67756009,326167.06365562812,396547182.36978269,318852.28356956335,404462972.09895992,323883.43711922661,404237840.22279292,320463.33754526108,394441627.98414153,320290.32988408173,403346097.83297777,321626.36908069818,391082753.25967366,307836.3493084751,396169506.3267625,311619.53820899012,{"$f":"BA95","v":392161195.13835675},300663.55717771203,{"$f":"BC95","v":380850302.22950023},{"$f":"BD95","v":301515.08393448277},{"$f":"BE95","v":382719372.74531198},{"$f":"BF95","v":290990},382719372.74531198,290990,{"$f":"$BG60","v":382719372.74531198},290990,null,null,382719372.74531198,290990,"2019-10-01"]
[null,null,null,null,null,null,null,null,null,null,null,null,null,"2019-11-01",421059513.54472673,297376.60902226163,435317949.44458187,306558.45685787167,429106159.76189721,301092.23283655813,430023018.73229903,301390.45790485409,439286665.78092772,306669.70898575761,422772790.46730095,293720.88048478495,422624003.04401767,294616.34762857849,426311861.94953668,302502.80039889732,393364489.93677902,289581.3020494926,375300073.29256552,273774.69619120029,365722073.51147819,279171.60756266315,385688182.42548913,294462.23871564335,381193246.78295302,287671.07530706021,389413848.39601654,292536.3925350135,388440016.46898574,290149.33682418254,381384619.29484588,290113.39791952528,386598426.87719393,290299.90014521976,376016018.51983988,282776.40133971913,378221333.11114597,284646.03185513272,{"$f":"BA96","v":374380151.79919052},275849.16501571157,{"$f":"BC96","v":367132307.72865403},273636.96007578028,360568692.16252774,263918.01482892374,{"$f":"BG96","v":364556187.90798074},{"$f":"BH96","v":282388.99999999994},{"$f":"$BG61","v":364556187.90798074},282388.99999999994,null,null,364556187.90798074,282388.99999999994,"2019-11-01"]
[null,null,null,null,null,null,null,null,null,null,null,null,null,"2019-12-01",392198397.36425596,283809.15126613498,402797656.21473813,292648.14338505082,398857850.55298603,287533.73057509476,399015028.88634902,288266.04448399029,409488687.81647491,293166.15489461919,390107459.36676681,281099.32323604426,393399534.43458462,281530.38209612138,385301318.5670535,289282.17351411696,363783470.91761798,277338.8377702983,347544957.81733733,263182.40286233916,347155108.46922934,267039.53541611822,352281300.31500429,276437.82946033654,347768440.92091817,269485.29147463734,354140495.22908026,273641.9444185496,354267197.67718738,271299.3280363729,347471620.15624559,271304.56356028747,352095102.51859647,271014.67617740604,350172709.88727021,266635.19057347567,353001125.26496601,268781.4584128022,{"$f":"BA97","v":353307067.15850234},263004.84357018868,{"$f":"BC97","v":344624064.87374544},260491.68674874521,{"$f":"BE97","v":343141416.19715327},255642.71726430379,{"$f":"BG97","v":345628191.39074045},{"$f":"BH97","v":265929.8869652297},{"$f":"BI97","v":341645940.27661502},{"$f":"BJ97","v":269180.70055543998},null,null,{"$f":"BI62","v":341645940.27661502},{"$f":"BJ62","v":269180.70055543998},"2019-12-01"]
[null,null,null,null,null,null,null,null,null,null,null,null,null,"2020-01-01",376267499.53341293,277195.63718033832,382326835.71424925,287599.37860912859,378190624.51551896,282335.36509586527,379266098.98673475,283054.53493019956,389979520.7302705,288560.93000802043,372800632.69255674,276818.98545829148,376659943.7150721,277278.53865219239,371861759.34014773,285961.9511591887,347075664.54949093,272667.59786421922,331611066.57792032,258139.92590824974,329212554.67577702,262653.22244877624,341962838.83083975,273229.0187812738,343034381.81490332,264105.10809431336,349176731.96602422,267475.85833086062,348036899.66140443,265203.75796130608,343298272.90391278,265339.99457649206,346445781.90874618,265433.45178779773,341448724.03553367,263136.31156759919,344906911.1059522,265588.51205253543,{"$f":"BA98","v":341097275.19948947},259844.2502863667,{"$f":"BC98","v":333535213.29840416},256748.57855396546,329524101.5577445,250354.25637670577,329315886.3023957,256883.04759905397,329087398.58794838,260667.82850931419,"esta fila la tenemos",null,329087398.58794838,260667.82850931419,"2020-01-01"]
[null,null,null,null,null,null,null,null,null,null,null,null,null,"2020-02-01",365327679.89473182,236271.11850406503,373398427.30906212,243895.79177756936,367092123.71691555,239281.04248884376,367782454.10125273,239950.76178661914,376086263.0945282,244302.64313596603,361455967.00947493,234298.14041585542,356303474.58675236,234954.16149187996,363070598.14106536,242067.5089425144,340365933.73340589,230237.74824245478,324451442.93956161,217972.55239291553,318722092.92792189,221077.71387794139,334005099.58427191,230932.01984599771,328303623.38752156,221557.31228208699,341165919.9798426,224754.74720528166,328623454.64507663,218192.03014202218,324952333.28119904,218321.3683625196,326922999.21986824,218112.08347962599,324893840.86714661,218595.97120737477,326905237.63162941,219989.6808505464,{"$f":"BA99","v":323598681.71197808},215957.61038827238,{"$f":"BC99","v":317859745.46043468},212933.86349965647,313158321.8457703,207837.83904518309,311903238.93224233,211367.32465565187,{"$f":"BI99","v":311934445.85100383},213743.09605011542,null,null,311934445.85100383,213743.09605011542,"2020-02-01"]
[null,null,null,null,null,null,null,null,null,null,null,null,null,"2020-03-01",397471503.88640976,263842.0820274927,403851918.43382132,269295.77981105912,395977785.18245614,263708.57264631701,395149126.91371435,264174.83215770556,405132028.92800629,268921.18288470589,387992228.80743867,258025.80963899926,384901647.15341192,258633.25551446356,387374371.01487505,266816.48791521229,365648108.49933177,254039.45090352907,349150114.9183417,241023.04755463899,345736881.06824619,243975.6368110136,359828114.89135492,253884.19460594078,356436253.51181269,245421.35739171613,369739160.93949503,250569.91932933955,358849582.16653848,246382.79079498237,347945140.84541351,243615.41511994277,350697393.93558145,243169.35816576364,350069997.84162587,241989.50712741615,352321253.64774382,243768.16216445301,{"$f":"BA100","v":350782597.11968577},240124.11452904387,{"$f":"BC100","v":343698010.68778396},236665.08056261679,338558732.40229976,232264.80784165021,335476206.52162701,234000.93393206567,{"$f":"BI100","v":337243855.20207196},237564.17333591476,null,null,337243855.20207196,237564.17333591476,"2020-03-01"]
[null,null,null,null,null,null,null,null,null,null,null,null,null,"2020-04-01",390846686.54340398,272827.70078858262,399482418.22858554,282788.71075938246,396733767.59997469,278655.18382064067,395414841.85662872,280153.19907901168,407904855.59210896,287572.48387280403,389631493.36133814,276051.21831753221,390843245.44842184,276899.32752276311,389798518.40904635,287002.38946085656,367705101.43033904,272931.43406067393,351368546.03145283,258854.52193810197,349914754.51510465,262244.75666724279,363779138.76365143,272918.23909563891,358267761.07429248,262824.3430731431,369695980.50545746,267831.31477135234,358479744.25245047,260945.75016614937,335795221.16049522,259253.85513957337,350069810.09325236,264713.71368829644,351533212.37830269,265715.66388461454,354416470.39072752,268097.94662006642,{"$f":"BA101","v":352807851.92738485},264114.20130547369,{"$f":"BC101","v":344880077.19719094},259915.80928263694,340153185.96251231,255086.2904790772,336173356.10797209,255782.20325013794,{"$f":"BI101","v":336786267.77606797},258850.13363790838,null,null,336786267.77606797,258850.13363790838,"2020-04-01"]
[null,null,null,null,null,null,null,null,null,null,null,null,null,"2020-05-01",450952902.6331535,325651.68000056647,461095835.18559062,337592.94998481433,453437020.29822689,329222.73330823291,453707281.21352738,329319.44856232859,468953412.2841329,336995.85912893794,432793058.92989779,313280.93414681841,436273919.42981976,314215.5214236473,432670585.54871058,324583.20673530287,406653910.66081256,308347.68520572892,388540792.63249993,292522.63679302187,385737714.99484318,295990.65986110014,401184411.82791102,307793.07089075574,394228072.65951973,295992.41632845026,406150103.69395554,301626.58183586888,399788348.96225286,297251.94142190606,383135845.71470088,296472.6310437721,402855596.39345253,298594.7430275731,395788053.71231455,292501.48381450569,398541162.9315334,294682.52125696343,{"$f":"BA102","v":396106295.17947543},290659.81763896928,{"$f":"BC102","v":389012466.57334006},286187.81428074121,381805793.18418473,280905.8301049149,377068378.4293189,280895.31614763621,{"$f":"BI102","v":379519026.9663195},284932.53448781342,null,null,379519026.9663195,284932.53448781342,"2020-05-01"]
[null,null,null,null,null,null,null,null,null,null,null,null,null,"2020-06-01",467963447.62509364,332573.80474239058,479234468.05635148,343138.54230777221,471762905.77098715,335037.29867001623,473351575.54962981,337187.77090593131,486622039.35758704,343916.66257589636,452669780.19702244,324860.92585596011,455379753.56025988,324985.47575522168,449377835.76829994,338012.18020779768,428247312.51426709,321854.6972485836,410077939.24628049,305933.69137198367,412391049.99624038,309006.30598859355,425452894.74150515,321094.57629024901,418024044.82909167,309628.54270427115,430867497.06646055,315963.25353405159,425888520.49381942,311564.22140712186,408960675.77704781,310987.76632527978,420812357.50974005,308821.10778126551,401566434.82073158,296012.80137237423,408574706.1827029,300741.8095205258,{"$f":"BA103","v":408773447.04105139},297329.1175846078,{"$f":"BC103","v":400406726.64660865},292780.96680465242,393351626.27505386,288287.13378327474,388619477.65339637,287454.50132278178,{"$f":"BI103","v":390749963.13625163},291213.73600286583,null,null,390749963.13625163,291213.73600286583,"2020-06-01"]
[null,null,null,null,null,null,null,null,null,null,null,null,null,"2020-07-01",506048755.67054307,318038.18608145392,527719001.98867846,330002.44883180398,517271615.20345849,322857.42655290791,518232977.97650003,324761.03752322326,532388890.56763959,332307.36488915031,505489109.91030759,314683.15185262606,482181171.9115591,317711.27102018177,495377917.18675792,338338.60497566435,478446796.86030126,323164.05465876224,458410543.02697486,307427.99850897671,464204167.43727541,310265.33089847461,479780030.32019764,322658.65949860518,469936646.43486929,310676.32568904117,481405980.26760483,316835.05320965342,474854672.54753262,311589.91402521549,459638973.28514749,311312.30241187691,472367155.02520615,313114.65099921729,444924987.34664226,298593.78951735317,456916692.69036919,306751.61937558267,{"$f":"BA104","v":453793972.54802549},303588.25180380681,{"$f":"BC104","v":444857220.20729327},298665.8630012928,441093805.606933,294085.87431902805,436693500.30249035,292888.04590373172,{"$f":"BI104","v":437805530.55953097},295401.90481273906,null,null,437805530.55953097,295401.90481273906,"2020-07-01"]
[null,null,null,null,null,null,null,null,null,null,null,null,null,"2020-08-01",426400608.20590168,275130.38921986899,441634279.2475518,285119.66010320489,432170709.98237824,277724.60093863605,432539978.63673389,278986.420475705,444439969.15137982,285050.31641418306,417885839.17822164,268991.27115015581,415773339.38986766,272158.12358446198,419794258.97948682,289750.06708392897,402614750.21560359,276583.60939798644,386267907.2531693,263562.32644169155,392496069.51593333,265673.75619943812,404206550.42324245,276156.91645869205,395116662.70664668,265893.17920659581,404597024.72905201,271026.95604022825,402815720.64318132,268056.18257189874,390638467.49454385,268021.71939353307,399796204.83908963,268210.83372813166,375643159.6677416,254208.81614791541,381076438.56443536,259054.9952407649,{"$f":"BA105","v":369361852.94100428},245429.58055004608,{"$f":"BC105","v":370026246.88873112},244305.33857971281,363693438.59031224,240664.66269002768,359953810.15872294,239500.81789945267,{"$f":"BI105","v":361174169.37739772},241516.77844843821,null,null,361174169.37739772,241516.77844843821,"2020-08-01"]
[null,null,null,null,null,null,null,null,null,null,null,null,null,"2020-09-01",470832961.27420378,321430.56652362982,486505121.73498851,332155.56202868553,478033538.08371574,324093.64345080371,479690995.05420828,326492.92911978206,493978757.33702093,333129.4252728555,464411782.09058696,315373.76390817162,464981280.86384702,316716.14230212249,463668383.02400756,333540.7569191996,432932915.64968401,318600.12822613725,409068693.81451976,298403.91722561349,417294946.62243038,300964.16878993536,427523827.90534425,312121.31824336323,418373482.87094069,301099.37069897511,428083193.71597314,306624.84118474857,426336244.98191035,302954.65886243578,413730719.09537292,303019.93640083697,421297858.79856735,301164.39351267082,404506697.8747316,288071.76213499915,410290973.39654481,292252.68490302854,{"$f":"BA106","v":401825708.41436309},280821.49664875446,{"$f":"BC106","v":398849261.36234313},282454.55321638327,389093874.80417836,276808.73760637757,384974333.00418335,275239.19359848864,{"$f":"BI106","v":387060347.69801235},278036.36285917618,null,null,387060347.69801235,278036.36285917618,"2020-09-01"]
[null,null,null,null,null,null,null,null,null,null,null,null,null,"2020-10-01",477699974.05604184,352933.7167841263,490422456.00343156,365469.01598717872,482951777.90698814,356810.87481182418,485377793.50457388,359211.37175794109,500201694.75183362,366982.37602705316,471071276.36361653,347712.48489168112,478722396.81034213,349755.28630820807,477247498.82833493,369291.57871138473,443273733.98288929,352634.38592640409,420334186.1193288,331535.87097919168,432640727.30843592,340185.85846051422,441933240.94882601,352488.51542059053,432154979.58755457,339816.5415141416,442314661.57945305,345699.57734238141,441256933.39542317,341433.08746203396,427980914.81777263,341678.04589672794,438985695.59694242,341433.7607456079,427516580.97815746,324908.21069768164,435335057.87126905,330741.59617602424,{"$f":"BA107","v":427265552.20753676},319462.83523415792,{"$f":"BC107","v":419995096.02417827},317828.92952135665,408145101.99010873,305157.62092625978,406886086.82498282,305068.23988812784,{"$f":"BI107","v":408782159.98291147},307865.83273065602,null,null,408782159.98291147,307865.83273065602,"2020-10-01"]
[null,null,null,null,null,null,null,null,null,null,null,null,null,"2020-11-01",461192507.00159204,323341.24822344381,477240254.89074224,334230.48456013406,467292007.3024559,325791.73607293295,470204072.95103413,327952.12341353076,482547567.74775892,334778.66487949796,457211960.66106725,316750.90539766027,457736778.68724442,318770.54435676493,469731194.90198398,335411.68945480254,430397082.19521368,316648.33901178039,406271422.75633931,295783.17865609273,404304733.77746224,301673.2380567888,419714131.51182693,317968.89871313918,410511752.21806085,306386.73297708889,420922528.06229329,312086.12876174267,419073457.50475591,309049.33498387167,409007487.90912896,309431.16385746305,415903357.59014469,308267.95302802656,405848154.40829396,299390.84435349988,411593657.53994644,303794.56280059431,{"$f":"BA108","v":404202510.42022312},294613.86309956259,{"$f":"BC108","v":398940228.78930581},291117.85694848467,384477338.25489563,279663.1224667473,393327461.82330579,293752.16591323016,{"$f":"BI108","v":396082385.69030476},296723.24979341036,null,null,396082385.69030476,296723.24979341036,"2020-11-01"]
[null,null,null,null,null,null,null,null,null,null,null,null,null,"2020-12-01",433521535.10011816,307510.91779177537,445937710.25506645,318006.06404497963,438476949.60799885,310096.52840314008,440448375.26887757,312546.2721990823,453697773.76544785,318892.88998861681,425936414.50369841,301987.98633587523,429885299.55925995,303566.07073375757,428061875.77951211,319737.50251340412,401329675.75901198,302222.37567818095,379745796.74070722,283455.64421495231,384648055.86456788,287805.27669817983,391151604.04386711,299513.44946248672,382305028.03058165,288314.58266348433,390498308.75144631,293222.58328444057,389903556.18811303,290114.36808129458,379805195.12219083,290441.69920085877,386149433.49809313,288887.28435830236,385133854.78514731,283332.37410764542,390774911.280855,287595.91319889325,{"$f":"BA109","v":387329113.19029164},280916.72605214152,{"$f":"BC109","v":380169265.55899245},277028.79705979727,370345696.60261941,269189.08963352232,375350601.34585047,277020.80938631983,{"$f":"BI109","v":375859688.54021925},281132.10836216895,null,null,375859688.54021925,281132.10836216895,{"$f":"N74","v":"2020-12-01"}]
[]
[]
[2018,null,null,null,null,"fija. Ult.",null,{"$f":"A77","v":2018},null,null,null,null,"fija. Ult."]
[null,"% i.a.","%12m","%12Natural","Revision","Media Medias","iAnual*",null,"% i.a.","%12m","%12Natural","Revision","Media Medias","iAnual*"]
[{"$f":"A2","v":"ene"},{"$f":"Data!J41","v":0.12045333872127273},{"$f":"Data!P41","v":0.13666624025816643},{"$f":"Data!N41","v":0.12045333872127273},{"$f":"C2","v":9.9225083074462761E-2},{"$f":"E2","v":0.10019317358509465},{"$f":"C55","v":8.7999999999999995E-2},{"$f":"A79","v":"ene"},{"$f":"Data!L41","v":0.2009284129684592},{"$f":"Data!Q41","v":0.17294722067267698},{"$f":"Data!O41","v":0.2009284129684592},{"$f":"H2","v":0.12577185056678108},{"$f":"J2","v":0.10704591984196014},{"$f":"J55","v":6.3E-2}]
["feb",{"$f":"Data!J42","v":0.10582231134945141},{"$f":"Data!P42","v":0.13896063958137916},{"$f":"Data!N42","v":0.11379933136071929},{"$f":"C3","v":0.12646850376877894},{"$f":"F79","v":0.10019317358509465},{"$f":"G79","v":8.7999999999999995E-2},{"$f":"A80","v":"feb"},{"$f":"Data!L42","v":0.14976976757226779},{"$f":"Data!Q42","v":0.17650273333781219},{"$f":"Data!O42","v":0.17536216237952296},{"$f":"H3","v":0.1472202370126392},{"$f":"M79","v":0.10704591984196014},{"$f":"N79","v":6.3E-2}]
["mar",{"$f":"Data!J43","v":7.0953128415029099E-2},{"$f":"Data!P43","v":0.13673136772971373},{"$f":"Data!N43","v":9.9220668592318928E-2},0.11887661559429064,{"$f":"F80","v":0.10019317358509465},8.7999999999999995E-2,"mar",{"$f":"Data!L43","v":6.3640302201255494E-2},{"$f":"Data!Q43","v":0.16332861069741544},{"$f":"Data!O43","v":0.13453727601072218},0.14339035959155422,{"$f":"M80","v":0.10704591984196014},{"$f":"N80","v":6.3E-2}]
["abr",{"$f":"Data!J44","v":0.14104698527542014},{"$f":"Data!P44","v":0.13992058070847202},{"$f":"Data!N44","v":0.11011663716991138},0.11584058783563678,0.10019317358509465,8.7999999999999995E-2,"abr",{"$f":"Data!L44","v":0.19945524595388142},{"$f":"Data!Q44","v":0.17582174060003841},{"$f":"Data!O44","v":0.15054326071412172},0.13916430773779243,0.10704591984196014,6.3E-2]
["may",{"$f":"Data!J45","v":5.9897296922757359E-3},{"$f":"Data!P45","v":0.11890546520206446},{"$f":"Data!N45","v":8.4594656305608362E-2},0.11885298082475892,0.10019317358509465,8.7999999999999995E-2,"may",{"$f":"Data!L45","v":7.2984103258394883E-2},{"$f":"Data!Q45","v":0.1601753107513888},{"$f":"Data!O45","v":0.13244043399480332},0.14447994521141205,0.10704591984196014,6.3E-2]
["jun",{"$f":"Data!J46","v":4.2882358646106011E-2},{"$f":"Data!P46","v":0.10580306917054649},{"$f":"Data!N46","v":7.6434324675689336E-2},9.5622584390131049E-2,0.10019317358509465,8.7999999999999995E-2,"jun",{"$f":"Data!L46","v":5.616648689697179E-2},{"$f":"Data!Q46","v":0.14792437173993989},{"$f":"Data!O46","v":0.11777372171816469},0.12094482824996278,0.10704591984196014,6.3E-2]
["jul",{"$f":"Data!J47","v":0.10641280968692746},{"$f":"Data!P47","v":9.6631648777340873E-2},{"$f":"Data!N47","v":8.1232178726220017E-2},9.5168231687799532E-2,0.10019317358509465,8.7999999999999995E-2,"jul",{"$f":"Data!L47","v":6.6662900035146411E-2},{"$f":"Data!Q47","v":0.13540291933139992},{"$f":"Data!O47","v":0.10906416211497461},0.11078170866743942,0.10704591984196014,6.3E-2]
["ago",{"$f":"Data!J48","v":7.0867657777838877E-2},{"$f":"Data!P48","v":9.4193988735816525E-2},{"$f":"Data!N48","v":7.9966868885854359E-2},9.6330394886399384E-2,0.10019317358509465,8.7999999999999995E-2,"ago",{"$f":"Data!L48","v":3.2237881516719025E-2},{"$f":"Data!Q48","v":0.12459063038506635},{"$f":"Data!O48","v":9.8963505733419721E-2},9.4821822535418265E-2,0.10704591984196014,6.3E-2]
["sep",{"$f":"Data!J49","v":5.3402521245051071E-2},{"$f":"Data!P49","v":8.5326037520895071E-2},{"$f":"Data!N49","v":7.680441037554453E-2},8.4663068361524596E-2,0.10019317358509465,8.7999999999999995E-2,"sep",{"$f":"Data!L49","v":-2.3422457898783278E-2},{"$f":"Data!Q49","v":0.10927525105521751},{"$f":"Data!O49","v":8.4120137855151267E-2},6.9498954642494448E-2,0.10704591984196014,6.3E-2]
["oct",{"$f":"Data!J50","v":0.1111026445027794},{"$f":"Data!P50","v":8.1348162220464371E-2},{"$f":"Data!N50","v":8.0734178839756199E-2},7.7343327529493022E-2,0.10019317358509465,8.7999999999999995E-2,"oct",{"$f":"Data!L50","v":4.0016888222334179E-2},{"$f":"Data!Q50","v":9.3185431098133709E-2},{"$f":"Data!O50","v":7.928206476385169E-2},6.2939947769549587E-2,0.10704591984196014,6.3E-2]
["nov",{"$f":"Data!J51","v":0.14884385126599664},{"$f":"Data!P51","v":8.7758302414417066E-2},{"$f":"Data!N51","v":8.7112477784090592E-2},8.6096390125518285E-2,0.10019317358509465,8.7999999999999995E-2,"nov",{"$f":"Data!L51","v":-1.4753179638162806E-2},{"$f":"Data!Q51","v":7.500176287130178E-2},{"$f":"Data!O51","v":6.968860827168899E-2},6.3020276896158522E-2,0.10704591984196014,6.3E-2]
["dic",{"$f":"Data!J52","v":9.5784886269970615E-2},{"$f":"Data!P52","v":8.7830314942341836E-2},{"$f":"Data!N52","v":8.7830314942341836E-2},8.7830314942341836E-2,0.10019317358509465,8.7999999999999995E-2,"dic",{"$f":"Data!L52","v":-1.7661984666306196E-2},{"$f":"Data!Q52","v":6.2516799222319674E-2},{"$f":"Data!O52","v":6.2516799222319674E-2},6.2516799222319674E-2,0.10704591984196014,6.3E-2]
[null,null,null,null,null,null,null,null,null,null,null,null,null,null,null,null,null,null,null,null,null,null,null,null,null,null,null,null,null,null,null,null,null,null,null,null,null,null,null,null,null,null,null,null,null,null,null,null,359918540.23199099,274286]
[null,null,null,null,null,null,null,null,null,null,null,null,null,null,null,null,null,null,null,null,null,null,null,null,null,null,null,null,null,null,null,null,null,null,null,null,null,null,null,null,null,null,null,null,null,null,null,"2019-07-01",408591899.4165197,284725.35530700942,419298301.40928471,291354]
[null,null,null,null,null,null,null,null,null,null,null,null,null,null,null,null,null,null,null,null,null,null,null,null,null,null,null,null,null,null,null,null,null,null,null,null,null,null,null,null,null,null,null,null,null,null,null,"2019-08-01",347041608.09787685,241547.39373856824,348783123.16063702,244375.37002359636,343156055.51918501,230288]
[null,null,null,null,null,null,null,null,null,null,null,null,null,null,null,null,null,null,null,null,null,null,null,null,null,null,null,null,null,null,null,null,null,null,null,null,null,null,null,null,null,null,null,null,null,null,null,"2019-09-01",367508166.90391284,270945.84887362376,370284412.40159649,272608.07875924429,366805731.99087811,261416.14631519487,361129306.900011,266525]
[null,null,null,null,null,null,null,null,null,null,null,null,null,null,null,null,null,null,null,null,null,null,null,null,null,null,null,null,null,null,null,null,null,null,null,null,null,null,null,null,null,null,null,null,null,null,null,"2019-10-01",391082753.25967366,307836.3493084751,396169506.3267625,311619.53820899012,392161195.13835675,300663.55717771203,380850302.22950023,301515.08393448277,382719372.74531198,290990]
[null,null,null,null,null,null,null,null,null,null,null,null,null,null,null,null,null,null,null,null,null,null,null,null,null,null,null,null,null,null,null,null,null,null,null,null,null,null,null,null,null,null,null,null,null,null,null,"2019-11-01",376016018.51983988,282776.40133971913,378221333.11114597,284646.03185513272,374380151.79919052,275849.16501571157,367132307.72865403,273636.96007578028,360568692.16252774,263918.01482892374,364556187.90798074,282388.99999999994]
[null,null,null,null,null,null,null,null,null,null,null,null,null,null,null,null,null,null,null,null,null,null,null,null,null,null,null,null,null,null,null,null,null,null,null,null,null,null,null,null,null,null,null,null,null,null,null,"2019-12-01",350172709.88727021,266635.19057347567,353001125.26496601,268781.4584128022,353307067.15850234,263004.84357018868,344624064.87374544,260491.68674874521,343141416.19715327,255642.71726430379,345628191.39074045,265929.8869652297,341645940.27661502,269180.70055543998]
[null,null,null,null,null,null,null,null,null,null,null,null,null,null,null,null,null,null,null,null,null,null,null,null,null,null,null,null,null,null,null,null,null,null,null,null,null,null,null,null,null,null,null,null,null,null,null,"2020-01-01",341448724.03553367,263136.31156759919,344906911.1059522,265588.51205253543,341097275.19948947,259844.2502863667,333535213.29840416,256748.57855396546,329524101.5577445,250354.25637670577,329315886.3023957,256883.04759905397,329087398.58794838,260667.82850931419]
[null,null,null,null,null,null,null,null,null,null,null,null,null,null,null,null,null,null,null,null,null,null,null,null,null,null,null,null,null,null,null,null,null,null,null,null,null,null,null,null,null,null,null,null,null,null,null,"2020-02-01",324893840.86714661,218595.97120737477,326905237.63162941,219989.6808505464,323598681.71197808,215957.61038827238,317859745.46043468,212933.86349965647,313158321.8457703,207837.83904518309,311903238.93224233,211367.32465565187,311934445.85100383,213743.09605011542]
[null,null,null,null,null,null,null,null,null,null,null,null,null,null,null,null,null,null,null,null,null,null,null,null,null,null,null,null,null,null,null,null,null,null,null,null,null,null,null,null,null,null,null,null,null,null,null,"2020-03-01",350069997.84162587,241989.50712741615,352321253.64774382,243768.16216445301,350782597.11968577,240124.11452904387,343698010.68778396,236665.08056261679,338558732.40229976,232264.80784165021,335476206.52162701,234000.93393206567,337243855.20207196,237564.17333591476]
[null,null,null,null,null,null,null,null,null,null,null,null,null,null,null,null,null,null,null,null,null,null,null,null,null,null,null,null,null,null,null,null,null,null,null,null,null,null,null,null,null,null,null,null,null,null,null,"2020-04-01",351533212.37830269,265715.66388461454,354416470.39072752,268097.94662006642,352807851.92738485,264114.20130547369,344880077.19719094,259915.80928263694,340153185.96251231,255086.2904790772,336173356.10797209,255782.20325013794,336786267.77606797,258850.13363790838]
[null,null,null,null,null,null,null,null,null,null,null,null,null,null,null,null,null,null,null,null,null,null,null,null,null,null,null,null,null,null,null,null,null,null,null,null,null,null,null,null,null,null,null,null,null,null,null,"2020-05-01",395788053.71231455,292501.48381450569,398541162.9315334,294682.52125696343,396106295.17947543,290659.81763896928,389012466.57334006,286187.81428074121,381805793.18418473,280905.8301049149,377068378.4293189,280895.31614763621,379519026.9663195,284932.53448781342]
[null,null,null,null,null,null,null,null,null,null,null,null,null,null,null,null,null,null,null,null,null,null,null,null,null,null,null,null,null,null,null,null,null,null,null,null,null,null,null,null,null,null,null,null,null,null,null,"2020-06-01",401566434.82073158,296012.80137237423,408574706.1827029,300741.8095205258,408773447.04105139,297329.1175846078,400406726.64660865,292780.96680465242,393351626.27505386,288287.13378327474,388619477.65339637,287454.50132278178,390749963.13625163,291213.73600286583]
[null,null,null,null,null,null,null,null,null,null,null,null,null,null,null,null,null,null,null,null,null,null,null,null,null,null,null,null,null,null,null,null,null,null,null,null,null,null,null,null,null,null,null,null,null,null,null,"2020-07-01",444924987.34664226,298593.78951735317,456916692.69036919,306751.61937558267,453793972.54802549,303588.25180380681,444857220.20729327,298665.8630012928,441093805.606933,294085.87431902805,436693500.30249035,292888.04590373172,437805530.55953097,295401.90481273906]
[null,null,null,null,null,null,null,null,null,null,null,null,null,null,null,null,null,null,null,null,null,null,null,null,null,null,null,null,null,null,null,null,null,null,null,null,null,null,null,null,null,null,null,null,null,null,null,"2020-08-01",375643159.6677416,254208.81614791541,381076438.56443536,259054.9952407649,369361852.94100428,245429.58055004608,370026246.88873112,244305.33857971281,363693438.59031224,240664.66269002768,359953810.15872294,239500.81789945267,361174169.37739772,241516.77844843821]
[null,null,null,null,null,null,null,null,null,null,null,null,null,null,null,null,null,null,null,null,null,null,null,null,null,null,null,null,null,null,null,null,null,null,null,null,null,null,null,null,null,null,null,null,null,null,null,"2020-09-01",404506697.8747316,288071.76213499915,410290973.39654481,292252.68490302854,401825708.41436309,280821.49664875446,398849261.36234313,282454.55321638327,389093874.80417836,276808.73760637757,384974333.00418335,275239.19359848864,387060347.69801235,278036.36285917618]
[null,null,null,null,null,null,null,null,null,null,null,null,null,null,null,null,null,null,null,null,null,null,null,null,null,null,null,null,null,null,null,null,null,null,null,null,null,null,null,null,null,null,null,null,null,null,null,"2020-10-01",427516580.97815746,324908.21069768164,435335057.87126905,330741.59617602424,427265552.20753676,319462.83523415792,419995096.02417827,317828.92952135665,408145101.99010873,305157.62092625978,406886086.82498282,305068.23988812784,408782159.98291147,307865.83273065602]
[null,null,null,null,null,null,null,null,null,null,null,null,null,null,null,null,null,null,null,null,null,null,null,null,null,null,null,null,null,null,null,null,null,null,null,null,null,null,null,null,null,null,null,null,null,null,null,"2020-11-01",405848154.40829396,299390.84435349988,411593657.53994644,303794.56280059431,404202510.42022312,294613.86309956259,398940228.78930581,291117.85694848467,384477338.25489563,279663.1224667473,393327461.82330579,293752.16591323016,396082385.69030476,296723.24979341036]
[null,"ojo, son acunulado Natural en tasas, no en Valores",null,null,null,null,null,null,"idem",null,null,null,null,null,null,null,null,null,null,null,null,null,null,null,null,null,null,null,null,null,null,null,null,null,null,null,null,null,null,null,null,null,null,null,null,null,null,"2020-12-01",385133854.78514731,283332.37410764542,390774911.280855,287595.91319889325,387329113.19029164,280916.72605214152,380169265.55899245,277028.79705979727,370345696.60261941,269189.08963352232,375350601.34585047,277020.80938631983,375859688.54021925,281132.10836216895]
[null,"por eso el dibujo no es exactamente una Zeta",null,null,null,null,null,null,"idem"]
[null,"peso si la tendencia del %12m baja el Acum Natural bajará, y viceversa. ",null,null,null,null,null,null,"idem"]
[null,"la Revision ira bajando, y viceversa",null,null,null,null,null,null,"idem"]
[null,"la horquilla de volatilidad se amplió y la media de medias no pegó al iAnual (resultado)",null,null,null,null,null,null,"la horquilla de volatilidad se amplió y la media de medias sobreEstimo el iAnual (resultado)",null,null,null,null,null,null,null,null,null,null,null,null,null,null,null,null,null,null,null,null,null,null,null,null,null,null,null,null,null,null,null,null,null,null,null,null,null,null,null,null,null,null,null,null,null,null,null,null,null,null,null,{"$f":"BI109-Data!E76","v":0},{"$f":"BJ109-Data!C76","v":0},"check"]
[]
[2019,null,null,null,null,"fija. Ult.","CPDs",{"$f":"A115","v":2019},null,null,null,null,"fija. Ult.","Fact"]
[null,"% i.a.","%12m","%12Natural","Revision","Media Medias","iAnual*",null,"% i.a.","%12m","%12Natural","Revision","Media Medias","iAnual*"]
[{"$f":"A79","v":"ene"},{"$f":"Data!J53","v":4.7576911463750093E-2},{"$f":"Data!P53","v":8.1882663769102804E-2},{"$f":"Data!N53","v":4.7576911463750093E-2},{"$f":"C14","v":6.9126798156176061E-2},{"$f":"F2","v":5.1883001120945071E-2},{"$f":"D55","v":7.9000000000000001E-2},{"$f":"A117","v":"ene"},{"$f":"Data!L53","v":2.9705793619534404E-2},{"$f":"Data!Q53","v":5.044830550395174E-2},{"$f":"Data!O53","v":2.9705793619534404E-2},{"$f":"H14","v":6.4982936115857592E-2},{"$f":"K2","v":4.9587504113075886E-2},{"$f":"K55","v":0.06}]
[{"$f":"A80","v":"feb"},{"$f":"Data!J54","v":2.6096480057052673E-2},{"$f":"Data!P54","v":7.6453594373945721E-2},{"$f":"Data!N54","v":3.7877846933752846E-2},{"$f":"C15","v":8.2794011596033723E-2},{"$f":"F117","v":5.1883001120945071E-2},{"$f":"G117","v":7.9000000000000001E-2},{"$f":"A118","v":"feb"},{"$f":"Data!L54","v":4.8889274646584102E-3},{"$f":"Data!Q54","v":4.0265908919912441E-2},{"$f":"Data!O54","v":1.7573745544303687E-2},{"$f":"H15","v":8.6951000311592308E-2},{"$f":"M117","v":4.9587504113075886E-2},{"$f":"N117","v":0.06}]
["mar",{"$f":"Data!J55","v":4.1335807050092654E-2},{"$f":"Data!P55","v":7.4156695710448695E-2},{"$f":"Data!N55","v":3.9024180230823768E-2},6.9107210285916043E-2,{"$f":"F118","v":5.1883001120945071E-2},{"$f":"G118","v":7.9000000000000001E-2},"mar",{"$f":"Data!L55","v":-1.7153039616734089E-3},{"$f":"Data!Q55","v":3.5030477686431638E-2},{"$f":"Data!O55","v":1.0965690233852854E-2},7.4967885251627342E-2,{"$f":"M118","v":4.9587504113075886E-2},{"$f":"N118","v":0.06}]
["abr",{"$f":"Data!J56","v":6.7701040681173108E-2},{"$f":"Data!P56","v":6.8714031765456873E-2},{"$f":"Data!N56","v":4.6702792529985215E-2},7.0053072575040565E-2,5.1883001120945071E-2,7.9000000000000001E-2,"abr",{"$f":"Data!L56","v":-1.5588217119112957E-2},{"$f":"Data!Q56","v":1.9724114206040033E-2},{"$f":"Data!O56","v":4.1403076805404115E-3},4.9866421237156899E-2,4.9587504113075886E-2,0.06]
["may",{"$f":"Data!J57","v":4.0641477955413396E-2},{"$f":"Data!P57","v":7.1862508615353926E-2},{"$f":"Data!N57","v":4.5324808072899625E-2},7.1458608997778894E-2,5.1883001120945071E-2,7.9000000000000001E-2,"may",{"$f":"Data!L57","v":1.5806565568876385E-2},{"$f":"Data!Q57","v":1.492910269320169E-2},{"$f":"Data!O57","v":6.7203260878541116E-3},6.8666769090588442E-2,4.9587504113075886E-2,0.06]
["jun",{"$f":"Data!J58","v":2.0299149273329986E-2},{"$f":"Data!P58","v":6.9624842232776096E-2},{"$f":"Data!N58","v":4.0581547342905866E-2},4.4304688873589182E-2,5.1883001120945071E-2,7.9000000000000001E-2,"jun",{"$f":"Data!L58","v":-9.4838327298454317E-3},{"$f":"Data!Q58","v":9.2519744785977132E-3},{"$f":"Data!O58","v":3.7761652634584753E-3},3.8187688650388685E-2,4.9587504113075886E-2,0.06]
["jul",{"$f":"Data!J59","v":4.888111283912222E-2},{"$f":"Data!P59","v":6.4422554293628753E-2},{"$f":"Data!N59","v":4.194077104938887E-2},{"$f":"C20","v":5.0615773914352236E-2},5.1883001120945071E-2,7.9000000000000001E-2,"jul",{"$f":"Data!L59","v":6.9608350361433091E-2},{"$f":"Data!Q59","v":9.8787801031225975E-3},{"$f":"Data!O59","v":1.4565436747949523E-2},4.4381980958400735E-2,4.9587504113075886E-2,0.06]
["ago",{"$f":"Data!J60","v":-1.4169641863372107E-2},{"$f":"Data!P60","v":5.7603400449897091E-2},{"$f":"Data!N60","v":3.5148476883788859E-2},3.3665806330256842E-2,5.1883001120945071E-2,7.9000000000000001E-2,"ago",{"$f":"Data!L60","v":1.8279795932672149E-2},{"$f":"Data!Q60","v":8.7880021514761264E-3},{"$f":"Data!O60","v":1.5024127738032078E-2},4.0312852342897498E-2,4.9587504113075886E-2,0.06]
["sep",{"$f":"Data!J61","v":4.7813557789458283E-2},{"$f":"Data!P61","v":5.7096486663334778E-2},{"$f":"Data!N61","v":3.6623474021915792E-2},3.4077812536678298E-2,5.1883001120945071E-2,7.9000000000000001E-2,"sep",{"$f":"Data!L61","v":7.8944503066422644E-2},{"$f":"Data!Q61","v":1.7231371657674188E-2},{"$f":"Data!O61","v":2.2007568877246531E-2},3.2267573842564401E-2,{"$f":"M124","v":4.9587504113075886E-2},0.06]
["oct",{"$f":"Data!J62","v":-2.1945616020300207E-3},{"$f":"Data!P62","v":4.6395574080019264E-2},{"$f":"Data!N62","v":3.2050865182304378E-2},2.5706707424048458E-2,5.1883001120945071E-2,7.9000000000000001E-2,"oct",{"$f":"Data!L62","v":5.6864057628574827E-2},{"$f":"Data!Q62","v":1.8795851570521771E-2},{"$f":"Data!O62","v":2.5692173585704081E-2},3.0757852846353906E-2,4.9587504113075886E-2,0.06]
["nov",{"$f":"Data!J63","v":3.8496475079158765E-2},{"$f":"Data!P63","v":3.7524960295403531E-2},{"$f":"Data!N63","v":3.2688756395483853E-2},3.5300520442781425E-2,5.1883001120945071E-2,7.9000000000000001E-2,"nov",{"$f":"Data!L63","v":2.6083374212651389E-2},{"$f":"Data!Q63","v":2.2380562235104984E-2},{"$f":"Data!O63","v":2.5728933260951381E-2},3.2340180227353743E-2,4.9587504113075886E-2,0.06]
["dic",{"$f":"Data!J64","v":7.7020059758253101E-2},{"$f":"Data!P64","v":3.638500231868913E-2},{"$f":"Data!N64","v":3.638500231868913E-2},3.638500231868913E-2,5.1883001120945071E-2,7.9000000000000001E-2,"dic",{"$f":"Data!L64","v":0.10000264991231789},{"$f":"Data!Q64","v":3.1366908482128864E-2},{"$f":"Data!O64","v":3.1366908482128864E-2},3.1366908482129086E-2,4.9587504113075886E-2,0.06]
[null,null,null,null,null,null,"CPDs",null,null,null,null,null,null,"Fact"]
[]
[]
[]
[]
[]
[]
[]
[]
[]
[]
[]
[]
[]
[]
[]
[]
[]
[null,"ojo, son acumulado Natural en tasas, no en Valores",null,null,null,null,null,null,"idem"]
[null,"por eso el dibujo no es exactamente una Zeta",null,null,null,null,null,null,"idem"]
[null,"peso si la tendencia del %12m baja el Acum Natural bajará, y viceversa. ",null,null,null,null,null,null,"idem"]
[null,"la Revision ira bajando, y viceversa. Ahora es bastante estable. ",null,null,null,null,null,null,"idem","la horquilla de volatilidad es algo elevada para Revisiones. Se mantiene en M.Medias y en iAnual*, y se espera que remonte el año (%12m y %Natutal)."]
[null,"la horquilla de volatilidad es pequeña, la media Actual coincide con la M.Medias y casi con iAnual*",null,null,null,null,null,null,null,"ya se sabe que la volatilidad de las tasas de Facturacion es mayor que CPDs"]
[null,"2019-06-01",null,null,null,null,null,null,null,"2019-06-01"]
[2020,null,null,null,null,"móvil","CPDs",{"$f":"A153","v":2020},null,null,null,null,"móvil","Fact"]
[null,"% i.a.","%12m","%12Natural","Revision","Media Medias","iAnual*",null,"% i.a.","%12m","%12Natural","Revision","Media Medias","iAnual*"]
[{"$f":"A117","v":"ene"},{"$f":"((BN63/BN51)-1)","v":4.3501941582756665E-2},{"$f":"((AVERAGE(BN52:BN63)/(AVERAGE(BN40:BN51))-1))","v":3.6088896096455381E-2},{"$f":"((AVERAGE(BN$63:BN63)/(AVERAGE(BN$51:BN51))-1))","v":4.3501941582756665E-2},{"$f":"((AVERAGE(AN$63:AN$74))/(AVERAGE(AN$51:AN$62)))-1","v":6.4569120430932436E-2},{"$f":"AVERAGE(E$155:E155)","v":6.4569120430932436E-2},null,{"$f":"A155","v":"ene"},{"$f":"((BM63/BM51)-1)","v":4.326572814176588E-3},{"$f":"((AVERAGE(BM52:BM63)/(AVERAGE(BM40:BM51))-1))","v":2.9335313533943586E-2},{"$f":"((AVERAGE(BM$63:BM63)/(AVERAGE(BM$51:BM51))-1))","v":4.326572814176588E-3},{"$f":"((AVERAGE(AM$63:AM$74))/(AVERAGE(AM$51:AM$62)))-1","v":8.0136562408312795E-2},{"$f":"AVERAGE(L$155:L155)","v":8.0136562408312795E-2}]
[{"$f":"A118","v":"feb"},{"$f":"((BN64/BN52)-1)","v":6.1112608411310054E-2},{"$f":"((AVERAGE(BN53:BN64)/(AVERAGE(BN41:BN52))-1))","v":3.84120936360417E-2},{"$f":"((AVERAGE(BN$63:BN64)/(AVERAGE(BN$51:BN52))-1))","v":5.1363426868165085E-2},{"$f":"((AVERAGE(AP$63:AP$74))/(AVERAGE(AP$51:AP$62)))-1","v":7.0234131892161766E-2},{"$f":"AVERAGE(E$155:E156)","v":6.7401626161547101E-2},null,{"$f":"A156","v":"feb"},1.9934428537285331E-2,3.0448061276078908E-2,{"$f":"((AVERAGE(BM$63:BM64)/(AVERAGE(BM$51:BM52))-1))","v":1.1861561312600744E-2},{"$f":"((AVERAGE(AO$63:AO$74))/(AVERAGE(AO$51:AO$62)))-1","v":8.7070197919952408E-2},{"$f":"AVERAGE(L$155:L156)","v":8.3603380164132601E-2}]
["mar",5.8135749251330804E-2,3.9668429661587234E-2,{"$f":"((AVERAGE(BN$63:BN65)/(AVERAGE(BN$51:BN53))-1))","v":5.3613484793612276E-2},{"$f":"((AVERAGE(AR$63:AR$74))/(AVERAGE(AR$51:AR$62)))-1","v":6.8027990060828269E-2},{"$f":"AVERAGE(E$155:E157)","v":6.7610414127974153E-2},null,"mar",4.1318126291615798E-2,3.3850016596900678E-2,{"$f":"((AVERAGE(BM$63:BM65)/(AVERAGE(BM$51:BM53))-1))","v":2.1826231734992207E-2},{"$f":"((AVERAGE(AQ$63:AQ$74))/(AVERAGE(AQ$51:AQ$62)))-1","v":8.5385336533253531E-2},{"$f":"AVERAGE(L$155:L157)","v":8.419736562050624E-2}]
["abr",1.9392002543687559E-2,3.5780519888324758E-2,{"$f":"((AVERAGE(BN$63:BN66)/(AVERAGE(BN$51:BN54))-1))","v":4.4266398830181686E-2},{"$f":"((AVERAGE(AT$63:AT$74))/(AVERAGE(AT$51:AT$62)))-1","v":6.557431649551404E-2},{"$f":"AVERAGE(E$155:E158)","v":6.7101389719859128E-2},null,"abr",4.424360399555427E-2,3.8621748627604147E-2,{"$f":"((AVERAGE(BM$63:BM66)/(AVERAGE(BM$51:BM54))-1))","v":2.7475154914572419E-2},{"$f":"((AVERAGE(AS$63:AS$74))/(AVERAGE(AS$51:AS$62)))-1","v":7.6645587449449826E-2},{"$f":"AVERAGE(L$155:L158)","v":8.230942107774214E-2}]
["may",4.7719418609010411E-2,3.6428624878554583E-2,{"$f":"((AVERAGE(BN$63:BN67)/(AVERAGE(BN$51:BN55))-1))","v":4.504789424760447E-2},{"$f":"((AVERAGE(AV$63:AV$74))/(AVERAGE(AV$51:AV$62)))-1","v":6.4807750115618123E-2},{"$f":"AVERAGE(E$155:E159)","v":6.6642661799010933E-2},null,"may",3.2301901702961322E-2,4.006811592848214E-2,{"$f":"((AVERAGE(BM$63:BM67)/(AVERAGE(BM$51:BM55))-1))","v":2.855223482737701E-2},{"$f":"((AVERAGE(AU$63:AU$74))/(AVERAGE(AU$51:AU$62)))-1","v":8.2270376631276898E-2},{"$f":"AVERAGE(L$155:L159)","v":8.2301612188449086E-2}]
["jun",6.171563988999007E-2,4.01181364927512E-2,{"$f":"((AVERAGE(BN$63:BN68)/(AVERAGE(BN$51:BN56))-1))","v":4.8145454389203257E-2},{"$f":"((AVERAGE(AX$63:AX$74))/(AVERAGE(AX$51:AX$62)))-1","v":6.26371321242154E-2},{"$f":"AVERAGE(E$155:E160)","v":6.5975073519878344E-2},null,"jun",8.5662224803389586E-2,4.846387284340703E-2,{"$f":"((AVERAGE(BM$63:BM68)/(AVERAGE(BM$51:BM56))-1))","v":3.8791571237929423E-2},{"$f":"((AVERAGE(AW$63:AW$74))/(AVERAGE(AW$51:AW$62)))-1","v":8.4986677795124921E-2},{"$f":"AVERAGE(L$155:L160)","v":8.2749123122895063E-2}]
["jul",1.389342453763831E-2,3.6835056878007588E-2,{"$f":"((AVERAGE(BN$63:BN69)/(AVERAGE(BN$51:BN57))-1))","v":4.2498618961747781E-2},{"$f":"((AVERAGE(AZ$63:AZ$74))/(AVERAGE(AZ$51:AZ$62)))-1","v":7.1051568966076006E-2},{"$f":"AVERAGE(E$155:E161)","v":6.6700287155049429E-2},null,"jul",4.4138574108318895E-2,4.6015653525238509E-2,{"$f":"((AVERAGE(BM$63:BM69)/(AVERAGE(BM$51:BM57))-1))","v":3.9715437248778906E-2},{"$f":"((AVERAGE(AY$63:AY$74))/(AVERAGE(AY$51:AY$62)))-1","v":9.3243046952171449E-2},{"$f":"AVERAGE(L$155:L161)","v":8.4248255098505975E-2}]
["ago",4.8759720213116697E-2,4.1617696170336504E-2,{"$f":"((AVERAGE(BN$63:BN70)/(AVERAGE(BN$51:BN58))-1))","v":4.322042961776229E-2},{"$f":"((AVERAGE(BB$63:BB$74))/(AVERAGE(BB$51:BB$62)))-1","v":6.2731599532595661E-2},{"$f":"AVERAGE(E$155:E162)","v":6.6204201202242713E-2},null,"ago",5.25070549343849E-2,4.8816408066811867E-2,{"$f":"((AVERAGE(BM$63:BM70)/(AVERAGE(BM$51:BM58))-1))","v":4.1300157263085557E-2},{"$f":"((AVERAGE(BA$63:BA$74))/(AVERAGE(BA$51:BA$62)))-1","v":8.4666424530066786E-2},{"$f":"AVERAGE(L$155:L162)","v":8.4300526277451077E-2}]
["sep",4.3190555704628819E-2,4.1241816964118216E-2,{"$f":"((AVERAGE(BN$63:BN71)/(AVERAGE(BN$51:BN59))-1))","v":4.3216912893663473E-2},{"$f":"((AVERAGE(BD$63:BD$74))/(AVERAGE(BD$51:BD$62)))-1","v":5.0620550146211585E-2},{"$f":"AVERAGE(E$155:E163)","v":6.4472684418239251E-2},null,"sep",7.1805417900300927E-2,4.8387930829191461E-2,{"$f":"((AVERAGE(BM$63:BM71)/(AVERAGE(BM$51:BM59))-1))","v":4.481859520325493E-2},{"$f":"((AVERAGE(BC$63:BC$74))/(AVERAGE(BC$51:BC$62)))-1","v":7.5430296698194788E-2},{"$f":"AVERAGE(L$155:L163)","v":8.331494521308927E-2}]
["oct",5.7994545278724496E-2,4.6943042894939113E-2,{"$f":"((AVERAGE(BN$63:BN72)/(AVERAGE(BN$51:BN60))-1))","v":4.4899897409832912E-2},{"$f":"((AVERAGE(BF$63:BF$74))/(AVERAGE(BF$51:BF$62)))-1","v":3.4369829220953996E-2},{"$f":"AVERAGE(E$155:E164)","v":6.1462398898510726E-2},null,"oct",6.8098949500901007E-2,4.9458445250517569E-2,{"$f":"((AVERAGE(BM$63:BM72)/(AVERAGE(BM$51:BM60))-1))","v":4.7354301437307011E-2},{"$f":"((AVERAGE(BE$63:BE$74))/(AVERAGE(BE$51:BE$62)))-1","v":5.5943363514039834E-2},{"$f":"AVERAGE(L$155:L164)","v":8.0577787043184329E-2}]
["nov",5.0760652126713213E-2,4.8036150672183364E-2,{"$f":"((AVERAGE(BN$63:BN73)/(AVERAGE(BN$51:BN61))-1))","v":4.5483170212627488E-2},{"$f":"((AVERAGE(BF$63:BF$74))/(AVERAGE(BF$51:BF$62)))-1","v":3.4369829220953996E-2},{"$f":"AVERAGE(E$155:E165)","v":5.8999438018732843E-2},null,"nov",8.6478295604412336E-2,5.4662854677568928E-2,{"$f":"((AVERAGE(BM$63:BM73)/(AVERAGE(BM$51:BM61))-1))","v":5.1031908747326771E-2},{"$f":"((AVERAGE(BE$63:BE$74))/(AVERAGE(BE$51:BE$62)))-1","v":5.5943363514039834E-2},{"$f":"AVERAGE(L$155:L165)","v":7.8338293995080285E-2}]
["dic",4.4399200173221409E-2,4.5389247568641489E-2,{"$f":"((AVERAGE(BN$63:BN74)/(AVERAGE(BN$51:BN62))-1))","v":4.5389247568641489E-2},{"$f":"((AVERAGE(BF$63:BF$74))/(AVERAGE(BF$51:BF$62)))-1","v":3.4369829220953996E-2},{"$f":"AVERAGE(E$155:E166)","v":5.6946970618917937E-2},null,"dic",0.10014387478423692,5.5007995621540351E-2,{"$f":"((AVERAGE(BM$63:BM74)/(AVERAGE(BM$51:BM62))-1))","v":5.5007995621540351E-2},{"$f":"((AVERAGE(BE$63:BE$74))/(AVERAGE(BE$51:BE$62)))-1","v":5.5943363514039834E-2},{"$f":"AVERAGE(L$155:L166)","v":7.6472049788326904E-2}]
[]
[]
[]
[]
[]
[]
[]
[]
[]
[]
[]
[]
[]
[]
[]
[]
[]
[]
[]
[null,{"$f":"AVERAGE(B155:B166)","v":4.5881288193510707E-2},null,null,null,{"$f":"D166","v":4.5389247568641489E-2},3.5000000000000003E-2,null,{"$f":"AVERAGE(I155:I166)","v":5.4246585414794823E-2},null,null,null,{"$f":"K166","v":5.5007995621540351E-2},0.05]
[null,null,null,null,null,null,"redondeo",null,null,null,null,null,null,"redondeo"]
[null,null,null,null,null,null,"personal",null,null,null,null,null,null,"personal"]

{"sheet":"esquema","index":8,"n_rows":135,"n_cols":16,"rows_kept":135,"cut":false,"hidden":true,"merged":[]}
[]
["ENDOGENAS",null,"Sect.78",null,null,null,"EXOGENAS PROPIAS",null,null,null,"EXOGENAS FUENTES"]
["Asempleo","2015-2018","Etts","llevar a 2002 - 2018",null,null,null,"wharton","mensualizacion",null,null,"ine, sepe, mtas, afi, ce"]
["datos mensuales",null,"datos anuales","Facturacion, en mensuales","euros",null,"activos","(ine)","FLB",null,"ine_iass_78"]
["Facturacion","euros","datos mensuales","mtas_contrata_etts_cpds","contratos",null,"ocupados","(ine)","ChowLin",null,"ine_ocup_78"]
["Contratos","contratos","datos mensuales","cuota s/temp","ratio",null,"parados","(ine)",null,null,"ine_productividad_78"]
["Asem/ETTs","ratio",null,"cuota s/total Afiliados","ratio",null,"tasa actividad","(ine)",null,null,"ine_productividad_78_%"]
[null,null,null,"mtas_contrata_etts_dnis","personas",null,"tasa paro","(ine)",null,null,"sepe_contrata_afiliados"]
[null,null,null,"2008-2018",null,null,"tasa ocup.",null,null,null,"sepe_contrata_indefinidos"]
[null,null,null,null,null,null,"salario","wharton",null,null,"sepe_contrata_temporales",null,"cuota s/tot"]
[null,null,null,"precios",null,null,"productividad","wharton",null,null,"ine_ocupados_indefinidos"]
[null,null,null,"productividad",null,null,null,null,null,null,"ine_ocupados_temporales"]
[null,null,null,null,null,null,null,"hfreg"]
[null,null,null,null,null,null,"pib",null,"1996-2018",null,"ine_ipc_serv",null,null,"afi_ocupados_%"]
["datos anuales","2015-2018","datos anuales","Facturacion","euros",null,"ipc_gral",null,null,null,"ine_etcl",null,null,"afi_parados_%"]
["Facturacion","euros",null,"mtas_contrata_etts_cpds","contratos",null,"paro registrado",null,null,null,null,null,null,"afi_afiliados_%"]
["Contratos","contratos",null,"cuota s/temp","ratio",null,"afiliados",null,null,null,"com.europea_78"]
["Asem/ETTs","ratio",null,"cuota s/total Afiliados","ratio",null,"tasa paro mes estimada",null,null,null,"iclima78",null,"info complementaria; no para Modelo"]
[null,null,null,"mtas_contrata_etts_dnis","personas",null,null,null,null,null,"negocio3Mpast",null,"coef. Rotacion (mtas)"]
[null,null,null,null,null,null,null,null,null,null,"demanda3Mpast",null,"coef. Duracion (ine)"]
[null,null,null,null,null,null,null,null,null,null,"demanda3Mfuture"]
[null,null,null,null,null,null,null,null,null,null,"empleo3Mpast"]
[null,"AMBITO NACIONAL",null,null,null,null,null,null,null,null,"empleo3Mfuture"]
[null,null,null,null,null,null,null,null,null,null,"precios3Mfuture",null,null,"sirve de comprobacion"]
["ECUACIONES",null,null,null,null,null,null,null,null,null,null,null,null,"CUOTAS RATIOS",null,"proyectar cuotas"]
[null,"smpl 2002.01 2019.02",null,null,null,null,null,null,null,null,null,null,null,"temporales / total asalariados, tasa temporalidad"]
[null,"\"carga\" exogenas propias (previamente proyectadas wharton y/o hfReg)",null,null,null,null,null,null,null,null,null,null,null,"etts / temporales, tasa penetracion"]
[null,null,null,"pib",null,"modelo propio",null,null,null,null,null,null,null,"etts / totales asalaridos, coeficiente temporalidad etts "]
[null,null,null,"paro registrado",null,"sepe"]
[null,null,null,"afiliados",null,"seg-social"]
[null,null,null,"tasa paro mes estimada",null,"modelo propio"]
[]
[null,null,null,"activos","(ine)","wharton","mensualizadas"]
[null,null,null,"ocupados","(ine)","wharton","mensualizadas"]
[null,null,null,"parados","(ine)","wharton","mensualizadas"]
[null,null,null,"tasa actividad","(ine)","wharton","mensualizadas"]
[null,null,null,"tasa paro","(ine)","wharton","mensualizadas"]
[]
[null,"\"carga\" exogenas fuentes",null,"indefinidos"]
[null,null,null,"temporales"]
[null,null,null,"ctt_temporales"]
[null,null,null,"cuota temporales s/tot (temporalidad)"]
[null,null,null,"ine_iass_78"]
[null,null,null,"ine_ocup_78"]
[null,null,null,"ine_productividad_78"]
[null,null,null,"ine_productividad_78_%"]
[null,null,null,"iclima78"]
[null,null,null,"negocio3Mpast"]
[null,null,null,"demanda3Mpast"]
[null,null,null,"demanda3Mfuture"]
[null,null,null,"empleo3Mpast"]
[null,null,null,"empleo3Mfuture"]
[null,null,null,"precios3Mfuture"]
[]
[null,"forecast exogenas fuentes"]
[null,"smpl 2019.03 2019.12",null,"indefinidos"]
[null,null,null,"temporales"]
[null,null,null,"ctt_temporales"]
[null,null,null,"cuota temporales s/tot (temporalidad)"]
[null,null,null,"ine_iass_78"]
[null,null,null,"ine_ocup_78"]
[null,null,null,"ine_productividad_78"]
[null,null,null,"ine_productividad_78_%"]
[null,null,null,"iclima78"]
[null,null,null,"negocio3Mpast"]
[null,null,null,"demanda3Mpast"]
[null,null,null,"demanda3Mfuture"]
[null,null,null,"empleo3Mpast"]
[null,null,null,"empleo3Mfuture"]
[null,null,null,"precios3Mfuture"]
[]
[null,"aplicamos metodo ARIMA … AR1, AR2, AR3, SAR12 SMA12. Ver ajuste. "]
[]
[null,"se valida la ecuacion UNIvariante a utilizar antes del Forecast para las Endogenas (raices unitarias, dummies, …)"]
[]
[null,"smpl 2002.01 2018.12",null,null,null,null,"bloque ETT sector"]
[null,"LS iass_fact_% = f (pib%, iclima78)",null,null,null,"1)"]
[null,"LS iass_ocup_% = f (empleo3Mpast, empleo3Mfuture, ocup%, Afi% )",null,null,null,"1)"]
[null,"genr iass_productividad_% = iass_fact% - iass_ocup%",null,null,null,"1b)"]
[null,"LS cpds_sector = f (ctt_temporales) ",null,null,null,"1)"]
[]
[null,"genr ratio de \"cuota temporalidad\" = temporales / total afiliados ",null,null,null,"1b)"]
[null,"genr ratio de \"cuota sector1\" = cpds / ctt_temporales  ",null,null,null,"1b)"]
[null,"LS dnis_sector = f(cuota sector1, empleo3Mpast, empleo3Mfuture, iass_ocup%)",null,null,null,"1)",null,null,"no tengo claro que productividad juegue con sentido, si habria que poner otro vinculo con productivdad"]
["o bien LS dnis_sector = f (temporales); ",null,null,null,null,"1)",null,null,"idem con alguna variable de salario."]
[null,"genr ratio de \"cuota sector2\" = dnis_sector / temporales  ",null,null,null,"1b)"]
[null,"LS facturacion_sector = f (iass_fact_%)",null,null,null,"1)"]
[null,null,null,null,null,null,null,null,null,null,null,null,"ctt_totales"]
[null,"smpl 2015.01 2018.12",null,null,null,null,"bloque ASEMPLEO",null,null,null,null,null,"ctt_indefinidos"]
[null,"LS asempleo_fact = f (facturacion_sector) ",null,null,null,"2)",null,null,null,null,null,null,"ctt_temporales"]
[null,"LS asempleo_cpds = f (cpds_sector)  ",null,null,null,"2)",null,null,null,null,null,null,"iass_fact_78"]
[null,"genr ratio de \"cuota asempleo_fact\" = f (asempleo_fact / facturacion_sector)",null,null,null,"2b)",null,null,null,null,null,null,"iass_ocup_78"]
[null,"genr ratio de \"cuota asempleo_cpds\" = f (asempleo_cpds / cpds_sector)",null,null,null,"2b)",null,null,null,null,null,null,"iass_product_78"]
[null,"genr ratio de \"asempleo_dnis\" = f (cuota asempleo cdps * dnis_sector)",null,null,null,"2b)",null,null,null,null,null,null,"iass_ratio_78"]
[null,null,null,null,null,null,null,null,null,null,null,null,"clima_ce"]
[null,"FORECAST",null,"del multivariante, tanto ETTs sector como ASEMPLEO. ",null,null,"bloque ETT sector",null,null,null,null,null,"negocio_ce"]
[null,null,null,null,null,null,null,null,null,null,null,null,"demanda1_ce"]
[null,"smpl 2019.01 2019.12",null,null,null,null,null,null,null,null,null,null,"demanda2_ce"]
[null,"fcst",null,null,null,"1)",null,null,null,null,null,null,"empleo1_ce"]
[null,"genr ratios , hay cuatro , (cuota sector 1 se genera en medio)",null,null,null,"1b)",null,null,null,null,null,null,"empleo2_ce"]
[null,null,null,null,null,null,null,null,null,null,null,null,"precios_ce"]
[null,null,null,null,null,null,"bloque ASEMPLEO",null,null,null,null,null,"cpds_ett"]
[null,"fcst",null,null,null,"2)",null,null,null,null,null,null,"dnis_ett"]
[null,"genr ratios , hay tres ",null,null,null,"2b)",null,null,null,null,null,null,"fact_ett"]
[null,null,null,null,null,null,null,null,null,null,null,null,"fact_asempleo"]
[null,null,null,null,null,null,null,null,null,null,null,null,"cpds_asempleo"]
[null,null,null,null,null,null,null,null,null,null,null,null,"afiliados_cep"]
[null,"RELACIONES",null,"despues del forecast se calculan relaciones a Futuro,  tanto ETTs sector como ASEMPLEO. ",null,null,null,null,null,null,null,null,"pib_cep"]
[null,null,null,"o se podrían si falta alguna. ",null,null,null,null,null,null,null,null,"ocupados_afi"]
[null,null,null,null,null,null,null,null,null,null,null,null,"paroreg_afi"]
[null,"Ahora, se exportan los datos de prevision MENSUALES. ",null,null,null,"ETTs, ","ASEMPLEO",null,null,null,null,null,"afiliados_afi"]
[null,null,null,null,null,null,null,null,null,null,null,null,"ocupados_ine_epa"]
[null,"Luego se ABRE un worfile con frecuencia ANUAL, se cambia de frecuencia como SUMA anual (de meses a ACUMULADO del año) ",null,null,null,null,null,null,null,null,null,null,"asalariados_ine_epa"]
[null,null,null,null,null,null,null,null,null,null,null,null,"indefinidos_ine_epa"]
[null,"entiendo que el work file convierte el dato de prevision anual, por lo tanto ya se puede exportan otro .XLS",null,null,null,null,null,null,null,null,null,null,"temporales_ine_epa"]
[]
[null,null,null,null,null,"ETTs, ","ASEMPLEO"]
[]
[]
[]
[]
[]
[]
[]
["GRAFICOS","DE CONTEXTO",null,null,null,null,null,null,null,"DEL SECTOR"]
[null,"ocup",null,null,null,null,"paro 1",null,"pre",null,"iass78",null,"iass78ocup",null,"pers."]
[null,"acti",null,null,null,null,"paro2",null,null,null,"asempleo",null,"asempleo"]
[null,"t.paro",null,null,null,null,null,null,null,null,null,null,"cuota contrata"]
[]
[]
[null,"pib"]
[null,"paro reg"]
[]
[null,"afiliados"]
[null,"ind.confianza"]

{"sheet":"SEPE contratos","index":9,"n_rows":258,"n_cols":20,"rows_kept":258,"cut":false,"hidden":true,"merged":[[236,1,247,1],[5,8,6,8],[5,9,5,11],[5,12,6,12],[5,13,6,13],[5,14,5,16],[6,10,6,11],[6,15,6,16],[0,11,0,15],[2,1,2,15],[4,1,6,1],[4,2,6,2],[4,3,4,6],[4,7,4,11],[4,12,4,16],[5,3,6,4],[5,5,5,6],[5,7,6,7],[17,10,17,11],[18,10,18,11],[19,10,19,11],[20,1,31,1],[20,10,20,11],[21,10,21,11],[22,10,22,11],[23,10,23,11],[8,1,19,1],[8,10,8,11],[9,10,9,11],[10,10,10,11],[11,10,11,11],[12,10,12,11],[13,10,13,11],[14,10,14,11],[15,10,15,11],[16,10,16,11],[32,1,43,1],[32,10,32,11],[36,10,36,11],[40,10,40,11],[24,10,24,11],[25,10,25,11],[26,10,26,11],[27,10,27,11],[28,10,28,11],[29,10,29,11],[41,10,41,11],[32,15,32,16],[33,10,33,11],[33,15,33,16],[34,10,34,11],[34,15,34,16],[35,10,35,11],[35,15,35,16],[30,10,30,11],[40,15,40,16],[31,10,31,11],[41,15,41,16],[42,10,42,11],[42,15,42,16],[43,10,43,11],[43,15,43,16],[36,15,36,16],[37,10,37,11],[37,15,37,16],[38,10,38,11],[38,15,38,16],[39,10,39,11],[39,15,39,16],[44,1,55,1],[44,10,44,11],[44,15,44,16],[45,10,45,11],[45,15,45,16],[46,10,46,11],[50,10,50,11],[50,15,50,16],[51,10,51,11],[51,15,51,16],[52,10,52,11],[52,15,52,16],[46,15,46,16],[47,10,47,11],[47,15,47,16],[48,10,48,11],[48,15,48,16],[49,10,49,11],[49,15,49,16],[56,1,67,1],[56,10,56,11],[56,15,56,16],[57,10,57,11],[57,15,57,16],[58,10,58,11],[53,10,53,11],[53,15,53,16],[54,10,54,11],[54,15,54,16],[55,10,55,11],[55,15,55,16],[58,15,58,16],[59,10,59,11],[59,15,59,16],[60,10,60,11],[60,15,60,16],[61,10,61,11],[61,15,61,16],[65,10,65,11],[65,15,65,16],[66,10,66,11],[66,15,66,16],[67,10,67,11],[67,15,67,16],[62,10,62,11],[62,15,62,16],[63,10,63,11],[63,15,63,16],[64,10,64,11],[64,15,64,16],[68,1,79,1],[68,10,68,11],[68,15,68,16],[69,10,69,11],[69,15,69,16],[70,10,70,11],[74,10,74,11],[74,15,74,16],[75,10,75,11],[75,15,75,16],[76,10,76,11],[76,15,76,16],[70,15,70,16],[71,10,71,11],[71,15,71,16],[72,10,72,11],[72,15,72,16],[73,10,73,11],[73,15,73,16],[80,1,91,1],[80,10,80,11],[80,15,80,16],[81,10,81,11],[81,15,81,16],[82,10,82,11],[77,10,77,11],[77,15,77,16],[78,10,78,11],[78,15,78,16],[79,10,79,11],[79,15,79,16],[82,15,82,16],[83,10,83,11],[83,15,83,16],[84,10,84,11],[84,15,84,16],[85,10,85,11],[85,15,85,16],[89,10,89,11],[89,15,89,16],[90,10,90,11],[113,10,113,11],[114,10,114,11],[90,15,90,16],[91,10,91,11],[91,15,91,16],[86,10,86,11],[86,15,86,16],[87,10,87,11],[87,15,87,16],[88,10,88,11],[88,15,88,16],[115,10,115,11],[103,10,103,11],[104,1,115,1],[104,10,104,11],[105,10,105,11],[106,10,106,11],[107,10,107,11],[108,10,108,11],[109,10,109,11],[110,10,110,11],[92,1,103,1],[97,10,97,11],[98,10,98,11],[99,10,99,11],[100,10,100,11],[101,10,101,11],[102,10,102,11],[92,10,92,11],[93,10,93,11],[94,10,94,11],[95,10,95,11],[96,10,96,11],[111,10,111,11],[112,10,112,11],[129,10,129,11],[130,10,130,11],[131,10,131,11],[138,10,138,11],[139,10,139,11],[141,10,141,11],[142,10,142,11],[143,10,143,11],[116,1,127,1],[116,10,116,11],[117,10,117,11],[118,10,118,11],[119,10,119,11],[120,10,120,11],[121,10,121,11],[122,10,122,11],[123,10,123,11],[124,10,124,11],[125,10,125,11],[126,10,126,11],[127,10,127,11],[128,1,139,1],[132,10,132,11],[133,10,133,11],[128,10,128,11],[161,10,161,11],[162,10,162,11],[163,10,163,11],[151,10,151,11],[140,1,151,1],[140,10,140,11],[171,10,171,11],[172,10,172,11],[134,10,134,11],[135,10,135,11],[136,10,136,11],[137,10,137,11],[152,1,163,1],[152,10,152,11],[153,10,153,11],[154,10,154,11],[155,10,155,11],[156,10,156,11],[157,10,157,11],[145,10,145,11],[146,10,146,11],[147,10,147,11],[148,10,148,11],[173,10,173,11],[144,10,144,11],[174,10,174,11],[175,10,175,11],[164,1,175,1],[164,10,164,11],[165,10,165,11],[166,10,166,11],[167,10,167,11],[168,10,168,11],[169,10,169,11],[170,10,170,11],[149,10,149,11],[150,10,150,11],[158,10,158,11],[159,10,159,11],[160,10,160,11],[184,10,184,11],[185,10,185,11],[186,10,186,11],[187,10,187,11],[176,1,187,1],[176,10,176,11],[177,10,177,11],[178,10,178,11],[179,10,179,11],[180,10,180,11],[181,10,181,11],[182,10,182,11],[183,10,183,11],[197,10,197,11],[198,10,198,11],[199,10,199,11],[200,1,211,1],[200,10,200,11],[201,10,201,11],[202,10,202,11],[203,10,203,11],[188,1,199,1],[188,10,188,11],[189,10,189,11],[190,10,190,11],[191,10,191,11],[192,10,192,11],[193,10,193,11],[194,10,194,11],[195,10,195,11],[196,10,196,11],[224,1,235,1],[212,1,223,1],[212,10,212,11],[213,10,213,11],[214,10,214,11],[215,10,215,11],[216,10,216,11],[204,10,204,11],[205,10,205,11],[206,10,206,11],[207,10,207,11],[208,10,208,11],[209,10,209,11],[217,10,217,11],[218,10,218,11],[219,10,219,11],[220,10,220,11],[221,10,221,11],[222,10,222,11],[210,10,210,11],[211,10,211,11]]}
[null,null,null,null,null,null,null,null,null,null,null,"Servicio Público de Empleo Estatal"]
[]
[null,"Evolución de contratos totales, indefinidos y temporales según variación mensual y anual. Años 2001 a 2018."]
[]
[null,"AÑO /","MES","TOTAL CONTRATOS",null,null,null,"INDEFINIDOS",null,null,null,null,"TEMPORALES"]
[null,null,null,"DATOS ABSOLUTOS",null,"VARIACION RELATIVA",null,"DATOS ABSOLUTOS","% SOBRE TOTAL","VARIACION RELATIVA",null,null,"DATOS ABSOLUTOS","% SOBRE TOTAL","VARIACION RELATIVA"]
[null,null,null,null,null,"MENSUAL","ANUAL",null,null,"MENSUAL","ANUAL",null,null,null,"MENSUAL","ANUAL"]
[]
[null,2001,"ENERO",200201,1197711,22.587925348661546,6.1723349898322999,107158,8.9468995442139221,22.973639816844354,28.68740242584364,null,1090553,91.05310045578608,22.550155469876376,4.3779167926861486]
[null,null,"FEBRERO",200202,1094045,-8.6553434008704944,-1.7942899408815172,104515,9.5530805405627746,-2.4664514082009745,-9.2026618480036149,null,989530,90.446919459437225,-9.2634654161695948,-0.94061021537130884]
[null,null,"MARZO",200203,1116527,2.054942895401926,-7.2828340789002759,87856,7.8686856654608439,-15.939338850882649,-25.32236266118133,null,1028671,92.131314334539155,3.9555142340302969,-5.3296483836470694]
[null,null,"ABRIL",200204,1011926,-9.3684254836649714,5.6444574363685716,104009,10.278320746773973,18.385767619741394,10.572588875659125,null,907917,89.721679253226029,-11.738835837697378,5.1078032313185053]
[null,null,"MAYO",200205,1235272,22.071376760751281,0.9941853239932239,142992,11.575750118192593,37.480410349104403,33.318415752964867,null,1092280,88.424249881807413,20.306151333216583,-2.1128174244705411]
[null,null,"JUNIO",200206,1188985,-3.7471099482543115,-0.81170253146077254,112653,9.4747200343149824,-21.21727089627392,16.201803065624162,null,1076332,90.525279965685016,-1.4600651847511625,-2.3087416690794531]
[null,null,"JULIO",200207,1258279,5.8279961479749538,7.3986191497588338,102556,8.1504976241358236,-8.9629215378196765,16.084485998234218,null,1155723,91.849502375864176,7.3760698371877824,6.6902315345197003]
[null,null,"AGOSTO",200208,1061690,-15.623641497632878,4.7714535806872131,85867,8.0877657319933309,-16.273060571785173,15.94561019741284,null,975823,91.912234268006671,-15.566013655521262,3.890422567900341]
[null,null,"SEPTIEMBRE",200209,1130641,6.49445695071066,-6.9294925511721059,98000,8.6676495899228847,14.129991731398558,-8.4343203116970482,null,1032641,91.332350410077112,5.8225723312526965,-6.784107167842425]
[null,null,"OCTUBRE",200210,1477473,30.675696352776875,8.6520211116021883,144458,9.7773698741026056,47.406122448979595,17.218715006734936,null,1333015,90.222630125897396,29.087940533060376,7.798263440464571]
[null,null,"NOVIEMBRE",200211,1324421,-10.359038710013651,4.5909849749582632,126028,9.515705353509194,-12.758033476858326,10.24624939859161,null,1198393,90.48429464649081,-10.099061150849765,4.029788944339745]
[null,null,"DICIEMBRE",200212,959514,-27.552190730892971,-1.7919760251048595,87995,9.1707885450342577,-30.178214365061734,0.98233856252653817,null,871519,90.829211454965744,-27.276027146353492,-2.0636420742951604]
[null,2002,"ENERO",200201,1270019,32.360653414124236,6.0371825924617877,110318,8.6863267399936532,25.368486845843513,2.9489165531271579,null,1159701,91.31367326000634,33.066634232873866,6.3406363560505543]
[null,null,"FEBRERO",200202,1139766,-10.255988296238087,4.1790785570977427,114180,10.017845768341923,3.5007886292354828,9.2474764387886914,null,1025586,89.982154231658072,-11.564618811228067,3.6437500631612987]
[null,null,"MARZO",200203,1000369,-12.230317451125932,-10.403510170376533,106402,10.63627521444587,-6.812051147311263,21.109542888362775,null,893967,89.363724785554126,-12.833541019475694,-13.094954557871272]
[null,null,"ABRIL",200204,1247220,24.675994558008096,23.252095508960142,126442,10.137906704510833,18.834232439239866,21.568325817958062,null,1120778,89.862093295489174,25.371294466126827,23.444984508495821]
[null,null,"MAYO",200205,1238066,-0.73395230993730054,0.22618500216956267,116370,9.3993373535821192,-7.9657075971591711,-18.617824773413897,null,1121696,90.600662646417874,8.1907389331339481E-2,2.6930823598344746]
[null,null,"JUNIO",200206,1074375,-13.221508384851857,-9.6393142049731484,95169,8.8580802792321123,-18.218613044599124,-15.520225826209687,null,979206,91.141919720767888,-12.703085327931989,-9.0237956318310708]
[null,null,"JULIO",200207,1317913,22.667876672484002,4.7393304664545779,101701,7.7168219753504212,6.8635795269467996,-0.83369086157806471,null,1216212,92.283178024649573,24.203895809461955,5.2338665926004762]
[null,null,"AGOSTO",200208,1019106,-22.672740916889055,-4.0109636522902168,78792,7.7314822991916445,-22.525835537507003,-8.2394866479555589,null,940314,92.26851770080836,-22.685025308087738,-3.6388771324307791]
[null,null,"SEPTIEMBRE",200209,1186710,16.446179298326179,4.9590453556876142,104191,8.7798198380396215,32.235506142755611,6.3173469387755103,null,1082519,91.220180161960371,15.123139717158312,4.8301394192173266]
[null,null,"OCTUBRE",200210,1545378,30.223727785221325,4.5960230745333419,141657,9.1664951875851735,35.95895998694705,-1.9389718811003891,null,1403721,90.83350481241483,29.671719387835225,5.3042163816611216]
[null,null,"NOVIEMBRE",200211,1181989,-23.514570545199945,-10.754284324999377,106451,9.0060905812152221,-24.852989968727279,-15.533849620719206,null,1075538,90.993909418784781,-23.379503476830511,-10.251645328368907]
[null,null,"DICIEMBRE",200212,958337,-18.921665091637909,-0.1226662664640641,81287,8.4820892859192547,-23.639045194502636,-7.6231604068412979,null,877050,91.517910714080742,-18.454764034371635,0.63463906122528602]
[null,2003,"ENERO",200301,1355698,41.463597878408116,6.7462770242020005,121355,8.9514773939328673,49.292014713299793,10.004713646005186,null,1234343,91.048522606067124,40.738042300895046,6.4363141878811874]
[null,null,"FEBRERO",200302,1197509,-11.668454183748889,5.0662153459569774,120089,10.028233608265156,-1.0432203040665815,5.1751620248730079,null,1077420,89.971766391734846,-12.713078941590789,5.0540861517220401]
[null,null,"MARZO",200303,1127638,-5.8346951880946198,12.722205506168224,115826,10.271558780388741,-3.5498671818401348,8.856976372624576,null,1011812,89.728441219611256,-6.0893616231367531,13.182253931073518]
[null,null,"ABRIL",200304,1052755,-6.6406949748057444,-15.591876332964514,107626,10.223271321437561,-7.0795848945832542,-14.88113126967305,null,945129,89.776728678562435,-6.5904535625195191,-15.672059944074562]
[null,null,"MAYO",200305,1196038,13.610289193592051,-3.3946493967203688,108383,9.0618358279586442,0.70336164123910583,-6.8634527799260976,null,1087655,90.938164172041354,15.080057854536259,-3.034779476792286]
[null,null,"JUNIO",200306,1199220,0.26604505876903578,11.620244328097732,99440,8.2920565033938729,-8.2512940221252418,4.4878059031827595,null,1099780,91.70794349660612,1.1147836400329147,12.313445791794576]
[null,null,"JULIO",200307,1301862,8.5590633912042833,-1.217910438701189,95906,7.366833043748108,-3.5539018503620277,-5.6980757318020467,null,1205956,92.633166956251884,9.6542944952626879,-0.84327403446109728]
[null,null,"AGOSTO",200308,970553,-25.448857098525036,-4.7642737850625938,67539,6.9588162624812862,-29.577920046712407,-14.281906792567773,null,903014,93.041183737518722,-25.120485324506035,-3.9667600397314087]
[null,null,"SEPTIEMBRE",200309,1283644,32.2590317066662,8.1682972251013304,103657,8.0752140001433421,53.477250181376689,-0.51252027526369837,null,1179987,91.924785999856667,30.672060455319627,9.003814251759092]
[null,null,"OCTUBRE",200310,1557842,21.360906918117482,0.8065340648048569,132619,8.5129942574407416,27.940225937466838,-6.380200060710024,null,1425223,91.487005742559262,20.782940829009135,1.5317858748284026]
[null,null,"NOVIEMBRE",200311,1288834,-17.267989950200342,9.0394242247601291,107113,8.3108453066880603,-19.232538324071211,0.62188236841363631,null,1181721,91.689154693311934,-17.085185967388963,9.8725475064572343]
[null,null,"DICIEMBRE",200312,1136470,-11.821848275262758,18.587720186114069,90215,7.9381769866340504,-15.775862873787498,10.983306063700223,null,1046255,92.061823013365952,-11.463450340647242,19.292514679892822]
[null,2004,"ENERO",200401,1390153,22.322014659427879,2.5414952297635609,113783,8.1849264073810577,26.124258715291248,-6.2395451361707392,null,1276370,91.815073592618944,21.994160123488061,3.4048072537374137]
[null,null,"FEBRERO",200402,1382830,-0.52677654905611104,15.475541311171776,134326,9.7138476891591878,18.054542418463214,11.855373931001175,null,1248504,90.286152310840819,-2.1832227332199907,15.879044383805757]
[null,null,"MARZO",200403,1420641,2.7343201984336472,25.983782029339203,144848,10.195960837396639,7.8331819603055255,25.056550342755514,null,1275793,89.80403916260336,2.1857358887116098,26.089925796491837]
[null,null,"ABRIL",200404,1256809,-11.532259029550746,19.382857359974544,126813,10.090077330763863,-12.450983099525018,17.827476632040586,null,1129996,89.909922669236138,-11.427951086108797,19.559975410764032]
[null,null,"MAYO",200405,1278684,1.7405190446599283,6.9099811210011728,122697,9.5955685689349366,-3.2457240188308769,13.206868235793436,null,1155987,90.404431431065063,2.3000966375102214,6.2825068610910622]
[null,null,"JUNIO",200406,1391623,8.8324402276090108,16.044011941095047,117330,8.4311627502563553,-4.3741900779970173,17.990748189863233,null,1274293,91.568837249743638,10.23419813544616,15.867991780174219]
[null,null,"JULIO",200407,1486989,6.8528617305117834,14.220170801513524,110801,7.4513664862349351,-5.5646467229182655,15.530832273267576,null,1376188,92.548633513765068,7.9961986764425452,14.115937894914907]
[null,null,"AGOSTO",200408,1125142,-24.334208255743654,15.927929747267793,81385,7.2333092178587233,-26.548496854721527,20.500747716134381,null,1043757,92.766690782141282,-24.155929277104583,15.58591561149661]
[null,null,"SEPTIEMBRE",200409,1475755,31.161666705180323,14.96606535768484,123422,8.3633123384301591,51.652024328807521,19.067694415234861,null,1352333,91.636687661569837,29.563969391343004,14.605754131189579]
[null,null,"OCTUBRE",200410,1472055,-0.25071912343173497,-5.5067843850660081,127838,8.684322256980888,3.577968271458897,-3.6050641310822731,null,1344217,91.315677743019108,-0.60014804046044867,-5.6837421231624807]
[null,null,"NOVIEMBRE",200411,1446781,-1.7169195444463694,12.255030515954731,124812,8.6268758022119449,-2.3670583081712793,16.523671263058638,null,1321969,91.373124197788059,-1.6550899147979827,11.868114385713717]
[null,null,"DICIEMBRE",200412,1223322,-15.445253981079377,7.6422606843999406,91663,7.4929577004255616,-26.559144954010833,1.6050545918084576,null,1131659,92.507042299574437,-14.395950283251727,8.1628283735800533]
[null,2005,"ENERO",200501,1284958,5.0384118000003264,-7.5671526803164832,119535,9.3026386854667624,30.407034463196709,5.0552367225332437,null,1165423,90.697361314533239,2.9835842775959893,-8.6923854368247451]
[null,null,"FEBRERO",200502,1230315,-4.2525125334835847,-11.029193754836097,135134,10.983691168521883,13.04973438741791,0.60152167115822697,null,1095181,89.016308831478113,-6.0271678180368848,-12.280537347097004]
[null,null,"MARZO",200503,1307345,6.260998199648057,-7.9749915707064636,140672,10.760128351735771,4.0981544244971655,-2.8830222025847787,null,1166673,89.239871648264241,6.5278707355222565,-8.5531116725048655]
[null,null,"ABRIL",200504,1322797,1.1819374380901753,5.2504398042980283,133147,10.065565615888152,-5.349323248407643,4.9947560581328414,null,1189650,89.934434384111853,1.9694464515764059,5.2791337314468372]
[null,null,"MAYO",200505,1429695,8.0812097396652689,11.809876404178045,134439,9.403334277590675,0.9703560726114745,9.5699161348688229,null,1295256,90.596665722409313,8.8770646828899249,12.047626833173728]
[null,null,"JUNIO",200506,1566969,9.6016283193268492,12.600107931530308,133022,8.489127736413419,-1.0540096251831685,13.374243586465525,null,1433947,91.510872263586577,10.707613012408359,12.528829711848061]
[null,null,"JULIO",200507,1570198,0.20606661650613384,5.5958046764300207,116265,7.4044801993124434,-12.597164378824555,4.9313634353480564,null,1453933,92.595519800687555,1.3937753626877423,5.6493008222713756]
[null,null,"AGOSTO",200508,1298453,-17.30641613350673,15.403477961004034,92117,7.0943653717154183,-20.769793144970542,13.186705166799777,null,1206336,92.905634628284588,-17.029464218777619,15.576326673737279]
[null,null,"SEPTIEMBRE",200509,1617951,24.606050430781863,9.6354747231078335,138892,8.5844379712364596,50.777815169838355,12.534232146618917,null,1479059,91.415562028763546,22.607548808955382,9.3709167786336636]
[null,null,"OCTUBRE",200510,1637186,1.1888493532869659,11.217719446623937,148234,9.0541942088437111,6.726089335598882,15.954567499491542,null,1488952,90.945805791156289,0.66887122149961564,10.767234754507642]
[null,null,"NOVIEMBRE",200511,1569481,-4.1354494846645409,8.4808965558712757,142901,9.1049843865583604,-3.597690138564702,14.492997468192161,null,1426580,90.895015613441643,-4.1889866160897054,7.9132717938166479]
[null,null,"DICIEMBRE",200512,1329617,-15.283013939002766,8.6890450756219533,108480,8.1587404493173601,-24.087305197304428,18.346552043899937,null,1221137,91.841259550682636,-14.40108511264703,7.9067987794909946]
[null,2006,"ENERO",200601,1472539,10.749110458124408,14.598220330936886,159739,10.847862093975099,47.252028023598818,33.633663780482706,null,1312800,89.152137906024905,7.5063649696962749,12.645794702867544]
[null,null,"FEBRERO",200602,1366664,-7.1899623711154677,11.082446365361715,160557,11.748096093846037,0.51208533920958565,18.813178030695457,null,1206107,88.251903906153956,-8.1271328458257166,10.128554092885103]
[null,null,"MARZO",200603,1555516,13.818465987250708,18.982823967659645,176266,11.331673862563933,9.7840642264118038,25.302832120109191,null,1379250,88.668326137436068,14.355525670607996,18.220786801443079]
[null,null,"ABRIL",200604,1304213,-16.155603671064778,-1.4049018859280751,145658,11.16826775994412,-17.364664768021061,9.3963814430666854,null,1158555,88.831732240055885,-16.001087547580205,-2.6137939730172741]
[null,null,"MAYO",200605,1637566,25.559705354876851,14.53953465599306,166868,10.190001502229528,14.561507091955129,24.121720631661944,null,1470698,89.809998497770465,26.942441230670966,13.544967172512616]
[null,null,"JUNIO",200606,1655753,1.1106117249625358,5.6659704180491124,152484,9.2093446305095021,-8.6199870556367912,14.630662597164379,null,1503269,90.790655369490509,2.2146626975762529,4.8343488287921375]
[null,null,"JULIO",200607,1670892,0.91432719735371148,6.4128218224707965,168285,10.071566564445817,10.362398677894074,44.742613856276606,null,1502607,89.928433435554183,-4.4037361244062108E-2,3.3477471107678278]
[null,null,"AGOSTO",200608,1322920,-20.825523133751314,1.8843192629998931,139997,10.582423729326036,-16.809578988026264,51.977376597153622,null,1182923,89.417576270673962,-21.275290212277728,-1.9408357207278899]
[null,null,"SEPTIEMBRE",200609,1674735,26.59382275572219,3.5096242098802746,200688,11.983268994796191,43.35164324949821,44.492123376436368,null,1474047,88.016731005203809,24.610562141407343,-0.3388641021081647]
[null,null,"OCTUBRE",200610,1819192,8.6256631646200752,11.117001977783831,239673,13.17469513938056,19.425675675675674,61.68557820742879,null,1579519,86.82530486061944,7.1552670979961972,6.0826003793272045]
[null,null,"NOVIEMBRE",200611,1660499,-8.7232683521035703,5.799241915002475,231908,13.966163183476773,-3.2398309363173992,62.285778266072313,null,1428591,86.03383681652322,-9.5553139911580676,0.14096650731119181]
[null,null,"DICIEMBRE",200612,1386283,-16.514071974749758,4.2618287822733913,235122,16.960606167716115,1.3858944064025389,116.74225663716815,null,1151161,83.039393832283878,-19.41983394827491,-5.7303971626443229]
[null,2007,"ENERO",200701,1653150,19.250542638119345,12.265277863608366,255422,15.450624565223967,8.6338156361378342,59.899586199988732,null,1397728,84.549375434776024,21.41898483357237,6.4692260816575251]
[null,null,"FEBRERO",200702,1408327,-14.809484922723287,3.0485181434500359,175887,12.489073915361987,-31.138664641260345,9.5480109867523684,null,1232440,87.510926084638015,-11.825476773735662,2.1833054612899185]
[null,null,"MARZO",200703,1564432,11.084428545359138,0.57318600387266994,193165,12.347292819374701,9.8233524933622149,9.5872147776655723,null,1371267,87.652707180625299,11.264402323845379,-0.57879282218597061]
[null,null,"ABRIL",200704,1385980,-11.406823690642993,6.2694513856248939,168931,12.188559719476471,-12.545751041855407,15.977838498400363,null,1217049,87.811440280523527,-11.246387465023224,5.0488755389256443]
[null,null,"MAYO",200705,1625492,17.281057446716403,-0.73731379376464823,190378,11.712023190517087,12.695716002391508,14.088980511542056,null,1435114,88.287976809482913,17.917520165580843,-2.4195314061758433]
[null,null,"JUNIO",200706,1582127,-2.6678076545439784,-4.4466777351452782,178278,11.268248377026623,-6.3557764027356107,16.915873140788541,null,1403849,88.731751622973377,-2.1785725733286694,-6.6135867898559741]
[null,null,"JULIO",200707,1754918,10.92143677467106,5.0288109584581173,180841,10.304811962724186,1.4376423338830366,7.4611522120212728,null,1574077,89.695188037275813,12.125805553161344,4.7564000433912526]
[null,null,"AGOSTO",200708,1287035,-26.661245710625796,-2.7125600943367703,127583,9.9129394305516172,-29.450179992368987,-8.8673328714186734,null,1159452,90.087060569448383,-26.34083338998029,-1.9841528146802456]
[null,null,"SEPTIEMBRE",200709,1595921,23.999813524884715,-4.7060579733510082,192289,12.048779356872927,50.716788286840718,-4.1851032448377579,null,1403632,87.951220643127073,21.059949010394565,-4.7769847230108669]
[null,null,"OCTUBRE",200710,1911389,19.767143862384167,5.0680192085277422,233084,12.194482651098234,21.215462142920291,-2.7491624004372621,null,1678305,87.805517348901759,19.568733115232483,6.2541824441491372]
[null,null,"NOVIEMBRE",200711,1592018,-16.70884367337052,-4.124121724854998,190015,11.935480628987863,-18.477887800106398,-18.064491091294823,null,1402003,88.064519371012139,-16.463157769296998,-1.8611345024573165]
[null,null,"DICIEMBRE",200712,1261319,-20.772315388393849,-9.0143210296887428,134511,10.664312517293405,-29.210325500618374,-42.790976599382446,null,1126808,89.335687482706589,-19.628702648995759,-2.1155164221164546]
[null,2008,"ENERO",200801,1581360,25.373517722320845,-4.3426186371472646,196763,12.442644306166843,46.280229869676084,-22.965523721527511,null,1384597,87.557355693833159,22.877810594173987,-0.93945316971542381]
[null,null,"FEBRERO",200802,1427302,-9.742120706227551,1.3473433371653032,186135,13.041038266603705,-5.4014220153179204,5.8264681301062611,null,1241167,86.958961733396308,-10.358970877446652,0.70810749407679074]
[null,null,"MARZO",200803,1285644,-9.924879247699506,-17.820397434979597,168133,13.077726026800576,-9.6714750047008877,-12.958869360391375,null,1117511,86.922273973199424,-9.9628817072964395,-18.505221813111525]
[null,null,"ABRIL",200804,1459666,13.535784400658347,5.3165269340105921,189283,12.967555591484627,12.579327080347106,12.047522361200727,null,1270383,87.032444408515374,13.679686374451794,4.3822393346529189]
[null,null,"MAYO",200805,1384915,-5.1211030468614052,-14.800257398990583,164464,11.875385854005481,-13.112112551047902,-13.611866917395918,null,1220451,88.124614145994514,-3.930468213129426,-14.957905783094583]
[null,null,"JUNIO",200806,1419348,2.4862897722964945,-10.28861779111285,153986,10.849065909135744,-6.3709991244284465,-13.625910095468875,null,1265362,89.150934090864254,3.6798691631208462,-9.8648073973767829]
[null,null,"JULIO",200807,1626466,14.592474854651572,-7.3195442750031621,160363,9.8595974339457459,4.1412855714155832,-11.323759545678248,null,1466103,90.140402566054263,15.864313927555909,-6.8595119552601309]
[null,null,"AGOSTO",200808,1049939,-35.446606323157077,-18.421876638941441,97584,9.294254237627138,-39.148057843766956,-23.51332074022401,null,952355,90.705745762372857,-35.041739905040778,-17.861627734481463]
[null,null,"SEPTIEMBRE",200809,1501595,43.017356246410507,-5.910442935458585,173481,11.553115187517275,77.776069847515984,-9.7811107239623691,null,1328114,88.446884812482722,39.455770169737129,-5.3801851197464865]
[null,null,"OCTUBRE",200810,1584811,5.5418405095914673,-17.085899311966323,180229,11.372270889083936,3.8897631440907077,-22.676374182698083,null,1404582,88.627729110916064,5.7576382750275954,-16.309490825565078]
[null,null,"NOVIEMBRE",200811,1162614,-26.640211356433035,-26.972308102044074,129123,11.106265708137009,-28.356146901996905,-32.045891113859433,null,1033491,88.893734291862998,-26.420031012785302,-26.284679847332708]
[null,null,"DICIEMBRE",200812,1117577,-3.8737706581892182,-11.396165442683413,103061,9.2218254312678223,-20.183855703476532,-23.380987428537441,null,1014516,90.778174568732169,-1.836010182962406,-9.965495452641445]
[null,2009,"ENERO",200901,1125773,0.73337228665228438,-28.809821925431272,119201,10.588369058415861,15.660628171665325,-39.41899645766734,null,1006572,89.411630941584136,-0.78303348591840849,-27.302168067676007]
[null,null,"FEBRERO",200902,1016678,-9.6906747630294916,-28.769244350529881,115683,11.378528895087726,-2.9513175225040058,-37.849947618663869,null,900995,88.621471104912274,-10.488767817900756,-27.407431876612897]
[null,null,"MARZO",200903,1061112,4.3705086566248115,-17.464554728991853,121228,11.424618701890092,4.7932712671697661,-27.897557290954182,null,939884,88.575381298109917,4.3162281699676468,-15.894877097406649]
[null,null,"ABRIL",200904,1031420,-2.798196608840537,-29.338629522096149,111474,10.807818347520893,-8.0459959745273366,-41.107230971613937,null,919946,89.192181652479107,-2.1213256103944742,-27.585145582080369]
[null,null,"MAYO",200905,1110014,7.619980221442284,-19.849665863969989,109097,9.8284345963204061,-2.132335791305596,-33.665118202159746,null,1000917,90.171565403679594,8.8017122744161078,-17.987940523626104]
[null,null,"JUNIO",200906,1274698,14.836209273036197,-10.191299103532044,107735,8.4518058395008069,-1.2484302959751414,-30.03584741470004,null,1166963,91.548194160499193,16.589387531633491,-7.7763517475631483]
[null,null,"JULIO",200907,1403023,10.067090401020478,-13.737944721869377,111143,7.9216805426568202,3.163317399173899,-30.692865561257896,null,1291880,92.078319457343184,10.704452497637028,-11.883407918816072]
[null,null,"AGOSTO",200908,944823,-32.658053360493732,-10.011629247032447,68735,7.2749075752812962,-38.156249156492088,-29.563248073454663,null,876088,92.725092424718696,-32.185032665572656,-8.0082532249003791]
[null,null,"SEPTIEMBRE",200909,1354836,43.395747139940497,-9.7735408016142831,128374,9.4752427600093299,86.766567251036591,-26.001118278082323,null,1226462,90.524757239990677,39.99301440037987,-7.6538610390373112]
[null,null,"OCTUBRE",200910,1357868,0.22379092377232376,-14.319877890802122,126497,9.3158539710781909,-1.4621340769937838,-29.813182118305043,null,1231371,90.684146028921802,0.40025699940153059,-12.331853889626949]
[null,null,"NOVIEMBRE",200911,1204027,-11.329599047919238,3.5620592905297892,107420,8.9217268383516313,-15.080990063005448,-16.808004770645045,null,1096607,91.078273161648369,-10.944223958498291,6.1070681795971131]
[null,null,"DICIEMBRE",200912,1137565,-5.5199758809395467,1.7885121114697242,85827,7.5447996378228934,-20.101470862036866,-16.722135434354414,null,1051738,92.455200362177109,-4.0916207903104764,3.668941643108635]
[null,2010,"ENERO",201001,1050233,-7.6770997701230259,-6.7100561125555513,94595,9.0070489120033361,10.215899425588685,-20.64244427479635,null,955638,90.992951087996659,-9.1372566171422918,-5.06014472884205]
[null,null,"FEBRERO",201002,1028222,-2.0958206417052216,1.1354627522184999,101211,9.8433023218721249,6.9940271684549931,-12.510049013251731,null,927011,90.15669767812787,-2.9955903804578723,2.8874744032985755]
[null,null,"MARZO",201003,1189327,15.668308983857571,12.083078883284704,117934,9.9160281402843786,16.522907589096047,-2.7171940475797669,null,1071393,90.083971859715618,15.575003964354254,13.992045826931834]
[null,null,"ABRIL",201004,1078509,-9.3177065685047094,4.5654534525217656,102973,9.5477181924304748,-12.685909067783676,-7.6259935052119783,null,975536,90.45228180756952,-8.946950372085686,6.0427459872644693]
[null,null,"MAYO",201005,1182100,9.6050195223220207,6.4941523260066996,108264,9.1586160223331348,5.1382401211968185,-0.76354070231078763,null,1073836,90.841383977666865,10.076511784290892,7.2852194537609005]
[null,null,"JUNIO",201006,1297611,9.7716775230521957,1.7975238056386689,98754,7.6104471987367557,-8.7840833518066948,-8.3361952940084478,null,1198857,92.389552801263235,11.642466819886836,2.7330772269557815]
[null,null,"JULIO",201007,1397265,7.6798054270501712,-0.41039954441231541,95823,6.8578973924058788,-2.9679810438058207,-13.78404397937792,null,1301442,93.142102607594126,8.5569004476764121,0.74016162491872317]
[null,null,"AGOSTO",201008,1010216,-27.700471993501591,6.9211905298664407,66846,6.6170007206379626,-30.240130240130242,-2.7482359787590021,null,943370,93.382999279362039,-27.513481200084218,7.6798221183260127]
[null,null,"SEPTIEMBRE",201009,1390283,37.622350071667846,2.6163314231390369,122090,8.7816653156227904,82.643688477994189,-4.895072210883824,null,1268193,91.218334684377211,34.432195215026979,3.4025514039570735]
[null,null,"OCTUBRE",201010,1346087,-3.1789211261304349,-0.86761010643155312,118422,8.797499715843033,-3.0043410598738634,-6.3835505980378988,null,1227665,91.202500284156969,-3.1957280950139291,-0.30096534675577058]
[null,null,"NOVIEMBRE",201011,1257479,-6.5826354462973056,4.4394353282775221,108131,8.5990302820166384,-8.6901082569117225,0.66188791658908963,null,1149348,91.400969717983358,-6.3793461571357017,4.8094713967720431]
[null,null,"DICIEMBRE",201012,1189818,-5.3806862778622939,4.5934078492218022,93171,7.8306934337856706,-13.835070423837752,8.5567478765423459,null,1096647,92.169306566214331,-4.5852953152569977,4.2699797858402002]
[null,2011,"ENERO",201101,1116019,-6.2025452632251321,6.2639433344791104,102733,9.2053092286063229,10.262850028442326,8.6029917014641377,null,1013286,90.794690771393675,-7.6014433085578137,6.0324097618554307]
[null,null,"FEBRERO",201102,1011418,-9.3726898914803414,-1.6342774225799488,94363,9.3297726558158942,-8.14733337875853,-6.7660629773443599,null,917055,90.670227344184113,-9.4969238694702174,-1.0739894132863579]
[null,null,"MARZO",201103,1154903,14.186518333666198,-2.8944100318919861,111118,9.6214140927852814,17.755900087958203,-5.7795037902555668,null,1043785,90.378585907214713,13.819236577958794,-2.5768322174962872]
[null,null,"ABRIL",201104,1067046,-7.6073055486045149,-1.0628562209494774,96242,9.0194799474436902,-13.38756997066182,-6.536664951006574,null,970804,90.980520052556315,-6.9919571559277056,-0.48506667104033063]
[null,null,"MAYO",201105,1288914,20.792730585185641,9.0359529650621777,103176,8.0048785256425177,7.2047546809085432,-4.6996231434271776,null,1185738,91.995121474357475,22.13979340835019,10.420771886954805]
[null,null,"JUNIO",201106,1312519,1.8313867333274367,1.1488805196626726,94924,7.2322000671990265,-7.9979840272931684,-3.8783239159932767,null,1217595,92.767799932800983,2.6866812061349132,1.5629887467813093]
[null,null,"JULIO",201107,1349286,2.8012546865988224,-3.4337795622161869,89911,6.6635983772158012,-5.2810669588302224,-6.1697087338112979,null,1259375,93.336401622784194,3.4313544323030234,-3.2323376685246057]
[null,null,"AGOSTO",201108,1061303,-21.343362341267898,5.0570373068729859,66118,6.2298891080115668,-26.462835470632069,-1.089070400622326,null,995185,93.770110891988438,-20.977866004962777,5.4925426926868566]
[null,null,"SEPTIEMBRE",201109,1393728,31.322346210271711,0.2477912770277706,104716,7.5133742021398717,58.37744638373816,-14.230485707265133,null,1289012,92.486625797860128,29.524862211548609,1.6416271024993829]
[null,null,"OCTUBRE",201110,1294801,-7.0980133856821421,-3.8100063368860999,97265,7.5119651591248378,-7.1154360365178189,-17.865768184965631,null,1197536,92.488034840875173,-7.0965980146034324,-2.4541711297463067]
[null,null,"NOVIEMBRE",201111,1217830,-5.9446200613067184,-3.1530546434572662,83919,6.890863256776397,-13.721276923867784,-22.391358629810139,null,1133911,93.109136743223601,-5.312992678299441,-1.3431093106700494]
[null,null,"DICIEMBRE",201112,1165465,-4.2998612285787017,-2.0467836257309941,65678,5.6353472648256275,-21.736436325504354,-29.50810874628371,null,1099787,94.364652735174374,-3.0094072638857901,0.28632732319515758]
[null,2012,"ENERO",201201,1042194,-10.576980003689515,-6.6150307476844024,78364,7.5191375118260133,19.315448095252595,-23.720712916005567,null,963830,92.480862488173983,-12.36212102889014,-4.8807542983915697]
[null,null,"FEBRERO",201202,989988,-5.009240122280497,-2.1188074564621155,96448,9.7423403111956901,23.076923076923077,2.209552472897216,null,893540,90.25765968880431,-7.2927798470684664,-2.5641864446516291]
[null,null,"MARZO",201203,1054717,6.5383620811565386,-8.674841090550462,117531,11.143368315861032,21.859447577969476,5.7713421767850397,null,937186,88.856631684138961,4.8846162454954447,-10.21273538132853]
[null,null,"ABRIL",201204,1038612,-1.5269498832388213,-2.6647398518901717,115253,11.096829229779745,-1.9382120461835601,19.753330146921304,null,923359,88.903170770220257,-1.4753741519826373,-4.8871862909505941]
[null,null,"MAYO",201205,1247101,20.073810046485114,-3.2440488659445084,126489,10.1426428172217,9.7489870111840897,22.595371016515468,null,1120612,89.857357182778301,21.362546961690956,-5.4924443679801103]
[null,null,"JUNIO",201206,1386339,11.164933714270136,5.6242995339496042,168131,12.127697482361818,32.921439808995252,77.121697357886305,null,1218208,87.872302517638175,8.7091696323080594,5.0345147606552267E-2]
[null,null,"JULIO",201207,1526758,10.128763599667902,13.15303056579554,230460,15.094730140598575,37.071688147932271,156.32013880392833,null,1296298,84.905269859401429,6.4102353621056496,2.9318511166253098]
[null,null,"AGOSTO",201208,1043794,-31.633304033776145,-1.6497644876156952,74440,7.1316754072163659,-67.699383841013628,12.586587616080342,null,969354,92.868324592783637,-25.221361137639647,-2.5955978034234843]
[null,null,"SEPTIEMBRE",201209,1274043,22.058854524934997,-8.5874001239840201,117683,9.2369723784833013,58.09108006448146,12.383016921960351,null,1156360,90.763027621516699,19.291817024533863,-10.290982550977027]
[null,null,"OCTUBRE",201210,1427173,12.019217561730649,10.223347062598808,130632,9.1532000675461198,11.003288495364666,34.305248547781837,null,1296541,90.846799932453877,12.122608876128542,8.2673923790182506]
[null,null,"NOVIEMBRE",201211,1151771,-19.297029862532433,-5.4243203074320716,100179,8.6978227442781595,-23.31205217710821,19.375826690022521,null,1051592,91.302177255721844,-18.892499350194093,-7.2597408438581157]
[null,null,"DICIEMBRE",201212,1058501,-8.0979639181747061,-9.1777959870094765,77366,7.3090152961593793,-22.772237694526797,17.795913395657603,null,981135,92.690984703840613,-6.7000319515553564,-10.788634526503769]
[null,2013,"ENERO",201301,1101819,4.0923910322238717,5.7211037484383906,100609,9.1311730874127228,30.042912907478737,28.386759226175286,null,1001210,90.868826912587281,2.0460996702798289,3.878277289563512]
[null,null,"FEBRERO",201302,949844,-13.793100318654879,-4.0549986464482402,91584,9.6420043712441199,-8.9703704439960639,-5.0431320504313204,null,858260,90.357995628755887,-14.277723954015642,-3.9483403093314231]
[null,null,"MARZO",201303,969627,2.0827630642505506,-8.0675669397572989,98068,10.113992287756012,7.0798392732354998,-16.559886327862436,null,871559,89.88600771224398,1.5495304453196002,-7.0025587236685141]
[null,null,"ABRIL",201304,1153140,18.926143764561012,11.027024528890481,98349,8.528799625370727,0.28653587306766731,-14.66686333544463,null,1054791,91.471200374629262,21.023476322314384,14.234116957759657]
[null,null,"MAYO",201305,1283261,11.284059177549995,2.8995245773999057,95856,7.469719721864843,-2.534850379770003,-24.217916182434838,null,1187405,92.530280278135152,12.572538066782899,5.9604037793634195]
[null,null,"JUNIO",201306,1277255,-0.46802637966867222,-7.8684939253674608,87349,6.8388066595942085,-8.8747704890669343,-48.047058543635615,null,1189906,93.161193340405788,0.21062737650590996,-2.323248574956001]
[null,null,"JULIO",201307,1507341,18.014100551573492,-1.2717798105528184,96338,6.3912545336456708,10.29090201376089,-58.19751800746333,null,1411003,93.608745466354321,18.581047578548223,8.8486597989042632]
[null,null,"AGOSTO",201308,1043166,-30.794292731372664,-6.0165128368241241E-2,62454,5.986966599754977,-35.17199858830368,-16.101558301988177,null,980712,94.013033400245021,-30.495399371936134,1.1717081685328579]
[null,null,"SEPTIEMBRE",201309,1392429,33.481056706219334,9.2921510498468258,107136,7.694180457315956,71.543856278220773,-8.9622120442204913,null,1285293,92.305819542684048,31.057129921934269,11.149901414784322]
[null,null,"OCTUBRE",201310,1582400,13.643137280249118,10.876537042110522,119400,7.545500505561173,11.447132616487457,-8.5981995223222487,null,1463000,92.454499494438821,13.826185935813855,12.838699277539236]
[null,null,"NOVIEMBRE",201311,1241479,-21.54455257836198,7.7887010525529821,94014,7.572741866757311,-21.261306532663315,-6.1539843679813133,null,1147465,92.427258133242688,-21.56766917293233,9.1169388888466241]
[null,null,"DICIEMBRE",201312,1290853,3.9770306223464114,21.951042086875685,83792,6.4912116251811787,-10.872848724658029,8.3059742005532158,null,1207061,93.50878837481882,5.1937096120578836,23.027004438736771]
[null,2014,"ENERO",201401,1259240,-2.4490007770055922,14.287373879012796,98366,7.8115371176265045,17.393068550696963,-2.2294228150563073,null,1160874,92.188462882373486,-3.8264014826094122,15.947104004154971]
[null,null,"FEBRERO",201402,1090879,-13.370048600743306,14.848227708971157,97804,8.9656139681852896,-0.57133562409775729,6.7915793151642214,null,993075,91.034386031814705,-14.454540286025875,15.707943979679817]
[null,null,"MARZO",201403,1216637,11.528134651047459,25.474744412026478,113481,9.3274329154875275,16.028996769048302,15.716645592853936,null,1103156,90.672567084512465,11.084862674017572,26.572727721244345]
[null,null,"ABRIL",201404,1296529,6.5666258711513787,12.434656676552718,122621,9.4576365048525712,8.0542117182612056,24.67945784908845,null,1173908,90.542363495147427,6.4135988019826753,11.292948081657883]
[null,null,"MAYO",201405,1458577,12.498602036668673,13.661757039292862,115935,7.9485004905466079,-5.4525733765015776,20.947045568352529,null,1342642,92.051499509453393,14.373698790705916,13.073635364513372]
[null,null,"JUNIO",201406,1518873,4.1338921428213933,18.916974292525769,110258,7.2591981028038557,-4.8967093630051322,26.226974550366922,null,1408615,92.74080189719615,4.913670211418979,18.380359456965508]
[null,null,"JULIO",201407,1645236,8.3195237521504435,9.1482285693814482,114071,6.9334125924791339,3.4582524624063562,18.407066785692042,null,1531165,93.066587407520856,8.7000351409008143,8.5160697744795719]
[null,null,"AGOSTO",201408,1135109,-31.006311556518334,8.8138417087980248,72955,6.4271360723948092,-36.044218074707857,16.813975085663049,null,1062154,93.572863927605184,-30.630990128431616,8.3043747807715214]
[null,null,"SEPTIEMBRE",201409,1634444,43.990048532784073,17.380778481344468,138543,8.4764604966581913,89.901994380097321,29.315076164874554,null,1495901,91.523539503341809,40.836545359712431,16.38599136539295]
[null,null,"OCTUBRE",201410,1702152,4.1425708069533131,7.5677451971688567,148876,8.7463399273390383,7.4583342355802902,24.68676716917923,null,1553276,91.253660072660963,3.8354810913289046,6.1706083390293918]
[null,null,"NOVIEMBRE",201411,1385351,-18.611792601365799,11.588758247219646,117568,8.4865135261749547,-21.029581665278489,25.053715404088749,null,1267783,91.51348647382504,-18.380056087907107,10.485548578823755]
[null,null,"DICIEMBRE",201412,1384062,-9.304501169739654E-2,7.2207292387281896,99853,7.2144889463044288,-15.067875612411541,19.167700973839985,null,1284209,92.785511053695572,1.2956475989976202,6.3913919843321922]
[null,2015,"ENERO",201501,1367795,-1.1753086205675758,8.6206759632794387,120239,8.7907179072887374,20.416011536959331,22.236341825427488,null,1247556,91.209282092711263,-2.854130441384541,7.4669602385788636]
[null,null,"FEBRERO",201502,1226950,-10.297230213591948,12.473519061234107,120281,9.8032519662577933,3.4930430226465622E-2,22.981677640996278,null,1106669,90.196748033742196,-11.293040152105396,11.438612390806334]
[null,null,"MARZO",201503,1441775,17.508863441868048,18.504944367136623,144291,10.007872240814274,19.961589943548859,27.149919369762337,null,1297484,89.99212775918572,17.242282922897452,17.61564094289475]
[null,null,"ABRIL",201504,1440381,-9.6686376168264809E-2,11.09516254553504,123459,8.5712738504603987,-14.437490903798574,0.68340659430277029,null,1316922,91.4287261495396,1.4981302274247699,12.182726414676448]
[null,null,"MAYO",201505,1573293,9.2275585418024821,7.8649258832409945,124605,7.9200123562489635,0.92824338444341858,7.4783283736576527,null,1448688,92.079987643751039,10.005603976545308,7.8983079629566184]
[null,null,"JUNIO",201506,1726117,9.7136388454026044,13.644590429877942,126856,7.3492121333606013,1.8065085670719474,15.053782945455204,null,1599261,92.650787866639391,10.39374937874822,13.534287225395158]
[null,null,"JULIO",201507,1795713,4.0319398974692913,9.1462258302152399,123839,6.8963692973208968,-2.3782871917765025,8.563087901394745,null,1671874,93.103630702679112,4.5404096016847788,9.1896693040919821]
[null,null,"AGOSTO",201508,1248146,-30.493013081711833,9.9582507054388607,80290,6.432741041512771,-35.165820137436512,10.054142964841342,null,1167856,93.56725895848723,-30.14688905982149,9.9516642596083056]
[null,null,"SEPTIEMBRE",201509,1795742,43.872752065864091,9.8686770547048415,152928,8.516145415098606,90.469547888902724,10.383057967562417,null,1642814,91.483854584901394,40.669226342973793,9.8210376221421072]
[null,null,"OCTUBRE",201510,1760610,-1.9564057643024442,3.434358388675042,151652,8.6136055117260497,-0.83437957731743029,1.8646390284532095,null,1608958,91.38639448827395,-2.0608541198212338,3.5848104264792604]
[null,null,"NOVIEMBRE",201511,1604843,-8.8473313226665748,15.843782550415019,132867,8.2791276155985347,-12.386912140954291,13.012894665215025,null,1471976,91.72087238440146,-8.5137088724503673,16.106305258865277]
[null,null,"DICIEMBRE",201512,1594915,-0.61862749191042365,15.23436088845731,107858,6.7626174435628226,-18.82258198047672,8.016784673470001,null,1487057,93.237382556437183,1.0245411609971902,15.795559757017744]
[null,2016,"ENERO",201601,1396929,-12.413576899082395,2.1299975508025688,125612,8.9920103312337289,16.460531439485248,4.4686000382571383,null,1271317,91.007989668766271,-14.507850068961714,1.9046038815091266]
[null,null,"FEBRERO",201602,1377480,-1.3922683257345221,12.268633603651329,139364,10.11731567790458,10.947998598859982,15.865348641930147,null,1238116,89.882684322095415,-2.6115437770438059,11.877715920478481]
[null,null,"MARZO",201603,1508881,9.5392310596161103,4.6544016923583778,150726,9.9892569394140427,8.1527510691426759,4.4597376135725719,null,1358155,90.010743060585966,9.6952951096666222,4.6760499551439558]
[null,null,"ABRIL",201604,1541729,2.1769775084980196,7.0361938959205936,145896,9.4631417064866792,-3.2044902671072011,18.173644691760018,null,1395833,90.536858293513319,2.7742047115388155,5.9920784981950339]
[null,null,"MAYO",201605,1748449,13.408322733761899,11.133082013331274,145760,8.3365314058345419,-9.3217086143554312E-2,16.97764937201557,null,1602689,91.663468594165451,14.819537867352325,10.630377279303756]
[null,null,"JUNIO",201606,1920340,9.831055981615707,11.252018258322002,148395,7.7275378318422776,1.8077661909989025,16.979094406255911,null,1771945,92.272462168157716,10.560751337283778,10.797737204871501]
[null,null,"JULIO",201607,1816271,-5.4193007488257292,1.1448377329784882,137390,7.5643998059760911,-7.416018059907679,10.942433320682499,null,1678881,92.43560019402392,-5.2520817519731144,0.41911053105676621]
[null,null,"AGOSTO",201608,1451789,-20.067600044266523,16.315639356293254,105129,7.2413415448112639,-23.481330518960622,30.93660480757255,null,1346660,92.758658455188737,-19.788239905031983,15.310449233467141]
[null,null,"SEPTIEMBRE",201609,1907000,31.355176268727757,6.1956561688705838,171012,8.9675930781331932,62.668721285278082,11.825172630257375,null,1735988,91.032406921866809,28.910638171476094,5.6716098109706881]
[null,null,"OCTUBRE",201610,1867360,-2.0786575773466178,6.0632394454194856,166830,8.9340030845685892,-2.4454424250929758,10.008440376651809,null,1700530,91.065996915431413,-2.0425256395781539,5.6913853562367693]
[null,null,"NOVIEMBRE",201611,1743708,-6.6217547767971894,8.6528713400625481,154854,8.880730030486756,-7.1785650062938311,16.548127074442863,null,1588854,91.11926996951324,-6.5671290715247608,7.9402109817007887]
[null,null,"DICIEMBRE",201612,1699018,-2.5629291142783077,6.5271816993382092,122294,7.1979225646814804,-21.026256990455526,13.384264495911291,null,1576724,92.802077435318523,-0.76344333714740309,6.0298293878445817]
[null,2017,"ENERO",201701,1633592,-3.850812645893098,16.941662747355089,150162,9.1921361025274351,22.787708309483705,19.544311053084101,null,1483430,90.807863897472558,-5.9169518571417701,16.684509056356518]
[null,null,"FEBRERO",201702,1452528,-11.083795709087704,5.4482097743705893,151072,10.40062566780124,0.60601217351926584,8.4010217846789708,null,1301456,89.599374332198749,-12.267110682674613,5.115837288267012]
[null,null,"MARZO",201703,1732773,19.293603978718483,14.83828081869942,178428,10.297251861611418,18.107922050413048,18.379045420166396,null,1554345,89.702748138388586,19.431237014543711,14.445332086543877]
[null,null,"ABRIL",201704,1604476,-7.4041435317840243,4.0699111192693396,151448,9.4390941341596886,-15.12094514313897,3.805450457860394,null,1453028,90.560905865840311,-6.5183083549662406,4.0975532173261415]
[null,null,"MAYO",201705,2027569,26.369543701495068,15.963862829284697,167267,8.2496329348101103,10.445169299033331,14.755076838638859,null,1860302,91.750367065189891,28.029329097581051,16.073798472442252]
[null,null,"JUNIO",201706,2089520,3.055432392189859,8.8098982471853944,166462,7.9665186262873764,-0.4812664781457191,12.174938508709863,null,1923058,92.033481373712618,3.3734307655423694,8.5280863683692214]
[null,null,"JULIO",201707,1928639,-7.6994237911099201,6.1867419564591408,151998,7.8811016473274682,-8.6890701781788042,10.632506004803844,null,1776641,92.118898352672531,-7.6137589193877666,5.8229261037560143]
[null,null,"AGOSTO",201708,1536400,-20.337605949065637,5.828050770463201,115382,7.5098932569643324,-24.089790655140199,9.7527799180054977,null,1421018,92.490106743035668,-20.016593110256938,5.5216609983217735]
[null,null,"SEPTIEMBRE",201709,1993267,29.736201510023431,4.5237021499737811,192690,9.6670441039760355,67.001785373801809,12.67630341730405,null,1800577,90.332955896023975,26.710358348733092,3.7205902344947086]
[null,null,"OCTUBRE",201710,2032184,1.952422831462117,8.8265786993402457,202542,9.9667156123658085,5.1128756033006386,21.406221902535517,null,1829642,90.033284387634197,1.614204779912217,7.5924564694536416]
[null,null,"NOVIEMBRE",201711,1818339,-10.522915247831889,4.2800170670777442,170732,9.389448282196005,-15.705384562214256,10.253529130665013,null,1647607,90.610551717804,-9.9492141085523826,3.6978224556818944]
[null,null,"DICIEMBRE",201712,1652016,-9.1469742440765991,-2.7664215446805156,131067,7.9337609320975098,-23.232317316027459,7.1736961747918953,null,1520949,92.066239067902487,-7.687391471388505,-3.537397794414241]
[null,2018,"ENERO",201801,1749911,5.9257900649872637,7.120443782780522,172953,9.8835312195877396,31.957701023140839,15.177608183162187,null,1576958,90.116468780412262,3.6825034895976132,6.3048475492608347]
[null,null,"FEBRERO",201802,1546402,-11.62967716643875,6.4628014055494969,174287,11.270484647588402,0.77130781194891096,15.366844948104216,null,1372115,88.729515352411596,-12.989756226862099,5.4292269581146035]
[null,null,"MARZO",201803,1646846,6.495335624242597,-4.9589299925610568,193448,11.746574968151242,10.9939352906413,8.4179613065213967,null,1453398,88.253425031848749,5.9239203711059201,-6.4945041158816093]
[null,null,"ABRIL",201804,1772557,7.6334399209154951,10.475756570992647,189671,10.700417532412215,-1.9524626773086307,25.238365643653264,null,1582886,89.299582467587783,8.9093283463992652,8.9370610889810802]
[null,null,"MAYO",201805,2058400,16.126025848534066,1.5205894349341502,200078,9.7200738437621439,5.4868693685381533,19.615943371974147,null,1858322,90.279926156237849,17.400874099587714,-0.10643433163002565]
[null,null,"JUNIO",201806,2055762,-0.12815779246016323,-1.615586354760902,192972,9.3868842794058835,-3.5516148702006216,15.925556583484518,null,1862790,90.613115720594124,0.24043195958504499,-3.1339668382336887]
[null,null,"JULIO",201807,2086655,1.5027517776863275,8.193135159042205,190151,9.1127186813344814,-1.4618701158717327,25.100988170896986,null,1896504,90.887281318665529,1.8098658463917026,6.7466077840148913]
[null,null,"AGOSTO",201808,1602495,-23.202685638018743,4.3019395990627443,153921,9.6050845712467119,-19.05327871007778,33.401223761071918,null,1448574,90.394915428753279,-23.618721605649132,1.9391731842946396]
[null,null,"SEPTIEMBRE",201809,1952397,21.834826317710821,-2.0504026806243214,232768,11.922165420250082,51.225628731622066,20.799211168197623,null,1719629,88.077834579749918,18.711850412888815,-4.4956699991169495]
[null,null,"OCTUBRE",201810,2243453,14.907623808067724,10.396155072572169,242324,10.801385186139402,4.1053753093208689,19.641358335555097,null,2001129,89.198614813860601,16.369809999715056,9.3727078849304952]
[null,null,"NOVIEMBRE",201811,1867172,-16.772403968347007,2.6855828313642283,197573,10.581403320101202,-18.467423779732918,15.721130192348243,null,1669599,89.418596679898798,-16.567147845041475,1.3347843266021568]
[null,null,"DICIEMBRE",201812,1709631,-8.4374123005272139,3.4875570212395042,144778,8.4683770942384644,-26.721768662722134,10.461061899639116,{"$f":"((H224/H212)-1)*100","v":10.461061899639112},1564853,91.531622905761537,-6.2737220134894658,2.8866188149635525,null,"pegado valores Oficial",null,"check, diff."]
[null,2019,"ENERO",null,{"$f":"H225+M225","v":1858077},{"$f":"((E225/E224)-1)*100","v":8.6829263156786407},{"$f":"((E225/E213)-1)*100","v":6.1812286453425402},181348,{"$f":"H225/E225*100","v":9.759983036225087},{"$f":"((H225/H224)-1)*100","v":25.259362610341341},null,{"$f":"((H225/H213)-1)*100","v":4.8539198510578085},1676729,{"$f":"M225/E225*100","v":90.24001696377492},{"$f":"((M225/M224)-1)*100","v":7.1492977295630977},{"$f":"((M225/M213)-1)*100","v":6.3268013479116147},null,1858077,null,{"$f":"R225-E225","v":0}]
[null,null,"FEBRERO",null,{"$f":"H226+M226","v":1571017},{"$f":"((E226/E225)-1)*100","v":-15.449305922198054},{"$f":"((E226/E214)-1)*100","v":1.5917594519406997},168697,{"$f":"H226/E226*100","v":10.738076036096363},{"$f":"((H226/H225)-1)*100","v":-6.9760901691774961},null,{"$f":"((H226/H214)-1)*100","v":-3.2073533883766436},1402320,{"$f":"M226/E226*100","v":89.261923963903627},{"$f":"((M226/M225)-1)*100","v":-16.365733520443669},{"$f":"((M226/M214)-1)*100","v":2.2013460970836896},null,1571017,null,{"$f":"R226-E226","v":0}]
[null,null,"MARZO",null,1709848,8.8370144944325943,3.825615752778333,179821,10.516782778352228,6.594071026752113,null,-7.0442702948596008,1530027,89.483217221647777,9.1068372411432499,5.2724030169299718,null,1709848,null,0]
[null,null,"ABRIL",null,1765185,3.2363695486382404,-0.41589635763475963,174980,9.9128419967312205,-2.692121609823106,null,-7.7455172377432486,1590205,90.087158003268769,3.9331332061460333,0.46238326701986132,null,1765185,null,0]
[null,null,"MAYO",null,2075741,17.59339672612219,0.84245044694908344,184161,8.8720606279877874,5.2468853583266695,null,{"$f":"((H229/H217)-1)*100","v":-7.9553973950159396},1891580,91.127939372012207,18.951959024150966,1.7896790760697057,null,2075741,null,0]
[null,null,"JUNIO",null,{"$f":"H230+M230","v":2009011},{"$f":"((E230/E229)-1)*100","v":-3.2147555981213438},{"$f":"((E230/E218)-1)*100","v":-2.2741445751015887},174159,{"$f":"H230/E230*100","v":8.6688923057165947},{"$f":"((H230/H229)-1)*100","v":-5.4311173375470423},null,-9.749082768484552,1834852,{"$f":"M230/E230*100","v":91.331107694283403},{"$f":"((M230/M229)-1)*100","v":-2.9989744023514731},{"$f":"((M230/M218)-1)*100","v":-1.4997933207715364},null,2009011,null,0]
[null,null,"JULIO",null,2179527,8.4875593015667938,{"$f":"((E231/E219)-1)*100","v":4.4507597087204198},185713,8.5207937318509934,6.6341676284314977,null,-2.3339346098626867,1993814,91.479206268148999,8.6634780352856886,5.1310200242129733,null,2179527,null,0]
[null,null,"AGOSTO",null,{"$f":"H232+M232","v":1519922},-30.263676476593314,-5.1527773877609651,123277,8.1107451566593554,-33.619617366581764,null,-19.908914313186632,1396645,91.889254843340638,-29.951088717402929,-3.5848358454590556,null,1519922,null,0]
[null,null,"SEPTIEMBRE",null,2094635,37.812006142420465,7.2853010939885721,238723,11.396878215058948,93.647639056758351,null,2.5583413527632715,1855912,88.603121784941052,32.883588886223777,7.9251396667537,null,2094635,null,0]
[null,null,"OCTUBRE",null,2224757,6.2121562945334219,-0.83335822056446185,237866,10.691774427499274,-0.35899347779644319,null,-1.8396857100411057,1986891,89.308225572500731,7.0573928074175951,-0.7114983591762436,null,2224757,null,0]
[null,null,"NOVIEMBRE",null,1764169,-20.702845299509111,-5.5165244551653503,171612,9.7276394721820871,-27.853497347245927,null,{"$f":"((H235/H223)-1)*100","v":-13.139953333704501},1592557,90.272360527817924,-19.846785757245865,-4.6144014221378926,null,1764169,null,0]
[null,null,"DICIEMBRE",null,1740332,-1.3511744056266761,1.7957676247096543,139077,7.9914062374305592,-18.958464443045941,null,-3.9377529735180716,1601255,92.008593762569447,0.5461656945402904,2.3262248914115213,null,1740332,null,0]
[null,2020,"ENERO",null,{"$f":"H237+M237","v":1764837},{"$f":"((E237/E236)-1)*100","v":1.4080646681208009},{"$f":"((E237/E225)-1)*100","v":-5.0180912846991781},178978,{"$f":"H237/E237*100","v":10.141333165612462},{"$f":"((H237/H236)-1)*100","v":28.689862450297319},null,{"$f":"((H237/H225)-1)*100","v":-1.306879590621346},1585859,{"$f":"M237/E237*100","v":89.858666834387535},{"$f":"((M237/M236)-1)*100","v":-0.96149582671092304},{"$f":"((M237/M225)-1)*100","v":-5.4194804288588028},null,1764837,null,0]
[null,null,"FEBRERO",null,1505774.3348056846,-14.67912703520582,-4.1528936475108358,158045.99346832311,10.495994639775716,-11.695295808242845,null,-6.313690540837646,1347728.3413373616,89.504005360224298,-15.01587837649112,-3.8929530109132249,null,1505774.3348056846,null,0]
[null,null,"MARZO",null,1689434.2373989564,12.197040309959363,-1.1938934104694376,173510.994881547,10.270360990711515,9.7851271480181587,null,-3.5090479523820939,1515923.2425174094,89.729639009288491,12.479881591949503,-0.92179794752580424,null,1689434.2373989564,null,0]
[null,null,"ABRIL",null,1727537.5568916718,2.2553893279314119,-2.1327760607714241,170604.84738581793,9.8756085912704705,-1.6749068251917021,null,-2.5003729650143192,1556932.7095058539,90.124391408729537,2.7052469305993698,-2.092327120977866,null,1727537.5568916718,null,0]
[null,null,"MAYO",null,1996887.2440362375,15.591538723430244,-3.7988244180638397,185249.1532270879,9.2768960180571014,8.5837571825566616,null,0.59087061163216603,1811638.0908091497,90.723103981942899,16.359434145624398,-4.2261976332404805,null,1996887.2440362375,null,0]
[null,null,"JUNIO",null,2029042.1059254231,1.6102492509387778,0.99706302879492004,185151.16580819964,9.1250529137617029,-5.2894934838454422E-2,null,6.3115692029694914,1843890.9401172234,90.874947086238294,1.7803141516895549,0.49262502464630931,null,2029042.1059254231,null,0]
[null,null,"JULIO",null,2147974.4874679181,5.8615038690018384,-1.4476770662663063,193604.25720812165,9.013340630332479,4.5655080609531051,null,4.2491679139972094,1954370.2302597964,90.986659369667521,5.9916390790200058,-1.9783073917729377,null,2147974.4874679181,null,0]
[null,null,"AGOSTO",null,1538678.8806269744,-28.366054177821987,1.2340686316123062,135028.78139633848,8.775631036237888,-30.255262284245855,null,9.5328255849335122,1403650.0992306359,91.224368963762117,-28.178905025377542,0.50156619832784077,null,1538678.8806269744,null,0]
[null,null,"SEPTIEMBRE",null,2093843.7026947713,36.080616238885455,-3.7777336157784891E-2,218748.51518937695,10.44722272764907,62.001399203406173,null,-8.3672226013509547,1875095.1875053945,89.552777272350937,33.587080464936768,1.0336259211317422,null,2093843.7026947713,null,0]
[null,null,"OCTUBRE",null,2213314.7383304955,5.7058239582049586,-0.5143151215842634,222864.27188710461,10.0692535059524,1.8815015471828511,null,-6.3067979925232613,1990450.4664433911,89.930746494047611,6.1519692283709571,0.17914754475163441,null,2213314.7383304955,null,0]
[null,null,"NOVIEMBRE",null,1827130.5883489817,-17.448225654197415,3.5689091208938484,174704.48946661732,9.5616859889846459,-21.609467508046055,null,1.8020240231553242,1652426.0988823643,90.438314011015351,-16.982304923418713,3.7593065040914864,null,1827130.5883489817,null,0]
[null,null,"DICIEMBRE",null,1774364.8478171662,-2.8879019851282384,1.9555376685118864,153650.747613632,8.6594787877281281,-12.051059430277711,null,10.47890565199998,1620714.1002035341,91.340521212271867,-1.9191175145610972,1.2152405584078707,null,1774364.847817166,null,0]
[]
[]
[null,null,null,null,"suma",null,null,"viene Eviews",null,null,null,null,"viene Eviews",null,null,null,null,"viene Eviews",null,"check"]
[]
[]
[]
[]
[null,"https://www.sepe.es/HomeSepe/que-es-el-sepe/estadisticas.html"]
[]
[null,null,null,null,"estadística mensual, contratos, "]

{"sheet":"Iass","index":10,"n_rows":261,"n_cols":27,"rows_kept":261,"cut":false,"hidden":true,"merged":[[1,23,1,33],[3,0,3,10],[3,12,3,22],[4,0,4,10],[4,12,4,22],[2,0,2,10],[2,12,2,22],[0,0,0,10],[0,12,0,22],[1,0,1,10],[1,12,1,22],[5,12,5,22]]}
["Resultados nacionales. Base 2015",null,null,null,null,null,null,null,null,null,null,null,"Resultados nacionales. Base 2015"]
["Índices de cifra de negocios",null,null,null,null,null,null,null,null,null,null,null,"Índices de ocupación",null,null,null,null,null,null,null,null,null,null,"Ratio productividad"]
["",null,null,null,null,null,null,null,null,null,null,null,""]
["Serie original. Índice general, por sectores y por ramas de actividad",null,null,null,null,null,null,null,null,null,null,null,"Índice general, por sectores y ramas de actividad"]
["Unidades: Índice",null,null,null,null,null,null,null,null,null,null,null,"Unidades:   Índice,   Tasas"]
["",null,null,null,null,null,null,null,null,null,null,null,""]
[" ","Índice","78 Actividades relacionadas con el empleo",null,null,null,null,null,null,null,null,null," ","78 Actividades relacionadas con el empleo","78 Actividades relacionadas con el empleo",null,null,null,null,null,null,null,null," ","78 Actividades relacionadas con el empleo","78 Actividades relacionadas con el empleo"]
[" ","78 Actividades relacionadas con el empleo","Variación anual",null,null,null,null,null,null,null,null,null," ","Índice","Variación anual",null,null,null,null,null,null,null,null," ","Índice","Variación anual"]
["2002M01",55.811999999999998,1.1000000000000001,null,null,null,null,null,null,null,null,null,"2002M01",72.456999999999994,"..",null,null,null,null,null,null,null,null,"2002M01",{"$f":"(B9/N9)*100","v":77.027754392260235},"."]
["2002M02",54.741999999999997,2.9,null,null,null,null,null,null,null,null,null,"2002M02",72.335999999999999,"..",null,null,null,null,null,null,null,null,"2002M02",{"$f":"(B10/N10)*100","v":75.677394381773951},"."]
["2002M03",55.960999999999999,-3.5,null,null,null,null,null,null,null,null,null,"2002M03",73.11,"..",null,null,null,null,null,null,null,null,"2002M03",76.543564491861588,"."]
["2002M04",60.622999999999998,12.4,null,null,null,null,null,null,null,null,null,"2002M04",76.478999999999999,"..",null,null,null,null,null,null,null,null,"2002M04",79.267511342983042,"."]
["2002M05",63.323,8.1999999999999993,null,null,null,null,null,null,null,null,null,"2002M05",80.597999999999999,"..",null,null,null,null,null,null,null,null,"2002M05",78.566465669123303,"."]
["2002M06",61.137,2,null,null,null,null,null,null,null,null,null,"2002M06",82.703999999999994,"..",null,null,null,null,null,null,null,null,"2002M06",73.922663958212425,"."]
["2002M07",76.271000000000001,9.8000000000000007,null,null,null,null,null,null,null,null,null,"2002M07",88.972999999999999,"..",null,null,null,null,null,null,null,null,"2002M07",85.723758893147362,"."]
["2002M08",58.271999999999998,8.3000000000000007,null,null,null,null,null,null,null,null,null,"2002M08",82.081999999999994,"..",null,null,null,null,null,null,null,null,"2002M08",70.992422211934411,"."]
["2002M09",68.337999999999994,14.4,null,null,null,null,null,null,null,null,null,"2002M09",86.221000000000004,"..",null,null,null,null,null,null,null,null,"2002M09",79.259113209078976,"."]
["2002M10",72.236000000000004,17.100000000000001,null,null,null,null,null,null,null,null,null,"2002M10",86.512,"..",null,null,null,null,null,null,null,null,"2002M10",83.498243018309608,"."]
["2002M11",65.629000000000005,11.3,null,null,null,null,null,null,null,null,null,"2002M11",83.316999999999993,"..",null,null,null,null,null,null,null,null,"2002M11",78.77023896683751,"."]
["2002M12",68.444000000000003,13.4,null,null,null,null,null,null,null,null,null,"2002M12",79.956000000000003,"..",null,null,null,null,null,null,null,null,"2002M12",85.602081144629551,"."]
["2003M01",57.46,3,null,null,null,null,null,null,null,null,null,"2003M01",74.242999999999995,2.5,null,null,null,null,null,null,null,"2003-01-01","2003M01",77.394501838557176,{"$f":"C21-O21","v":0.5},{"$f":"Y21/Y9-1","v":4.7612376758290331E-3}]
["2003M02",58.865000000000002,7.5,null,null,null,null,null,null,null,null,null,"2003M02",74.569999999999993,3.1,null,null,null,null,null,null,null,"2003-02-01","2003M02",78.939251709802889,{"$f":"C22-O22","v":4.4000000000000004},{"$f":"Y22/Y10-1","v":4.3102135778799067E-2}]
["2003M03",62.755000000000003,12.1,null,null,null,null,null,null,null,null,null,"2003M03",77.674999999999997,6.2,null,null,null,null,null,null,null,"2003-03-01","2003M03",80.79176054071452,5.8999999999999995,5.5500368673118361E-2]
["2003M04",61.237000000000002,1,null,null,null,null,null,null,null,null,null,"2003M04",78.301000000000002,2.4,null,null,null,null,null,null,null,"2003-04-01","2003M04",78.207174876438359,-1.4,-1.3376684199869815E-2]
["2003M05",65.096999999999994,2.8,null,null,null,null,null,null,null,null,null,"2003M05",82.5,2.4,null,null,null,null,null,null,null,"2003-05-01","2003M05",78.905454545454532,0.39999999999999991,4.3146764137114157E-3]
["2003M06",69.174000000000007,13.1,null,null,null,null,null,null,null,null,null,"2003M06",86.703000000000003,4.8,null,null,null,null,null,null,null,"2003-06-01","2003M06",79.782706480744608,8.3000000000000007,7.9272610167901769E-2]
["2003M07",81.195999999999998,6.5,null,null,null,null,null,null,null,null,null,"2003M07",91.001999999999995,2.2999999999999998,null,null,null,null,null,null,null,"2003-07-01","2003M07",89.224412650271418,4.2,4.0836447238478346E-2]
["2003M08",62.838999999999999,7.8,null,null,null,null,null,null,null,null,null,"2003M08",84.427000000000007,2.9,null,null,null,null,null,null,null,"2003-08-01","2003M08",74.429980930271114,4.9000000000000004,4.8421487973385746E-2]
["2003M09",72.667000000000002,6.3,null,null,null,null,null,null,null,null,null,"2003M09",90.221999999999994,4.5999999999999996,null,null,null,null,null,null,null,"2003-09-01","2003M09",80.542439759703839,1.7000000000000002,1.619153304478127E-2]
["2003M10",77.283000000000001,7,null,null,null,null,null,null,null,null,null,"2003M10",90.811000000000007,5,null,null,null,null,null,null,null,"2003-10-01","2003M10",85.103126273248833,2,1.9220563175051497E-2]
["2003M11",70.891000000000005,8,null,null,null,null,null,null,null,null,null,"2003M11",87.816000000000003,5.4,null,null,null,null,null,null,null,"2003-11-01","2003M11",80.726746834289884,2.5999999999999996,2.4838160872865611E-2]
["2003M12",67.656999999999996,-1.1000000000000001,null,null,null,null,null,null,null,null,null,"2003M12",87.900999999999996,9.9,null,null,null,null,null,null,null,"2003-12-01","2003M12",76.969545283898938,-11,-0.10084492976456327]
["2004M01",63.381999999999998,10.3,null,null,null,null,null,null,null,null,null,"2004M01",79.492000000000004,7.1,null,null,null,null,null,null,null,"2004-01-01","2004M01",79.733809691541282,3.2000000000000011,3.0225762779167997E-2]
["2004M02",65.44,11.2,null,null,null,null,null,null,null,null,null,"2004M02",79.424999999999997,6.5,null,null,null,null,null,null,null,"2004-02-01","2004M02",82.392193893610326,4.6999999999999993,4.3741764825706353E-2]
["2004M03",72.730999999999995,15.9,null,null,null,null,null,null,null,null,null,"2004M03",82.713999999999999,6.5,null,null,null,null,null,null,null,"2004-03-01","2004M03",87.930700969606107,9.4,8.8362233736619222E-2]
["2004M04",68.052999999999997,11.1,null,null,null,null,null,null,null,null,null,"2004M04",83.26,6.3,null,null,null,null,null,null,null,"2004-04-01","2004M04",81.735527263992296,4.8,4.5115456390394826E-2]
["2004M05",74.451999999999998,14.4,null,null,null,null,null,null,null,null,null,"2004M05",89.382999999999996,8.3000000000000007,null,null,null,null,null,null,null,"2004-05-01","2004M05",83.295481243636942,6.1,5.5636542789997856E-2]
["2004M06",79.031000000000006,14.2,null,null,null,null,null,null,null,null,null,"2004M06",94.707999999999998,9.1999999999999993,null,null,null,null,null,null,null,"2004-06-01","2004M06",83.447016091565658,5,4.5928620028770517E-2]
["2004M07",92.391999999999996,13.8,null,null,null,null,null,null,null,null,null,"2004M07",98.924000000000007,8.6999999999999993,null,null,null,null,null,null,null,"2004-07-01","2004M07",93.396951194856655,5.1000000000000014,4.6764539217984291E-2]
["2004M08",73.224999999999994,16.5,null,null,null,null,null,null,null,null,null,"2004M08",89.951999999999998,6.5,null,null,null,null,null,null,null,"2004-08-01","2004M08",81.404526858769117,10,9.3706136174239063E-2]
["2004M09",84.224999999999994,15.9,null,null,null,null,null,null,null,null,null,"2004M09",97.143000000000001,7.7,null,null,null,null,null,null,null,"2004-09-01","2004M09",86.702078379296495,8.1999999999999993,7.647693114300691E-2]
["2004M10",79.144000000000005,2.4,null,null,null,null,null,null,null,null,null,"2004M10",95.703000000000003,5.4,null,null,null,null,null,null,null,"2004-10-01","2004M10",82.69751209470968,-3.0000000000000004,-2.8267048272882622E-2]
["2004M11",81.789000000000001,15.4,null,null,null,null,null,null,null,null,null,"2004M11",95.156999999999996,8.4,null,null,null,null,null,null,null,"2004-11-01","2004M11",85.951637819603405,7,6.4723170327163126E-2]
["2004M12",80.603999999999999,19.100000000000001,null,null,null,null,null,null,null,null,null,"2004M12",93.045000000000002,5.9,null,null,null,null,null,null,null,"2004-12-01","2004M12",86.629050459455101,13.200000000000001,0.12549775550742148]
["2005M01",70.33,11,null,null,null,null,null,null,null,null,null,"2005M01",85.975999999999999,8.1999999999999993,null,null,null,null,null,null,null,"2005-01-01","2005M01",81.801898204149992,2.8000000000000007,2.5937409997206062E-2]
["2005M02",74.683999999999997,14.1,null,null,null,null,null,null,null,null,null,"2005M02",87.075999999999993,9.6,null,null,null,null,null,null,null,"2005-02-01","2005M02",85.768753732371721,4.5,4.0981550304649117E-2]
["2005M03",77.863,7.1,null,null,null,null,null,null,null,null,null,"2005M03",88.835999999999999,7.4,null,null,null,null,null,null,null,"2005-03-01","2005M03",87.648025575217261,-0.30000000000000071,-3.2147519725397311E-3]
["2005M04",81.826999999999998,20.2,null,null,null,null,null,null,null,null,null,"2005M04",91.137,9.5,null,null,null,null,null,null,null,"2005-04-01","2005M04",89.78460998277319,10.7,9.8477161501432375E-2]
["2005M05",84.959000000000003,14.1,null,null,null,null,null,null,null,null,null,"2005M05",96.147000000000006,7.6,null,null,null,null,null,null,null,"2005-05-01","2005M05",88.363651491986232,6.5,6.0845680614114439E-2]
["2005M06",90.445999999999998,14.4,null,null,null,null,null,null,null,null,null,"2005M06",103.886,9.6999999999999993,null,null,null,null,null,null,null,"2005-06-01","2005M06",87.062741851645072,4.7000000000000011,4.3329599180777389E-2]
["2005M07",95.873000000000005,3.8,null,null,null,null,null,null,null,null,null,"2005M07",104.637,5.8,null,null,null,null,null,null,null,"2005-07-01","2005M07",91.624377610214367,-2,-1.8978923422715566E-2]
["2005M08",82.468999999999994,12.6,null,null,null,null,null,null,null,null,null,"2005M08",96.287000000000006,7,null,null,null,null,null,null,null,"2005-08-01","2005M08",85.649153052852398,5.6,5.2142385170389716E-2]
["2005M09",92.858999999999995,10.3,null,null,null,null,null,null,null,null,null,"2005M09",105.875,9,null,null,null,null,null,null,null,"2005-09-01","2005M09",87.706257378984645,1.3000000000000007,1.1581948419911559E-2]
["2005M10",90.716999999999999,14.6,null,null,null,null,null,null,null,null,null,"2005M10",104.997,9.6999999999999993,null,null,null,null,null,null,null,"2005-10-01","2005M10",86.399611417469075,4.9000000000000004,4.4766755721980411E-2]
["2005M11",95.222999999999999,16.399999999999999,null,null,null,null,null,null,null,null,null,"2005M11",105.252,10.6,null,null,null,null,null,null,null,"2005-11-01","2005M11",90.4714399726371,5.7999999999999989,5.2585410443485969E-2]
["2005M12",88.311000000000007,9.6,null,null,null,null,null,null,null,null,null,"2005M12",101.449,9,null,null,null,null,null,null,null,"2005-12-01","2005M12",87.049650563337252,0.59999999999999964,4.8551854331937427E-3]
["2006M01",83.460999999999999,18.7,null,null,null,null,null,null,null,null,null,"2006M01",89.403999999999996,4,null,null,null,null,null,null,null,"2006-01-01","2006M01",93.352646414030687,14.7,0.14120391413233357]
["2006M02",85.32,14.2,null,null,null,null,null,null,null,null,null,"2006M02",91.674999999999997,5.3,null,null,null,null,null,null,null,"2006-02-01","2006M02",93.067902917916541,8.8999999999999986,8.5102661143015901E-2]
["2006M03",97.085999999999999,24.7,null,null,null,null,null,null,null,null,null,"2006M03",98.606999999999999,11,null,null,null,null,null,null,null,"2006-03-01","2006M03",98.457513158295058,13.7,0.1233283637838638]
["2006M04",84.79,3.6,null,null,null,null,null,null,null,null,null,"2006M04",96.906999999999996,6.3,null,null,null,null,null,null,null,"2006-04-01","2006M04",87.496259300153767,-2.6999999999999997,-2.5487115030721652E-2]
["2006M05",98.376000000000005,15.8,null,null,null,null,null,null,null,null,null,"2006M05",107.47,11.8,null,null,null,null,null,null,null,"2006-05-01","2006M05",91.538103656834465,4,3.5924864027785608E-2]
["2006M06",104.892,16,null,null,null,null,null,null,null,null,null,"2006M06",110.154,6,null,null,null,null,null,null,null,"2006-06-01","2006M06",95.223051364453397,10,9.3729066409526718E-2]
["2006M07",106.81699999999999,11.4,null,null,null,null,null,null,null,null,null,"2006M07",111.633,6.7,null,null,null,null,null,null,null,"2006-07-01","2006M07",95.685863499144517,4.7,4.4327568654364047E-2]
["2006M08",90.138999999999996,9.3000000000000007,null,null,null,null,null,null,null,null,null,"2006M08",102.53400000000001,6.5,null,null,null,null,null,null,null,"2006-08-01","2006M08",87.911326974467002,2.8000000000000007,2.6412099139131673E-2]
["2006M09",103.129,11.1,null,null,null,null,null,null,null,null,null,"2006M09",114.71899999999999,8.4,null,null,null,null,null,null,null,"2006-09-01","2006M09",89.897052798577405,2.6999999999999993,2.4978781275846629E-2]
["2006M10",106.749,17.7,null,null,null,null,null,null,null,null,null,"2006M10",115.989,10.5,null,null,null,null,null,null,null,"2006-10-01","2006M10",92.033727336212905,7.1999999999999993,6.5209968266184415E-2]
["2006M11",109.92100000000001,15.4,null,null,null,null,null,null,null,null,null,"2006M11",116.00700000000001,10.199999999999999,null,null,null,null,null,null,null,"2006-11-01","2006M11",94.753764859017124,5.2000000000000011,4.7333444539793046E-2]
["2006M12",96.513999999999996,9.3000000000000007,null,null,null,null,null,null,null,null,null,"2006M12",109.78,8.1999999999999993,null,null,null,null,null,null,null,"2006-12-01","2006M12",87.915831663326642,1.1000000000000014,9.9504259280072116E-3]
["2007M01",99.537000000000006,19.3,null,null,null,null,null,null,null,null,null,"2007M01",103.42100000000001,15.7,null,null,null,null,null,null,null,"2007-01-01","2007M01",96.244476460293356,3.6000000000000014,3.0977483310296705E-2]
["2007M02",94.736000000000004,11,null,null,null,null,null,null,null,null,null,"2007M02",103.408,12.8,null,null,null,null,null,null,null,"2007-02-01","2007M02",91.613801640105223,-1.8000000000000007,-1.5624089855057699E-2]
["2007M03",106.574,9.8000000000000007,null,null,null,null,null,null,null,null,null,"2007M03",109.544,11.1,null,null,null,null,null,null,null,"2007-03-01","2007M03",97.28876068063974,-1.2999999999999989,-1.187062764602087E-2]
["2007M04",95.4,12.5,null,null,null,null,null,null,null,null,null,"2007M04",104.617,8,null,null,null,null,null,null,null,"2007-04-01","2007M04",91.189768393282165,4.5,4.2213337149167751E-2]
["2007M05",108.911,10.7,null,null,null,null,null,null,null,null,null,"2007M05",112.28,4.5,null,null,null,null,null,null,null,"2007-05-01","2007M05",96.999465621660136,6.1999999999999993,5.9662170687953875E-2]
["2007M06",113.113,7.8,null,null,null,null,null,null,null,null,null,"2007M06",114.938,4.3,null,null,null,null,null,null,null,"2007-06-01","2007M06",{"$f":"(B74/N74)*100","v":98.412187440185136},3.5,3.349121909069841E-2]
["2007M07",123.095,15.2,null,null,null,null,null,null,null,null,null,"2007M07",117.74299999999999,5.5,null,null,null,null,null,null,null,"2007-07-01","2007M07",104.5454931503359,9.6999999999999993,9.2590789560786035E-2]
["2007M08",99.427000000000007,10.3,null,null,null,null,null,null,null,null,null,"2007M08",108.464,5.8,null,null,null,null,null,null,null,"2007-08-01","2007M08",91.668203274819305,4.5000000000000009,4.273483781496612E-2]
["2007M09",107.25,4,null,null,null,null,null,null,null,null,null,"2007M09",116.946,1.9,null,null,null,null,null,null,null,"2007-09-01","2007M09",91.708993894618033,2.1,2.015573413847549E-2]
["2007M10",115.91,8.6,null,null,null,null,null,null,null,null,null,"2007M10",118.872,2.5,null,null,null,null,null,null,null,"2007-10-01","2007M10",97.508244161787459,6.1,5.9483810816173266E-2]
["2007M11",115.045,4.7,null,null,null,null,null,null,null,null,null,"2007M11",117.027,0.9,null,null,null,null,null,null,null,"2007-11-01","2007M11",98.306373742811488,3.8000000000000003,3.7493063089157896E-2]
["2007M12",100.34699999999999,4,null,null,null,null,null,null,null,null,null,"2007M12",110.23099999999999,0.4,null,null,null,null,null,null,null,"2007-12-01","2007M12",91.033375366276275,3.6,3.5460549527509988E-2]
["2008M01",101.675,2.1,null,null,null,null,null,null,null,null,null,"2008M01",105.203,1.7,null,null,null,null,null,null,null,"2008-01-01","2008M01",96.64648346530042,0.40000000000000013,4.1769358595131756E-3]
["2008M02",98.665999999999997,4.0999999999999996,null,null,null,null,null,null,null,null,null,"2008M02",103.282,-0.1,null,null,null,null,null,null,null,"2008-02-01","2008M02",95.530682984450337,4.1999999999999993,4.2754271454994885E-2]
["2008M03",95.42,-10.5,null,null,null,null,null,null,null,null,null,"2008M03",99.978999999999999,-8.6999999999999993,null,null,null,null,null,null,null,"2008-03-01","2008M03",95.440042408905867,-1.8000000000000007,-1.9002382791188821E-2]
["2008M04",102.26600000000001,7.2,null,null,null,null,null,null,null,null,null,"2008M04",100.038,-4.4000000000000004,null,null,null,null,null,null,null,"2008-04-01","2008M04",102.227153681601,11.600000000000001,0.12103754053543514]
["2008M05",99.093000000000004,-9,null,null,null,null,null,null,null,null,null,"2008M05",100.496,-10.5,null,null,null,null,null,null,null,"2008-05-01","2008M05",98.603924534309826,{"$f":"C85-O85","v":1.5},1.6540904657225353E-2]
["2008M06",97.102999999999994,-14.2,null,null,null,null,null,null,null,null,null,"2008M06",100.931,-12.2,null,null,null,null,null,null,null,"2008-06-01","2008M06",96.207309944417474,-2,{"$f":"Y86/Y74-1","v":-2.2404516687608234E-2}]
["2008M07",112.983,-8.1999999999999993,null,null,null,null,null,null,null,null,null,"2008M07",102.794,-12.7,null,null,null,null,null,null,null,"2008-07-01","2008M07",109.91205712395666,4.5,5.1332332096838185E-2]
["2008M08",85.099000000000004,-14.4,null,null,null,null,null,null,null,null,null,"2008M08",91.953000000000003,-15.2,null,null,null,null,null,null,null,"2008-08-01","2008M08",92.546192076386845,0.79999999999999893,9.5778990991604029E-3]
["2008M09",92.954999999999998,-13.3,null,null,null,null,null,null,null,null,null,"2008M09",94.144000000000005,-19.5,null,null,null,null,null,null,null,"2008-09-01","2008M09",98.737041128484009,6.1999999999999993,7.6634220215542337E-2]
["2008M10",88.323999999999998,-23.8,null,null,null,null,null,null,null,null,null,"2008M10",91.036000000000001,-23.4,null,null,null,null,null,null,null,"2008-10-01","2008M10",97.020958741596729,-0.40000000000000213,-4.997376625736516E-3]
["2008M11",75.866,-34.1,null,null,null,null,null,null,null,null,null,"2008M11",78.858000000000004,-32.6,null,null,null,null,null,null,null,"2008-11-01","2008M11",96.205838342336861,-1.5,-2.1367235108987304E-2]
["2008M12",71.724999999999994,-28.5,null,null,null,null,null,null,null,null,null,"2008M12",76.099000000000004,-31,null,null,null,null,null,null,null,"2008-12-01","2008M12",94.252224076531874,2.5,3.5358995503620871E-2]
["2009M01",60.393999999999998,-40.6,null,null,null,null,null,null,null,null,null,"2009M01",66.834999999999994,-36.5,null,null,null,null,null,null,null,"2009-01-01","2009M01",90.362833844542536,-4.1000000000000014,-6.5016846919359939E-2]
["2009M02",60.040999999999997,-39.1,null,null,null,null,null,null,null,null,null,"2009M02",62.365000000000002,-39.6,null,null,null,null,null,null,null,"2009-02-01","2009M02",96.273550869878932,0.5,7.7762229078746081E-3]
["2009M03",62.121000000000002,-34.9,null,null,null,null,null,null,null,null,null,"2009M03",61.746000000000002,-38.200000000000003,null,null,null,null,null,null,null,"2009-03-01","2009M03",100.60732679039938,3.3000000000000043,5.4141681531894914E-2]
["2009M04",59.622,-41.7,null,null,null,null,null,null,null,null,null,"2009M04",61.904000000000003,-38.1,null,null,null,null,null,null,null,"2009-04-01","2009M04",96.31364693719307,-3.6000000000000014,-5.7846731826519115E-2]
["2009M05",62.588999999999999,-36.799999999999997,null,null,null,null,null,null,null,null,null,"2009M05",64.358999999999995,-36,null,null,null,null,null,null,null,"2009-05-01","2009M05",97.249801892509211,-0.79999999999999716,-1.3732948746167151E-2]
["2009M06",66.756,-31.3,null,null,null,null,null,null,null,null,null,"2009M06",68.120999999999995,-32.5,null,null,null,null,null,null,null,"2009-06-01","2009M06",97.996212621658529,1.1999999999999993,1.8594249005346564E-2]
["2009M07",77.950999999999993,-31,null,null,null,null,null,null,null,null,null,"2009M07",70.721999999999994,-31.2,null,null,null,null,null,null,null,"2009-07-01","2009M07",110.22171318684426,0.19999999999999929,2.8173075001076686E-3]
["2009M08",62.953000000000003,-26,null,null,null,null,null,null,null,null,null,"2009M08",65.844999999999999,-28.4,null,null,null,null,null,null,null,"2009-08-01","2009M08",95.60786696028552,2.3999999999999986,3.3082667316788106E-2]
["2009M09",69.998000000000005,-24.7,null,null,null,null,null,null,null,null,null,"2009M09",71.771000000000001,-23.8,null,null,null,null,null,null,null,"2009-09-01","2009M09",97.529642891975882,-0.89999999999999858,-1.2228422309485398E-2]
["2009M10",70.543999999999997,-20.100000000000001,null,null,null,null,null,null,null,null,null,"2009M10",76.932000000000002,-15.5,null,null,null,null,null,null,null,"2009-10-01","2009M10",91.69656319866894,-4.6000000000000014,-5.4878818061452672E-2]
["2009M11",70.494,-7.1,null,null,null,null,null,null,null,null,null,"2009M11",75.831000000000003,-3.8,null,null,null,null,null,null,null,"2009-11-01","2009M11",92.961981247774645,{"$f":"C103-O103","v":-3.3},-3.3717881892150303E-2]
["2009M12",72.301000000000002,0.8,null,null,null,null,null,null,null,null,null,"2009M12",74.653000000000006,-1.9,null,null,null,null,null,null,null,"2009-12-01","2009M12",96.84942333194914,2.7,2.7555840521156894E-2]
["2010M01",58.813000000000002,-2.6,null,null,null,null,null,null,null,null,null,"2010M01",68.503,2.5,null,null,null,null,null,null,null,"2010-01-01","2010M01",85.854634103615908,-5.0999999999999996,-4.9889977429021237E-2]
["2010M02",66.665000000000006,11,null,null,null,null,null,null,null,null,null,"2010M02",66.722999999999999,7,null,null,null,null,null,null,null,"2010-02-01","2010M02",99.913073452932295,4,3.7803971601426234E-2]
["2010M03",69.465000000000003,11.8,null,null,null,null,null,null,null,null,null,"2010M03",69.997,13.4,null,null,null,null,null,null,null,"2010-03-01","2010M03",99.239967427175458,-1.5999999999999996,-1.3591051535169152E-2]
["2010M04",68.843999999999994,15.5,null,null,null,null,null,null,null,null,null,"2010M04",68.686000000000007,11,null,null,null,null,null,null,null,"2010-04-01","2010M04",100.23003232099698,4.5,4.0662829291033153E-2]
["2010M05",75.239000000000004,20.2,null,null,null,null,null,null,null,null,null,"2010M05",73.001999999999995,13.4,null,null,null,null,null,null,null,"2010-05-01","2010M05",103.06429960822992,6.7999999999999989,5.9789301392587868E-2]
["2010M06",77.876999999999995,16.7,null,null,null,null,null,null,null,null,null,"2010M06",74.709999999999994,9.6999999999999993,null,null,null,null,null,null,null,"2010-06-01","2010M06",104.23905768973366,7,6.3704962682357591E-2]
["2010M07",90.744,16.399999999999999,null,null,null,null,null,null,null,null,null,"2010M07",76.706999999999994,8.5,null,null,null,null,null,null,null,"2010-07-01","2010M07",118.29950330478314,7.8999999999999986,7.3286740737241951E-2]
["2010M08",71.984999999999999,14.3,null,null,null,null,null,null,null,null,null,"2010M08",72.215000000000003,9.6999999999999993,null,null,null,null,null,null,null,"2010-08-01","2010M08",99.681506612199684,4.6000000000000014,4.2607787219082205E-2]
["2010M09",81.918000000000006,17,null,null,null,null,null,null,null,null,null,"2010M09",77.593999999999994,8.1,null,null,null,null,null,null,null,"2010-09-01","2010M09",105.57259581926439,8.9,8.2466752556419332E-2]
["2010M10",80.783000000000001,14.5,null,null,null,null,null,null,null,null,null,"2010M10",80.387,4.5,null,null,null,null,null,null,null,"2010-10-01","2010M10",100.49261696542973,10,9.5925664604281202E-2]
["2010M11",83.251000000000005,18.100000000000001,null,null,null,null,null,null,null,null,null,"2010M11",83.027000000000001,9.5,null,null,null,null,null,null,null,"2010-11-01","2010M11",100.26979175448952,8.6000000000000014,7.8610743968947183E-2]
["2010M12",86.185000000000002,19.2,null,null,null,null,null,null,null,null,null,"2010M12",85.144000000000005,14.1,null,null,null,null,null,null,null,"2010-12-01","2010M12",101.22263459550878,5.0999999999999996,4.5154747577283549E-2]
["2011M01",68.361000000000004,16.2,null,null,null,null,null,null,null,null,null,"2011M01",71.549000000000007,4.4000000000000004,null,null,null,null,null,null,null,"2011-01-01","2011M01",95.544312289479933,11.799999999999999,0.11286144640916862]
["2011M02",69.676000000000002,4.5,null,null,null,null,null,null,null,null,null,"2011M02",73.385000000000005,10,null,null,null,null,null,null,null,"2011-02-01","2011M02",94.945833617224224,-5.5,-4.9715614424053034E-2]
["2011M03",79.611000000000004,14.6,null,null,null,null,null,null,null,null,null,"2011M03",73.418000000000006,4.9000000000000004,null,null,null,null,null,null,null,"2011-03-01","2011M03",108.43526110763028,9.6999999999999993,9.2657161412336597E-2]
["2011M04",71.832999999999998,4.3,null,null,null,null,null,null,null,null,null,"2011M04",73.358999999999995,6.8,null,null,null,null,null,null,null,"2011-04-01","2011M04",97.919818972450557,-2.5,-2.3049113075687022E-2]
["2011M05",80.057000000000002,6.4,null,null,null,null,null,null,null,null,null,"2011M05",77.533000000000001,6.2,null,null,null,null,null,null,null,"2011-05-01","2011M05",103.25538802832341,0.20000000000000018,1.854069942937242E-3]
["2011M06",83.213999999999999,6.9,null,null,null,null,null,null,null,null,null,"2011M06",77.381,3.6,null,null,null,null,null,null,null,"2011-06-01","2011M06",107.53802613044545,3.3000000000000003,3.1648103060669674E-2]
["2011M07",92.126999999999995,1.5,null,null,null,null,null,null,null,null,null,"2011M07",77.162999999999997,0.6,null,null,null,null,null,null,null,"2011-07-01","2011M07",119.39271412464522,0.9,9.2410431939478066E-3]
["2011M08",75.757000000000005,5.2,null,null,null,null,null,null,null,null,null,"2011M08",72.141000000000005,-0.1,null,null,null,null,null,null,null,"2011-08-01","2011M08",105.01240625996313,5.3,5.3479324590294919E-2]
["2011M09",86.983000000000004,6.2,null,null,null,null,null,null,null,null,null,"2011M09",77.331000000000003,-0.3,null,null,null,null,null,null,null,"2011-09-01","2011M09",112.48141107705835,6.5,6.5441369554098516E-2]
["2011M10",80.975999999999999,0.2,null,null,null,null,null,null,null,null,null,"2011M10",79.049000000000007,-1.7,null,null,null,null,null,null,null,"2011-10-01","2011M10",102.43772849751419,1.9,1.9355765536025249E-2]
["2011M11",79.504000000000005,-4.5,null,null,null,null,null,null,null,null,null,"2011M11",81.018000000000001,-2.4,null,null,null,null,null,null,null,"2011-11-01","2011M11",98.131279468760042,-2.1,-2.1327582797475264E-2]
["2011M12",76.402000000000001,-11.4,null,null,null,null,null,null,null,null,null,"2011M12",77.224999999999994,-9.3000000000000007,null,null,null,null,null,null,null,"2011-12-01","2011M12",98.934282939462619,-2.0999999999999996,-2.2607114161674824E-2]
["2012M01",66.504000000000005,-2.7,null,null,null,null,null,null,null,null,null,"2012M01",70.968999999999994,-0.8,null,null,null,null,null,null,null,"2012-01-01","2012M01",93.708520621679909,-1.9000000000000001,-1.9214034031015292E-2]
["2012M02",66.468999999999994,-4.5999999999999996,null,null,null,null,null,null,null,null,null,"2012M02",67.548000000000002,-8,null,null,null,null,null,null,null,"2012-02-01","2012M02",98.402617397998455,3.4000000000000004,3.6407956506130823E-2]
["2012M03",69.478999999999999,-12.7,null,null,null,null,null,null,null,null,null,"2012M03",67.811999999999998,-7.6,null,null,null,null,null,null,null,"2012-03-01","2012M03",102.45826697339704,-5.0999999999999996,-5.5120392326077572E-2]
["2012M04",63.59,-11.5,null,null,null,null,null,null,null,null,null,"2012M04",66.475999999999999,-9.4,null,null,null,null,null,null,null,"2012-04-01","2012M04",95.658583548950006,-2.0999999999999996,-2.3092724713234425E-2]
["2012M05",71.706999999999994,-10.4,null,null,null,null,null,null,null,null,null,"2012M05",70.346000000000004,-9.3000000000000007,null,null,null,null,null,null,null,"2012-05-01","2012M05",101.93472265658316,-1.0999999999999996,-1.279028045856534E-2]
["2012M06",74.004000000000005,-11.1,null,null,null,null,null,null,null,null,null,"2012M06",71.034000000000006,-8.1999999999999993,null,null,null,null,null,null,null,"2012-06-01","2012M06",104.18109637638312,-2.9000000000000004,-3.1216211370574287E-2]
["2012M07",77.613,-15.8,null,null,null,null,null,null,null,null,null,"2012M07",70.543000000000006,-8.6,null,null,null,null,null,null,null,"2012-07-01","2012M07",110.02225592900783,-7.2000000000000011,-7.8484338548956201E-2]
["2012M08",68.58,-9.5,null,null,null,null,null,null,null,null,null,"2012M08",66.028999999999996,-8.5,null,null,null,null,null,null,null,"2012-08-01","2012M08",103.86345393690652,-1,-1.0941110331405213E-2]
["2012M09",66.119,-24,null,null,null,null,null,null,null,null,null,"2012M09",69.540999999999997,-10.1,null,null,null,null,null,null,null,"2012-09-01","2012M09",95.079161933248017,-13.9,-0.15471222291022357]
["2012M10",71.5,-11.7,null,null,null,null,null,null,null,null,null,"2012M10",76.763999999999996,-2.9,null,null,null,null,null,null,null,"2012-10-01","2012M10",{"$f":"(B138/N138)*100","v":93.142618935959561},-8.7999999999999989,-9.0739122175870879E-2]
["2012M11",72.046999999999997,-9.4,null,null,null,null,null,null,null,null,null,"2012M11",77.525000000000006,-4.3,null,null,null,null,null,null,null,"2012-11-01","2012M11",92.933892292808764,-5.1000000000000005,-5.2963613682483923E-2]
["2012M12",66.775000000000006,-12.6,null,null,null,null,null,null,null,null,null,"2012M12",75.179000000000002,-2.6,null,null,null,null,null,null,null,"2012-12-01","2012M12",88.821346386623929,-10,-0.10221872795122744]
["2013M01",65.326999999999998,-1.8,null,null,null,null,null,null,null,null,null,"2013M01",68.177000000000007,-3.9,null,null,null,null,null,null,null,"2013-01-01","2013M01",95.819704592457853,2.0999999999999996,2.2529263686716483E-2]
["2013M02",62.616,-5.8,null,null,null,null,null,null,null,null,null,"2013M02",65.793000000000006,-2.6,null,null,null,null,null,null,null,"2013-02-01","2013M02",95.171218822671094,-3.1999999999999997,-3.2838542924703673E-2]
["2013M03",63.23,-9,null,null,null,null,null,null,null,null,null,"2013M03",67.414000000000001,-0.6,null,null,null,null,null,null,null,"2013-03-01","2013M03",93.793574035066896,-8.4,-8.4568021637335566E-2]
["2013M04",66.787999999999997,5,null,null,null,null,null,null,null,null,null,"2013M04",66.986999999999995,0.8,null,null,null,null,null,null,null,"2013-04-01","2013M04",99.702927433681168,4.2,4.2278943871896235E-2]
["2013M05",71.954999999999998,0.3,null,null,null,null,null,null,null,null,null,"2013M05",71.399000000000001,1.5,null,null,null,null,null,null,null,"2013-05-01","2013M05",100.77872239106991,-1.2,-1.1340593620956851E-2]
["2013M06",72.215000000000003,-2.4,null,null,null,null,null,null,null,null,null,"2013M06",71.64,0.9,null,null,null,null,null,null,null,"2013-06-01","2013M06",100.80262423227249,-3.3,-3.2428840371433232E-2]
["2013M07",84.474000000000004,8.8000000000000007,null,null,null,null,null,null,null,null,null,"2013M07",73.001999999999995,3.5,null,null,null,null,null,null,null,"2013-07-01","2013M07",115.71463795512453,5.3000000000000007,5.1738459442149054E-2]
["2013M08",70.807000000000002,3.2,null,null,null,null,null,null,null,null,null,"2013M08",70.254000000000005,6.4,null,null,null,null,null,null,null,"2013-08-01","2013M08",100.78714379252428,-3.2,-2.9618793018870715E-2]
["2013M09",75.022999999999996,13.5,null,null,null,null,null,null,null,null,null,"2013M09",77.349000000000004,11.2,null,null,null,null,null,null,null,"2013-09-01","2013M09",96.992850586303632,{"$f":"C149-O149","v":2.3000000000000007},2.0127319321547654E-2]
["2013M10",81.346000000000004,13.8,null,null,null,null,null,null,null,null,null,"2013M10",82.594999999999999,7.6,null,null,null,null,null,null,null,"2013-10-01","2013M10",98.487801925056004,6.2000000000000011,{"$f":"Y150/Y138-1","v":5.7387080695804116E-2}]
["2013M11",77.144999999999996,7.1,null,null,null,null,null,null,null,null,null,"2013M11",83.06,7.1,null,null,null,null,null,null,null,"2013-11-01","2013M11",92.878641945581492,0,-5.9451235565588512E-4]
["2013M12",75.326999999999998,12.8,null,null,null,null,null,null,null,null,null,"2013M12",83.33,10.8,null,null,null,null,null,null,null,"2013-12-01","2013M12",90.396015840633623,2,1.7728502416023195E-2]
["2014M01",71.411000000000001,9.3000000000000007,null,null,null,null,null,null,null,null,null,"2014M01",76.725999999999999,12.5,null,null,null,null,null,null,null,"2014-01-01","2014M01",93.072752391627361,-3.1999999999999993,-2.866792600242174E-2]
["2014M02",69.224999999999994,10.6,null,null,null,null,null,null,null,null,null,"2014M02",75.061999999999998,14.1,null,null,null,null,null,null,null,"2014-02-01","2014M02",92.223761690335976,-3.5,-3.0970047129763034E-2]
["2014M03",76.748000000000005,21.4,null,null,null,null,null,null,null,null,null,"2014M03",78.790999999999997,16.899999999999999,null,null,null,null,null,null,null,"2014-03-01","2014M03",97.407064258608216,4.5,3.8525989234511338E-2]
["2014M04",74.909000000000006,12.2,null,null,null,null,null,null,null,null,null,"2014M04",83.105000000000004,24.1,null,null,null,null,null,null,null,"2014-04-01","2014M04",90.137777510378442,-11.900000000000002,-9.5936500256375346E-2]
["2014M05",85.650999999999996,19,null,null,null,null,null,null,null,null,null,"2014M05",89.075999999999993,24.8,null,null,null,null,null,null,null,"2014-05-01","2014M05",96.154968790695591,-5.8000000000000007,-4.588025617582181E-2]
["2014M06",86.5,19.8,null,null,null,null,null,null,null,null,null,"2014M06",88.692999999999998,23.8,null,null,null,null,null,null,null,"2014-06-01","2014M06",97.527426065191165,-4,-3.2491199430825457E-2]
["2014M07",102.139,20.9,null,null,null,null,null,null,null,null,null,"2014M07",91.694000000000003,25.6,null,null,null,null,null,null,null,"2014-07-01","2014M07",111.39114882107879,-4.7000000000000028,-3.7363372607382983E-2]
["2014M08",81.275000000000006,14.8,null,null,null,null,null,null,null,null,null,"2014M08",84.546000000000006,20.3,null,null,null,null,null,null,null,"2014-08-01","2014M08",96.131100229460884,-5.5,-4.6196800384065928E-2]
["2014M09",94.578000000000003,26.1,null,null,null,null,null,null,null,null,null,"2014M09",90.787000000000006,17.399999999999999,null,null,null,null,null,null,null,"2014-09-01","2014M09",104.17570797581151,8.7000000000000028,7.4055534465569783E-2]
["2014M10",92.483000000000004,13.7,null,null,null,null,null,null,null,null,null,"2014M10",97.126999999999995,17.600000000000001,null,null,null,null,null,null,null,"2014-10-01","2014M10",95.218631276576033,-3.9000000000000021,-3.3193660378039835E-2]
["2014M11",86.314999999999998,11.9,null,null,null,null,null,null,null,null,null,"2014M11",95.85,15.4,null,null,null,null,null,null,null,"2014-11-01","2014M11",90.052164840897248,-3.5,-3.0431938338851938E-2]
["2014M12",90.441999999999993,20.100000000000001,null,null,null,null,null,null,null,null,null,"2014M12",95.950999999999993,15.1,null,null,null,null,null,null,null,"2014-12-01","2014M12",94.258527790226267,5.0000000000000018,4.2728785264188884E-2]
["2015M01",83.153999999999996,16.399999999999999,null,null,null,null,null,null,null,null,null,"2015M01",90.394999999999996,17.8,null,null,null,null,null,null,null,"2015-01-01","2015M01",91.989601194756347,-1.4000000000000021,-1.1637683092398321E-2]
["2015M02",84.774000000000001,22.5,null,null,null,null,null,null,null,null,null,"2015M02",89.091999999999999,18.7,null,null,null,null,null,null,null,"2015-02-01","2015M02",95.153324653167516,3.8000000000000007,3.1765815112468232E-2]
["2015M03",92.790999999999997,20.9,null,null,null,null,null,null,null,null,null,"2015M03",93.721999999999994,19,null,null,null,null,null,null,null,"2015-03-01","2015M03",99.006636648812446,1.8999999999999986,1.6421523452934572E-2]
["2015M04",89.795000000000002,19.899999999999999,null,null,null,null,null,null,null,null,null,"2015M04",96.703000000000003,16.399999999999999,null,null,null,null,null,null,null,"2015-04-01","2015M04",92.856478082375943,3.5,3.0161610892663449E-2]
["2015M05",99.076999999999998,15.7,null,null,null,null,null,null,null,null,null,"2015M05",103.06399999999999,15.7,null,null,null,null,null,null,null,"2015-05-01","2015M05",96.131529923154545,0,-2.437613764096902E-4]
["2015M06",107.239,24,null,null,null,null,null,null,null,null,null,"2015M06",104.929,18.3,null,null,null,null,null,null,null,"2015-06-01","2015M06",102.20148862564211,5.6999999999999993,4.7925622043245797E-2]
["2015M07",121.408,18.899999999999999,null,null,null,null,null,null,null,null,null,"2015M07",104.613,14.1,null,null,null,null,null,null,null,"2015-07-01","2015M07",116.05441006375881,4.7999999999999989,4.1863840098914418E-2]
["2015M08",95.63,17.7,null,null,null,null,null,null,null,null,null,"2015M08",94.74,12.1,null,null,null,null,null,null,null,"2015-08-01","2015M08",100.93941313067343,5.6,5.0018286379073018E-2]
["2015M09",109.75700000000001,16,null,null,null,null,null,null,null,null,null,"2015M09",102.21899999999999,12.6,null,null,null,null,null,null,null,"2015-09-01","2015M09",107.37436288752582,3.4000000000000004,3.0704422114002039E-2]
["2015M10",106.443,15.1,null,null,null,null,null,null,null,null,null,"2015M10",107.047,10.199999999999999,null,null,null,null,null,null,null,"2015-10-01","2015M10",99.435761861612193,4.9000000000000004,4.428892254066219E-2]
["2015M11",104.852,21.5,null,null,null,null,null,null,null,null,null,"2015M11",107.937,12.6,null,null,null,null,null,null,null,"2015-11-01","2015M11",97.141851265089826,8.9,7.872866173421289E-2]
["2015M12",105.078,16.2,null,null,null,null,null,null,null,null,null,"2015M12",105.538,10,null,null,null,null,null,null,null,"2015-12-01","2015M12",99.564138035589082,6.1999999999999993,5.6287853945380162E-2]
["2016M01",90.872,9.3000000000000007,null,null,null,null,null,null,null,null,null,"2016M01",100.075,10.7,null,null,null,null,null,null,null,"2016-01-01","2016M01",90.803897077192104,-1.3999999999999986,-1.2889545146020587E-2]
["2016M02",95.471999999999994,12.6,null,null,null,null,null,null,null,null,null,"2016M02",97.504999999999995,9.4,null,null,null,null,null,null,null,"2016-02-01","2016M02",97.91497871904005,3.1999999999999993,2.9023200985764053E-2]
["2016M03",103.392,11.4,null,null,null,null,null,null,null,null,null,"2016M03",101.212,8,null,null,null,null,null,null,null,"2016-03-01","2016M03",102.15389479508359,3.4000000000000004,3.1788355334550156E-2]
["2016M04",103.226,15,null,null,null,null,null,null,null,null,null,"2016M04",104.85299999999999,8.4,null,null,null,null,null,null,null,"2016-04-01","2016M04",98.448303815818335,6.6,6.022009286720631E-2]
["2016M05",110.941,12,null,null,null,null,null,null,null,null,null,"2016M05",111.40300000000001,8.1,null,null,null,null,null,null,null,"2016-05-01","2016M05",99.585289444628955,3.9000000000000004,3.5927437379133176E-2]
["2016M06",116.785,8.9,null,null,null,null,null,null,null,null,null,"2016M06",114.262,8.9,null,null,null,null,null,null,null,"2016-06-01","2016M06",102.20808317725927,0,6.4525005514459721E-5]
["2016M07",125.652,3.5,null,null,null,null,null,null,null,null,null,"2016M07",114.806,9.6999999999999993,null,null,null,null,null,null,null,"2016-07-01","2016M07",109.44724143337456,-6.1999999999999993,-5.6931646343765463E-2]
["2016M08",109.36799999999999,14.4,null,null,null,null,null,null,null,null,null,"2016M08",106.11799999999999,12,null,null,null,null,null,null,null,"2016-08-01","2016M08",103.06262839480578,2.4000000000000004,2.1034551304391913E-2]
["2016M09",119.089,8.5,null,null,null,null,null,null,null,null,null,"2016M09",114.053,11.6,null,null,null,null,null,null,null,"2016-09-01","2016M09",104.41549104363762,-3.0999999999999996,-2.7556595115610705E-2]
["2016M10",113.93,7,null,null,null,null,null,null,null,null,null,"2016M10",115.544,7.9,null,null,null,null,null,null,null,"2016-10-01","2016M10",98.603129543723611,-0.90000000000000036,-8.3735700546789804E-3]
["2016M11",119.699,14.2,null,null,null,null,null,null,null,null,null,"2016M11",120.35599999999999,11.5,null,null,null,null,null,null,null,"2016-11-01","2016M11",99.454119445644594,2.6999999999999993,2.3803007153372358E-2]
["2016M12",117.117,11.5,null,null,null,null,null,null,null,null,null,"2016M12",115.708,9.6,null,null,null,null,null,null,null,"2016-12-01","2016M12",101.2177204687662,1.9000000000000004,1.6608213216148693E-2]
["2017M01",109.866,20.9,null,null,null,null,null,null,null,null,null,"2017M01",111.443,11.4,null,null,null,null,null,null,null,"2017-01-01","2017M01",98.584926823577973,9.4999999999999982,8.5690482422480674E-2]
["2017M02",109.441,14.6,null,null,null,null,null,null,null,null,null,"2017M02",107.75,10.5,null,null,null,null,null,null,null,"2017-02-01","2017M02",101.56937354988401,4.0999999999999996,3.7322122505178523E-2]
["2017M03",126.072,21.9,null,null,null,null,null,null,null,null,null,"2017M03",112.384,11,null,null,null,null,null,null,null,"2017-03-01","2017M03",112.17966970387243,10.899999999999999,9.8143834152384812E-2]
["2017M04",113.685,10.1,null,null,null,null,null,null,null,null,null,"2017M04",113.54300000000001,8.3000000000000007,null,null,null,null,null,null,null,"2017-04-01","2017M04",100.12506275155668,1.7999999999999989,1.7031872269483772E-2]
["2017M05",136.22,22.8,null,null,null,null,null,null,null,null,null,"2017M05",124.492,11.7,null,null,null,null,null,null,null,"2017-05-01","2017M05",109.42068566654885,11.100000000000001,9.8763545065444047E-2]
["2017M06",140.501,20.3,null,null,null,null,null,null,null,null,null,"2017M06",128.18,12.2,null,null,null,null,null,null,null,"2017-06-01","2017M06",109.61226400374473,8.1000000000000014,7.2442223709884068E-2]
["2017M07",142.09,13.1,null,null,null,null,null,null,null,null,null,"2017M07",124.773,8.6999999999999993,null,null,null,null,null,null,null,"2017-07-01","2017M07",113.87880390789675,4.4000000000000004,4.0490398994842414E-2]
["2017M08",126.67400000000001,15.8,null,null,null,null,null,null,null,null,null,"2017M08",116.77200000000001,10,null,null,null,null,null,null,null,"2017-08-01","2017M08",108.47977254821362,5.8000000000000007,5.2561672817582172E-2]
["2017M09",138.46299999999999,16.3,null,null,null,null,null,null,null,null,null,"2017M09",125.35899999999999,9.9,null,null,null,null,null,null,null,"2017-09-01","2017M09",110.45317847143006,6.4,5.782367508350994E-2]
["2017M10",135.96899999999999,19.3,null,null,null,null,null,null,null,null,null,"2017M10",129.227,11.8,null,null,null,null,null,null,null,"2017-10-01","2017M10",105.21717597715647,7.5,6.7077449407931811E-2]
["2017M11",139.298,16.399999999999999,null,null,null,null,null,null,null,null,null,"2017M11",130.72,8.6,null,null,null,null,null,null,null,"2017-11-01","2017M11",106.56211750305997,7.7999999999999989,7.1470122072722742E-2]
["2017M12",128.47900000000001,9.6999999999999993,null,null,null,null,null,null,null,null,null,"2017M12",126.086,9,null,null,null,null,null,null,null,"2017-12-01","2017M12",101.8979109496693,0.69999999999999929,6.7200731033356664E-3]
["2018M01",130.44800000000001,18.7,null,null,null,null,null,null,null,null,null,"2018M01",121.17400000000001,8.6999999999999993,null,null,null,null,null,null,null,"2018-01-01","2018M01",107.65345701223035,10,9.1986985037590063E-2]
["2018M02",124.111,13.4,null,null,null,null,null,null,null,null,null,"2018M02",116.26,7.9,null,null,null,null,null,null,null,"2018-02-01","2018M02",{"$f":"(B202/N202)*100","v":106.7529674866678},5.5,5.1035009428683331E-2]
["2018M03",134.70099999999999,6.8,null,null,null,null,null,null,null,null,null,"2018M03",119.694,6.5,null,null,null,null,null,null,null,"2018-03-01","2018M03",112.53780473540861,0.29999999999999982,3.1925128009520076E-3]
["2018M04",135.54499999999999,19.2,null,null,null,null,null,null,null,null,null,"2018M04",122.977,8.3000000000000007,null,null,null,null,null,null,null,"2018-04-01","2018M04",110.21979719785,10.899999999999999,0.10082125462774183]
["2018M05",150.065,10.199999999999999,null,null,null,null,null,null,null,null,null,"2018M05",131.13900000000001,5.3,null,null,null,null,null,null,null,"2018-05-01","2018M05",114.43201488496936,4.8999999999999995,4.5798737120805066E-2]
["2018M06",151.65,7.9,null,null,null,null,null,null,null,null,null,"2018M06",134.83600000000001,5.2,null,null,null,null,null,null,null,"2018-06-01","2018M06",112.46996351122844,2.7,2.6070983328891906E-2]
["2018M07",160.24100000000001,12.8,null,null,null,null,null,null,null,null,null,"2018M07",133.971,7.4,null,null,null,null,null,null,null,"2018-07-01","2018M07",119.60872129042855,5.4,5.0315925228421321E-2]
["2018M08",135.65199999999999,7.1,null,null,null,null,null,null,null,null,null,"2018M08",123.14700000000001,5.5,null,null,null,null,null,null,null,"2018-08-01","2018M08",110.1545307640462,1.5999999999999996,1.5438437751961853E-2]
["2018M09",140.49700000000001,1.5,null,null,null,null,null,null,null,null,null,"2018M09",128.864,2.8,null,null,null,null,null,null,null,"2018-09-01","2018M09",109.0273466600447,-1.2999999999999998,-1.2908925131151161E-2]
["2018M10",150.29900000000001,10.5,null,null,null,null,null,null,null,null,null,"2018M10",135.49799999999999,4.9000000000000004,null,null,null,null,null,null,null,"2018-10-01","2018M10",110.92340846359356,{"$f":"C210-O210","v":5.6},{"$f":"Y210/Y198-1","v":5.4232899081761765E-2}]
["2018M11",148.78700000000001,6.8,null,null,null,null,null,null,null,null,null,"2018M11",135.09399999999999,3.2,null,null,null,null,null,null,null,"2018-11-01","2018M11",110.13590536959452,{"$f":"C211-O211","v":3.5999999999999996},{"$f":"Y211/Y199-1","v":3.3537132615931053E-2}]
["2018M12",135.22900000000001,{"$f":"((B212/B200)-1)*100","v":5.2537768818250452},null,null,null,null,null,null,null,null,null,{"$f":"A212","v":"2018M12"},128.577,{"$f":"((N212/N200)-1)*100","v":1.9756356772361761},null,null,null,null,null,null,null,"2018-12-01",{"$f":"M212","v":"2018M12"},{"$f":"(B212/N212)*100","v":105.17355359045553},{"$f":"C212-O212","v":3.2781412045888692},{"$f":"Y212/Y200-1","v":3.2146317920140444E-2}]
["2019M01",138.81200000000001,{"$f":"((B213/B201)-1)*100","v":6.411750275972028},null,null,null,null,null,null,null,null,null,{"$f":"A213","v":"2019M01"},123.06100000000001,{"$f":"((N213/N201)-1)*100","v":1.5572647597669409},null,null,null,null,null,null,null,"2019-01-01",{"$f":"M213","v":"2019M01"},112.79934341505434,4.8544855162050871,4.7800475206656534E-2]
["2019M02",129.393,4.2558677313050408,null,null,null,null,null,null,null,null,null,"2019M02",116.749,0.42060897987268309,null,null,null,null,null,null,null,"2019-02-01","2019M02",110.83007134964753,3.8352587514323577,3.8191948748299787E-2]
["2019M03",140.15100000000001,4.0459981737329453,null,null,null,null,null,null,null,null,null,"2019M03",121.078,{"$f":"((N215/N203)-1)*100","v":1.1562818520560736},null,null,null,null,null,null,null,"2019-03-01","2019M03",115.75265531310394,{"$f":"C215-O215","v":2.8897163216768718},{"$f":"Y215/Y203-1","v":2.8566849915491632E-2}]
["2019M04",137.202,1.2224722416909639,null,null,null,null,null,null,null,null,null,"2019M04",122.229,{"$f":"((N216/N204)-1)*100","v":-0.60824381794970517},null,null,null,null,null,null,null,"2019-04-01",{"$f":"M216","v":"2019M04"},{"$f":"(B216/N216)*100","v":112.24995704783645},{"$f":"C216-O216","v":1.8307160596406691},{"$f":"Y216/Y204-1","v":1.8419194206483747E-2}]
["2019M05",155.53399999999999,3.6444207510078819,null,null,null,null,null,null,null,null,null,"2019M05",133.14099999999999,1.5266244214154234,null,null,null,null,null,null,null,"2019-05-01","2019M05",{"$f":"(B217/N217)*100","v":116.81901142397911},2.1177963295924584,2.0859516817992141E-2]
["2019M06",154.79599999999999,2.0745136828222766,null,null,null,null,null,null,null,null,null,"2019M06",136.696,1.3794535583968592,null,null,null,null,null,null,null,"2019-06-01","2019M06",{"$f":"(B218/N218)*100","v":113.2410604553169},0.69506012442541731,6.856025555760592E-3]
["2019M07",166.512,3.9134803202675927,null,null,null,null,null,null,null,null,null,"2019M07",135.83500000000001,1.3913458882892638,null,null,null,null,null,null,null,"2019-07-01","2019M07",122.58401737401994,2.522134431978329,2.4875243640193334E-2]
["2019M08",136.29,0.47032111579630165,null,null,null,null,null,null,null,null,null,"2019M08",122.768,-0.30776226785874661,null,null,null,null,null,null,null,"2019-08-01","2019M08",111.01427081975758,0.77808338365504826,7.804854232940972E-3]
["2019M09",147.45699999999999,4.9538424307992157,null,null,null,null,null,null,null,null,null,"2019M09",129.251,0.3003166128631829,null,null,null,null,null,null,null,"2019-09-01","2019M09",114.08577109654856,4.6535258179360328,4.6395923513358417E-2]
["2019M10",154.892,3.0559085556124632,null,null,null,null,null,null,null,null,null,"2019M10",133.51499999999999,-1.46349023601825,null,null,null,null,null,null,null,"2019-10-01","2019M10",116.010935100925,4.5193987916307137,4.5865220946588847E-2]
["2019M11",149.09,0.20364682398328338,null,null,null,null,null,null,null,null,null,"2019M11",134.35,-0.55072764149407538,null,null,null,null,null,null,null,"2019-11-01","2019M11",110.97134350576852,0.75437446547735876,7.5855202113281894E-3]
["2019M12",143.96076045754731,6.45701769409468,null,null,null,null,null,null,null,null,null,"2019M12",129.9827776026182,1.0933352019554032,null,null,null,null,null,null,null,"2019-12-01","2019M12",110.75371915628887,5.3636824921392767,5.3056736939425253E-2]
["2020M01",138.39524505806509,-0.30022976539126889,null,null,null,null,null,null,null,null,null,"2020M01",123.81201921292183,0.61028206574123001,null,null,null,null,null,null,null,"2020-01-01",{"$f":"M225","v":"2020M01"},{"$f":"(B225/N225)*100","v":111.77852193821684},{"$f":"C225-O225","v":-0.91051183113249889},{"$f":"Y225/Y213-1","v":-9.0498884650533906E-3}]
["2020M02",134.18961261266867,3.7070108990970629,null,null,null,null,null,null,null,null,null,"2020M02",118.17117684587383,1.218149059841056,null,null,null,null,null,null,null,"2020-02-01","2020M02",113.55528157910035,2.4888618392560069,2.4589086664532633E-2]
["2020M03",144.41765734668598,3.0443288643577038,null,null,null,null,null,null,null,null,null,"2020M03",122.87299971877172,1.4825151710234019,null,null,null,null,null,null,null,"2020-03-01","2020M03",117.53408615173804,1.5618136933343019,1.5389978172124286E-2]
["2020M04",141.72154519297314,3.2940811307219597,null,null,null,null,null,null,null,null,null,"2020M04",124.68836732177584,2.0120980469249039,null,null,null,null,null,null,null,"2020-04-01","2020M04",113.66059900940139,1.2819830837970558,1.2566971058739718E-2]
["2020M05",158.003321737834,1.5876411188769035,null,null,null,null,null,null,null,null,null,"2020M05",134.46216535287053,0.99230541521435622,null,null,null,null,null,null,null,"2020-05-01","2020M05",117.50764337550579,0.59533570366254729,5.8948620017627018E-3]
["2020M06",160.61583003558994,3.7596772756337105,null,null,null,null,null,null,null,null,null,"2020M06",137.98963140700485,0.94635644569325272,null,null,null,null,null,null,null,"2020-06-01","2020M06",116.39702809397932,2.8133208299404577,2.7869463832049801E-2]
["2020M07",175.45793868036719,5.3725489336307275,null,null,null,null,null,null,null,null,null,"2020M07",137.53492172409477,1.2514607605512262,null,null,null,null,null,null,null,"2020-07-01","2020M07",127.57337298838823,4.1210881730795013,4.0701518201553988E-2]
["2020M08",143.5772691046887,5.3468846611554044,null,null,null,null,null,null,null,null,null,"2020M08",125.48799110596009,2.2155538136648723,null,null,null,null,null,null,null,"2020-08-01","2020M08",114.41514669196854,3.1313308474905321,3.0634582807219646E-2]
["2020M09",154.4283346310896,4.7277068101816866,null,null,null,null,null,null,null,null,null,"2020M09",133.22355456367535,3.0735194030803159,null,null,null,null,null,null,null,"2020-09-01","2020M09",115.91668991032607,1.6541874071013707,1.604861672213298E-2]
["2020M10",160.32373589566046,3.5067891793381545,null,null,null,null,null,null,null,null,null,"2020M10",138.10806189978013,3.4401092759466234,null,null,null,null,null,null,null,"2020-10-01","2020M10",116.08571845139744,6.667990339153107E-2,6.4462328837699978E-4]
["2020M11",156.99338543300888,5.301083528746986,null,null,null,null,null,null,null,null,null,"2020M11",138.98481419009295,3.4498058727896908,null,null,null,null,null,null,null,"2020-11-01","2020M11",112.957222231693,1.8512776559572952,1.7895419332480733E-2]
["2020M12",151.64612047910725,5.3385102976212018,null,null,null,null,null,null,null,null,null,"2020M12",134.3955849146972,3.3949169216630937,null,null,null,null,null,null,null,"2020-12-01","2020M12",112.8356415691477,1.9435933759581081,1.8797765246338471E-2]
[]
[]
[]
[]
[]
[]
[]
[]
[]
[]
[]
["http://ine.es/dyngs/INEbase/es/categoria.htm?c=Estadistica_P&cid=1254735576778"]
[]
[null,138.81200000000001,123.06100000000001]
[null,129.393,116.749]
[null,140.15100000000001,121.078]
[null,137.202,122.229]
[null,155.53899999999999,133.14099999999999]
[null,154.79300000000001,136.755]
[null,166.55600000000001,135.94900000000001]
[null,139.87552713491249,124.41356550318112]
[null,147.67327463576555,132.94887188543137]
[null,154.40363602509959,138.76489434929826]
[null,152.84483130249299,138.50920461506314]
[null,144.78681510852581,133.92556263400076]

{"sheet":"sabi","index":11,"n_rows":281,"n_cols":20,"rows_kept":281,"cut":false,"hidden":true,"merged":[]}
[null,"Facturacion mensual est.",null,"Sabi Anual",null,"por Promedio",null,null,"por SUMA",null,null,null,"% i.a."]
["2002-01-01",{"$f":"C2*D$13","v":97499.107423303023},{"$f":"J2","v":7.3360778561176052E-2},null,{"$f":"Iass!B9","v":55.811999999999998},null,{"$f":"E2/F$13","v":0.88032934273411256},{"$f":"G2*D$13","v":1169989.2890796361},null,{"$f":"E2/I$13","v":7.3360778561176052E-2},{"$f":"J2*D$13","v":97499.107423303023},null,null,null,{"$f":"Iass!C9","v":1.1000000000000001},{"$f":"((E2*D$13)/I$13)","v":97499.107423303009}]
["2002-02-01",{"$f":"C3*D$13","v":95629.902862582487},{"$f":"J3","v":7.1954342076899228E-2},null,{"$f":"Iass!B10","v":54.741999999999997},null,0.86345210492279068,1147558.8343509899,null,7.1954342076899228E-2,95629.902862582487,null,null,null,{"$f":"Iass!C10","v":2.9},{"$f":"((E3*D$13)/I$13)","v":95629.902862582487}]
["2002-03-01",{"$f":"C4*D$13","v":97759.398525683733},7.3556628127678159E-2,null,{"$f":"Iass!B11","v":55.960999999999999},null,0.88267953753213779,1173112.7823082046,null,7.3556628127678159E-2,97759.398525683733,null,null,null,{"$f":"Iass!C11","v":-3.5},{"$f":"((E4*D$13)/I$13)","v":97759.398525683733}]
["2002-04-01",{"$f":"C5*D$13","v":105903.54026594458},7.9684485033938504E-2,null,{"$f":"Iass!B12","v":60.622999999999998},null,0.95621382040726199,1270842.4831913349,null,7.9684485033938504E-2,105903.54026594458,null,null,null,{"$f":"Iass!C12","v":12.4},105903.54026594458]
["2002-05-01",{"$f":"C6*D$13","v":110620.22467150106},8.323343691015106E-2,null,{"$f":"Iass!B13","v":63.323},null,0.99880124292181272,1327442.6960580125,null,8.323343691015106E-2,110620.22467150106,null,null,null,{"$f":"Iass!C13","v":8.1999999999999993},110620.22467150106]
["2002-06-01",{"$f":"C7*D$13","v":106801.45722315053},8.0360100317039718E-2,null,{"$f":"Iass!B14","v":61.137},null,0.9643212038044765,1281617.4866778061,null,8.0360100317039718E-2,106801.45722315053,null,null,null,{"$f":"Iass!C14","v":2},106801.45722315053]
["2002-07-01",133239.34677636967,0.10025263279652151,null,{"$f":"Iass!B15","v":76.271000000000001},null,1.2030315935582581,1598872.161316436,null,0.10025263279652151,133239.34677636967,null,null,null,{"$f":"Iass!C15","v":9.8000000000000007},133239.34677636967]
["2002-08-01",101796.53099281003,7.6594268048391936E-2,null,{"$f":"Iass!B16","v":58.271999999999998},null,0.91913121658070318,1221558.3719137202,null,7.6594268048391936E-2,101796.53099281003,null,null,null,{"$f":"Iass!C16","v":8.3000000000000007},101796.53099281003,"idem con "]
["2002-09-01",119381.02922478465,8.9825286413560676E-2,null,{"$f":"Iass!B17","v":68.337999999999994},null,1.0779034369627281,1432572.3506974156,null,8.9825286413560676E-2,119381.02922478465,null,null,null,{"$f":"Iass!C17","v":14.4},119381.02922478465,"regla de tres"]
["2002-10-01",126190.52397028806,9.4948921381514978E-2,null,{"$f":"Iass!B18","v":72.236000000000004},null,1.1393870565781796,1514286.2876434566,null,9.4948921381514978E-2,126190.52397028806,null,null,null,{"$f":"Iass!C18","v":17.100000000000001},126190.52397028805,"sobre la base anual"]
["2002-11-01",114648.62253787633,8.6264504697760758E-2,null,{"$f":"Iass!B19","v":65.629000000000005},null,1.0351740563731291,1375783.4704545161,null,8.6264504697760758E-2,114648.62253787633,null,null,null,{"$f":"Iass!C19","v":11.3},114648.62253787635]
["2002-12-01",119566.20276070652,{"$f":"J13","v":8.9964615635367562E-2},1329035.8872350005,{"$f":"Iass!B20","v":68.444000000000003},{"$f":"AVERAGE(E2:E13)","v":63.398999999999994},{"$f":"E13/F$13","v":1.0795753876244105},{"$f":"G13*D$13","v":1434794.433128478},{"$f":"SUM(E2:E13)","v":760.7879999999999},{"$f":"E13/I$13","v":8.9964615635367562E-2},{"$f":"J13*D$13","v":119566.20276070652},null,null,null,{"$f":"Iass!C20","v":13.4},{"$f":"((E13*D$13)/I$13)","v":119566.20276070652}]
["2003-01-01",{"$f":"C14*D$25","v":107562.25461027974},{"$f":"J14","v":7.1191308366403541E-2},null,{"$f":"Iass!B21","v":57.46},null,null,null,null,{"$f":"E14/I$25","v":7.1191308366403541E-2},{"$f":"J14*D$25","v":107562.25461027974},null,{"$f":"((B14/B2)-1)*100","v":10.321271089474138},null,{"$f":"Iass!C21","v":3}]
["2003-02-01",{"$f":"C15*D$25","v":110192.34454636471},7.293206347003732E-2,null,{"$f":"Iass!B22","v":58.865000000000002},null,null,null,null,{"$f":"E15/I$25","v":7.293206347003732E-2},{"$f":"J15*D$25","v":110192.34454636471},null,{"$f":"((B15/B3)-1)*100","v":15.22791642349366},null,{"$f":"Iass!C22","v":7.5}]
["2003-03-01",{"$f":"C16*D$25","v":117474.23056157508},7.7751663009635472E-2,null,{"$f":"Iass!B23","v":62.755000000000003},null,null,null,null,7.7751663009635472E-2,117474.23056157508,null,{"$f":"((B16/B4)-1)*100","v":20.166687124933347},null,{"$f":"Iass!C23","v":12.1}]
["2003-04-01",114632.61026052384,7.5870904114748589E-2,null,{"$f":"Iass!B24","v":61.237000000000002},null,null,null,null,7.5870904114748589E-2,114632.61026052384,null,{"$f":"((B17/B5)-1)*100","v":8.2424723221328211},null,{"$f":"Iass!C24","v":1}]
["2003-05-01",121858.33777176085,8.0653334506226429E-2,null,{"$f":"Iass!B25","v":65.096999999999994},null,null,null,null,8.0653334506226429E-2,121858.33777176085,null,{"$f":"((B18/B6)-1)*100","v":10.159184844934654},null,{"$f":"Iass!C25","v":2.8}]
["2003-06-01",129490.27846173845,8.5704621735774436E-2,null,{"$f":"Iass!B26","v":69.174000000000007},null,null,null,null,8.5704621735774436E-2,129490.27846173845,null,{"$f":"((B19/B7)-1)*100","v":21.243924782020507},null,{"$f":"Iass!C26","v":13.1}]
["2003-07-01",151994.86295399012,0.10059953835918033,null,{"$f":"Iass!B27","v":81.195999999999998},null,null,null,null,0.10059953835918033,151994.86295399012,null,14.076559688557989,null,{"$f":"Iass!C27","v":6.5}]
["2003-08-01",117631.47437270045,7.7855736624372299E-2,null,{"$f":"Iass!B28","v":62.838999999999999},null,null,null,null,7.7855736624372299E-2,117631.47437270045,null,15.555484283652898,null,{"$f":"Iass!C28","v":7.8}]
["2003-09-01",136029.00027436821,9.0032349548580692E-2,null,{"$f":"Iass!B29","v":72.667000000000002},null,null,null,null,9.0032349548580692E-2,136029.00027436821,null,13.94524000813966,null,{"$f":"Iass!C29","v":6.3}]
["2003-10-01",144669.92208573353,9.5751442472689963E-2,null,{"$f":"Iass!B30","v":77.283000000000001},null,null,null,null,9.5751442472689963E-2,144669.92208573353,null,14.644045792056847,null,{"$f":"Iass!C30","v":7}]
["2003-11-01",132704.4168391462,8.7831935979859277E-2,null,{"$f":"Iass!B31","v":70.891000000000005},null,null,null,null,8.7831935979859277E-2,132704.4168391462,null,15.748810497313027,null,{"$f":"Iass!C31","v":8}]
["2003-12-01",126650.53011081961,{"$f":"J25","v":8.3825101812491545E-2},1510890.262849001,{"$f":"Iass!B32","v":67.656999999999996},null,null,null,{"$f":"SUM(E14:E25)","v":807.12100000000009},8.3825101812491545E-2,126650.53011081961,null,5.9250249539924749,{"$f":"((AVERAGE(B14:B25)/AVERAGE(B2:B13))-1)*100","v":13.683180218130907},{"$f":"[1]Iass!C32","v":-1.1000000000000001},{"$f":"((AVERAGE(E14:E25)/AVERAGE(E2:E13))-1)*100","v":6.0901328622428474}]
["2004-01-01",{"$f":"C26*D$37","v":117285.9121851149},{"$f":"J26","v":6.9310243770148314E-2},null,{"$f":"Iass!B33","v":63.381999999999998},null,null,null,null,{"$f":"E26/I$37","v":6.9310243770148314E-2},{"$f":"J26*D$37","v":117285.9121851149},null,{"$f":"((B26/B14)-1)*100","v":9.0400276659000625},13.555000887608681,{"$f":"[1]Iass!C33","v":10.3},6.6375407247296847]
["2004-02-01",{"$f":"C27*D$37","v":121094.16069852513},{"$f":"J27","v":7.1560732578942063E-2},null,{"$f":"Iass!B34","v":65.44},null,null,null,null,{"$f":"E27/I$37","v":7.1560732578942063E-2},{"$f":"J27*D$37","v":121094.16069852513},null,9.8934424138451327,13.138754674609721,{"$f":"[1]Iass!C34","v":11.2},6.9217111794395381]
["2004-03-01",134585.87105385744,7.9533674223701639E-2,null,{"$f":"Iass!B35","v":72.730999999999995},null,null,null,null,7.9533674223701639E-2,134585.87105385744,null,14.566292888646037,12.760600855548777,{"$f":"[1]Iass!C35","v":15.9},7.2723581598571396]
["2004-04-01",125929.41500636812,7.4418131635005255E-2,null,{"$f":"Iass!B36","v":68.052999999999997},null,null,null,null,7.4418131635005255E-2,125929.41500636812,null,9.8547915119181049,12.865792036615996,{"$f":"[1]Iass!C36","v":11.1},8.0679150403053512]
["2004-05-01",137770.51424704451,8.1415642756225468E-2,null,{"$f":"Iass!B37","v":74.451999999999998},null,null,null,null,8.1415642756225468E-2,137770.51424704451,null,13.057930024523202,13.097478705051246,{"$f":"[1]Iass!C37","v":14.4},9.0267241257069095]
["2004-06-01",146243.77466633773,8.6422925679192714E-2,null,{"$f":"Iass!B38","v":79.031000000000006},null,null,null,null,8.6422925679192714E-2,146243.77466633773,null,12.938033961792407,12.46846844266738,{"$f":"[1]Iass!C38","v":14.2},9.1663710897728734]
["2004-07-01",170967.7826292502,0.10103360642471906,null,{"$f":"Iass!B39","v":92.391999999999996},null,null,null,null,0.10103360642471906,170967.7826292502,null,12.482605863464812,12.320633196516839,{"$f":"[1]Iass!C39","v":13.8},9.9042351810503924]
["2004-08-01",135499.99873394717,8.0073879020370303E-2,null,{"$f":"Iass!B40","v":73.224999999999994},null,null,null,null,8.0073879020370303E-2,135499.99873394717,null,15.190257927595606,12.326328384282824,{"$f":"[1]Iass!C40","v":16.5},10.580760648959364]
["2004-09-01",155855.06853351585,9.2102730768053101E-2,null,{"$f":"Iass!B41","v":84.224999999999994},null,null,null,null,9.2102730768053101E-2,155855.06853351585,null,14.574883458055844,12.403070433013831,{"$f":"[1]Iass!C41","v":15.9},11.429678322064118]
["2004-10-01",146452.876747006,8.6546494792600723E-2,null,{"$f":"Iass!B42","v":79.144000000000005},null,null,null,null,8.6546494792600723E-2,146452.876747006,null,1.2324294058967178,11.125032108028554,{"$f":"[1]Iass!C42","v":2.4},10.96087191613735]
["2004-11-01",151347.34580335685,8.9438886871929899E-2,null,{"$f":"Iass!B43","v":81.789000000000001},null,null,null,null,8.9438886871929899E-2,151347.34580335685,null,14.048461542020974,11.030500079867412,{"$f":"[1]Iass!C43","v":15.4},11.587086648479783]
["2004-12-01",149154.54964767603,{"$f":"J37","v":8.8143051479111348E-2},1692187.2699520001,{"$f":"Iass!B44","v":80.603999999999999},null,null,null,{"$f":"SUM(E26:E37)","v":914.46800000000007},8.8143051479111348E-2,149154.54964767603,null,17.768594823223658,11.999349758276811,{"$f":"[1]Iass!C44","v":19.100000000000001},13.299988477564085]
["2005-01-01",{"$f":"C38*D$49","v":129924.84751901115},{"$f":"J38","v":6.8577100728284324E-2},null,{"$f":"Iass!B45","v":70.33},null,null,null,null,{"$f":"E38/I$49","v":6.8577100728284324E-2},{"$f":"J38*D$49","v":129924.84751901115},null,10.776175158997736,12.114336347171918,{"$f":"[1]Iass!C45","v":11},13.32930730600963]
["2005-02-01",{"$f":"C39*D$49","v":137968.25411787047},{"$f":"J39","v":7.282258198195915E-2},null,{"$f":"Iass!B46","v":74.683999999999997},null,null,null,null,{"$f":"E39/I$49","v":7.282258198195915E-2},{"$f":"J39*D$49","v":137968.25411787047},null,13.934687950276082,12.418061243983081,{"$f":"[1]Iass!C46","v":14.1},13.548018711155718]
["2005-03-01",143841.01240399212,7.5922348841268347E-2,null,{"$f":"Iass!B47","v":77.863},null,null,null,null,7.5922348841268347E-2,143841.01240399212,null,6.8767555447414308,11.773527039943254,{"$f":"[1]Iass!C47","v":7.1},12.801201551602359]
["2005-04-01",151163.94849904915,7.9787550423621803E-2,null,{"$f":"Iass!B48","v":81.826999999999998},null,null,null,null,7.9787550423621803E-2,151163.94849904915,null,20.038633143340622,12.581751986541146,{"$f":"[1]Iass!C48","v":20.2},13.528771774608138]
["2005-05-01",156949.8808526613,8.284148870715638E-2,null,{"$f":"Iass!B49","v":84.959000000000003},null,null,null,null,8.284148870715638E-2,156949.8808526613,null,13.9212419365911,12.662036944043042,{"$f":"[1]Iass!C49","v":14.1},13.515338184956804]
["2005-06-01",167086.34663307952,8.8191731159823747E-2,null,{"$f":"Iass!B50","v":90.445999999999998},null,null,null,null,8.8191731159823747E-2,167086.34663307952,null,14.251937912772794,12.785593042164889,{"$f":"[1]Iass!C50","v":14.4},13.541727538562576]
["2005-07-01",177111.97079752819,9.3483469047672463E-2,null,{"$f":"Iass!B51","v":95.873000000000005},null,null,null,null,9.3483469047672463E-2,177111.97079752819,null,3.5937695826598448,11.839025396809543,{"$f":"[1]Iass!C51","v":3.8},12.476782900216676]
["2005-08-01",152349.95378992366,8.0413549267181569E-2,null,{"$f":"Iass!B52","v":82.468999999999994},null,null,null,null,8.0413549267181569E-2,152349.95378992366,null,12.435391301413379,11.646686606873491,{"$f":"[1]Iass!C52","v":12.6},12.198872782157832]
["2005-09-01",171544.02695532289,9.0544589741614598E-2,null,{"$f":"Iass!B53","v":92.858999999999995},null,null,null,null,9.0544589741614598E-2,171544.02695532289,null,10.066376775185336,11.255832516799202,{"$f":"[1]Iass!C53","v":10.3},11.711234278693251]
["2005-10-01",167586.98126520883,8.8455976777588083E-2,null,{"$f":"Iass!B54","v":90.716999999999999},null,null,null,null,8.8455976777588083E-2,167586.98126520883,null,14.430651679660421,12.415735350036972,{"$f":"[1]Iass!C54","v":14.6},12.777235710283685]
["2005-11-01",175911.18662452439,9.2849669595470197E-2,null,{"$f":"Iass!B55","v":95.222999999999999},null,null,null,null,9.2849669595470197E-2,175911.18662452439,null,16.230110076117853,12.631719737157599,{"$f":"[1]Iass!C55","v":16.399999999999999},12.904080992012389]
["2005-12-01",163142.23246482862,{"$f":"J49","v":8.6109943728359423E-2},1894580.6419230001,{"$f":"Iass!B56","v":88.311000000000007},null,null,null,{"$f":"SUM(E38:E49)","v":1025.5609999999999},8.6109943728359423E-2,163142.23246482862,null,9.3779793175558179,11.960459434063786,{"$f":"[1]Iass!C56","v":9.6},12.148374792775662]
["2006-01-01",{"$f":"C50*D$61","v":162135.12273783161},{"$f":"J50","v":7.1505679432896332E-2},null,{"$f":"Iass!B57","v":83.460999999999999},null,null,null,null,{"$f":"E50/I$61","v":7.1505679432896332E-2},{"$f":"J50*D$61","v":162135.12273783161},null,24.791466631590488,13.019785311119204,{"$f":"[1]Iass!C57","v":18.7},12.727801557602646]
["2006-02-01",{"$f":"C51*D$61","v":165746.50042525004},{"$f":"J51","v":7.3098388100007364E-2},null,{"$f":"Iass!B58","v":85.32},null,null,null,null,{"$f":"E51/I$61","v":7.3098388100007364E-2},{"$f":"J51*D$61","v":165746.50042525004},null,20.133795622033279,13.525516892753121,{"$f":"[1]Iass!C58","v":14.2},12.750950938043971]
["2006-03-01",188603.66549795857,8.3178974532082922E-2,null,{"$f":"Iass!B59","v":97.085999999999999},null,null,null,null,8.3178974532082922E-2,188603.66549795857,null,31.119534231479108,15.504522547339805,{"$f":"[1]Iass!C59","v":24.7},14.186806469813785]
["2006-04-01",164716.89839494787,7.2644307630094065E-2,null,{"$f":"Iass!B60","v":84.79},null,null,null,null,7.2644307630094065E-2,164716.89839494787,null,8.9657289522203634,14.616573192956107,{"$f":"[1]Iass!C60","v":3.6},12.842498573032302]
["2006-05-01",191109.67798680731,8.428418926073987E-2,null,{"$f":"Iass!B61","v":98.376000000000005},null,null,null,null,8.428418926073987E-2,191109.67798680731,null,21.764780545589545,15.302462269401484,{"$f":"[1]Iass!C61","v":15.8},13.005052740781164]
["2006-06-01",203767.9550235036,8.9866808773862786E-2,null,{"$f":"Iass!B62","v":104.892},null,null,null,null,8.9866808773862786E-2,203767.9550235036,null,21.95368390630783,16.006700429005139,{"$f":"[1]Iass!C62","v":16},13.164238775980785]
["2006-07-01",207507.54730337474,9.1516063310812079E-2,null,{"$f":"Iass!B63","v":106.81699999999999},null,null,null,null,9.1516063310812079E-2,207507.54730337474,null,17.161785490261593,17.297672093258988,{"$f":"[1]Iass!C63","v":11.4},13.882697808853383]
["2006-08-01",175108.10831963917,7.722709335380408E-2,null,{"$f":"Iass!B64","v":90.138999999999996},null,null,null,null,7.722709335380408E-2,175108.10831963917,null,14.938077737192401,17.462224618328914,{"$f":"[1]Iass!C64","v":9.3000000000000007},13.592382949625748]
["2006-09-01",200343.07128874373,8.8356348644698324E-2,null,{"$f":"Iass!B65","v":103.129},null,null,null,null,8.8356348644698324E-2,200343.07128874373,null,16.788135876582455,18.027403806997278,{"$f":"[1]Iass!C65","v":11.1},13.638959477139956]
["2006-10-01",207375.44742024163,9.1457803929766601E-2,null,{"$f":"Iass!B66","v":106.749},null,null,null,null,9.1457803929766601E-2,207375.44742024163,null,23.741979152943248,18.827198978748672,{"$f":"[1]Iass!C66","v":17.7},13.925748192986998]
["2006-11-01",213537.51843933325,9.4175432704417611E-2,null,{"$f":"Iass!B67","v":109.92100000000001},null,null,null,null,9.4175432704417611E-2,213537.51843933325,null,21.389391167669626,19.275877028113932,{"$f":"[1]Iass!C67","v":15.4},13.86613404279986]
["2006-12-01",187492.47236336829,{"$f":"J61","v":8.2688910326817994E-2},2267443.9852009998,{"$f":"Iass!B68","v":96.513999999999996},null,null,null,{"$f":"SUM(E50:E61)","v":1167.194},8.2688910326817994E-2,187492.47236336829,null,14.92577337617913,19.680521115192164,{"$f":"[1]Iass!C68","v":9.3000000000000007},13.810295048271136]
["2007-01-01",{"$f":"C62*D$73","v":196178.7318248071},{"$f":"J62","v":7.7803094552290425E-2},null,{"$f":"Iass!B69","v":99.537000000000006},null,null,null,null,{"$f":"E62/I$73","v":7.7803094552290425E-2},{"$f":"J62*D$73","v":196178.7318248071},null,20.997060052202965,19.446670306188452,{"$f":"[1]Iass!C69","v":19.3},13.91923688639174]
["2007-02-01",{"$f":"C63*D$73","v":186716.38022197699},{"$f":"J63","v":7.4050392974529922E-2},null,{"$f":"Iass!B70","v":94.736000000000004},null,null,null,null,{"$f":"E63/I$73","v":7.4050392974529922E-2},{"$f":"J63*D$73","v":186716.38022197699},null,12.65177831382578,18.821964324163098,{"$f":"[1]Iass!C70","v":11},13.661886464480144]
["2007-03-01",210048.04409914892,8.3303565496406343E-2,null,{"$f":"Iass!B71","v":106.574},null,null,null,null,8.3303565496406343E-2,210048.04409914892,null,11.370075202182361,17.234259630724292,{"$f":"[1]Iass!C71","v":9.8000000000000007},12.505065270632887]
["2007-04-01",188025.06621745275,7.4569408564538878E-2,null,{"$f":"Iass!B72","v":95.4},null,null,null,null,7.4569408564538878E-2,188025.06621745275,null,14.150441180975859,17.602858344253768,{"$f":"[1]Iass!C72","v":12.5},13.184148783870331]
["2007-05-01",214654.0669476834,8.5130281511242065E-2,null,{"$f":"Iass!B73","v":108.911},null,null,null,null,8.5130281511242065E-2,214654.0669476834,null,12.319830795016774,16.790540470506411,{"$f":"[1]Iass!C73","v":10.7},12.755465554952373]
["2007-06-01",222935.84187688399,8.8414774748015568E-2,null,{"$f":"Iass!B74","v":113.113},null,null,null,null,8.8414774748015568E-2,222935.84187688399,null,9.4067228829820095,15.654462124052614,{"$f":"[1]Iass!C74","v":7.8},12.021626794084273]
["2007-07-01",242609.49188718392,9.6217204897818792E-2,null,{"$f":"Iass!B75","v":123.095},null,null,null,null,9.6217204897818792E-2,242609.49188718392,null,16.915984521994453,15.65200739628818,{"$f":"[1]Iass!C75","v":15.2},12.383535932401536]
["2007-08-01",195961.93143399031,7.7717113053945561E-2,null,{"$f":"Iass!B76","v":99.427000000000007},null,null,null,null,7.7717113053945561E-2,195961.93143399031,null,11.909113355439228,15.396193326534346,{"$f":"[1]Iass!C76","v":10.3},12.443302316387172]
["2007-09-01",211380.38104635017,8.3831960886234735E-2,null,{"$f":"Iass!B77","v":107.25},null,null,null,null,8.3831960886234735E-2,211380.38104635017,null,5.5092046291428609,14.371309599197035,{"$f":"[1]Iass!C77","v":4},11.785039099995487]
["2007-10-01",228448.48454156128,9.0601049755929766E-2,null,{"$f":"Iass!B78","v":115.91},null,null,null,null,9.0601049755929766E-2,228448.48454156128,null,10.161780183463875,13.263446815090617,{"$f":"[1]Iass!C78","v":8.6},11.019467915997039]
["2007-11-01",226743.64510468396,8.9924922518945224E-2,null,{"$f":"Iass!B79","v":115.045},null,null,null,null,8.9924922518945224E-2,226743.64510468396,null,6.1844526254071885,11.952277644396014,{"$f":"[1]Iass!C79","v":4.7},10.053658742820293]
["2007-12-01",197775.17106627597,{"$f":"J73","v":7.8436231040102528E-2},2521477.2362679993,{"$f":"Iass!B80","v":100.34699999999999},null,null,null,{"$f":"SUM(E62:E73)","v":1279.3450000000003},7.8436231040102528E-2,197775.17106627597,null,5.4843261562946388,11.203507240972922,{"$f":"[1]Iass!C80","v":4},9.6085997700468226]
["2008-01-01",{"$f":"C74*D$85","v":206299.61255439132},{"$f":"J74","v":9.0686110553660201E-2},null,{"$f":"Iass!B81","v":101.675},null,null,null,null,{"$f":"E74/I$85","v":9.0686110553660201E-2},{"$f":"J74*D$85","v":206299.61255439132},null,5.1590101717154724,9.9983386085032535,{"$f":"[1]Iass!C81","v":2.1},8.300134373388989]
["2008-02-01",{"$f":"C75*D$85","v":200194.32084870004},{"$f":"J75","v":8.8002318995696466E-2},null,{"$f":"Iass!B82","v":98.665999999999997},null,null,null,null,{"$f":"E75/I$85","v":8.8002318995696466E-2},{"$f":"J75*D$85","v":200194.32084870004},null,7.2184029117851711,9.5854751281222015,{"$f":"[1]Iass!C82","v":4.0999999999999996},7.7746364089122943]
["2008-03-01",193608.15372451462,8.510714206078443E-2,null,{"$f":"Iass!B83","v":95.42},null,null,null,null,8.510714206078443E-2,193608.15372451462,null,-7.8267286158942628,7.8814867760819807,{"$f":"[1]Iass!C83","v":-10.5},5.9962201811052163]
["2008-04-01",207498.75758531975,9.1213236113898352E-2,null,{"$f":"Iass!B84","v":102.26600000000001},null,null,null,null,9.1213236113898352E-2,207498.75758531975,null,10.356965568274546,7.6419006569721226,{"$f":"[1]Iass!C84","v":7.2},5.6350512539743214]
["2008-05-01",201060.70820607134,8.838316944277208E-2,null,{"$f":"Iass!B85","v":99.093000000000004},null,null,null,null,8.838316944277208E-2,201060.70820607134,null,-6.332681665390993,6.013252128166835,{"$f":"[1]Iass!C85","v":-9},3.9227707572595305]
["2008-06-01",197022.9778988843,8.6608245813543802E-2,null,{"$f":"Iass!B86","v":97.102999999999994},null,null,null,null,8.6608245813543802E-2,197022.9778988843,null,-11.623462499273685,4.0947934182713253,{"$f":"[1]Iass!C86","v":-14.2},1.9290481835750439]
["2008-07-01",229243.65994819571,0.10077195799050102,null,{"$f":"Iass!B87","v":112.983},null,null,null,null,0.10077195799050102,229243.65994819571,null,-5.5091958006339929,2.0537040988133359,{"$f":"[1]Iass!C87","v":-8.1999999999999993},-0.21100833615157466]
["2008-08-01",172666.73940266683,7.5901621067183969E-2,null,{"$f":"Iass!B88","v":85.099000000000004},null,null,null,null,7.5901621067183969E-2,172666.73940266683,null,-11.887610956299666,0.24593867779951761,{"$f":"[1]Iass!C88","v":-14.4},-2.0880498541889225]
["2008-09-01",188606.64357013471,8.2908555756237859E-2,null,{"$f":"Iass!B89","v":92.954999999999998},null,null,null,null,8.2908555756237859E-2,188606.64357013471,null,-10.773817969048782,-1.1202037671837917,{"$f":"[1]Iass!C89","v":-13.3},-3.5413926279726171]
["2008-10-01",179210.29731255531,7.8778067652239825E-2,null,{"$f":"Iass!B90","v":88.323999999999998},null,null,null,null,7.8778067652239825E-2,179210.29731255531,null,-21.553300004512899,-3.9254675181630394,{"$f":"[1]Iass!C90","v":-23.8},-6.40843584794567]
["2008-11-01",153932.88818344189,6.7666510580417852E-2,null,{"$f":"Iass!B91","v":75.866},null,null,null,null,6.7666510580417852E-2,153932.88818344189,null,-32.111487352876637,-7.3301611846616321,{"$f":"[1]Iass!C91","v":-34.1},-9.8560421226927204]
["2008-12-01",145530.7569261246,{"$f":"J85","v":6.3973063973063959E-2},2274875.5161610008,{"$f":"Iass!B92","v":71.724999999999994},null,null,null,{"$f":"SUM(E74:E85)","v":1121.1750000000002},6.3973063973063959E-2,145530.7569261246,null,-26.416063178448155,-9.7800494313400872,{"$f":"[1]Iass!C92","v":-28.5},-12.36335781200536]
["2009-01-01",{"$f":"C86*D$97","v":141157.80825623753},{"$f":"J86","v":7.58943606395866E-2},null,{"$f":"Iass!B93","v":60.393999999999998},null,null,null,null,{"$f":"E86/I$97","v":7.58943606395866E-2},{"$f":"J86*D$97","v":141157.80825623753},null,-31.576309568191274,-12.713882309110714,{"$f":"[1]Iass!C93","v":-40.6},-15.730914885332069]
["2009-02-01",{"$f":"C87*D$97","v":140332.74771521601},{"$f":"J87","v":7.5450761783644377E-2},null,{"$f":"Iass!B94","v":60.040999999999997},null,null,null,null,{"$f":"E87/I$97","v":7.5450761783644377E-2},{"$f":"J87*D$97","v":140332.74771521601},null,-29.901733915182007,-15.528177152546284,{"$f":"[1]Iass!C94","v":-39.1},-18.993428571206284]
["2009-03-01",145194.29424588088,7.8064602067949782E-2,null,{"$f":"Iass!B95","v":62.121000000000002},null,null,null,null,7.8064602067949782E-2,145194.29424588088,null,-25.006105655819589,-16.893608243513036,{"$f":"[1]Iass!C95","v":-34.9},-20.897556933088179]
["2009-04-01",139353.42656312537,7.4924223764834791E-2,null,{"$f":"Iass!B96","v":59.622},null,null,null,null,7.4924223764834791E-2,139353.42656312537,null,-32.841320022927967,{"$f":"((AVERAGE(B78:B89)/AVERAGE(B66:B77))-1)*100","v":-20.203089307472176},{"$f":"[1]Iass!C96","v":-41.7},{"$f":"((AVERAGE(E78:E89)/AVERAGE(E66:E77))-1)*100","v":-24.650131720167845}]
["2009-05-01",146288.1422152805,7.8652716131918501E-2,null,{"$f":"Iass!B97","v":62.588999999999999},null,null,null,null,7.8652716131918501E-2,146288.1422152805,null,{"$f":"((B90/B78)-1)*100","v":-27.241804965022453},-21.936180635059987,{"$f":"[1]Iass!C97","v":-36.799999999999997},-26.939598381822805]
["2009-06-01",156027.5962505115,8.3889193278409158E-2,null,{"$f":"Iass!B98","v":66.756},null,null,null,null,8.3889193278409158E-2,156027.5962505115,null,-20.807411442848235,-22.764004131093117,{"$f":"[1]Iass!C98","v":-31.3},-28.425304927837814]
["2009-07-01",182193.46808262361,9.7957434616293249E-2,null,{"$f":"Iass!B99","v":77.950999999999993},null,null,null,null,9.7957434616293249E-2,182193.46808262361,null,-20.524097319072844,-24.235886225980398,{"$f":"[1]Iass!C99","v":-31},-30.657452507057194]
["2009-08-01",147138.91285814685,7.9110138181671938E-2,null,{"$f":"Iass!B100","v":62.953000000000003},null,null,null,null,7.9110138181671938E-2,147138.91285814685,null,-14.784449299750724,-24.554600370557068,{"$f":"[1]Iass!C100","v":-26},-31.64949299553075]
["2009-09-01",163605.06444878821,8.7963265490773643E-2,null,{"$f":"Iass!B101","v":69.998000000000005},null,null,null,null,8.7963265490773643E-2,163605.06444878821,null,-13.255937674353181,-24.873885902617708,{"$f":"[1]Iass!C101","v":-24.7},-32.733391310923707]
["2009-10-01",164881.22041308772,8.8649398565403797E-2,null,{"$f":"Iass!B102","v":70.543999999999997},null,null,null,null,8.8649398565403797E-2,164881.22041308772,null,-7.9956772095950868,-23.929622806256965,{"$f":"[1]Iass!C102","v":-20.100000000000001},-32.668111046816762]
["2009-11-01",164764.3563137929,8.8586565866261846E-2,null,{"$f":"Iass!B103","v":70.494},null,null,null,null,8.8586565866261846E-2,164764.3563137929,null,7.0364873018189167,-21.084093244340906,{"$f":"[1]Iass!C103","v":-7.1},-30.841009325994062]
["2009-12-01",168987.82486230799,{"$f":"J97","v":9.0857339613252153E-2},1859924.8622249993,{"$f":"Iass!B104","v":72.301000000000002},null,null,null,{"$f":"SUM(E86:E97)","v":795.76400000000012},9.0857339613252153E-2,168987.82486230799,null,16.118288966291061,-18.240587275573517,{"$f":"[1]Iass!C104","v":0.8},-29.02410417642206]
["2010-01-01",{"$f":"C98*D$109","v":139752.12603363598},{"$f":"J98","v":6.450427685082516E-2},null,{"$f":"Iass!B105","v":58.813000000000002},null,null,null,null,{"$f":"E98/I$109","v":6.450427685082516E-2},{"$f":"J98*D$109","v":139752.12603363598},null,-0.99582321372536642,-15.893975367935587,{"$f":"[1]Iass!C105","v":-2.6},-26.457318959083011]
["2010-02-01",{"$f":"C99*D$109","v":158410.1386093609},{"$f":"J99","v":7.3116107259623878E-2},null,{"$f":"Iass!B106","v":66.665000000000006},null,null,null,null,{"$f":"E99/I$109","v":7.3116107259623878E-2},{"$f":"J99*D$109","v":158410.1386093609},null,12.881804987407651,-12.7112474695511,{"$f":"[1]Iass!C106","v":11},-23.093168047833935]
["2010-03-01",165063.53076575798,7.6187060538360052E-2,null,{"$f":"Iass!B107","v":69.465000000000003},null,null,null,null,7.6187060538360052E-2,165063.53076575798,null,13.68458493708391,-9.7547723815578085,{"$f":"[1]Iass!C107","v":11.8},-19.823903489191132]
["2010-04-01",163587.90343392847,7.5505966971897487E-2,null,{"$f":"Iass!B108","v":68.843999999999994},null,null,null,null,7.5505966971897487E-2,163587.90343392847,null,17.390657315358649,-5.5383832596660687,{"$f":"[1]Iass!C108","v":15.5},-15.326739360589048]
["2010-05-01",178783.7758768425,8.251980490672528E-2,null,{"$f":"Iass!B109","v":75.239000000000004},null,null,null,null,8.251980490672528E-2,178783.7758768425,null,22.213443392931186,-1.2809677536272823,{"$f":"[1]Iass!C109","v":20.2},-10.637021948231185]
["2010-06-01",185052.22177276228,8.5413081602905991E-2,null,{"$f":"Iass!B110","v":77.876999999999995},null,null,null,null,8.5413081602905991E-2,185052.22177276228,null,18.602238462771691,2.3057809169890087,{"$f":"[1]Iass!C110","v":16.7},-6.3809232310303443]
["2010-07-01",215626.93494289127,9.9525208687726824E-2,null,{"$f":"Iass!B111","v":90.744},null,null,null,null,9.9525208687726824E-2,215626.93494289127,null,18.350529913128266,6.6204467227283459,{"$f":"[1]Iass!C111","v":16.399999999999999},-1.1009412317894651]
["2010-08-01",171051.58370651535,7.8950918489222602E-2,null,{"$f":"Iass!B112","v":71.984999999999999},null,null,null,null,7.8950918489222602E-2,171051.58370651535,null,16.25176534464552,9.3620799010804454,{"$f":"[1]Iass!C112","v":14.3},2.5760224985944546]
["2010-09-01",194654.49238133396,8.984512524553917E-2,null,{"$f":"Iass!B113","v":81.918000000000006},null,null,null,null,8.984512524553917E-2,194654.49238133396,null,18.978280432305851,12.535600162424497,{"$f":"[1]Iass!C113","v":17},6.9102084708067446]
["2010-10-01",191957.49234650869,8.8600292398622896E-2,null,{"$f":"Iass!B114","v":80.783000000000001},null,null,null,null,8.8600292398622896E-2,191957.49234650869,null,16.421683358229046,14.901985186701406,{"$f":"[1]Iass!C114","v":14.5},10.563605476166682]
["2010-11-01",197821.98229007583,9.1307118360023212E-2,null,{"$f":"Iass!B115","v":83.251000000000005},null,null,null,null,9.1307118360023212E-2,197821.98229007583,null,20.063578504397416,16.02436011392556,{"$f":"[1]Iass!C115","v":18.100000000000001},12.914807567518615]
["2010-12-01",204793.78678538618,{"$f":"J109","v":9.4525038688527463E-2},2166555.9689449994,{"$f":"Iass!B116","v":86.185000000000002},null,null,null,{"$f":"SUM(E98:E109)","v":911.76900000000001},9.4525038688527463E-2,204793.78678538618,null,21.188486183695797,16.486209359725535,{"$f":"[1]Iass!C116","v":19.2},14.577814527925348]
["2011-01-01",{"$f":"C110*D$121","v":163968.5225651706},{"$f":"J110","v":7.2377901135096734E-2},null,{"$f":"Iass!B117","v":68.361000000000004},null,null,null,null,{"$f":"E110/I$121","v":7.2377901135096734E-2},{"$f":"J110*D$121","v":163968.5225651706},null,17.32810599654573,17.877307323441659,{"$f":"[1]Iass!C117","v":16.2},16.008149255272365]
["2011-02-01",{"$f":"C111*D$121","v":167122.63978366068},{"$f":"J111","v":7.3770170703895493E-2},null,{"$f":"Iass!B118","v":69.676000000000002},null,null,null,null,{"$f":"E111/I$121","v":7.3770170703895493E-2},{"$f":"J111*D$121","v":167122.63978366068},null,5.4999643651501229,17.206058071396324,{"$f":"[1]Iass!C118","v":4.5},15.424565469582552]
["2011-03-01",190952.41511879285,8.4288952579192611E-2,null,{"$f":"Iass!B119","v":79.611000000000004},null,null,null,null,8.4288952579192611E-2,190952.41511879285,null,15.684193978483263,17.34320451764566,{"$f":"[1]Iass!C119","v":14.6},15.631113492404269]
["2011-04-01",172296.35144927519,7.6053916300776819E-2,null,{"$f":"Iass!B120","v":71.832999999999998},null,null,null,null,7.6053916300776819E-2,172296.35144927519,null,5.3234058463644152,16.316023759443034,{"$f":"[1]Iass!C120","v":4.3},14.692190713419695]
["2011-05-01",192022.17654802979,8.4761159596442995E-2,null,{"$f":"Iass!B121","v":80.057000000000002},null,null,null,null,8.4761159596442995E-2,192022.17654802979,null,7.4046991155991337,15.058636926218005,{"$f":"[1]Iass!C121","v":6.4},13.524685460523367]
["2011-06-01",199594.4564406329,8.8103665321688382E-2,null,{"$f":"Iass!B122","v":83.213999999999999},null,null,null,null,8.8103665321688382E-2,199594.4564406329,null,7.8584491061814976,14.107526622520039,{"$f":"[1]Iass!C122","v":6.9},12.658236877395556]
["2011-07-01",220972.89504778269,9.7540394345797407E-2,null,{"$f":"Iass!B123","v":92.126999999999995},null,null,null,null,9.7540394345797407E-2,220972.89504778269,null,2.4792635977074484,12.480057730270634,{"$f":"[1]Iass!C123","v":1.5},11.132437170423582]
["2011-08-01",181708.33317197862,8.0208491044477456E-2,null,{"$f":"Iass!B124","v":75.757000000000005},null,null,null,null,8.0208491044477456E-2,181708.33317197862,null,6.2301378534721952,11.683798570935956,{"$f":"[1]Iass!C124","v":5.2},10.406399302871838]
["2011-09-01",208634.66008815312,9.2094132245492594E-2,null,{"$f":"Iass!B125","v":86.983000000000004},null,null,null,null,9.2094132245492594E-2,208634.66008815312,null,7.1820421587967198,10.684240383799715,{"$f":"[1]Iass!C125","v":6.2},9.4810884580786912]
["2011-10-01",194226.46074863232,8.5734160154409572E-2,null,{"$f":"Iass!B126","v":80.975999999999999},null,null,null,null,8.5734160154409572E-2,194226.46074863232,null,1.1820160674050895,9.3637322977748294,{"$f":"[1]Iass!C126","v":0.2},8.2364358601241925]
["2011-11-01",190695.76831850508,8.4175665245457665E-2,null,{"$f":"Iass!B127","v":79.504000000000005},null,null,null,null,8.4175665245457665E-2,190695.76831850508,null,-3.6023367520002125,7.3325570118123906,{"$f":"[1]Iass!C127","v":-4.5},6.2813166496823003]
["2011-12-01",183255.40967838629,{"$f":"J121","v":8.0891391327272286E-2},2265450.0889590001,{"$f":"Iass!B128","v":76.402000000000001},null,null,null,{"$f":"SUM(E110:E121)","v":944.50099999999998},8.0891391327272286E-2,183255.40967838629,null,-10.517104764301788,4.5645772106297056,{"$f":"[1]Iass!C128","v":-11.4},3.5899443828425914]
["2012-01-01",{"$f":"C122*D$133","v":169100.70397167045},{"$f":"J122","v":7.9704022234286964E-2},null,{"$f":"Iass!B129","v":66.504000000000005},null,null,null,null,{"$f":"E122/I$133","v":7.9704022234286964E-2},{"$f":"J122*D$133","v":169100.70397167045},null,3.1299796608583952,3.6430030863387364,{"$f":"[1]Iass!C129","v":-2.7},2.3148384323745441]
["2012-02-01",{"$f":"C123*D$133","v":169011.70895424279},{"$f":"J123","v":7.9662075272026039E-2},null,{"$f":"Iass!B130","v":66.468999999999994},null,null,null,null,{"$f":"E123/I$133","v":7.9662075272026039E-2},{"$f":"J123*D$133","v":169011.70895424279},null,1.1303490496724411,3.3183439446157648,{"$f":"[1]Iass!C130","v":-4.5999999999999996},1.634592915069133]
["2012-03-01",176665.28045302074,8.326951402646493E-2,null,{"$f":"Iass!B131","v":69.478999999999999},null,null,null,null,8.326951402646493E-2,176665.28045302074,null,-7.4820392593013203,1.4743794767795748,{"$f":"[1]Iass!C131","v":-12.7},-0.55314540586467453]
["2012-04-01",161691.23309212265,7.6211638004906601E-2,null,{"$f":"Iass!B132","v":63.59},null,null,null,null,7.6211638004906601E-2,161691.23309212265,null,-6.1551613066366802,0.60413567145680691,{"$f":"[1]Iass!C132","v":-11.5},-1.7495090472903763]
["2012-05-01",182330.4489909866,8.5939737795531324E-2,null,{"$f":"Iass!B133","v":71.706999999999994},null,null,null,null,8.5939737795531324E-2,182330.4489909866,null,-5.0471918042336306,-0.41975500672170041,{"$f":"[1]Iass!C133","v":-10.4},-3.1380235831986125]
["2012-06-01",188171.06484902411,8.8692657004483533E-2,null,{"$f":"Iass!B134","v":74.004000000000005},null,null,null,null,8.8692657004483533E-2,188171.06484902411,null,-5.7233010351700582,-1.5650315508106805,{"$f":"[1]Iass!C134","v":-11.1},-4.6554624331745504]
["2012-07-01",197347.72250320669,9.3017988055902112E-2,null,{"$f":"Iass!B135","v":77.613},null,null,null,null,9.3017988055902112E-2,197347.72250320669,null,-10.691434594033511,-2.8391738687868262,{"$f":"[1]Iass!C135","v":-15.8},-6.3238078779685125]
["2012-08-01",174379.37986252192,8.2192076338677367E-2,null,{"$f":"Iass!B136","v":68.58},null,null,null,null,8.2192076338677367E-2,174379.37986252192,null,-4.0333611461397245,-3.6154768940451332,{"$f":"[1]Iass!C136","v":-9.5},-7.4479440538302573]
["2012-09-01",168121.7587799663,7.9242605649416875E-2,null,{"$f":"Iass!B137","v":66.119},null,null,null,null,7.9242605649416875E-2,168121.7587799663,null,-19.41810689128506,-5.9711162378162985,{"$f":"[1]Iass!C137","v":-24},-10.1155936598882]
["2012-10-01",181804.10703077164,8.5691651475873903E-2,null,{"$f":"Iass!B138","v":71.5},null,null,null,null,8.5691651475873903E-2,181804.10703077164,null,-6.3958091343370942,-6.6056023646849145,{"$f":"[1]Iass!C138","v":-11.7},-11.122813353638882]
["2012-11-01",183194.97201742663,8.6347222571780236E-2,null,{"$f":"Iass!B139","v":72.046999999999997},null,null,null,null,{"$f":"E132/I$133","v":8.6347222571780236E-2},{"$f":"J132*D$133","v":183194.97201742663},null,-3.9333837175403064,-6.6425641465508551,{"$f":"[1]Iass!C139","v":-9.4},-11.555260278910662]
["2012-12-01",169789.77967803885,{"$f":"J133","v":8.0028811570650074E-2},2121608.1601829994,{"$f":"Iass!B140","v":66.775000000000006},null,null,null,{"$f":"SUM(E122:E133)","v":834.38700000000006},{"$f":"E133/I$133","v":8.0028811570650074E-2},{"$f":"J133*D$133","v":169789.77967803885},null,-7.3480122764068234,-6.3493753173832985,{"$f":"[1]Iass!C140","v":-12.6},-11.658431277468196]
["2013-01-01",{"$f":"C134*D$145","v":175109.11935023271},{"$f":"J134","v":7.5413303041951957E-2},null,{"$f":"Iass!B141","v":65.326999999999998},null,null,null,null,{"$f":"E134/I$145","v":7.5413303041951957E-2},{"$f":"J134*D$145","v":175109.11935023271},null,3.5531581107840049,-6.2964331515248384,{"$f":"[1]Iass!C141","v":-1.8},-11.609260760159723]
["2013-02-01",{"$f":"C135*D$145","v":167842.2798725515},{"$f":"J135","v":7.2283732350710478E-2},null,{"$f":"Iass!B142","v":62.616},null,null,null,null,{"$f":"E135/I$145","v":7.2283732350710478E-2},{"$f":"J135*D$145","v":167842.2798725515},null,-0.69192193187508355,-6.4257881063539362,{"$f":"[1]Iass!C142","v":-5.8},-11.717656426136092]
["2013-03-01",169488.10777343542,7.299253220479468E-2,null,{"$f":"Iass!B143","v":63.23},null,null,null,null,7.299253220479468E-2,169488.10777343542,null,-4.0625824503722434,-6.1515898822790183,{"$f":"[1]Iass!C143","v":-9},-11.427572217947834]
["2013-04-01",179025.33199386689,7.7099877287582275E-2,null,{"$f":"Iass!B144","v":66.787999999999997},null,null,null,null,7.7099877287582275E-2,179025.33199386689,null,10.720493975000011,-4.9375354343278115,{"$f":"[1]Iass!C144","v":5},-10.287689645213904]
["2013-05-01",192875.4830750837,8.3064647395160535E-2,null,{"$f":"Iass!B145","v":71.954999999999998},null,null,null,null,8.3064647395160535E-2,192875.4830750837,null,5.7834739849833783,-4.0546389346563956,{"$f":"[1]Iass!C145","v":0.3},-9.4397794704134679]
["2013-06-01",193572.41345656553,8.3364790655847662E-2,null,{"$f":"Iass!B146","v":72.215000000000003},null,null,null,null,8.3364790655847662E-2,193572.41345656553,null,2.8704458955339796,-3.3197713079691105,{"$f":"[1]Iass!C146","v":-2.4},-8.7146459000644221]
["2013-07-01",226432.68094343162,9.7516545397245386E-2,null,{"$f":"Iass!B147","v":84.474000000000004},null,null,null,null,9.7516545397245386E-2,226432.68094343162,null,14.737924548256354,-0.9625480101357109,{"$f":"[1]Iass!C147","v":8.8000000000000007},-6.4525055456316487]
["2013-08-01",189798.26739069496,8.1739399459511267E-2,null,{"$f":"Iass!B148","v":70.807000000000002},null,null,null,null,8.1739399459511267E-2,189798.26739069496,null,8.8421506833715533,7.0346295989742735E-2,{"$f":"[1]Iass!C148","v":3.2},-5.4385803760669589]
["2013-09-01",201099.2615765688,8.6606337871268563E-2,null,{"$f":"Iass!B149","v":75.022999999999996},null,null,null,null,8.6606337871268563E-2,201099.2615765688,null,19.61524970706656,3.481901183086511,{"$f":"[1]Iass!C149","v":13.5},-2.1127897536085238]
["2013-10-01",218048.07235391234,9.3905591091748036E-2,null,{"$f":"Iass!B150","v":81.346000000000004},null,null,null,null,9.3905591091748036E-2,218048.07235391234,null,19.935724178665648,5.7734831626260696,{"$f":"[1]Iass!C150","v":13.8},0.13294639512091422]
["2013-11-01",{"$f":"C144*D$145","v":206787.28569004702},8.9055968637338057E-2,null,{"$f":"Iass!B151","v":77.144999999999996},null,null,null,null,8.9055968637338057E-2,206787.28569004702,null,12.878253924117612,7.2500675940474046,{"$f":"[1]Iass!C151","v":7.1},1.6216555649550823]
["2013-12-01",{"$f":"C145*D$145","v":201914.13402260901},{"$f":"J145","v":8.6957274606841189E-2},2321992.4374989993,{"$f":"Iass!B152","v":75.326999999999998},null,null,null,{"$f":"SUM(E134:E145)","v":866.25299999999993},8.6957274606841189E-2,201914.13402260901,null,18.920075404706616,9.4449239532862208,{"$f":"[1]Iass!C152","v":12.8},3.8190911411611017]
["2014-01-01",{"$f":"C146*D$157","v":209319.12148094643},{"$f":"J146","v":7.0586828194006787E-2},null,{"$f":"Iass!B153","v":71.411000000000001},null,null,null,null,{"$f":"E146/I$157","v":7.0586828194006787E-2},{"$f":"J146*D$157","v":209319.12148094643},null,19.536390941633886,10.743752736924339,{"$f":"[1]Iass!C153","v":9.3000000000000007},4.6959349983797471]
["2014-02-01",{"$f":"C147*D$157","v":202911.54282279359},{"$f":"J147","v":6.8426057354330827E-2},null,{"$f":"Iass!B154","v":69.224999999999994},null,null,null,null,{"$f":"E147/I$157","v":6.8426057354330827E-2},{"$f":"J147*D$157","v":202911.54282279359},null,20.894176948067788,12.453850853451787,{"$f":"[1]Iass!C154","v":10.6},5.979210400346302]
["2014-03-01",224962.87596336246,7.5862232572483687E-2,null,{"$f":"Iass!B155","v":76.748000000000005},null,null,null,null,7.5862232572483687E-2,224962.87596336246,null,32.730773219843478,15.452325612973471,{"$f":"[1]Iass!C155","v":21.4},8.4261117617615344]
["2014-04-01",219572.41980950019,7.4044456920990528E-2,null,{"$f":"Iass!B156","v":74.909000000000006},null,null,null,null,7.4044456920990528E-2,219572.41980950019,null,22.648799119122632,16.413405289450367,{"$f":"[1]Iass!C156","v":12.2},8.9892848412089332]
["2014-05-01",251059.24961090786,8.4662480873323079E-2,null,{"$f":"Iass!B157","v":85.650999999999996},null,null,null,null,8.4662480873323079E-2,251059.24961090786,null,30.166491670262751,18.551493097348761,{"$f":"[1]Iass!C157","v":19},10.613583625510238]
["2014-06-01",253547.82887933042,8.5501682356801986E-2,null,{"$f":"Iass!B158","v":86.5},null,null,null,null,8.5501682356801986E-2,253547.82887933042,null,30.983451800699058,21.04026337759446,{"$f":"[1]Iass!C158","v":19.8},12.585524361484769]
["2014-07-01",299388.69010295876,0.10096018883516067,null,{"$f":"Iass!B159","v":102.139},null,null,null,null,0.10096018883516067,299388.69010295876,null,32.219734737740133,22.770685363817744,{"$f":"[1]Iass!C159","v":20.9},13.780834173053735]
["2014-08-01",238232.36753950964,8.0336985358948926E-2,null,{"$f":"Iass!B160","v":81.275000000000006},null,null,null,null,8.0336985358948926E-2,238232.36753950964,null,25.518726179472594,{"$f":"((AVERAGE(B142:B153)/AVERAGE(B130:B141))-1)*100","v":24.113584637481988},{"$f":"[1]Iass!C160","v":14.8},{"$f":"((AVERAGE(E142:E153)/AVERAGE(E130:E141))-1)*100","v":14.732332917192803}]
["2014-09-01",277225.9717890094,9.3486452184296173E-2,null,{"$f":"Iass!B161","v":94.578000000000003},null,null,null,null,9.3486452184296173E-2,277225.9717890094,null,{"$f":"((B154/B142)-1)*100","v":37.855290773136559},25.691909632758492,{"$f":"[1]Iass!C161","v":26.1},15.840509185921881]
["2014-10-01",271085.13130921527,9.1415631091377098E-2,null,{"$f":"Iass!B162","v":92.483000000000004},null,null,null,null,9.1415631091377098E-2,271085.13130921527,null,24.323562406559063,26.022025098614776,{"$f":"[1]Iass!C162","v":13.7},15.808999030029192]
["2014-11-01",253005.55895629371,8.5318817487021539E-2,null,{"$f":"Iass!B163","v":86.314999999999998},null,null,null,null,8.5318817487021539E-2,253005.55895629371,null,22.350635877837831,26.742012504425581,{"$f":"[1]Iass!C163","v":11.9},16.189791081041037]
["2014-12-01",265102.57502317225,{"$f":"J157","v":8.9398186771258784E-2},2965413.3332869997,{"$f":"Iass!B164","v":90.441999999999993},null,null,null,{"$f":"SUM(E146:E157)","v":1011.6759999999999},8.9398186771258784E-2,265102.57502317225,null,31.294709162602665,27.709861815098137,{"$f":"[1]Iass!C164","v":20.100000000000001},16.787589768808875]
["2015-01-01",{"$f":"C158*D$169","v":254411.91345270106},{"$f":"J158","v":6.9295115491859141E-2},null,{"$f":"Iass!B165","v":83.153999999999996},null,null,null,null,{"$f":"E158/I$169","v":6.9295115491859141E-2},{"$f":"J158*D$169","v":254411.91345270106},null,21.54260521099085,27.769417203891365,{"$f":"[1]Iass!C165","v":16.399999999999999},17.319224107197108]
["2015-02-01",{"$f":"C159*D$169","v":259368.34729585206},{"$f":"J159","v":7.0645117741862898E-2},null,{"$f":"Iass!B166","v":84.774000000000001},null,null,null,null,{"$f":"E159/I$169","v":7.0645117741862898E-2},{"$f":"J159*D$169","v":259368.34729585206},null,27.823357748732526,28.256564338667655,{"$f":"[1]Iass!C166","v":22.5},18.20612415324716]
["2015-03-01",283896.57576532202,7.732596220993701E-2,null,{"$f":"Iass!B167","v":92.790999999999997},null,null,null,null,7.732596220993701E-2,283896.57576532202,null,26.197077873220962,27.757275503505351,{"$f":"[1]Iass!C167","v":20.9},18.213283673066961]
["2015-04-01",274730.23268255638,7.4829291382152302E-2,null,{"$f":"Iass!B168","v":89.795000000000002},null,null,null,null,7.4829291382152302E-2,274730.23268255638,null,25.120556088469947,27.89219959287168,{"$f":"[1]Iass!C168","v":19.899999999999999},18.80022429865036]
["2015-05-01",303128.76288757328,8.2564304273840455E-2,null,{"$f":"Iass!B169","v":99.076999999999998},null,null,null,null,8.2564304273840455E-2,303128.76288757328,null,20.739930258440118,27.014447301327849,{"$f":"[1]Iass!C169","v":15.7},18.489064084236674]
["2015-06-01",328100.62278127589,8.9365982276637126E-2,null,{"$f":"Iass!B170","v":107.239},null,null,null,null,8.9365982276637126E-2,328100.62278127589,null,29.403838412446802,26.952091592906346,{"$f":"[1]Iass!C170","v":24},18.899679721204521]
["2015-07-01",371451.06174646481,0.10117350195583659,null,{"$f":"Iass!B171","v":121.408},null,null,null,null,0.10117350195583659,371451.06174646481,null,24.069837647749502,26.184590817324562,{"$f":"[1]Iass!C171","v":18.899999999999999},18.716359958614781]
["2015-08-01",292582.57309909089,7.9691799486332468E-2,null,{"$f":"Iass!B172","v":95.63},null,null,null,null,7.9691799486332468E-2,292582.57309909089,null,22.813946786877114,25.936458970283205,{"$f":"[1]Iass!C172","v":17.7},18.917862357962136]
["2015-09-01",335804.51192760561,9.1464319107198516E-2,null,{"$f":"Iass!B173","v":109.75700000000001},null,null,null,null,9.1464319107198516E-2,335804.51192760561,null,21.130249723925232,24.605986332804484,{"$f":"[1]Iass!C173","v":16},18.090681318591308]
["2015-10-01",325665.23923859181,8.8702647837746396E-2,null,{"$f":"Iass!B174","v":106.443},null,null,null,null,8.8702647837746396E-2,325665.23923859181,null,20.133936400635456,24.203072613096886,{"$f":"[1]Iass!C174","v":15.1},18.172537525661081]
["2015-11-01",320797.53168028739,8.7376812294687162E-2,null,{"$f":"Iass!B175","v":104.852},null,null,null,null,8.7376812294687162E-2,320797.53168028739,null,26.794657399486077,24.560986200228108,{"$f":"[1]Iass!C175","v":21.5},18.945252724118266]
["2015-12-01",321488.9847966776,{"$f":"J169","v":8.7565145941909908E-2},3671426.3573539988,{"$f":"Iass!B176","v":105.078},null,null,null,{"$f":"SUM(E158:E169)","v":1199.998},8.7565145941909908E-2,321488.9847966776,null,21.269657515992325,23.808250139767885,{"$f":"[1]Iass!C176","v":16.2},18.614852976644713]
["2016-01-01",{"$f":"C170*D$181","v":288384.90199589648},{"$f":"J170","v":6.8554547079951386E-2},null,{"$f":"Iass!B177","v":90.872},null,null,null,null,{"$f":"E170/I$181","v":6.8554547079951386E-2},{"$f":"J170*D$181","v":288384.90199589648},null,13.353536822288593,23.082272273361127,{"$f":"[1]Iass!C177","v":9.3000000000000007},18.007971319664783]
["2016-02-01",{"$f":"C171*D$181","v":302983.13411559368},{"$f":"J171","v":7.2024823034786495E-2},null,{"$f":"Iass!B178","v":95.471999999999994},null,null,null,null,{"$f":"E171/I$181","v":7.2024823034786495E-2},{"$f":"J171*D$181","v":302983.13411559368},null,16.815770804134324,22.238651676326683,{"$f":"[1]Iass!C178","v":12.6},17.271561780536103]
["2016-03-01",328117.48159124621,7.7999732939633026E-2,null,{"$f":"Iass!B179","v":103.392},null,null,null,null,7.7999732939633026E-2,328117.48159124621,null,15.576413948183232,21.348703687255988,{"$f":"[1]Iass!C179","v":11.4},16.493098176227505]
["2016-04-01",327590.67582344846,7.7874501242132466E-2,null,{"$f":"Iass!B180","v":103.226},null,null,null,null,7.7874501242132466E-2,327590.67582344846,null,19.240854064274359,20.906307996845985,{"$f":"[1]Iass!C180","v":15},16.127627238883726]
["2016-05-01",352074.44991115801,8.3694757544643963E-2,null,{"$f":"Iass!B181","v":110.941},null,null,null,null,8.3694757544643963E-2,352074.44991115801,null,16.146830329571227,20.472992130730439,{"$f":"[1]Iass!C181","v":12},15.783565935551991]
["2016-06-01",370620.55176061677,8.8103516822917088E-2,null,{"$f":"Iass!B182","v":116.785},null,null,null,null,8.8103516822917088E-2,370620.55176061677,null,12.959417333287494,19.043104746562168,{"$f":"[1]Iass!C182","v":8.9},14.473281391805948]
["2016-07-01",398760.23093569401,9.4792850929769912E-2,null,{"$f":"Iass!B183","v":125.652},null,null,null,null,9.4792850929769912E-2,398760.23093569401,null,7.3520234565567444,17.312908619828438,{"$f":"[1]Iass!C183","v":3.5},12.887474840452162]
["2016-08-01",347082.48923196591,8.2508074049653601E-2,null,{"$f":"Iass!B184","v":109.36799999999999},null,null,null,null,8.2508074049653601E-2,347082.48923196591,null,18.627191481570971,17.043262435097883,{"$f":"[1]Iass!C184","v":14.4},12.67063143960636]
["2016-09-01",377932.36193535209,8.9841672431599726E-2,null,{"$f":"Iass!B185","v":119.089},null,null,null,null,8.9841672431599726E-2,377932.36193535209,null,12.545349604125811,16.286408778681462,{"$f":"[1]Iass!C185","v":8.5},11.996634471512223]
["2016-10-01",361560.12726023956,8.5949682507470523E-2,null,{"$f":"Iass!B186","v":113.93},null,null,null,null,8.5949682507470523E-2,361560.12726023956,null,11.022020067468773,15.509063648247823,{"$f":"[1]Iass!C186","v":7},11.29835236646457]
["2016-11-01",379868.21445557277,9.0301861199523506E-2,null,{"$f":"Iass!B187","v":119.699},null,null,null,null,9.0301861199523506E-2,379868.21445557277,null,18.413696160903225,14.976975748092002,{"$f":"[1]Iass!C187","v":14.2},10.810368478152665]
["2016-12-01",371674.16329621233,{"$f":"J181","v":8.8353980217918238E-2},4206648.7823129967,{"$f":"Iass!B188","v":117.117},null,null,null,{"$f":"SUM(E170:E181)","v":1325.5430000000001},8.8353980217918238E-2,371674.16329621233,null,15.610232658911727,14.578051494535039,{"$f":"[1]Iass!C188","v":11.5},10.462100770167959,"es 15% en Sabi2. Raruno!!!!"]
["2017-01-01",{"$f":"C182*D$193","v":350142.72274439718},{"$f":"J182","v":7.1029857288599771E-2},null,{"$f":"Iass!B189","v":109.866},null,null,null,null,{"$f":"E182/I$193","v":7.1029857288599771E-2},{"$f":"J182*D$193","v":350142.72274439718},null,21.415067266378408,15.194239665090127,{"$f":"[1]Iass!C189","v":20.9},11.328905139950107]
["2017-02-01",{"$f":"C183*D$193","v":348788.24859255424},{"$f":"J183","v":7.0755089031380475E-2},null,{"$f":"Iass!B190","v":109.441},null,null,null,null,{"$f":"E183/I$193","v":7.0755089031380475E-2},{"$f":"J183*D$193","v":348788.24859255424},null,15.118041012634409,15.075899018068517,{"$f":"[1]Iass!C190","v":14.6},11.497898087185465]
["2017-03-01",401791.21240266907,8.1507255821531233E-2,null,{"$f":"Iass!B191","v":126.072},null,null,null,null,8.1507255821531233E-2,401791.21240266907,null,22.453461014674691,15.676603315239079,{"$f":"[1]Iass!C191","v":21.9},{"$f":"((AVERAGE(E173:E184)/AVERAGE(E161:E172))-1)*100","v":12.381541315606427}]
["2017-04-01",362313.86812295695,7.3498892522295023E-2,null,{"$f":"Iass!B192","v":113.685},null,null,null,null,7.3498892522295023E-2,362313.86812295695,null,10.599566734378673,14.989569596261054,{"$f":"[1]Iass!C192","v":10.1},{"$f":"((AVERAGE(E174:E185)/AVERAGE(E162:E173))-1)*100","v":12.008489704985159}]
["2017-05-01",434132.86815067247,8.8068075290381562E-2,null,{"$f":"Iass!B193","v":136.22},null,null,null,null,8.8068075290381562E-2,434132.86815067247,null,23.307121053578573,15.651333677273715,{"$f":"[1]Iass!C193","v":22.8},{"$f":"((AVERAGE(E175:E186)/AVERAGE(E163:E174))-1)*100","v":12.964418684376277}]
["2017-06-01",447776.40660723555,9.0835799782512841E-2,null,{"$f":"Iass!B194","v":140.501},null,null,null,null,9.0835799782512841E-2,447776.40660723555,null,20.818018450432184,16.361950965722126,{"$f":"[1]Iass!C194","v":20.3},13.987669481333276]
["2017-07-01",452840.54643612576,9.1863109807739804E-2,null,{"$f":"Iass!B195","v":142.09},null,null,null,null,9.1863109807739804E-2,452840.54643612576,null,13.562113597319335,16.924462017486963,{"$f":"[1]Iass!C195","v":13.1},14.902452487974127]
["2017-08-01",403709.78520127939,8.1896456976463028E-2,null,{"$f":"Iass!B196","v":126.67400000000001},null,null,null,null,8.1896456976463028E-2,403709.78520127939,null,16.315226992470855,16.747906053594107,{"$f":"[1]Iass!C196","v":15.8},15.021086908018022]
["2017-09-01",441281.30467439845,8.9518205174953028E-2,null,{"$f":"Iass!B197","v":138.46299999999999},null,null,null,null,8.9518205174953028E-2,441281.30467439845,null,16.761978893430296,17.096682782634698,{"$f":"[1]Iass!C197","v":16.3},15.690265418186611]
["2017-10-01",433332.93165158405,8.7905800390235572E-2,null,{"$f":"Iass!B198","v":135.96899999999999},null,null,null,null,8.7905800390235572E-2,433332.93165158405,null,19.850862686439051,17.822536558501522,{"$f":"[1]Iass!C198","v":19.3},16.720350331149781]
["2017-11-01",443942.44800801919,9.0058043986195643E-2,null,{"$f":"Iass!B199","v":139.298},null,null,null,null,9.0058043986195643E-2,443942.44800801919,null,16.867490122667306,17.689626859719311,{"$f":"[1]Iass!C199","v":16.399999999999999},16.893134699247227]
["2017-12-01",409462.31659910624,{"$f":"J193","v":8.3063413927712035E-2},4929514.6591909984,{"$f":"Iass!B200","v":128.47900000000001},null,null,null,{"$f":"SUM(E182:E193)","v":1546.758},8.3063413927712035E-2,409462.31659910624,null,10.1670110636068,17.183889463682299,{"$f":"[1]Iass!C200","v":9.6999999999999993},16.688632507583677]
["2018-01-01",{"$f":"C194*D$205","v":415737.15429883054},{"$f":"J194","v":7.6859579607889361E-2},"por cierre de Stats. Laboral 2",{"$f":"Iass!B201","v":130.44800000000001},null,null,null,null,{"$f":"E194/I$205","v":7.6859579607889361E-2},{"$f":"J194*D$205","v":415737.15429883054},null,18.733626973683258,17.025146741238562,{"$f":"[1]Iass!C201","v":18.7},16.570983171158549]
["2018-02-01",395541.16550029244,{"$f":"J195","v":7.312583776458631E-2},null,{"$f":"Iass!B202","v":124.111},null,null,null,null,7.312583776458631E-2,{"$f":"J195*D$205","v":395541.16550029244},null,13.404384206290665,16.866355611538818,{"$f":"[1]Iass!C202","v":13.4},16.452190862609363]
["2018-03-01",429291.44502948888,7.936543475378928E-2,null,{"$f":"Iass!B203","v":134.70099999999999},null,null,null,null,7.936543475378928E-2,{"$f":"J196*D$205","v":429291.44502948888},null,6.8444086824028139,15.530870164041954,{"$f":"[1]Iass!C203","v":6.8},15.16472075448203]
["2018-04-01",431981.2690070754,7.98627170822961E-2,null,{"$f":"Iass!B204","v":135.54499999999999},null,null,null,null,7.98627170822961E-2,431981.2690070754,null,19.228466535119139,16.199059395170078,{"$f":"[1]Iass!C204","v":19.2},15.869995580769537]
["2018-05-01",478256.4398063136,8.841785856324294E-2,null,{"$f":"Iass!B205","v":150.065},null,null,null,null,8.841785856324294E-2,478256.4398063136,null,10.163610012667213,15.061849079212465,{"$f":"[1]Iass!C205","v":10.199999999999999},14.779903509291991]
["2018-06-01",483307.82725237374,8.9351735921872483E-2,null,{"$f":"Iass!B206","v":151.65},null,null,null,null,8.9351735921872483E-2,483307.82725237374,null,7.9350810183048237,13.899745400900665,{"$f":"[1]Iass!C206","v":7.9},13.664274211461592]
["2018-07-01",510687.30330858967,9.4413527964766028E-2,null,{"$f":"Iass!B207","v":160.24100000000001},null,null,null,null,9.4413527964766028E-2,510687.30330858967,null,12.774199953542231,13.818842400793185,{"$f":"[1]Iass!C207","v":12.8},13.627684996959676]
["2018-08-01",432322.27749712492,7.9925761168966991E-2,null,{"$f":"Iass!B208","v":135.65199999999999},null,null,null,null,7.9925761168966991E-2,432322.27749712492,null,7.0873913253254539,13.055074530413036,{"$f":"[1]Iass!C208","v":7.1},12.90288011806966]
["2018-09-01",447763.26940637489,8.2780420981307737E-2,null,{"$f":"Iass!B209","v":140.49700000000001},null,null,null,null,8.2780420981307737E-2,447763.26940637489,null,1.4688962943397721,11.685459717108394,{"$f":"[1]Iass!C209","v":1.5},11.57469951625365]
["2018-10-01",479002.19669109478,8.8555730678018543E-2,null,{"$f":"Iass!B210","v":150.29900000000001},null,null,null,null,8.8555730678018543E-2,479002.19669109478,null,10.539070932238893,10.971022977443678,{"$f":"[1]Iass!C210","v":10.5},10.897831305907047]
["2018-11-01",474183.45989712444,{"$f":"J204","v":8.7664864705622417E-2},null,{"$f":"Iass!B211","v":148.78700000000001},null,null,null,null,8.7664864705622417E-2,{"$f":"J204*D$205","v":474183.45989712444},null,6.8119216859747089,10.135677409783316,{"$f":"[1]Iass!C211","v":6.8},10.100260779629465]
["2018-12-01",430974.17851309758,{"$f":"J205","v":7.9676530807641893E-2},{"$f":"D193*1.097278","v":5409047.9862077804},{"$f":"Iass!B212","v":135.22900000000001},null,null,null,{"$f":"SUM(E194:E205)","v":1697.2249999999999},7.9676530807641893E-2,430974.17851309758,null,5.2536853922635851,9.7277999999999754,{"$f":"[1]Iass!C212","v":5.2537768818250452},9.7278953785918674]
["2019-01-01",{"$f":"B194*(1+(O206/100))","v":442393.18243690406},null,"por cierre de Stats",{"$f":"Iass!B213","v":138.81200000000001},null,null,null,null,{"$f":"AVERAGE(J194,J182)","v":7.3944718448244573E-2},{"$f":"J206*D$217","v":416538.50969448366},null,6.411750275972028,{"$f":"((AVERAGE(B195:B206)/AVERAGE(B183:B194))-1)*100","v":8.8205265509961208},{"$f":"[1]Iass!C213","v":6.411750275972028},8.8206132683399829]
["2019-02-01",{"$f":"B195*(1+(O207/100))","v":412374.87432684726},null,null,{"$f":"Iass!B214","v":129.393},null,"mientras llega el dato anual se ",null,null,{"$f":"AVERAGE(J195,J183)","v":7.1940463397983392E-2},405248.32657927222,null,4.2558677313050408,{"$f":"((AVERAGE(B196:B207)/AVERAGE(B184:B195))-1)*100","v":8.1453184338616147},{"$f":"[1]Iass!C214","v":4.2558677313050408},8.1453973110157349]
["2019-03-01",446660.56905537378,null,null,{"$f":"Iass!B215","v":140.15100000000001},null,"hace por promedio reciente",null,null,8.0436345287660249E-2,453106.53816125664,null,{"$f":"((B208/B196)-1)*100","v":4.0459981737329453},{"$f":"((AVERAGE(B197:B208)/AVERAGE(B185:B196))-1)*100","v":7.9012820140503814},{"$f":"[1]Iass!C215","v":4.0459981737329453},{"$f":"((AVERAGE(E197:E208)/AVERAGE(E185:E196))-1)*100","v":7.9013528525328391}]
["2019-04-01",437262.12010999129,null,null,{"$f":"Iass!B216","v":137.202},null,null,null,null,{"$f":"AVERAGE(J197,J185)","v":7.6680804802295555E-2},431951.17683594424,null,1.2224722416909639,6.5412749217176103,{"$f":"[1]Iass!C216","v":1.2224722416909639},6.5413373899766869]
["2019-05-01",495686.11674164643,null,null,{"$f":"Iass!B217","v":155.53399999999999},null,null,null,null,{"$f":"AVERAGE(J198,J186)","v":8.8242966926812244E-2},497082.07301432459,null,3.6444207510078819,5.970577170116842,{"$f":"[1]Iass!C217","v":3.6444207510078819},5.9706310596036261]
["2019-06-01",493334.11425887526,null,null,{"$f":"Iass!B218","v":154.79599999999999},null,null,null,null,{"$f":"AVERAGE(J199,J187)","v":9.0093767852192669E-2},507507.83262741618,null,2.0745136828222766,5.4411992431438572,{"$f":"[1]Iass!C218","v":2.0745136828222766},5.4412446343282239]
["2019-07-01",530672.95042167662,null,null,{"$f":"Iass!B219","v":166.512},null,null,null,null,9.3138318886252916E-2,524658.11431121046,null,3.9134803202675927,4.6640093806595395,{"$f":"[1]Iass!C219","v":3.9134803202675927},4.6640461355218932]
["2019-08-01",434355.58045648539,null,null,{"$f":"Iass!B220","v":136.29},null,null,null,null,8.091110907271501E-2,455780.93335314631,null,0.47032111579630165,{"$f":"((AVERAGE(B202:B213)/AVERAGE(B190:B201))-1)*100","v":4.1378468621917408},{"$f":"[1]Iass!C220","v":0.47032111579630165},4.1378763467021074]
["2019-09-01",469944.75623576168,null,null,{"$f":"Iass!B221","v":147.45699999999999},null,null,null,null,8.6149313078130382E-2,485288.29690364195,null,{"$f":"((B214/B202)-1)*100","v":4.9538424307992157},{"$f":"((AVERAGE(B203:B214)/AVERAGE(B191:B202))-1)*100","v":4.4283663522042715},{"$f":"[1]Iass!C221","v":4.9538424307992157},{"$f":"((AVERAGE(E203:E214)/AVERAGE(E191:E202))-1)*100","v":4.4283883416853742}]
["2019-10-01",493640.06580134958,null,null,{"$f":"Iass!B222","v":154.892},null,null,null,null,8.8230765534127065E-2,497013.34126401256,null,{"$f":"((B215/B203)-1)*100","v":3.0559085556124632},{"$f":"((AVERAGE(B204:B215)/AVERAGE(B192:B203))-1)*100","v":3.8113796527217358},{"$f":"[1]Iass!C222","v":3.0559085556124632},{"$f":"((AVERAGE(E204:E215)/AVERAGE(E192:E203))-1)*100","v":3.8113940270769753}]
["2019-11-01",475149.11945305899,null,null,{"$f":"Iass!B223","v":149.09},null,null,null,null,8.886145434590903E-2,500566.07881246257,null,{"$f":"((B216/B204)-1)*100","v":0.20364682398328338},{"$f":"((AVERAGE(B205:B216)/AVERAGE(B193:B204))-1)*100","v":3.2465954655702012},{"$f":"[1]Iass!C223","v":0.20364682398328338},{"$f":"((AVERAGE(E205:E216)/AVERAGE(E193:E204))-1)*100","v":3.2466022863396171}]
["2019-12-01",{"$f":"B237/1000","v":456623.45800855418},null,{"$f":"D205*(1+(D220/100))","v":5633106.9809404649},null,null,null,null,null,{"$f":"AVERAGE(J205,J193)","v":8.1369972367676957E-2},458365.7593832938]
["2020-01-01",{"$f":"B238/1000","v":439335.10813872307},null,"según proyecciones",null,null,null,null,null,{"$f":"AVERAGE(J206,J194)","v":7.5402149028066967E-2},{"$f":"J218*D$229","v":442342.72388408665}]
["2020-02-01",421728.74432755838,null,"7,6% SECTOR ETTs",null,null,null,null,null,{"$f":"AVERAGE(J207,J195)","v":7.2533150581284844E-2},{"$f":"J219*D$229","v":425511.89606117632},null,null,"jugamos a emparejar el dato en curso con el INE IASS"]
["2020-03-01",461036.42165288678,null,{"$f":"(7.6423-1.5-2)","v":4.1422999999999996},"PARA SINCRONIZAR",null,null,null,null,7.9900890020724757E-2,468734.35025537899]
["2020-04-01",450822.59158647363,null,null,null,null,null,null,null,{"$f":"AVERAGE(J209,J197)","v":7.827176094229582E-2},459177.15058136452]
["2020-05-01",511439.33161507832,null,null,null,null,null,null,null,{"$f":"AVERAGE(J210,J198)","v":8.8330412745027592E-2},518185.69999771815]
["2020-06-01",525269.0725889965,null,null,null,null,null,null,null,{"$f":"AVERAGE(J211,J199)","v":8.9722751887032576E-2},526353.78401897952,null,null,null,null,null,null,null,null,"para poder darle valores a 2018 y 2019."]
["2020-07-01",562048.58017779246,null,null,null,null,null,null,null,9.3775923425509472E-2,550131.50072612474]
["2020-08-01",462021.44421306031,null,null,null,null,null,null,null,8.0418435120841E-2,471770.50124403404]
["2020-09-01",503165.45788801118,null,null,null,null,null,null,null,8.446486702971906E-2,495508.68027018278]
["2020-10-01",525526.83878920926,null,null,null,null,null,null,null,8.8393248106072797E-2,518554.32032378647]
["2020-11-01",506719.26188580302,null,null,null,null,null,null,null,8.8263159525765716E-2,517791.16253981099]
["2020-12-01",{"$f":"B249/1000","v":487273.73763355881},null,{"$f":"D217*(1+(D232/100))","v":5866447.1714119613},null,null,null,null,null,{"$f":"AVERAGE(J217,J205)","v":8.0523251587659425E-2},{"$f":"J229*D$229","v":472385.40150931838}]
[null,null,null,"según proyecciones"]
[null,null,null,"7,6% SECTOR ETTs"]
[null,null,null,{"$f":"(7.6423-1.5-2)","v":4.1422999999999996},"PARA SINCRONIZAR"]
[]
[]
[null,null,null,null,null,null,null,null,null,null,null,null,null,null,null,null,null,null,null,"Pestaña Facturacion de Laboral 2 (iAnual)"]
[]
[null,456623458.00855416]
[null,439335108.13872308]
[null,421728744.3275584,null,null,null,null,null,null,null,null,null,null,"% Sabi mensualizado i.a.",null,"% Iass mensualizado i.a."]
[null,461036421.65288681,null,null,null,null,null,null,null,null,null,null,null,"% sabi 12m trend",null,"% Iass 12m trend"]
[null,450822591.58647364]
[null,511439331.61507833]
[null,525269072.58899647]
[null,562048580.17779243]
[null,462021444.21306032]
[null,503165457.88801116]
[null,525526838.78920931]
[null,506719261.88580304]
[null,487273737.63355881]
[]
[]
[]
[]
[]
["etts","etts","etts"]
["cpds","dnis","fact"]
[354679,68726.881654004959,442393182.43690413,"2019-01-01"]
[287155,53666.806450471347,412374874.32684726,"2019-02-01"]
[321344,57568.364394710923,446660569.05537379,"2019-03-01",null,null,null,null,null,null,null,null,null,"se puede hacer un foco a la parte del final pq es impresionante lo bien que sincroniza"]
[353127,61674.154128026923,437262120.10999131,"2019-04-01",null,null,null,null,null,null,null,null,null,null,"foco en escala a periodo reciente 2018-2019"]
[393071,70124.580941205932,495686116.74164641,"2019-05-01"]
[381685,68565.342385808923,493334114.25887525,"2019-06-01",null,null,null,null,null,null,null,null,null,"ahora voy a ver el % i.a. de Sabi estimado por si estuvieramos usando +/- que Iass obs."]
[379951,73071.134116562738,530736690.32635874,"2019-07-01"]
[299075,59954.145539044337,434288653.55656916,"2019-08-01"]
[358585,68743.035580824566,470005309.14520973,"2019-09-01"]
[398910.129567592,72822.395595374881,480669702.23171383,"2019-10-01"]
[373463.33485666983,70355.149096397115,470914979.49059594,"2019-11-01"]
[355294.34073073219,66149.535732009957,449386826.49320745,"2019-12-01"]
[358288.37905654992,69783.280851985488,429549301.7059589,"2020-01-01"]
[297450.49355735694,55600.059736202544,415590459.30000085,"2020-02-01"]
[332723.71233758488,60051.742624412589,453014149.55043459,"2020-03-01"]
[356770.54083440726,64537.879443914506,443074796.51564312,"2020-04-01"]
[404404.20061820053,71703.131764952414,502596264.78913814,"2020-05-01"]
[402688.34510267136,72128.693126735627,516684636.18997127,"2020-06-01"]
[390192.17919989227,74734.027667232178,554262502.85222733,"2020-07-01"]
[318161.3441731417,62334.790155367918,456030371.53482318,"2020-08-01"]
[376174.29172436026,70751.629027174058,496497076.02101147,"2020-09-01"]
[420755.08846599824,75632.997877315895,512223051.0016802,"2020-10-01"]
[395192.74811689404,73949.508026072392,497724814.39416718,"2020-11-01"]
[375072.73635093996,69675.418906294071,478002742.00288868,"2020-12-01"]
[null,null,null,null,null,null,null,null,null,null,null,null,null,"sí, parece que los 5 puntos recientes de % i.a. Sabi están por debajo de Sabi Fact estimado"]

{"sheet":"Comision Europea","index":12,"n_rows":122,"n_cols":35,"rows_kept":122,"cut":false,"hidden":true,"merged":[]}
["España ",null,null,null,null,null,"Indicador de Confianza (3)",null,null,null,null,null,null,null,null,null,null,null,null,null,null,null,null,null,null,"Etiquetas de fila","Promedio de SERV.ES.78.COF.B.M"]
["Datos comision cod: 78",null,null,null,null,1,"Business situation development over the past 3 months",null,null,null,null,null,null,null,null,null,null,null,null,null,null,null,null,null,null,"2011-09-01",8.5333333333333332]
[null,null,null,null,null,2,"Evolution of the demand over the past 3 months",null,null,null,null,null,null,null,null,null,null,null,null,null,null,null,null,null,null,"2011-10-01",11.425000000000002]
["Cod. 78",null,null,null,null,3,"Expectation of the demand over the next 3 months",null,null,null,null,null,null,null,null,null,null,null,null,null,null,null,null,null,null,"2011-11-01",14]
[null,null,null,null,null,4,"Evolution of the employment over the past 3 months",null,null,null,null,null,null,null,null,null,null,null,null,null,null,null,null,null,null,"2011-12-01",13.616666666666665]
[null,null,null,null,null,5,"Expectations of the employment over the next 3 months",null,null,null,null,null,null,null,null,null,null,null,null,null,null,null,null,null,null,"2012-01-01",9.0416666666666696]
[null,null,null,null,null,6,"Expectations of the prices over the nest 3 months",null,null,null,null,null,null,null,null,null,null,null,null,null,null,null,null,null,null,"2012-02-01",10.058333333333335]
["fecha","SERV.ES.78.COF.B.M","SERV.ES.78.1.B.M","SERV.ES.78.2.B.M","SERV.ES.78.3.B.M","SERV.ES.78.4.B.M","SERV.ES.78.5.B.M","SERV.ES.78.6.B.M",null,null,null,null,null,null,null,null,null,null,null,null,null,null,null,null,null,"2012-03-01",12.933333333333332]
["2010-10-01",-34.299999999999997,-38.9,-69.400000000000006,5.5,-25,-16.7,-38.9,null,null,null,null,null,null,null,null,null,null,null,null,null,null,null,null,null,"2012-04-01",10.616666666666669]
["2010-11-01",-24,-5.5,-27.7,-38.9,-27.7,-5.6,-16.600000000000001,null,null,null,null,null,null,null,null,null,null,null,null,null,null,null,null,null,"2012-05-01",6.8166666666666664]
["2010-12-01",-19.399999999999999,-8.3000000000000007,-33.299999999999997,-16.600000000000001,-16.600000000000001,-16.7,16.7,null,null,null,null,null,null,null,null,null,null,null,null,null,null,null,null,null,"2012-06-01",5.45]
["2011-01-01",42.8,33.299999999999997,33.299999999999997,61.9,47.6,0,19,null,null,null,null,null,null,null,null,null,null,null,null,null,null,null,null,null,"2012-07-01",6.8833333333333337]
["2011-02-01",-9.5,-14.3,-28.5,14.3,-42.8,14.3,-14.3,null,null,null,null,null,null,null,null,null,null,null,null,null,null,null,null,null,"2012-08-01",7.9166666666666679]
["2011-03-01",-13.9,-61.1,-38.9,58.3,-16.7,-8.3000000000000007,8.3000000000000007,null,null,null,null,null,null,null,null,null,null,null,null,null,null,null,null,null,"2012-09-01",4.55]
["2011-04-01",52.8,79.2,83.4,-4.0999999999999996,33.299999999999997,0,-16.600000000000001,null,null,null,null,null,null,null,null,null,null,null,null,null,null,null,null,null,"2012-10-01",4.3749999999999991]
["2011-05-01",46.1,64.400000000000006,17.399999999999999,56.4,43.9,56.4,-9.1,null,null,null,null,null,null,null,null,null,null,null,null,null,null,null,null,null,"2012-11-01",3.1166666666666658]
["2011-06-01",38.799999999999997,65.599999999999994,50.8,0,0,0,65.599999999999994,null,null,null,null,null,null,null,null,"media movil 12 meses para entender algo en la Trend. ",null,null,null,null,null,null,null,null,"2012-12-01",5.666666666666667]
["2011-07-01",-2.8,-18,-7.3,17,-7.3,0,-19.8,null,null,null,null,null,null,null,null,null,null,null,null,null,null,null,null,null,"2013-01-01",7.5166666666666657]
["2011-08-01",2,4.3,-26,27.6,49.6,42.9,0,null,null,null,null,null,null,null,null,{"$f":"A8","v":"fecha"},{"$f":"B8","v":"SERV.ES.78.COF.B.M"},{"$f":"C8","v":"SERV.ES.78.1.B.M"},"SERV.ES.78.2.B.M","SERV.ES.78.3.B.M","SERV.ES.78.4.B.M","SERV.ES.78.5.B.M","SERV.ES.78.6.B.M",null,"2013-02-01",9.0499999999999989,{"$f":"L8","v":0},{"$f":"M8","v":0},{"$f":"N8","v":0},{"$f":"O8","v":0},{"$f":"P8","v":0},{"$f":"Q8","v":0},{"$f":"R8","v":0},{"$f":"S8","v":0}]
["2011-09-01",23.8,27.1,20.100000000000001,24.1,27.1,34.1,-14.6,null,null,null,null,null,null,null,null,{"$f":"A20","v":"2011-09-01"},{"$f":"AVERAGE(B9:B20)","v":8.5333333333333332},{"$f":"AVERAGE(C9:C20)","v":10.649999999999999},-2.1750000000000003,17.125,5.45,8.3666666666666671,-1.6916666666666664,null,"2013-03-01",7.8250000000000002,{"$f":"Q20","v":"2011-09-01"}]
["2011-10-01",0.4,-12.4,-12.4,26.1,-3.4,-3.4,-20.5,null,null,null,null,null,null,null,null,{"$f":"A21","v":"2011-10-01"},{"$f":"AVERAGE(B10:B21)","v":11.425000000000002},{"$f":"AVERAGE(C10:C21)","v":12.858333333333334},{"$f":"AVERAGE(D10:D21)","v":2.5750000000000011},{"$f":"AVERAGE(E10:E21)","v":18.841666666666665},{"$f":"AVERAGE(F10:F21)","v":7.25},{"$f":"AVERAGE(G10:G21)","v":9.4749999999999996},-0.15833333333333441,null,"2013-04-01",8.4249999999999989]
["2011-11-01",6.9,18.3,-10.7,13,-5.4,18.3,-7.7,null,null,null,null,null,null,null,null,"2011-11-01",14,14.841666666666669,3.9916666666666671,23.166666666666668,9.1083333333333325,11.466666666666667,0.58333333333333293,null,"2013-05-01",5.9416666666666664]
["2011-12-01",-24,-36,-28.1,-7.9,-36,-15.8,-7.9,null,null,null,null,null,null,null,null,"2011-12-01",13.616666666666665,12.533333333333333,4.4249999999999998,23.891666666666669,7.4916666666666645,11.541666666666666,-1.4666666666666675,null,"2013-06-01",2.8666666666666671]
["2012-01-01",-12.1,-34.299999999999997,-34.299999999999997,32.299999999999997,-56.1,28.7,30.8,null,null,null,null,null,null,null,null,"2012-01-01",9.0416666666666696,6.9000000000000021,-1.2083333333333328,21.424999999999997,-1.1500000000000015,13.933333333333332,-0.483333333333334,null,"2013-07-01",2.9333333333333336]
["2012-02-01",2.7,-14.7,-14.7,37.4,-13.3,36,-8.5,null,null,null,null,null,null,null,null,"2012-02-01",10.058333333333335,6.8666666666666671,-5.8333333333333869E-2,23.349999999999994,1.3083333333333327,15.741666666666667,0,null,"2013-08-01",3.2416666666666671]
["2012-03-01",20.6,-12.4,37.1,37.1,19,0,-6.7,null,null,null,null,null,null,null,null,"2012-03-01",12.933333333333332,10.925000000000004,6.2749999999999986,21.583333333333332,4.2833333333333314,16.433333333333334,-1.2500000000000007,null,"2013-09-01",5.9666666666666677]
["2012-04-01",25,12.7,16.600000000000001,45.8,63.6,55.5,-13.3,null,null,null,null,null,null,null,null,"2012-04-01",10.616666666666669,5.3833333333333337,0.70833333333333337,25.741666666666664,6.8083333333333336,21.058333333333334,-0.97500000000000109,null,"2013-10-01",4.7666666666666675]
["2012-05-01",0.5,0,38.5,-37.1,-11.5,-22.1,-16.5,null,null,null,null,null,null,null,null,"2012-05-01",6.8166666666666664,1.6666666666666163E-2,2.4666666666666672,17.95,2.1916666666666669,14.516666666666667,-1.591666666666667,null,"2013-11-01",7.9666666666666677]
["2012-06-01",22.4,7.7,29.3,30.1,6.9,17.2,-11.3,null,null,null,null,null,null,null,null,"2012-06-01",5.45,-4.8083333333333327,0.67499999999999927,20.458333333333332,2.7666666666666671,15.950000000000001,-8,null,"2013-12-01",8.4583333333333339]
["2012-07-01",14.4,51.5,3.4,-11.8,48.1,-16.8,8.4,null,null,null,null,null,null,null,null,"2012-07-01",6.8833333333333337,0.98333333333333306,1.5666666666666667,18.058333333333334,7.3833333333333329,14.549999999999999,-5.6499999999999995,null,"2014-01-01",10.833333333333334]
["2012-08-01",14.4,51.5,3.4,-11.8,48.1,-16.8,8.4,null,null,null,null,null,null,null,null,"2012-08-01",7.9166666666666679,4.916666666666667,4.0166666666666657,14.774999999999997,7.2583333333333337,9.5749999999999993,-4.95,null,"2014-02-01",8.2333333333333343]
["2012-09-01",-16.600000000000001,-38.5,-38.5,27.1,7.3,5.2,19.8,null,null,null,null,null,null,null,null,"2012-09-01",4.55,-0.55000000000000071,-0.86666666666666681,15.024999999999999,5.6083333333333334,7.166666666666667,-2.083333333333333,null,"2014-03-01",9.2833333333333332]
["2012-10-01",-1.7,-11.4,-17.8,24,-6.4,24,3.8,null,null,null,null,null,null,null,null,"2012-10-01",4.3749999999999991,-0.46666666666666695,-1.3166666666666667,14.85,5.3583333333333334,9.4500000000000011,-5.8333333333333647E-2,null,"2014-04-01",8.9666666666666686]
["2012-11-01",-8.1999999999999993,-19.600000000000001,-23.9,18.8,5.0999999999999996,23.9,-23.9,null,null,null,null,null,null,null,null,"2012-11-01",3.1166666666666658,-3.625,-2.4166666666666665,15.333333333333334,6.2333333333333334,9.9166666666666696,-1.4083333333333339,null,"2014-05-01",11.65]
["2012-12-01",6.6,9.9,29.6,-19.7,25.7,0,0,null,null,null,null,null,null,null,null,"2012-12-01",5.666666666666667,0.19999999999999987,2.3916666666666679,14.35,11.374999999999998,11.233333333333334,-0.75,null,"2014-06-01",15.566666666666668]
["2013-01-01",10.1,-9.8000000000000007,-40.200000000000003,80.400000000000006,-6.1,14.5,-9.8000000000000007,null,null,null,null,null,null,null,null,"2013-01-01",7.5166666666666657,2.2416666666666663,1.900000000000001,18.358333333333334,15.541666666666666,10.050000000000002,-4.1333333333333329,null,"2014-07-01",13.716666666666669]
["2013-02-01",21.1,15.1,15.1,33.200000000000003,-5.4,15.1,8.5,null,null,null,null,null,null,null,null,"2013-02-01",9.0499999999999989,4.7249999999999996,4.3833333333333346,18.008333333333336,16.2,8.3083333333333318,-2.7166666666666663,null,"2014-08-01",9.6750000000000025]
["2013-03-01",5.9,-27.5,-34.299999999999997,79.5,-34.299999999999997,65.8,-34.299999999999997,null,null,null,null,null,null,null,null,"2013-03-01",7.8250000000000002,3.4666666666666663,-1.5666666666666647,21.541666666666668,11.758333333333331,13.791666666666666,-5.0166666666666666,null,"2014-09-01",12.841666666666667]
["2013-04-01",32.200000000000003,6.7,-3.5,93.3,0,68.8,0,null,null,null,null,null,null,null,null,"2013-04-01",8.4249999999999989,2.9666666666666668,-3.2416666666666658,25.5,6.4583333333333321,14.9,-3.9083333333333328,null,"2014-10-01",18.200000000000003]
["2013-05-01",-29.3,-27.2,-36.5,-24.4,-33.200000000000003,-27.2,-6.1,null,null,null,null,null,null,null,null,"2013-05-01",5.9416666666666664,0.70000000000000018,-9.4916666666666654,26.558333333333337,4.6499999999999986,14.475,-3.0416666666666661,null,"2014-11-01",16.658333333333331]
["2013-06-01",-14.5,-48.3,-25.3,30.2,-55.5,37.4,18.7,null,null,null,null,null,null,null,null,"2013-06-01",2.8666666666666671,-3.9666666666666668,-14.041666666666666,26.566666666666666,-0.55000000000000071,16.158333333333335,-0.54166666666666641,null,"2014-12-01",16.733333333333331]
["2013-07-01",15.2,5.4,-6.2,46.5,-11.6,23.2,-11.6,null,null,null,null,null,null,null,null,"2013-07-01",2.9333333333333336,-7.8083333333333327,-14.841666666666669,31.425000000000001,-5.5249999999999995,19.491666666666667,-2.2083333333333326,null,"2015-01-01",14.899999999999999]
["2013-08-01",18.100000000000001,12.8,-10,51.6,12.8,22.8,-15.9,null,null,null,null,null,null,null,null,"2013-08-01",3.2416666666666671,-11.033333333333333,-15.958333333333334,36.708333333333336,-8.4666666666666668,22.791666666666668,-4.2333333333333325,null,"2015-02-01",17.749999999999996]
["2013-09-01",16.100000000000001,15.6,-31.4,64.2,57.2,36.700000000000003,-10.199999999999999,null,null,null,null,null,null,null,null,"2013-09-01",5.9666666666666677,-6.5249999999999995,-15.366666666666667,39.800000000000004,-4.3083333333333327,25.416666666666668,-6.7333333333333334,null,"2015-03-01",20.116666666666664]
["2013-10-01",-16.100000000000001,-39.4,-39.4,30.4,-2,24.5,0,null,null,null,null,null,null,null,null,"2013-10-01",4.7666666666666675,-8.8583333333333325,-17.166666666666668,40.333333333333336,-3.9416666666666664,25.458333333333332,-7.05,null,"2015-04-01",22.375]
["2013-11-01",30.2,25.8,25.8,39,25.8,34.799999999999997,-7,null,null,null,null,null,null,null,null,"2013-11-01",7.9666666666666677,-5.0749999999999993,-13.024999999999999,42.016666666666666,-2.2166666666666659,26.366666666666671,-5.6416666666666657,null,"2015-05-01",26.333333333333332]
["2013-12-01",12.5,17.7,17.7,2.2999999999999998,17.7,37.799999999999997,4.4000000000000004,null,null,null,null,null,null,null,null,"2013-12-01",8.4583333333333339,-4.4249999999999998,-14.016666666666667,43.85,-2.8833333333333315,29.516666666666669,-5.2749999999999995,null,"2015-06-01",28.833333333333332]
["2014-01-01",38.6,41.7,41.7,32.299999999999997,-5.9,15.4,0,null,null,null,null,null,null,null,null,"2014-01-01",10.833333333333334,-0.13333333333333167,-7.1916666666666655,39.841666666666661,-2.8666666666666671,29.591666666666665,-4.458333333333333,null,"2015-07-01",31.608333333333334]
["2014-02-01",-10.1,-25.3,-13.7,8.6,-30.6,14,-3.3,null,null,null,null,null,null,null,null,"2014-02-01",8.2333333333333343,-3.4999999999999987,-9.5916666666666668,37.791666666666664,-4.9666666666666668,29.5,-5.4416666666666664,null,"2015-08-01",35.858333333333334]
["2014-03-01",18.5,8.8000000000000007,23.9,22.9,18.600000000000001,14.1,5.3,null,null,null,null,null,null,null,null,"2014-03-01",9.2833333333333332,-0.47499999999999937,-4.741666666666668,33.075000000000003,-0.55833333333333302,25.191666666666666,-2.1416666666666671,null,"2015-09-01",34.458333333333336]
["2014-04-01",28.4,29.6,40.700000000000003,14.8,40.700000000000003,-3.7,-11.1,null,null,null,null,null,null,null,null,"2014-04-01",8.9666666666666686,1.4333333333333342,-1.0583333333333342,26.533333333333335,2.8333333333333339,19.150000000000002,-3.0666666666666669,null,"2015-10-01",34.708333333333336]
["2014-05-01",2.9,-15.3,-12.4,36.4,-27.4,42.4,-6,null,null,null,null,null,null,null,null,"2014-05-01",11.65,2.4250000000000003,0.94999999999999918,31.599999999999998,3.3166666666666682,24.95,-3.0583333333333336,null,"2015-11-01",38.783333333333339]
["2014-06-01",32.5,14.1,22.8,60.7,26.2,46.7,0,null,null,null,null,null,null,null,null,"2014-06-01",15.566666666666668,7.6250000000000009,4.9583333333333348,34.141666666666666,10.125000000000002,25.724999999999998,-4.6166666666666671,null,"2015-12-01",41.766666666666673]
["2014-07-01",-7,-6,-14.9,0,-11.8,-38.4,0,null,null,null,null,null,null,null,null,"2014-07-01",13.716666666666669,6.6750000000000007,4.2333333333333352,30.266666666666666,10.108333333333333,20.591666666666665,-3.65,null,"2016-01-01",45.408333333333331]
["2014-08-01",-30.4,-33.1,-40.700000000000003,-17.3,-48.3,-9.6999999999999993,-26.4,null,null,null,null,null,null,null,null,"2014-08-01",9.6750000000000025,2.8499999999999996,1.6750000000000014,24.525000000000002,5.0166666666666666,17.883333333333336,-4.5249999999999995,null,"2016-02-01",46.558333333333337]
["2014-09-01",54.1,72.400000000000006,72.400000000000006,17.5,45.8,17.5,-17.5,null,null,null,null,null,null,null,null,"2014-09-01",12.841666666666667,7.5833333333333348,10.325000000000001,20.633333333333336,4.0666666666666673,16.283333333333335,-5.1333333333333329,null,"2016-03-01",46.15]
["2014-10-01",48.2,48.1,56.9,39.700000000000003,35,0,3.4,null,null,null,null,null,null,null,null,"2014-10-01",18.200000000000003,14.875,18.350000000000001,21.408333333333331,7.1500000000000012,14.241666666666667,-4.8499999999999996,null,"2016-04-01",44.908333333333331]
["2014-11-01",11.7,4.8,4.8,25.6,-7.6,10.4,4.7,null,null,null,null,null,null,null,null,"2014-11-01",16.658333333333331,13.125,16.600000000000001,20.291666666666664,4.3666666666666663,12.20833333333333,-3.8749999999999996,null,"2016-05-01",43.116666666666667]
["2014-12-01",13.4,-16.7,41.7,15.2,64.400000000000006,17.399999999999999,3.8,null,null,null,null,null,null,null,null,"2014-12-01",16.733333333333331,10.258333333333335,18.599999999999998,21.366666666666664,8.2583333333333346,10.508333333333331,-3.9250000000000003,null,"2016-06-01",39.991666666666667]
["2015-01-01",16.600000000000001,29.8,22.5,-2.6,36.4,26.5,0,null,null,null,null,null,null,null,null,"2015-01-01",14.899999999999999,9.2666666666666675,17.000000000000004,18.458333333333329,11.783333333333333,11.433333333333332,-3.9250000000000003,null,"2016-07-01",41.241666666666667]
["2015-02-01",24.1,19.3,7.2,45.9,42.1,56.6,16.899999999999999,null,null,null,null,null,null,null,null,"2015-02-01",17.749999999999996,12.983333333333334,18.741666666666671,21.566666666666663,17.841666666666669,14.983333333333334,-2.2416666666666671,null,"2016-08-01",39.483333333333334]
["2015-03-01",46.9,38.4,38.4,63.9,49.5,56.7,24.1,null,null,null,null,null,null,null,null,"2015-03-01",20.116666666666664,15.450000000000001,19.95,24.983333333333334,20.416666666666668,18.533333333333335,-0.67500000000000016,null,"2016-09-01",38.958333333333336]
["2015-04-01",55.5,62.1,43.2,61.3,30.6,37.9,0,null,null,null,null,null,null,null,null,"2015-04-01",22.375,18.158333333333331,20.158333333333331,28.858333333333334,19.574999999999999,22,0.25,null,"2016-10-01",38.875]
["2015-05-01",50.4,38.299999999999997,38.299999999999997,74.5,11.4,51.8,4.3,null,null,null,null,null,null,null,null,"2015-05-01",26.333333333333332,22.625,24.383333333333336,32.033333333333339,22.808333333333334,22.783333333333331,1.1083333333333336,null,"2016-11-01",36.408333333333331]
["2015-06-01",62.5,65.7,61,61,52,22.8,-13.6,null,null,null,null,null,null,null,null,"2015-06-01",28.833333333333332,26.924999999999997,27.566666666666666,32.05833333333333,24.958333333333332,20.791666666666668,-2.4999999999999616E-2,null,"2016-12-01",37.108333333333334]
["2015-07-01",26.3,55.8,17.899999999999999,5.3,40.1,23.3,-21,null,null,null,null,null,null,null,null,"2015-07-01",31.608333333333334,32.074999999999996,30.299999999999997,32.5,29.283333333333335,25.933333333333337,-1.7749999999999997,null,"2017-01-01",35.766666666666666]
["2015-08-01",20.6,20.6,33.700000000000003,7.4,51.8,-0.7,-14.3,null,null,null,null,null,null,null,null,"2015-08-01",35.858333333333334,36.550000000000004,36.5,34.55833333333333,37.625000000000007,26.683333333333337,-0.76666666666666661,null,"2017-02-01",35.18333333333333]
["2015-09-01",37.299999999999997,43.6,12.3,56,37.6,12.4,18.399999999999999,null,null,null,null,null,null,null,null,"2015-09-01",34.458333333333336,34.15,31.491666666666664,37.766666666666666,36.94166666666667,26.258333333333336,2.2249999999999992,null,"2017-03-01",33.449999999999996]
["2015-10-01",51.2,53.3,53.3,47,2.7,22.8,0,null,null,null,null,null,null,null,null,"2015-10-01",34.708333333333336,34.583333333333336,31.191666666666666,38.375,34.250000000000007,28.158333333333335,1.9416666666666662,null,"2017-04-01",33.266666666666659]
["2015-11-01",60.6,64.5,53,64.5,53,34.5,12.2,null,null,null,null,null,null,null,null,"2015-11-01",38.783333333333339,39.558333333333337,35.208333333333336,41.616666666666667,39.300000000000004,30.166666666666668,2.566666666666666,null,"2017-05-01",33.841666666666661]
["2015-12-01",49.2,71.7,42,34,71.7,37.6,8,null,null,null,null,null,null,null,null,"2015-12-01",41.766666666666673,46.925000000000004,35.233333333333334,43.183333333333337,39.908333333333339,31.850000000000005,2.9166666666666661,null,"2017-06-01",31.108333333333331]
["2016-01-01",60.3,75.099999999999994,75.099999999999994,30.9,30.9,43.3,-12.5,null,null,null,null,null,null,null,null,"2016-01-01",45.408333333333331,50.70000000000001,39.616666666666674,45.974999999999994,39.449999999999996,33.250000000000007,1.8749999999999993,null,"2017-07-01",30.291666666666668]
["2016-02-01",37.9,25.1,21.9,66.7,41.6,48.9,7.3,null,null,null,null,null,null,null,null,"2016-02-01",46.558333333333337,51.183333333333344,40.841666666666669,47.708333333333336,39.408333333333331,32.608333333333334,1.075,null,"2017-08-01",33.341666666666669]
["2016-03-01",42,38.200000000000003,26,61.8,37.4,49.6,0,null,null,null,null,null,null,null,null,"2016-03-01",46.15,51.166666666666679,39.808333333333337,47.533333333333331,38.399999999999991,32.016666666666666,-0.93333333333333357,null,"2017-09-01",35.241666666666667]
["2016-04-01",40.6,21.9,33.1,66.900000000000006,6,55.6,33.1,null,null,null,null,null,null,null,null,"2016-04-01",44.908333333333331,47.81666666666667,38.966666666666669,48,36.35,33.491666666666667,1.825,null,"2017-10-01",36.416666666666671]
["2016-05-01",28.9,26.3,5.6,54.7,30.1,54.7,0,null,null,null,null,null,null,null,null,"2016-05-01",43.116666666666667,46.816666666666663,36.241666666666667,46.35,37.908333333333331,33.733333333333334,1.4666666666666661,null,"2017-11-01",35.666666666666671]
["2016-06-01",25,13.1,-1.6,63.4,27.9,31.7,12.1,null,null,null,null,null,null,null,null,"2016-06-01",39.991666666666667,42.433333333333337,31.024999999999995,46.550000000000004,35.9,34.475000000000001,3.6083333333333338,null,"2017-12-01",35.491666666666667]
["2016-07-01",41.3,27.5,27.5,69.099999999999994,64.900000000000006,57.2,12,null,null,null,null,null,null,null,null,"2016-07-01",41.241666666666667,40.074999999999996,31.824999999999999,51.866666666666674,37.966666666666669,37.299999999999997,6.3583333333333334,null,"2018-01-01",35.583333333333336]
["2016-08-01",-0.5,-3.1,-3.1,4.8,-22,9.3000000000000007,-22,null,null,null,null,null,null,null,null,"2016-08-01",39.483333333333334,38.1,28.758333333333329,51.650000000000006,31.816666666666663,38.133333333333333,5.7166666666666659,null,"2018-02-01",37.241666666666667]
["2016-09-01",31,19.2,11.6,62.2,59.1,51.5,4.0999999999999996,null,null,null,null,null,null,null,null,"2016-09-01",38.958333333333336,36.06666666666667,28.700000000000003,52.166666666666664,33.608333333333341,41.391666666666666,4.5250000000000004,null,"2018-03-01",40.050000000000004]
["2016-10-01",50.2,45.1,45.1,60.6,35.200000000000003,25.4,9.9,null,null,null,null,null,null,null,null,"2016-10-01",38.875,35.383333333333333,28.016666666666669,53.300000000000004,36.31666666666667,41.608333333333327,5.3500000000000005,null,"2018-04-01",40.283333333333331]
["2016-11-01",31,25.5,12.7,54.9,12.7,67.599999999999994,35.299999999999997,null,null,null,null,null,null,null,null,"2016-11-01",36.408333333333331,32.133333333333333,24.658333333333331,52.5,32.958333333333336,44.366666666666667,7.2749999999999995,null,"2018-05-01",42.024999999999999]
["2016-12-01",57.6,66.7,51.1,55,51.1,43.3,39.5,null,null,null,null,null,null,null,null,"2016-12-01",37.108333333333334,31.716666666666665,25.416666666666668,54.25,31.241666666666671,44.841666666666661,9.9,null,"2018-06-01",44.641666666666673]
["2017-01-01",44.2,60.9,55.2,16.7,53.1,5.7,13.5,null,null,null,null,null,null,null,null,"2017-01-01",35.766666666666666,30.533333333333331,23.758333333333329,53.06666666666667,33.091666666666669,41.708333333333336,12.066666666666668,null,"2018-07-01",44.016666666666673]
["2017-02-01",30.9,15.3,36.799999999999997,40.700000000000003,15.3,29.9,10.8,null,null,null,null,null,null,null,null,{"$f":"A85","v":"2017-02-01"},{"$f":"AVERAGE(B74:B85)","v":35.18333333333333},{"$f":"AVERAGE(C74:C85)","v":29.716666666666665},{"$f":"AVERAGE(D74:D85)","v":25},{"$f":"AVERAGE(E74:E85)","v":50.900000000000006},{"$f":"AVERAGE(F74:F85)","v":30.900000000000006},{"$f":"AVERAGE(G74:G85)","v":40.125},12.358333333333334,null,"2018-08-01",43.324999999999996]
["2017-03-01",21.2,3,-20.7,81.2,-13.3,44.3,13.3,null,null,null,null,null,null,null,null,"2017-03-01",33.449999999999996,26.783333333333335,21.108333333333334,52.516666666666673,26.675000000000001,39.68333333333333,13.466666666666669,null,"2018-09-01",38.791666666666664]
["2017-04-01",38.4,18.899999999999999,9.4,86.8,-7.5,81.099999999999994,26.4,null,null,null,null,null,null,null,null,"2017-04-01",33.266666666666659,26.533333333333331,19.133333333333336,54.17499999999999,25.55,41.808333333333337,12.908333333333333,null,"2018-10-01",32.983333333333334]
["2017-05-01",35.799999999999997,17.899999999999999,34.9,54.6,-13.8,48.7,0,null,null,null,null,null,null,null,null,"2017-05-01",33.841666666666661,25.833333333333329,21.575000000000003,54.166666666666664,21.891666666666666,41.30833333333333,12.908333333333333,null,"2018-11-01",31.05]
["2017-06-01",-7.8,-19.3,-17.3,13.1,6.9,7.6,0,null,null,null,null,null,null,null,null,"2017-06-01",31.108333333333331,23.133333333333326,20.266666666666669,49.975000000000001,20.141666666666662,39.299999999999997,11.899999999999999,null,"2018-12-01",25.775000000000002]
["2017-07-01",31.5,17.2,24,53.4,0,50.3,6.8,null,null,null,null,null,null,null,null,"2017-07-01",30.291666666666668,22.275000000000002,19.975000000000005,48.666666666666664,14.733333333333334,38.724999999999994,11.466666666666667,null,"2019-01-01",21.208333333333329]
["2017-08-01",36.1,30.6,38.9,38.9,8.3000000000000007,8.3000000000000007,8.3000000000000007,null,null,null,null,null,null,null,null,"2017-08-01",33.341666666666669,25.083333333333332,23.474999999999998,51.508333333333333,17.258333333333336,38.641666666666666,13.991666666666667,null,"2019-02-01",18.166666666666668]
["2017-09-01",53.8,54.6,65.900000000000006,41,37.6,41,-17.100000000000001,null,null,null,null,null,null,null,null,"2017-09-01",35.241666666666667,28.033333333333335,28,49.741666666666667,15.466666666666667,37.766666666666666,12.225000000000001,null,"2019-03-01",16.766666666666669]
["2017-10-01",64.3,52.9,88.2,51.7,60.1,18.899999999999999,5.9,null,null,null,null,null,null,null,null,"2017-10-01",36.416666666666671,28.683333333333334,31.591666666666669,49,17.541666666666668,37.225000000000001,11.891666666666667,null,"Total general",23.39551282051282]
["2017-11-01",22,27.2,27.2,11.5,29.1,9.5,9.5,null,null,null,null,null,null,null,null,"2017-11-01",35.666666666666671,28.824999999999999,32.800000000000004,45.383333333333333,18.908333333333335,32.383333333333333,9.7416666666666671]
["2017-12-01",55.5,69.7,69.7,26.9,56.3,26.9,-13.5,null,null,null,null,null,null,null,null,"2017-12-01",35.491666666666667,29.074999999999999,34.35,43.041666666666664,19.341666666666669,31.016666666666662,5.3249999999999993]
["2018-01-01",45.3,51.2,55.8,28.7,55.8,12.5,0,null,null,null,null,null,null,null,null,"2018-01-01",35.583333333333336,28.266666666666666,34.4,44.041666666666664,19.566666666666666,31.583333333333329,4.1999999999999993]
["2018-02-01",50.8,41,41,70.5,7.1,54.6,32.299999999999997,null,null,null,null,null,null,null,null,"2018-02-01",37.241666666666667,30.408333333333331,34.75,46.524999999999999,18.883333333333333,33.641666666666666,5.9916666666666663]
["2018-03-01",54.9,24.9,42.9,96.9,23,93.2,56,null,null,null,null,null,null,null,null,"2018-03-01",40.050000000000004,32.233333333333327,40.049999999999997,47.833333333333336,21.908333333333331,37.716666666666661,9.5499999999999989]
["2018-04-01",41.2,15.8,30,77.8,44.2,63.6,21.9,null,null,null,null,null,null,null,null,"2018-04-01",40.283333333333331,31.974999999999998,41.766666666666666,47.083333333333321,26.216666666666665,36.258333333333333,9.1749999999999989]
["2018-05-01",56.7,22.4,57.1,90.7,57.1,91.7,34.700000000000003,null,null,null,null,null,null,null,null,"2018-05-01",42.024999999999999,32.349999999999994,43.616666666666667,50.091666666666669,32.125000000000007,39.841666666666669,12.066666666666668]
["2018-06-01",23.6,4,19.3,47.4,15.3,30.6,0,null,null,null,null,null,null,null,null,"2018-06-01",44.641666666666673,34.291666666666664,46.666666666666657,52.949999999999996,32.824999999999996,41.758333333333333,12.066666666666668]
["2018-07-01",24,17.600000000000001,17.600000000000001,36.799999999999997,-3.8,3.8,3.8,null,null,null,null,null,null,null,null,"2018-07-01",44.016666666666673,34.324999999999996,46.133333333333326,51.566666666666663,32.508333333333333,37.883333333333333,11.816666666666668]
["2018-08-01",27.8,27,27,29.3,24.7,9.1999999999999993,0,null,null,null,null,null,null,null,null,"2018-08-01",43.324999999999996,34.024999999999999,45.141666666666673,50.766666666666659,33.875,37.958333333333336,11.125]
["2018-09-01",-0.6,-17.8,-3,19,-33.700000000000003,33.700000000000003,0,null,null,null,null,null,null,null,null,"2018-09-01",38.791666666666664,27.991666666666664,39.400000000000006,48.93333333333333,27.933333333333337,37.35,12.550000000000002]
["2018-10-01",-5.4,-24.2,-20,27.9,-28.3,23.4,-4.5999999999999996,null,null,null,null,null,null,null,null,"2018-10-01",32.983333333333334,21.566666666666674,30.38333333333334,46.949999999999996,20.566666666666666,37.725000000000001,11.674999999999999]
["2018-11-01",-1.2,-10.8,-27.7,34.9,-24.1,65.099999999999994,61.5,null,null,null,null,null,null,null,null,"2018-11-01",31.05,18.400000000000002,25.808333333333337,48.9,16.133333333333329,42.358333333333327,16.008333333333333]
["2018-12-01",-7.8,-20.6,-56.1,53.4,17.8,53.4,15,null,null,null,null,null,null,null,null,"2018-12-01",25.775000000000002,10.875,15.325000000000001,51.108333333333327,12.924999999999999,44.566666666666663,18.383333333333333]
["2019-01-01",-9.5,-44.4,-24.3,40.4,-44.4,44.4,48.5,null,null,null,null,null,null,null,null,"2019-01-01",21.208333333333329,2.9083333333333319,8.6500000000000021,52.083333333333321,4.5749999999999975,47.224999999999994,22.425000000000001]
["2019-02-01",14.3,-19.399999999999999,0,62.2,0,43.9,42.8,null,null,null,null,null,null,null,null,"2019-02-01",18.166666666666668,-2.1250000000000004,5.2333333333333352,51.391666666666659,3.9833333333333338,46.333333333333321,23.3]
["2019-03-01",38.1,24.8,38.4,51.1,21.2,64.400000000000006,0,null,null,null,null,null,null,null,null,"2019-03-01",{"$f":"AVERAGE(B99:B110)","v":16.766666666666669},-2.133333333333332,4.8583333333333334,47.574999999999996,3.8333333333333335,43.93333333333333,18.633333333333336]
["2019-04-01",-13.4,-37.200000000000003,-62.6,59.7,-22.3,19.2,-25.3,null,null,null,null,null,null,null,null,{"$f":"A111","v":"2019-04-01"},{"$f":"AVERAGE(B100:B111)","v":12.216666666666669},{"$f":"AVERAGE(C100:C111)","v":-6.55},{"$f":"AVERAGE(D100:D111)","v":-2.8583333333333343},{"$f":"AVERAGE(E100:E111)","v":46.066666666666663},{"$f":"AVERAGE(F100:F111)","v":-1.7083333333333328},{"$f":"AVERAGE(G100:G111)","v":40.233333333333327},{"$f":"AVERAGE(H100:H111)","v":14.699999999999998}]
["2019-05-01",19.8,20.6,3.5,35.299999999999997,3.5,38.799999999999997,4.8,null,null,null,null,null,null,null,null,"2019-05-01",{"$f":"AVERAGE(B101:B112)","v":9.1416666666666675},-6.7,-7.3249999999999993,41.45,-6.1749999999999998,35.824999999999996,12.208333333333334]
["2019-06-01",-1.5,-28.8,-11.1,35.299999999999997,-32.700000000000003,17.7,0,null,null,null,null,null,null,null,null,{"$f":"A113","v":"2019-06-01"},7.049999999999998,{"$f":"AVERAGE(C102:C113)","v":-9.4333333333333336},{"$f":"AVERAGE(D102:D113)","v":-9.8583333333333325},{"$f":"AVERAGE(E102:E113)","v":40.44166666666667},{"$f":"AVERAGE(F102:F113)","v":-10.175000000000001},{"$f":"AVERAGE(G102:G113)","v":34.749999999999993},{"$f":"AVERAGE(H102:H113)","v":12.208333333333334}]
["2019-07-01",17.8,1.7,0.4,51.2,24.8,24.8,-17.5,null,null,null,null,null,null,null,null,{"$f":"A114","v":"2019-07-01"},6.5333333333333341,{"$f":"AVERAGE(C103:C114)","v":-10.758333333333338},{"$f":"AVERAGE(D103:D114)","v":-11.291666666666664},{"$f":"AVERAGE(E103:E114)","v":41.641666666666673},{"$f":"AVERAGE(F103:F114)","v":-7.791666666666667},{"$f":"AVERAGE(G103:G114)","v":36.5},{"$f":"AVERAGE(H103:H114)","v":10.433333333333332}]
["2019-08-01",55,52.9,57.8,54.2,0,57.8,3.6,null,null,null,null,null,null,null,null,"2019-08-01",8.8000000000000007,-8.6000000000000032,-8.7249999999999996,43.716666666666669,-9.85,40.549999999999997,10.733333333333333]
["2019-09-01",2.9,-38.6,-4.2,51.5,35.9,35.9,5.7,null,null,null,null,null,null,null,null,{"$f":"A116","v":"2019-09-01"},9.0916666666666668,{"$f":"AVERAGE(C105:C116)","v":-10.333333333333336},{"$f":"AVERAGE(D105:D116)","v":-8.8250000000000011},{"$f":"AVERAGE(E105:E116)","v":46.425000000000004},{"$f":"AVERAGE(F105:F116)","v":-4.05},{"$f":"AVERAGE(G105:G116)","v":40.733333333333334},{"$f":"AVERAGE(H105:H116)","v":11.20833333333333}]
["2019-10-01",-34.200000000000003,-70.400000000000006,-65.099999999999994,32.9,-36.200000000000003,8.1,5.4,null,null,null,null,null,null,null,null,{"$f":"A117","v":"2019-10-01"},6.6916666666666673,{"$f":"AVERAGE(C106:C117)","v":-14.183333333333332},{"$f":"AVERAGE(D106:D117)","v":-12.58333333333333},{"$f":"AVERAGE(E106:E117)","v":46.841666666666669},{"$f":"AVERAGE(F106:F117)","v":-4.7083333333333339},{"$f":"AVERAGE(G106:G117)","v":39.458333333333336},{"$f":"AVERAGE(H106:H117)","v":12.041666666666666}]
["2019-11-01",1.8,-14.6,-11.2,31.3,-18,22.9,19.5,null,null,null,null,null,null,null,null,{"$f":"A118","v":"2019-11-01"},{"$f":"AVERAGE(B107:B118)","v":6.9416666666666664},{"$f":"AVERAGE(C107:C118)","v":-14.500000000000002},{"$f":"AVERAGE(D107:D118)","v":-11.208333333333334},{"$f":"AVERAGE(E107:E118)","v":46.541666666666664},{"$f":"AVERAGE(F107:F118)","v":-4.2000000000000011},{"$f":"AVERAGE(G107:G118)","v":35.941666666666663},{"$f":"AVERAGE(H107:H118)","v":8.5416666666666661}]
["2019-12-01",17.2,7.9,39.6,4,-26.3,0,31.7,null,null,null,null,null,null,null,null,{"$f":"A119","v":"2019-12-01"},{"$f":"AVERAGE(B108:B119)","v":9.0250000000000004},{"$f":"AVERAGE(C108:C119)","v":-12.125},{"$f":"AVERAGE(D108:D119)","v":-3.2333333333333338},{"$f":"AVERAGE(E108:E119)","v":42.424999999999997},{"$f":"AVERAGE(F108:F119)","v":-7.8750000000000009},{"$f":"AVERAGE(G108:G119)","v":31.491666666666664},{"$f":"AVERAGE(H108:H119)","v":9.9333333333333336}]
["2020-01-01",-13.6,-57.8,-16.2,33.1,-64.7,27.4,5.8,null,null,null,null,null,null,null,null,{"$f":"A120","v":"2020-01-01"},{"$f":"AVERAGE(B109:B120)","v":8.6833333333333353},{"$f":"AVERAGE(C109:C120)","v":-13.241666666666665},{"$f":"AVERAGE(D109:D120)","v":-2.558333333333334},{"$f":"AVERAGE(E109:E120)","v":41.81666666666667},{"$f":"AVERAGE(F109:F120)","v":-9.5666666666666682},{"$f":"AVERAGE(G109:G120)","v":30.074999999999999},{"$f":"AVERAGE(H109:H120)","v":6.375}]
[]
["https://ec.europa.eu/info/business-economy-euro/indicators-statistics/economic-databases/business-and-consumer-surveys_en"]

{"sheet":"ETT","index":13,"n_rows":243,"n_cols":14,"rows_kept":243,"cut":false,"hidden":true,"merged":[[0,0,0,17],[1,0,1,17],[2,0,2,17],[3,0,3,17]]}
["Empresas de Trabajo Temporal"]
["CONTRATOS DE PUESTA A DISPOSICION :Modalidad"]
[]
[]
[null,null,"TOTAL","Obra o servicio","Circunstancias de la producción","En Prácticas y para la Formación y el Aprendizaje","Interinidad"]
[2002,"Enero",145304,68612,66728,null,9964]
[null,"Febrero",123434,55381,58685,null,9368]
[null,"Marzo",133838,57845,66896,null,9097]
[null,"Abril",154172,68627,75082,null,10463]
[null,"Mayo",162888,73111,79447,null,10330]
[null,"Junio",165979,72759,82966,null,10254]
[null,"Julio",177192,75258,89755,null,12179]
[null,"Agosto",139394,60533,69388,null,9473]
[null,"Septiembre",175118,77211,87108,null,10799]
[null,"Octubre",172418,78929,83246,null,10243]
[null,"Noviembre",158138,70584,78390,null,9164]
[null,"Diciembre",141578,59055,73657,null,8866]
[2003,"Enero",149560,69376,70901,null,9283]
[null,"Febrero",125895,54518,62862,null,8515]
[null,"Marzo",145993,62005,74579,null,9409]
[null,"Abril",142840,61157,72570,null,9113]
[null,"Mayo",175205,79239,85723,null,10243]
[null,"Junio",189303,81985,96076,null,11242]
[null,"Julio",184615,81390,91503,null,11722]
[null,"Agosto",151573,68349,74299,null,8925]
[null,"Septiembre",194014,87508,95639,null,10867]
[null,"Octubre",192802,92916,89440,null,10446]
[null,"Noviembre",175510,80998,84388,null,10124]
[null,"Diciembre",163830,70724,83287,null,9819]
[2004,"Enero",166701,78220,79210,null,9271]
[null,"Febrero",154610,69872,74828,null,9910]
[null,"Marzo",179317,80322,87775,null,11220]
[null,"Abril",161139,74663,76786,null,9690]
[null,"Mayo",189973,88378,91403,null,10192]
[null,"Junio",200129,90223,98420,null,11486]
[null,"Julio",199572,87622,99738,null,12212]
[null,"Agosto",174148,79080,84167,null,10901]
[null,"Septiembre",204651,92646,100303,null,11702]
[null,"Octubre",210196,99770,99336,null,11090]
[null,"Noviembre",195963,90019,95271,null,10673]
[null,"Diciembre",173078,77065,86328,null,9685]
[2005,"Enero",181410,84342,86523,null,10545]
[null,"Febrero",158141,70104,78149,null,9888]
[null,"Marzo",175944,78080,87172,null,10692]
[null,"Abril",186795,84676,90773,null,11346]
[null,"Mayo",198525,87940,99068,null,11517]
[null,"Junio",215479,96718,106398,null,12363]
[null,"Julio",209069,89359,107564,null,12146]
[null,"Agosto",183549,82371,90902,null,10276]
[null,"Septiembre",224343,101738,110470,null,12135]
[null,"Octubre",226201,102140,112727,null,11334]
[null,"Noviembre",229273,104536,112652,null,12085]
[null,"Diciembre",195316,83812,100857,null,10647]
[2006,"Enero",195195,87471,96860,null,10864]
[null,"Febrero",172885,76489,85900,null,10496]
[null,"Marzo",207018,95266,99715,null,12037]
[null,"Abril",191129,83368,97565,null,10196]
[null,"Mayo",243270,111342,119478,null,12450]
[null,"Junio",236201,104394,119696,null,12111]
[null,"Julio",225327,94878,117158,null,13291]
[null,"Agosto",193005,86502,96145,null,10358]
[null,"Septiembre",236885,101457,123223,null,12205]
[null,"Octubre",244931,109137,123037,null,12757]
[null,"Noviembre",221397,99042,110948,null,11407]
[null,"Diciembre",189854,79502,100004,null,10348]
[2007,"Enero",221340,99935,109194,null,12211]
[null,"Febrero",190278,88369,91004,null,10905]
[null,"Marzo",219356,98928,109336,null,11092]
[null,"Abril",205890,91245,103816,null,10829]
[null,"Mayo",241030,110197,118806,null,12027]
[null,"Junio",243203,105599,125055,null,12549]
[null,"Julio",235606,98597,123268,null,13741]
[null,"Agosto",198431,87740,99722,null,10969]
[null,"Septiembre",241126,108207,121006,null,11913]
[null,"Octubre",266761,124816,128346,null,13599]
[null,"Noviembre",234417,107505,113423,null,13489]
[null,"Diciembre",207605,87050,107099,null,13456]
[2008,"Enero",213690,95925,104950,null,12815]
[null,"Febrero",181814,82729,87651,null,11434]
[null,"Marzo",186492,78302,97208,null,10982]
[null,"Abril",182504,82476,87723,null,12305]
[null,"Mayo",198822,89768,96732,null,12322]
[null,"Junio",207775,91440,103315,null,13020]
[null,"Julio",202814,92464,97528,null,12822]
[null,"Agosto",160363,73846,76708,null,9809]
[null,"Septiembre",194685,90015,93091,null,11579]
[null,"Octubre",185088,91817,83109,null,10162]
[null,"Noviembre",148194,70148,69064,null,8982]
[null,"Diciembre",145344,64785,70609,null,9950]
[2009,"Enero",128947,60311,60362,null,8274]
[null,"Febrero",100722,45367,50131,null,5224]
[null,"Marzo",111494,46624,57955,null,6915]
[null,"Abril",120636,53653,59239,null,7744]
[null,"Mayo",139572,62217,69492,null,7863]
[null,"Junio",150409,64969,77183,null,8257]
[null,"Julio",148784,60633,78058,null,10093]
[null,"Agosto",130430,50820,70213,null,9397]
[null,"Septiembre",153445,63252,81100,null,9093]
[null,"Octubre",183066,84909,89215,null,8942]
[null,"Noviembre",162695,71391,82969,null,8335]
[null,"Diciembre",160813,71910,80155,null,8748]
[2010,"Enero",140222,63732,69686,null,6804]
[null,"Febrero",121387,51302,63860,null,6225]
[null,"Marzo",143148,58800,76538,null,7810]
[null,"Abril",141275,59129,73116,null,9030]
[null,"Mayo",163868,68755,87257,null,7856]
[null,"Junio",173966,75182,89794,null,8990]
[null,"Julio",173253,70777,92503,null,9973]
[null,"Agosto",151630,64275,78777,null,8578]
[null,"Septiembre",174641,74360,91081,null,9200]
[null,"Octubre",196542,90000,98542,null,8000]
[null,"Noviembre",193061,90061,94838,null,8162]
[null,"Diciembre",184571,86422,89543,null,8606]
[2011,"Enero",161960,72329,82492,null,7139]
[null,"Febrero",135105,59433,69657,null,6015]
[null,"Marzo",155486,70656,77733,null,7097]
[null,"Abril",160420,69353,84309,null,6758]
[null,"Mayo",186685,85618,93484,null,7583]
[null,"Junio",180971,78553,93664,null,8754]
[null,"Julio",174466,70656,93776,null,10034]
[null,"Agosto",162579,69636,83916,null,9027]
[null,"Septiembre",178077,76435,93081,null,8561]
[null,"Octubre",195470,88475,99296,null,7699]
[null,"Noviembre",198459,96983,93665,null,7811]
[null,"Diciembre",172858,78035,86129,null,8694]
[2012,"Enero",165277,79388,77614,null,8275]
[null,"Febrero",140217,65489,68065,null,6663]
[null,"Marzo",150230,68853,74994,null,6383]
[null,"Abril",151949,66716,79351,null,5882]
[null,"Mayo",179067,84213,87867,null,6987]
[null,"Junio",181965,83309,90999,null,7657]
[null,"Julio",173336,73009,91765,null,8562]
[null,"Agosto",148812,66214,75248,null,7350]
[null,"Septiembre",167994,72130,88552,null,7312]
[null,"Octubre",201881,100625,93617,null,7639]
[null,"Noviembre",187719,93687,86791,null,7241]
[null,"Diciembre",174953,81910,85852,null,7191]
[2013,"Enero",165871,78844,80421,null,6606]
[null,"Febrero",151327,70594,73881,0,6852]
[null,"Marzo",152975,68230,78391,5,6349]
[null,"Abril",179034,80981,91351,26,6676]
[null,"Mayo",195898,94339,94550,6,7003]
[null,"Junio",189732,85269,97197,12,7254]
[null,"Julio",197199,87720,100542,13,8924]
[null,"Agosto",156049,65640,83043,6,7360]
[null,"Septiembre",196067,84991,103379,8,7689]
[null,"Octubre",223751,111639,104428,11,7673]
[null,"Noviembre",209015,101742,100166,3,7104]
[null,"Diciembre",215731,99903,107594,1,8233]
[2014,"Enero",207531,102769,96857,7,7898]
[null,"Febrero",173810,81040,86289,12,6469]
[null,"Marzo",200962,89566,103861,21,7514]
[null,"Abril",206839,98848,100071,40,7880]
[null,"Mayo",240649,114859,117549,37,8204]
[null,"Junio",243893,106852,128146,95,8800]
[null,"Julio",227113,99929,117176,98,9910]
[null,"Agosto",184011,79270,97734,31,6976]
[null,"Septiembre",235506,103232,123401,120,8753]
[null,"Octubre",259463,131096,119580,285,8502]
[null,"Noviembre",238998,117332,113484,134,8048]
[null,"Diciembre",271117,133784,128850,79,8404]
[2015,"Enero",231337,110037,113287,153,7860]
[null,"Febrero",209171,99615,101537,137,7882]
[null,"Marzo",247535,115975,122468,96,8996]
[null,"Abril",236995,115151,113322,115,8407]
[null,"Mayo",271494,130081,131687,165,9561]
[null,"Junio",286927,132115,144373,237,10202]
[null,"Julio",265407,122939,132207,193,10068]
[null,"Agosto",229251,101880,119797,191,7383]
[null,"Septiembre",260489,120111,131638,274,8466]
[null,"Octubre",298803,137851,151888,360,8704]
[null,"Noviembre",296266,131588,155584,306,8788]
[null,"Diciembre",275116,117976,149004,247,7889]
[2016,"Enero",264702,120385,137416,283,6618]
[null,"Febrero",243391,103686,132559,345,6801]
[null,"Marzo",266262,119575,139929,337,6421]
[null,"Abril",273915,126266,140882,318,6449]
[null,"Mayo",311082,148401,155416,365,6900]
[null,"Junio",318281,150420,160730,428,6703]
[null,"Julio",285853,131045,148020,306,6482]
[null,"Agosto",258953,113863,138603,391,6096]
[null,"Septiembre",296811,133837,156220,321,6433]
[null,"Octubre",332326,144598,181131,243,6354]
[null,"Noviembre",323282,139616,176568,336,6762]
[null,"Diciembre",306679,137886,162830,169,5794]
[2017,"Enero",316513,142720,166722,347,6724]
[null,"Febrero",266143,118782,141461,284,5616]
[null,"Marzo",296002,132156,157439,316,6091]
[null,"Abril",300996,132101,163377,262,5256]
[null,"Mayo",374096,172209,194997,321,6569]
[null,"Junio",363611,167521,189396,374,6320]
[null,"Julio",331594,143164,182376,263,5791]
[null,"Agosto",285704,123837,156740,205,4922]
[null,"Septiembre",325618,137377,182184,310,5747]
[null,"Octubre",362397,154755,201448,315,5879]
[null,"Noviembre",335660,130383,199321,297,5659,null,"cambios de la fuente, por ser provisionales"]
[null,"Diciembre",314153,120636,188386,267,4864]
[2018,"Enero",342985,145579,190618,487,6301,{"$f":"C198-J198","v":0},"Enero",342985,145579,190618,487,6301]
[null,"Febrero",280698,115689,158844,402,5763,{"$f":"C199-J199","v":0},"Febrero",280698,115689,158844,402,5763]
[null,"Marzo",306027,122856,177070,392,5709,0,"Marzo",306027,122856,177070,392,5709]
[null,"Abril",335215,138022,190909,343,5941,0,"Abril",335215,138022,190909,343,5941]
[null,"Mayo",375424,163262,205583,416,6163,-3460,"Mayo",378884,166722,205583,416,6163]
[null,"Junio",368785,158043,204710,406,5626,-31016,"Junio",399801,189059,204710,406,5626]
[null,"Julio",354574,142843,206018,382,5331,-28226,"Julio",382800,171069,206018,382,5331]
[null,"Agosto",291242,119396,167590,192,4064,-26767,"Agosto",318009,146163,167590,192,4064]
[null,"Septiembre",331276,134171,191616,296,5193,-28285,"Septiembre",359561,162456,191616,296,5193]
[null,"Octubre",382899,151388,225609,316,5586,-32729,"Octubre",415628,184117,225609,316,5586]
[null,"Noviembre",375486,144771,224922,242,5551,null,"Noviembre",406866,176151,224922,242,5551]
[null,"diciembre",340020,125303,210375,149,4193,null,null,"Total \n","Obra o servicio","Circunstancias \nde la producción","Interinidad","Formación,\naprendizaje\ny prácticas"]
[2019,"enero",{"$f":"J210","v":354679},{"$f":"K210","v":140490},{"$f":"L210","v":207960},{"$f":"N210","v":264},{"$f":"M210","v":5965},null,null,354679,140490,207960,5965,264]
[null,"febrero",{"$f":"J211","v":287155},{"$f":"K211","v":113819},{"$f":"L211","v":168059},{"$f":"N211","v":151},{"$f":"M211","v":5126},null,null,287155,113819,168059,5126,151]
[null,"marzo",321344,126320,189837,238,4949,null,null,321344,126320,189837,4949,238]
[null,"abril",353127,137563,210426,214,4924,null,null,353127,137563,210426,4924,214]
[null,"mayo",393071,{"$f":"K214","v":163296},{"$f":"L214","v":224005},{"$f":"N214","v":298},{"$f":"M214","v":5472},null,null,393071,163296,224005,5472,298]
[null,"junio",381685,{"$f":"K215","v":153631},{"$f":"L215","v":222563},{"$f":"N215","v":287},{"$f":"M215","v":5204},null,null,381685,153631,222563,5204,287]
[null,"julio",{"$f":"J216","v":379951},{"$f":"K216","v":145702},{"$f":"L216","v":228751},{"$f":"N216","v":328},{"$f":"M216","v":5170},null,null,379951,145702,228751,5170,328]
[null,"agosto",299075,{"$f":"K217","v":111805},{"$f":"L217","v":182897},{"$f":"N217","v":206},{"$f":"M217","v":4167},null,null,299075,111805,182897,4167,206]
[null,"septiembre",{"$f":"J218","v":358585},{"$f":"K218","v":128824},{"$f":"L218","v":223928},{"$f":"N218","v":275},{"$f":"M218","v":5558},null,null,358585,128824,223928,5558,275]
[null,"octubre",{"$f":"J219","v":391788},{"$f":"K219","v":144787},{"$f":"L219","v":241179},{"$f":"N219","v":318},{"$f":"M219","v":5504},null,null,391788,144787,241179,5504,318]
[null,"noviembre",{"$f":"J220","v":367946},{"$f":"K220","v":129617},{"$f":"L220","v":233324},{"$f":"N220","v":241},{"$f":"M220","v":4764},null,null,367946,129617,233324,4764,241]
[null,"diciembre",353689.73467471509,null,null,null,null,null,null,353689.73467471509]
[2020,"enero",357575.79144104966,null,null,null,null,null,null,357575.79144104966]
[null,"febrero",296751.20673122571,null,null,null,null,null,null,296751.20673122571]
[null,"marzo",332886.27982967766,null,null,null,null,null,null,332886.27982967766]
[null,"abril",356847.38582020433,null,null,null,null,null,null,356847.38582020433]
[null,"mayo",405090.41937862372,null,null,null,null,null,null,405090.41937862372]
[null,"junio",403686.38086812763,null,null,null,null,null,null,403686.38086812763]
[null,"julio",391003.12545782846,null,null,null,null,null,null,391003.12545782846]
[null,"agosto",318998.29447490996,null,null,null,null,null,null,318998.29447490996]
[null,"septiembre",377184.42918749287,null,null,null,null,null,null,377184.42918749287]
[null,"octubre",418066.4355985992,null,null,null,null,null,null,418066.4355985992]
[null,"noviembre",393418.96106685267,null,null,null,null,null,null,393418.96106685267]
[null,"diciembre",375149.91469770268,null,null,null,null,null,null,375149.91469770268]
[null,null,null,null,null,null,null,null,null,null,"es normal que Focst tenga decimales"]
["Datos provisionales en enero 2018 y posteriores.",null,null,null,null,"ojo, cambio de izda y dcha en estas dos columnas,",null,null,null,"viene de Modelo"]
[]
[]
[]
["http://www.mitramiss.gob.es/es/estadisticas/mercado_trabajo/index.htm"]
[]
[null,"CPDs modalidad"]
[]
[null,"ETT-E1.-","Parte de CPDs "]

{"sheet":"DNIs","index":14,"n_rows":229,"n_cols":4,"rows_kept":229,"cut":false,"hidden":true,"merged":[]}
[null,"DNIs"]
["2002-01-01",{"$f":"C2*D$13","v":45346.063706895831},{"$f":"'TRABAJADORES SEPE'!O17","v":8.2516552431939921E-2}]
["2002-02-01",{"$f":"C3*D$13","v":37597.777144550571},{"$f":"'TRABAJADORES SEPE'!O18","v":6.8416940643977173E-2}]
["2002-03-01",40721.292811421095,{"$f":"'TRABAJADORES SEPE'!O19","v":7.4100824166112134E-2}]
["2002-04-01",42445.416684628464,{"$f":"'TRABAJADORES SEPE'!O20","v":7.7238224556634677E-2}]
["2002-05-01",47159.618483127175,{"$f":"'TRABAJADORES SEPE'!O21","v":8.5816690868395468E-2}]
["2002-06-01",48223.022398052235,{"$f":"'TRABAJADORES SEPE'!O22","v":8.7751774483798672E-2}]
["2002-07-01",49179.942165316032,{"$f":"'TRABAJADORES SEPE'!O23","v":8.9493088143545826E-2}]
["2002-08-01",41901.286288392752,{"$f":"'TRABAJADORES SEPE'!O24","v":7.624806663110853E-2}]
["2002-09-01",48180.103173632575,{"$f":"'TRABAJADORES SEPE'!O25","v":8.7673674067959825E-2}]
["2002-10-01",51127.327349200015,{"$f":"'TRABAJADORES SEPE'!O26","v":9.3036758718125584E-2}]
["2002-11-01",50042.714015198435,{"$f":"'TRABAJADORES SEPE'!O27","v":9.1063080173014899E-2}]
["2002-12-01",47614.435779584819,{"$f":"'TRABAJADORES SEPE'!O28","v":8.6644325115387291E-2},{"$f":"'TRABAJADORES SEPE'!B13","v":549539}]
["2003-01-01",{"$f":"C14*D$25","v":45496.078799217103},{"$f":"C2","v":8.2516552431939921E-2}]
["2003-02-01",{"$f":"C15*D$25","v":37722.159142641322},{"$f":"C3","v":6.8416940643977173E-2}]
["2003-03-01",40856.008109755086,7.4100824166112134E-2]
["2003-04-01",42585.835776872424,7.7238224556634677E-2]
["2003-05-01",47315.633227125923,8.5816690868395468E-2]
["2003-06-01",48382.555124063787,8.7751774483798672E-2]
["2003-07-01",49342.640599560997,8.9493088143545826E-2]
["2003-08-01",42039.905273528108,7.624806663110853E-2]
["2003-09-01",48339.493913088125,8.7673674067959825E-2]
["2003-10-01",51296.46817654957,9.3036758718125584E-2]
["2003-11-01",50208.266694952974,9.1063080173014899E-2]
["2003-12-01",47771.95516264459,8.6644325115387291E-2,{"$f":"'TRABAJADORES SEPE'!B14","v":551357}]
["2004-01-01",{"$f":"C26*D$37","v":52501.651584136365},{"$f":"C14","v":8.2516552431939921E-2}]
["2004-02-01",{"$f":"C27*D$37","v":43530.688986374342},6.8416940643977173E-2]
["2004-03-01",47147.093980633843,7.4100824166112134E-2]
["2004-04-01",49143.28380350615,7.7238224556634677E-2]
["2004-05-01",54601.384465161827,8.5816690868395468E-2]
["2004-06-01",55832.593025963812,8.7751774483798672E-2]
["2004-07-01",56940.514289859893,8.9493088143545826E-2]
["2004-08-01",48513.289882442587,7.624806663110853E-2]
["2004-09-01",55782.90116778385,8.7673674067959825E-2]
["2004-10-01",59195.195954959709,9.3036758718125584E-2]
["2004-11-01",57939.431138561769,9.1063080173014899E-2]
["2004-12-01",55127.971720615853,8.6644325115387291E-2,{"$f":"'TRABAJADORES SEPE'!B15","v":636256}]
["2005-01-01",{"$f":"C38*D$49","v":56781.867675333524},{"$f":"C26","v":8.2516552431939921E-2}]
["2005-02-01",{"$f":"C39*D$49","v":47079.544114518081},6.8416940643977173E-2]
["2005-03-01",50990.777830954241,7.4100824166112134E-2]
["2005-04-01",53149.70774948335,7.7238224556634677E-2]
["2005-05-01",59052.782037196368,8.5816690868395468E-2]
["2005-06-01",60384.365320212928,8.7751774483798672E-2]
["2005-07-01",61582.610264953757,8.9493088143545826E-2]
["2005-08-01",52468.353346664822,7.624806663110853E-2]
["2005-09-01",60330.622315362991,8.7673674067959825E-2]
["2005-10-01",64021.105666427604,9.3036758718125584E-2]
["2005-11-01",62662.964170216226,9.1063080173014899E-2]
["2005-12-01",59622.299508676108,8.6644325115387291E-2,{"$f":"'TRABAJADORES SEPE'!B16","v":688127}]
["2006-01-01",{"$f":"C50*D$61","v":62067.712991018729},{"$f":"C38","v":8.2516552431939921E-2}]
["2006-02-01",{"$f":"C51*D$61","v":51462.196498289966},6.8416940643977173E-2]
["2006-03-01",55737.528425387056,7.4100824166112134E-2]
["2006-04-01",58097.433938132257,7.7238224556634677E-2]
["2006-05-01",64550.027620844048,8.5816690868395468E-2]
["2006-06-01",66005.568490096106,8.7751774483798672E-2]
["2006-07-01",67315.358505253011,8.9493088143545826E-2]
["2006-08-01",57352.651998920366,7.624806663110853E-2]
["2006-09-01",65946.822528808363,8.7673674067959825E-2]
["2006-10-01",69980.854356393291,9.3036758718125584E-2]
["2006-11-01",68496.282959939213,9.1063080173014899E-2]
["2006-12-01",65172.561686917586,8.6644325115387291E-2,{"$f":"'TRABAJADORES SEPE'!B17","v":752185}]
["2007-01-01",{"$f":"C62*D$73","v":64539.331286012624},{"$f":"C50","v":8.2516552431939921E-2}]
["2007-02-01",{"$f":"C63*D$73","v":53511.489121399019},6.8416940643977173E-2]
["2007-03-01",57957.07041163461,7.4100824166112134E-2]
["2007-04-01",60410.950478277133,7.7238224556634677E-2]
["2007-05-01",67120.494962425088,8.5816690868395468E-2]
["2007-06-01",68633.997391209326,8.7751774483798672E-2]
["2007-07-01",69995.944974416649,8.9493088143545826E-2]
["2007-08-01",59636.510338721964,7.624806663110853E-2]
["2007-09-01",68572.912088165962,8.7673674067959825E-2]
["2007-10-01",72767.584390277305,9.3036758718125584E-2]
["2007-11-01",71223.895400361522,9.1063080173014899E-2]
["2007-12-01",67767.819157098784,8.6644325115387291E-2,{"$f":"'TRABAJADORES SEPE'!B18","v":782138}]
["2008-01-01",{"$f":"C74*D$85","v":54357.036265568539},{"$f":"C62","v":8.2516552431939921E-2}]
["2008-02-01",{"$f":"C75*D$85","v":45069.043896754163},6.8416940643977173E-2]
["2008-03-01",48813.25101200887,7.4100824166112134E-2]
["2008-04-01",50879.985282662085,7.7238224556634677E-2]
["2008-05-01",56530.972759337696,8.5816690868395468E-2]
["2008-06-01",57805.691675232025,{"$f":"C67","v":8.7751774483798672E-2}]
["2008-07-01",58952.766376767519,8.9493088143545826E-2]
["2008-08-01",50227.727660643061,7.624806663110853E-2]
["2008-09-01",57754.243729201924,8.7673674067959825E-2]
["2008-10-01",61287.127474736764,9.3036758718125584E-2]
["2008-11-01",59986.984496252007,9.1063080173014899E-2]
["2008-12-01",57076.169370835341,8.6644325115387291E-2,{"$f":"'TRABAJADORES SEPE'!B19","v":658741}]
["2009-01-01",{"$f":"C86*D$97","v":35363.623776441898},{"$f":"C74","v":8.2516552431939921E-2}]
["2009-02-01",{"$f":"C87*D$97","v":29321.037750145431},{"$f":"C75","v":6.8416940643977173E-2}]
["2009-03-01",31756.945607925682,7.4100824166112134E-2]
["2009-04-01",33101.522468889583,7.7238224556634677E-2]
["2009-05-01",36777.944305323035,8.5816690868395468E-2]
["2009-06-01",37607.251479874692,8.7751774483798672E-2]
["2009-07-01",38353.515827150572,8.9493088143545826E-2]
["2009-08-01",32677.176427694398,7.624806663110853E-2]
["2009-09-01",37573.780453261134,8.7673674067959825E-2]
["2009-10-01",39872.205463274775,9.3036758718125584E-2]
["2009-11-01",39026.357891267959,9.1063080173014899E-2]
["2009-12-01",37132.638548750838,8.6644325115387291E-2,{"$f":"'TRABAJADORES SEPE'!B20","v":428564}]
["2010-01-01",{"$f":"C98*D$109","v":37371.499046768295},{"$f":"C86","v":8.2516552431939921E-2}]
["2010-02-01",{"$f":"C99*D$109","v":30985.82716683533},{"$f":"C87","v":6.8416940643977173E-2}]
["2010-03-01",33560.040962359686,7.4100824166112134E-2]
["2010-04-01",34980.960187026176,7.7238224556634677E-2]
["2010-05-01",38866.1218442237,8.5816690868395468E-2]
["2010-06-01",39742.515408388965,8.7751774483798672E-2]
["2010-07-01",40531.151140947477,8.9493088143545826E-2]
["2010-08-01",34532.520633029162,7.624806663110853E-2]
["2010-09-01",39707.143964356801,8.7673674067959825E-2]
["2010-10-01",42136.068913162926,9.3036758718125584E-2]
["2010-11-01",41242.19582111793,9.1063080173014899E-2]
["2010-12-01",39240.954911783556,8.6644325115387291E-2,{"$f":"'TRABAJADORES SEPE'!B21","v":452897}]
["2011-01-01",{"$f":"C110*D$121","v":37475.05732007038},{"$f":"C98","v":8.2516552431939921E-2}]
["2011-02-01",{"$f":"C111*D$121","v":31071.690427343521},{"$f":"C99","v":6.8416940643977173E-2}]
["2011-03-01",33653.037496688157,7.4100824166112134E-2]
["2011-04-01",35077.894158844749,7.7238224556634677E-2]
["2011-05-01",38973.821791263537,8.5816690868395468E-2]
["2011-06-01",39852.643885366131,8.7751774483798672E-2]
["2011-07-01",40643.464966567626,8.9493088143545826E-2]
["2011-08-01",34628.211956651197,7.624806663110853E-2]
["2011-09-01",39817.174425312092,8.7673674067959825E-2]
["2011-10-01",42252.830045354167,9.3036758718125584E-2]
["2011-11-01",41356.479986735059,9.1063080173014899E-2]
["2011-12-01",39349.693539803367,8.6644325115387291E-2,{"$f":"'TRABAJADORES SEPE'!B22","v":454152}]
["2012-01-01",{"$f":"C122*D$133","v":33883.689408575061},{"$f":"C110","v":8.2516552431939921E-2}]
["2012-02-01",{"$f":"C123*D$133","v":28093.979919695703},{"$f":"C111","v":6.8416940643977173E-2}]
["2012-03-01",30427.947326506459,7.4100824166112134E-2]
["2012-04-01",31716.254911466342,7.7238224556634677E-2]
["2012-05-01",35238.821954598359,8.5816690868395468E-2]
["2012-06-01",36033.423404507768,8.7751774483798672E-2]
["2012-07-01",36748.457291296079,8.9493088143545826E-2]
["2012-08-01",31309.667352665463,7.624806663110853E-2]
["2012-09-01",36001.353108852272,8.7673674067959825E-2]
["2012-10-01",38203.591195665191,9.3036758718125584E-2]
["2012-11-01",37393.141548364933,9.1063080173014899E-2]
["2012-12-01",35578.67257780637,8.6644325115387291E-2,{"$f":"'TRABAJADORES SEPE'!B23","v":410629}]
["2013-01-01",{"$f":"C134*D$145","v":34867.616779773511},{"$f":"C122","v":8.2516552431939921E-2}]
["2013-02-01",{"$f":"C135*D$145","v":28909.783519934485},{"$f":"C123","v":6.8416940643977173E-2}]
["2013-03-01",31311.525553863179,7.4100824166112134E-2]
["2013-04-01",32637.243501079654,7.7238224556634677E-2]
["2013-05-01",36262.100176513108,8.5816690868395468E-2]
["2013-06-01",37079.775563452582,8.7751774483798672E-2]
["2013-07-01",37815.572874319718,8.9493088143545826E-2]
["2013-08-01",32218.849299174803,7.624806663110853E-2]
["2013-09-01",37046.773998438628,8.7673674067959825E-2]
["2013-10-01",39312.961506620122,9.3036758718125584E-2]
["2013-11-01",38478.977716347967,9.1063080173014899E-2]
["2013-12-01",36611.819510482244,8.6644325115387291E-2,{"$f":"'TRABAJADORES SEPE'!B24","v":422553}]
["2014-01-01",{"$f":"'TRABAJADORES SEPE'!K31","v":41027.347769657456}]
["2014-02-01",{"$f":"'TRABAJADORES SEPE'!K32","v":33652.457992768963}]
["2014-03-01",{"$f":"'TRABAJADORES SEPE'!K33","v":36017.446790840688}]
["2014-04-01",{"$f":"'TRABAJADORES SEPE'!K34","v":38460.170810092553}]
["2014-05-01",{"$f":"'TRABAJADORES SEPE'!K35","v":43085.990868497087}]
["2014-06-01",{"$f":"'TRABAJADORES SEPE'!K36","v":42613.452627431587}]
["2014-07-01",{"$f":"'TRABAJADORES SEPE'!K37","v":44716.515852659875}]
["2014-08-01",{"$f":"'TRABAJADORES SEPE'!K38","v":36695.619582515719}]
["2014-09-01",{"$f":"'TRABAJADORES SEPE'!K39","v":43668.430629162096}]
["2014-10-01",{"$f":"'TRABAJADORES SEPE'!K40","v":47725.596483367066}]
["2014-11-01",{"$f":"'TRABAJADORES SEPE'!K41","v":44005.410898317394}]
["2014-12-01",{"$f":"'TRABAJADORES SEPE'!K42","v":44006.559694689509}]
["2015-01-01",{"$f":"'TRABAJADORES SEPE'!K45","v":47340.892074782569}]
["2015-02-01",{"$f":"'TRABAJADORES SEPE'!K46","v":38885.208716338595}]
["2015-03-01",{"$f":"'TRABAJADORES SEPE'!K47","v":42125.101137185688}]
["2015-04-01",{"$f":"'TRABAJADORES SEPE'!K48","v":43407.064706586243}]
["2015-05-01",{"$f":"'TRABAJADORES SEPE'!K49","v":47475.473397904847}]
["2015-06-01",{"$f":"'TRABAJADORES SEPE'!K50","v":48882.077624515237}]
["2015-07-01",{"$f":"'TRABAJADORES SEPE'!K51","v":50968.852799519183}]
["2015-08-01",{"$f":"'TRABAJADORES SEPE'!K52","v":41665.536505387456}]
["2015-09-01",{"$f":"'TRABAJADORES SEPE'!K53","v":49358.082588399426}]
["2015-10-01",{"$f":"'TRABAJADORES SEPE'!K54","v":52592.622342985975}]
["2015-11-01",{"$f":"'TRABAJADORES SEPE'!K55","v":50579.637495716684}]
["2015-12-01",{"$f":"'TRABAJADORES SEPE'!K56","v":49064.450610678097}]
["2016-01-01",{"$f":"'TRABAJADORES SEPE'!K59","v":50330.706868341418}]
["2016-02-01",{"$f":"'TRABAJADORES SEPE'!K60","v":42846.497581994445}]
["2016-03-01",{"$f":"'TRABAJADORES SEPE'!K61","v":45640.063446965039}]
["2016-04-01",{"$f":"'TRABAJADORES SEPE'!K62","v":48194.921663632114}]
["2016-05-01",{"$f":"'TRABAJADORES SEPE'!K63","v":51042.635269911181}]
["2016-06-01",{"$f":"'TRABAJADORES SEPE'!K64","v":54251.460925620653}]
["2016-07-01",{"$f":"'TRABAJADORES SEPE'!K65","v":54396.744654060974}]
["2016-08-01",{"$f":"'TRABAJADORES SEPE'!K66","v":48717.33297062225}]
["2016-09-01",{"$f":"'TRABAJADORES SEPE'!K67","v":53931.912987476324}]
["2016-10-01",{"$f":"'TRABAJADORES SEPE'!K68","v":56386.864808208062}]
["2016-11-01",{"$f":"'TRABAJADORES SEPE'!K69","v":59538.492145633936}]
["2016-12-01",{"$f":"'TRABAJADORES SEPE'!K70","v":54645.366677533646}]
["2017-01-01",{"$f":"'contratos ETT consolidados'!K22","v":58051.080564509946}]
["2017-02-01",{"$f":"'contratos ETT consolidados'!K23","v":47839.474931480559}]
["2017-03-01",{"$f":"'contratos ETT consolidados'!K24","v":53293.370020752925}]
["2017-04-01",{"$f":"'contratos ETT consolidados'!K25","v":54158.30322754979}]
["2017-05-01",{"$f":"'contratos ETT consolidados'!K26","v":63478.777231482898}]
["2017-06-01",{"$f":"'contratos ETT consolidados'!K27","v":64198.848573800649}]
["2017-07-01",{"$f":"'contratos ETT consolidados'!K28","v":63332.374283339108}]
["2017-08-01",{"$f":"'contratos ETT consolidados'!K29","v":55471.691780766057}]
["2017-09-01",{"$f":"'contratos ETT consolidados'!K30","v":62234.737443176848}]
["2017-10-01",{"$f":"'contratos ETT consolidados'!K31","v":64754.023963998545}]
["2017-11-01",{"$f":"'contratos ETT consolidados'!K32","v":63412.125362985855}]
["2017-12-01",{"$f":"'contratos ETT consolidados'!K33","v":58388.192616156834}]
["2018-01-01",{"$f":"'contratos ETT consolidados'!K36","v":64885.640734281675},"salto de filas en origen"]
["2018-02-01",{"$f":"'contratos ETT consolidados'!K37","v":52346.538369870759}]
["2018-03-01",{"$f":"'contratos ETT consolidados'!K38","v":56537.11812934593}]
["2018-04-01",{"$f":"'contratos ETT consolidados'!K39","v":60424.750534026716}]
["2018-05-01",{"$f":"'contratos ETT consolidados'!K40","v":66632.291579604425}]
["2018-06-01",{"$f":"'contratos ETT consolidados'!K41","v":68343.617765052564}]
["2018-07-01",{"$f":"'contratos ETT consolidados'!K42","v":67681.664356097521}]
["2018-08-01",{"$f":"'contratos ETT consolidados'!K43","v":59797.35385755774}]
["2018-09-01",{"$f":"'contratos ETT consolidados'!K44","v":63442.705171141883}]
["2018-10-01",{"$f":"'contratos ETT consolidados'!K45","v":70259.596599556971}]
["2018-11-01",{"$f":"'contratos ETT consolidados'!K46","v":68219.981455491346}]
["2018-12-01",{"$f":"'contratos ETT consolidados'!K47","v":59251.741447972418}]
["2019-01-01",{"$f":"'contratos ETT consolidados'!K50","v":68726.881654004959},"salto de filas en origen"]
["2019-02-01",{"$f":"'contratos ETT consolidados'!K51","v":53666.806450471347}]
["2019-03-01",{"$f":"'contratos ETT consolidados'!K52","v":57568.364394710923}]
["2019-04-01",{"$f":"'contratos ETT consolidados'!K53","v":61674.154128026923}]
["2019-05-01",{"$f":"'contratos ETT consolidados'!K54","v":70124.580941205932}]
["2019-06-01",{"$f":"'contratos ETT consolidados'!K55","v":68565.342385808923}]
["2019-07-01",{"$f":"'contratos ETT consolidados'!K56","v":73071.134116562738}]
["2019-08-01",{"$f":"'contratos ETT consolidados'!K57","v":59954.145539044337}]
["2019-09-01",{"$f":"'contratos ETT consolidados'!K58","v":68743.035580824566}]
["2019-10-01",{"$f":"'contratos ETT consolidados'!K59","v":72455.361810891642}]
["2019-11-01",{"$f":"'contratos ETT consolidados'!K60","v":68319.5719277678}]
["2019-12-01",65285.894291764649]
["2020-01-01",69408.702959405389]
["2020-02-01",55213.509232665041]
["2020-03-01",59737.174008800881]
["2020-04-01",64194.694253301495]
["2020-05-01",71434.89031175767]
["2020-06-01",71915.836597270056]
["2020-07-01",74507.783809849425]
["2020-08-01",62189.033969842174]
["2020-09-01",70575.340585134036]
["2020-10-01",75103.576576332314]
["2020-11-01",72849.815313643208]
["2020-12-01",69108.191807685333]

{"sheet":"contratos ETT consolidados","index":15,"n_rows":69,"n_cols":18,"rows_kept":69,"cut":false,"hidden":true,"merged":[[66,0,66,9],[1,0,2,0],[1,2,1,3],[1,4,1,5],[1,6,1,9],[62,0,65,9]]}
[]
["AÑOS","TOTAL","SEXO",null,"NACIONALIDAD",null,"EDAD"]
[null,null,"Varones","Mujeres","Española","Extranjera","Menos de 20 años","De 20 a \n29 años","De 30 a \n39 años","De 40 y \nmás años"]
["2008",658741,358111,300630,461215,197526,57586,314564,184936,101655]
["2009",428564,235837,192727,307546,121018,25762,199618,128740,74444]
["2010",452897,256398,196499,331058,121839,24073,200184,143049,85591]
["2011",454152,264538,189614,337153,116999,20766,187721,151321,94344]
["2012",410629,240701,169928,309383,101246,12665,157400,144514,96050]
["2013",422553,253939,168614,327140,95413,11078,151352,152426,107697]
["2014 ",495675,300980,194695,387232,108443,13140,171215,175996,135324]
["2015",562345,344103,218242,444070,118275,16478,191050,192081,162736]
["2016",619923,377560,242363,490001,129922,21359,212364,199331,186869]
["2017",708613,430079,278534,553021,155592,29352,247856,212339,219066]
["2018",{"$f":"B19+(B13-B16)+0","v":757823}]
["2017: "]
["(Enero-Noviembre)",674718,411571,263147,525746,148972,27602,234341,203108,209667]
[]
["2018:"]
["(Enero-Noviembre)",723928,434028,289900,556293,167635,35142,254552,205651,228583]
[]
["2017:"]
["Enero",150676,97029,53647,118845,31831,3710,47331,48966,50669,{"$f":"B22*$M$26","v":58051.080564509946},null,null,null,{"$f":"B22/$L$26","v":8.1922121898003492E-2},{"$f":"$B$13*O22","v":58051.080564509946}]
["Febrero",124171,81071,43100,95772,28399,2983,38948,40717,41523,{"$f":"B23*$M$26","v":47839.474931480559},null,null,null,6.7511427156262391E-2,47839.474931480559]
["Marzo",138327,89422,48905,108042,30285,3418,44071,44685,46153,53293.370020752925,null,null,null,7.5208004962868197E-2,{"$f":"$B$13*O24","v":53293.370020752918}]
["Abril",140572,89213,51359,109215,31357,3817,44684,45002,47069,54158.30322754979,null,null,null,7.642860521546993E-2,{"$f":"$B$13*O25","v":54158.303227549797}]
["Mayo",164764,104548,60216,124601,40163,5529,53788,51099,54348,63478.777231482898,{"$f":"SUM(B22:B33)","v":1839259},{"$f":"B13/L26","v":0.38527091616786979},{"$f":"AVERAGE(B22:B33)","v":153271.58333333334},8.9581728293840077E-2,{"$f":"$B$13*O26","v":63478.777231482898}]
["Junio",166633,103822,62811,130561,36072,6932,57579,49680,52442,64198.848573800649,null,null,null,9.0597898392776655E-2,64198.848573800642]
["Julio",164384,102467,61917,129498,34886,7872,57009,48310,51193,63332.374283339108,null,null,null,8.9375123351306152E-2,63332.374283339108]
["Agosto",143981,90357,53624,115333,28648,5982,48368,43478,46153,55471.691780766057,null,null,null,7.8282069028886084E-2,55471.691780766057]
["Septiembre",161535,102035,59500,128493,33042,5926,54562,48362,52685,62234.737443176848,null,null,null,8.7826129979518927E-2,62234.737443176848]
["Octubre",168074,106372,61702,128539,39535,5646,56035,51336,55057,64754.023963998545,null,null,null,9.1381366082753976E-2,64754.023963998545]
["Noviembre",164591,102177,62414,126573,38018,5759,55402,49712,53718,63412.125362985855,null,null,null,8.9487668675265419E-2,63412.125362985855]
["Diciembre",151551,93314,58237,118570,32981,5699,52251,45197,48404,58388.192616156834,{"$f":"SUM(K22:K33)","v":708613.00000000012},null,null,8.2397856963048702E-2,58388.192616156826]
[]
["2018:",null,null,null,null,null,null,null,null,null,null,null,null,null,null,null,"cambios por ser provisionales"]
["Enero",168989,106533,62456,132008,36981,5214,54713,52009,57053,{"$f":"B36*$M$40","v":64885.640734281675},null,null,null,null,null,{"$f":"B36-R36","v":0},168989]
["Febrero",136332,87253,49079,104184,32148,4345,44063,41865,46059,{"$f":"B37*$M$40","v":52346.538369870759},null,null,null,null,null,{"$f":"B37-R37","v":0},136332]
["Marzo",147246,93365,53881,113789,33457,4692,48408,44954,49192,56537.11812934593,null,null,null,null,null,0,147246]
["Abril",157371,98947,58424,120342,37029,5039,51108,47463,53761,60424.750534026716,null,null,null,null,null,0,157371]
["Mayo",173538,107489,66049,128392,45146,6530,56304,51212,59492,{"$f":"B40*$M$40","v":66632.291579604425},{"$f":"SUM(B36:B47)","v":1973684},{"$f":"B14/L40","v":0.3839636942894607},null,null,null,0,173538]
["Junio",177995,110090,67905,134441,43554,8893,61414,50015,57673,68343.617765052564,null,null,null,null,null,0,177995]
["Julio",176271,108169,68102,135502,40769,10252,61999,48627,55393,{"$f":"B42*$M$40","v":67681.664356097521},null,null,null,null,null,0,176271]
["Agosto",155737,95816,59921,121917,33820,7952,53398,43803,50584,59797.35385755774,null,null,null,null,null,0,155737]
["Septiembre",165231,101620,63611,128473,36758,7110,56126,47309,54686,63442.705171141883,null,null,null,null,null,0,165231]
["Octubre",182985,112148,70837,138582,44403,7523,61566,52851,61045,70259.596599556971,null,null,null,null,null,0,182985]
["Noviembre",177673,107546,70127,133750,43923,7479,59660,51008,59526,{"$f":"B46*$M$40","v":68219.981455491346},null,null,null,null,null,0,177673]
["Diciembre",154316,93537,60779,116585,37731,7011,52430,43496,51379,59251.741447972418,{"$f":"SUM(K36:K47)","v":757822.99999999988},null,null,null,null,-20980.333333333343,175296.33333333334]
[]
["2019:"]
["Enero",178689,110489,68200,135849,42840,6813,57602,52046,62228,{"$f":"B50*$M$54","v":68726.881654004959}]
["Febrero",139533,86901,52632,104538,34995,4940,45100,40483,49010,53666.806450471347]
["Marzo",149677,93091,56586,112222,37455,5424,48270,43173,52810,57568.364394710923]
["Abril",160352,99171,61181,119430,40922,6223,52500,45837,55792,61674.154128026923]
["Mayo",182323,111648,70675,132620,49703,7750,60017,50781,63775,70124.580941205932,null,{"$f":"AVERAGE(M26,M40)","v":0.38461730522866522},"promedio reciente mientras llega el dato Anual "]
["Junio",178269,108993,69276,131685,46584,9790,61739,47566,59174,68565.342385808923,null,null,"se tiene que ajustar así para que sumen las cifras por el exceso de duplicidades interMensuales"]
["Julio",189984,117073,72911,142584,47400,12044,67104,49531,61305,73071.134116562738]
["Agosto",155880,95554,60326,118943,36937,8238,53833,42302,51507,59954.145539044337]
["Septiembre",178731,110201,68530,134473,44258,8131,60838,48969,60793,68743.035580824566]
["Octubre",188383,114029,74354,138308,50075,8021,63730,52296,64336,72455.361810891642]
["Noviembre",177630,107522,70108,131161,46469,7745,60559,48995,60331,68319.5719277678]
["Diciembre"]
[]
["(1) Esta información se obtiene mediante consolidación de la información de los contratos registrados en los Servicios Públicos de Empleo correspondientes a trabajadores contratados por ETTs para ser cedidos a empresas usuarias, eliminando las duplicidades motivadas por la posible contratación en más de una ocasión de un mismo trabajador. La información es calculada en función del periodo de referencia de la misma, por este motivo los datos de periodos anuales o superiores al mensual no coinciden, en su caso, con la suma de los correspondientes datos mensuales."]
[]
[]
[]
["FUENTE: Servicio Publico de Empleo Estatal. Ministerio de Trabajo, Migraciones y Seguridad Social"]
[]
[null,"ETT-E3.- parte de Cesiones de Trabajadores (2)"]

{"sheet":"TRABAJADORES SEPE","index":16,"n_rows":117,"n_cols":16,"rows_kept":117,"cut":false,"hidden":true,"merged":[[113,0,113,9],[114,0,114,9],[2,0,2,9],[2,11,2,20],[4,0,5,0],[4,2,4,3],[4,4,4,5],[4,6,4,9]]}
["ETT"]
[]
["ETT-E3. Trabajadores con contrato registrado en los Servicios Públicos de Empleo que han sido contratados por empresas de trabajo temporal para ser cedidos a empresas usuarias, por sexo, edad y nacionalidad (1)."]
[]
["AÑOS","TOTAL","SEXO",null,"NACIONALIDAD",null,"EDAD"]
[null,null,"Varones","Mujeres","Española","Extranjera","Menos de 20 años","De 20 a \n29 años","De 30 a \n39 años","De 40 y \nmás años"]
[]
["1997",442511,264905,177606,"..","..",53923,273672,77479,37437]
["1998",587678,347858,239820,"..","..",80719,356956,100976,49027]
["1999",618875,355141,263734,"..","..",95308,370336,103264,49967]
["2000",593576,335274,258302,"..","..",93950,355719,98604,45303]
["2001",552780,313518,239262,"..","..",80789,330969,96365,44657]
["2002",549539,314074,235465,"..","..",67322,327565,106185,48467]
["2003",551357,312086,239271,"..","..",62797,323460,111936,53164]
["2004",636256,353298,282958,"..","..",70332,361763,136997,67164]
["2005",688127,377181,310946,"..","..",75642,376758,156213,79514,null,null,null,null,null,"patron mensual promedio"]
["2006",752185,406044,346141,"..","..",82388,392701,181385,95711,null,null,null,1,{"$f":"AVERAGE(O31,O45,O59,O73)","v":8.2516552431939921E-2},"4 años"]
["2007",782138,417420,364718,578800,203338,83924,388502,200923,108789,null,null,null,2,{"$f":"AVERAGE(O32,O46,O60,O74)","v":6.8416940643977173E-2},"2014-2017"]
["2008",658741,358111,300630,461215,197526,57586,314564,184936,101655,null,null,null,3,7.4100824166112134E-2]
["2009",428564,235837,192727,307546,121018,25762,199618,128740,74444,null,null,null,4,7.7238224556634677E-2]
["2010",452897,256398,196499,331058,121839,24073,200184,143049,85591,null,null,null,5,8.5816690868395468E-2]
["2011",454152,264538,189614,337153,116999,20766,187721,151321,94344,null,null,null,6,8.7751774483798672E-2]
["2012",410629,240701,169928,309383,101246,12665,157400,144514,96050,null,null,null,7,8.9493088143545826E-2]
["2013",422553,253939,168614,327140,95413,11078,151352,152426,107697,null,null,null,8,7.624806663110853E-2]
["2014 ",495675,300980,194695,387232,108443,13140,171215,175996,135324,null,null,null,9,8.7673674067959825E-2]
["2015",562345,344103,218242,444070,118275,16478,191050,192081,162736,null,null,null,10,9.3036758718125584E-2]
["2016",619923,377560,242363,490001,129922,21359,212364,199331,186869,null,null,null,11,9.1063080173014899E-2]
["2017",708613,430079,278534,553021,155592,29352,247856,212339,219066,null,null,null,12,8.6644325115387291E-2]
["2018",757607]
["2014:"]
["Enero",107140,68509,38631,82344,24796,2014,35132,40005,29989,{"$f":"B31*$M$35","v":41027.347769657456},null,null,null,{"$f":"B31/$L$35","v":8.2770661763569786E-2}]
["Febrero",87881,56864,31017,67830,20051,1524,28513,33211,24633,{"$f":"B32*$M$35","v":33652.457992768963},null,null,null,{"$f":"B32/$L$35","v":6.7892183371703163E-2}]
["Marzo",94057,60569,33488,72881,21176,1629,30400,35377,26651,36017.446790840688,null,null,null,7.2663432270824002E-2]
["Abril",100436,63451,36985,78626,21810,1899,33046,37353,28138,38460.170810092553,null,null,null,7.7591508165819445E-2]
["Mayo",112516,70773,41743,87597,24919,2457,37804,40455,31800,43085.990868497087,{"$f":"SUM(B31:B42)","v":1294420},{"$f":"B25/L35","v":0.38293212404011062},null,8.692387324052471E-2]
["Junio",111282,68620,42662,89545,21737,2667,38057,39821,30737,42613.452627431587,null,null,null,8.5970550516833791E-2]
["Julio",116774,72079,44695,96213,20561,3190,40820,41221,31543,44716.515852659875,null,null,null,9.021337742000278E-2]
["Agosto",95828,59787,36041,79426,16402,2278,32584,34448,26518,36695.619582515719,null,null,null,7.4031612614143788E-2]
["Septiembre",114037,72331,41706,93670,20367,2309,37679,41592,32457,43668.430629162096,null,null,null,8.809891688941765E-2]
["Octubre",124632,79769,44863,95495,29137,2652,40968,45027,35985,47725.596483367066,null,null,null,9.6284049999227447E-2]
["Noviembre",114917,73980,40937,86631,28286,2418,36701,41943,33855,44005.410898317394,null,null,null,8.8778758053800158E-2]
["Diciembre",114920,73192,41728,89370,25550,2513,38346,41196,32865,44006.559694689509,{"$f":"SUM(K31:K42)","v":495675.00000000012},null,null,8.878107569413328E-2]
[]
["2015:"]
["Enero",123821,80269,43552,97782,26039,2198,38990,45817,36816,{"$f":"B45*$M$49","v":47340.892074782569},null,null,null,{"$f":"B45/$L$49","v":8.4184783495509993E-2}]
["Febrero",101705,65979,35726,79167,22538,1737,31876,37577,30515,{"$f":"B46*$M$49","v":38885.208716338595},null,null,null,{"$f":"B46/$L$49","v":6.9148314142276707E-2}]
["Marzo",110179,71149,39030,86849,23330,1922,34664,40397,33196,42125.101137185688,null,null,null,7.4909710475216607E-2]
["Abril",113532,72637,40895,90145,23387,2101,35618,41279,34534,43407.064706586243,null,null,null,7.718938499779715E-2]
["Mayo",124173,78869,45304,97064,27109,2784,39679,43916,37794,47475.473397904847,{"$f":"SUM(B45:B56)","v":1470824},{"$f":"B26/L49","v":0.38233330432465068},null,8.4424105127465968E-2]
["Junio",127852,80369,47483,102541,25311,3649,42420,44085,37698,48882.077624515237,null,null,null,8.692542411600572E-2]
["Julio",133310,82708,50602,109865,23445,4503,45457,45121,38229,50968.852799519183,null,null,null,9.0636269193322933E-2]
["Agosto",108977,68830,40147,90561,18416,3072,35579,37740,32586,41665.536505387456,null,null,null,7.4092481493366988E-2]
["Septiembre",129097,82741,46356,105371,23726,3043,41742,44827,39485,49358.082588399426,null,null,null,8.7771888410849971E-2]
["Octubre",137557,88562,48995,106090,31467,3318,44141,47514,42584,52592.622342985975,null,null,null,9.3523766269791628E-2]
["Noviembre",132292,85569,46723,101948,30344,3018,41914,46000,41360,50579.637495716684,null,null,null,8.9944140155450283E-2]
["Diciembre",128329,81932,46397,101587,26742,3148,42289,43864,39028,49064.450610678097,{"$f":"SUM(K45:K56)","v":562345},null,null,8.7249732122946053E-2]
[]
["2016:"]
["Enero",131990,85467,46523,104860,27130,2656,40689,46059,42586,{"$f":"B59*$M$63","v":50330.706868341418},null,null,null,{"$f":"B59/$L$63","v":8.1188642570676373E-2}]
["Febrero",112363,73226,39137,88175,24188,2201,34848,39332,35982,{"$f":"B60*$M$63","v":42846.497581994445},null,null,null,{"$f":"B60/$L$63","v":6.9115837905666416E-2}]
["Marzo",119689,76771,42918,95358,24331,2438,37408,41720,38123,45640.063446965039,null,null,null,7.3622148955539701E-2]
["Abril",126389,80586,45803,99536,26853,2662,39426,43490,40811,48194.921663632114,null,null,null,7.774339984745221E-2]
["Mayo",133857,84524,49333,104702,29155,3608,42905,44715,42629,51042.635269911181,{"$f":"SUM(B59:B70)","v":1625720},{"$f":"B27/L63","v":0.38132212189060849},null,8.2337056811751103E-2]
["Junio",142272,89171,53101,112903,29369,4830,47538,45991,43913,54251.460925620653,null,null,null,8.7513224909578524E-2]
["Julio",142653,87871,54782,115583,27070,5630,48430,45281,43312,54396.744654060974,null,null,null,8.7747582609551456E-2]
["Agosto",127759,80377,47382,104701,23058,4154,41861,41561,40183,48717.33297062225,null,null,null,7.8586103388037301E-2]
["Septiembre",141434,89791,51643,115727,25707,4076,46798,45807,44753,53931.912987476324,null,null,null,8.6997760992052753E-2]
["Octubre",147872,94849,53023,114897,32975,4119,48143,47940,47670,56386.864808208062,null,null,null,9.0957852520729271E-2]
["Noviembre",156137,99009,57128,120942,35195,4543,51416,50022,50156,59538.492145633936,null,null,null,9.6041753807543734E-2]
["Diciembre",143305,91916,51389,109909,33396,4450,47047,45641,46167,54645.366677533646,{"$f":"SUM(K59:K70)","v":619923},null,null,8.8148635681421159E-2]
[]
["2017:"]
["Enero",150676,97029,53647,118845,31831,3710,47331,48966,50669,null,null,null,null,{"$f":"B73/$L$77","v":8.1922121898003492E-2}]
["Febrero",124171,81071,43100,95772,28399,2983,38948,40717,41523,null,null,null,null,{"$f":"B74/$L$77","v":6.7511427156262391E-2}]
["Marzo",138327,89422,48905,108042,30285,3418,44071,44685,46153,null,null,null,null,7.5208004962868197E-2]
["Abril",140572,89213,51359,109215,31357,3817,44684,45002,47069,null,null,null,null,7.642860521546993E-2]
["Mayo",164764,104548,60216,124601,40163,5529,53788,51099,54348,null,{"$f":"SUM(B73:B84)","v":1839259},{"$f":"B28/L77","v":0.38527091616786979},null,8.9581728293840077E-2]
["Junio",166633,103822,62811,130561,36072,6932,57579,49680,52442,null,null,null,null,9.0597898392776655E-2]
["Julio",164384,102467,61917,129498,34886,7872,57009,48310,51193,null,null,null,null,8.9375123351306152E-2]
["Agosto",143981,90357,53624,115333,28648,5982,48368,43478,46153,null,null,null,null,7.8282069028886084E-2]
["Septiembre",161535,102035,59500,128493,33042,5926,54562,48362,52685,null,null,null,null,8.7826129979518927E-2]
["Octubre",168074,106372,61702,128539,39535,5646,56035,51336,55057,null,null,null,null,9.1381366082753976E-2]
["Noviembre",164591,102177,62414,126573,38018,5759,55402,49712,53718,null,null,null,null,8.9487668675265419E-2]
["Diciembre",151551,93314,58237,118570,32981,5699,52251,45197,48404,null,null,null,null,8.2397856963048702E-2]
[]
["2018:"]
["Enero",168989,106533,62456,132008,36981,5214,54713,52009,57053]
["Febrero",136332,87253,49079,104184,32148,4345,44063,41865,46059]
["Marzo",147246,93365,53881,113789,33457,4692,48408,44954,49192]
["Abril",157371,98947,58424,120342,37029,5039,51108,47463,53761]
["Mayo",173538,107489,66049,128392,45146,6530,56304,51212,59492,null,{"$f":"SUM(B87:B98)","v":1973684},{"$f":"B29/L91","v":0.38385425427778713}]
["Junio",177995,110090,67905,134441,43554,8893,61414,50015,57673]
["Julio",176271,108169,68102,135502,40769,10252,61999,48627,55393]
["Agosto",155737,95816,59921,121917,33820,7952,53398,43803,50584]
["Septiembre",165231,101620,63611,128473,36758,7110,56126,47309,54686]
["Octubre",182985,112148,70837,138582,44403,7523,61566,52851,61045]
["Noviembre",177673,107546,70127,133750,43923,7479,59660,51008,59526]
["Diciembre",154316,93537,60779,116585,37731,7011,52430,43496,51379]
[]
["2019:"]
["Enero",178689,110489,68200,135849,42840,6813,57602,52046,62228]
["Febrero",139533,86901,52632,104538,34995,4940,45100,40483,49010]
["Marzo",149677,93091,56586,112222,37455,5424,48270,43173,52810]
["Abril",160352,99171,61181,119430,40922,6223,52500,45837,55792]
["Mayo",182323,111648,70675,132620,49703,7750,60017,50781,63775]
["Junio",178269,108993,69276,131685,46584,9790,61739,47566,59174]
["Julio",189984,117073,72911,142584,47400,12044,67104,49531,61305]
["Agosto",155880,95554,60326,118943,36937,8238,53833,42302,51507]
["Septiembre",178731,110201,68530,134473,44258,8131,60838,48969,60793]
["Octubre",188383,114029,74354,138308,50075,8021,63730,52296,64336]
["Noviembre",177630,107522,70108,131161,46469,7745,60559,48995,60331]
["Diciembre"]
[]
["(1) Esta información se obtiene mediante consolidación de la información de los contratos registrados en los Servicios Públicos de Empleo correspondientes a trabajadores contratados por ETTs para ser cedidos a empresas usuarias, eliminando las duplicidades motivadas por la posible contratación en más de una ocasión de un mismo trabajador. La información es calculada en función del periodo de referencia de la misma, por este motivo los datos de periodos anuales no coinciden, en su caso, con la suma de los correspondientes datos mensuales."]
["FUENTE: Servicio Publico de Empleo Estatal. Ministerio de Trabajo, Migraciones y Seguridad Social"]
[]
[null,"ETT-E3.-"]

{"sheet":"DescargaSeries_201910021213","index":17,"n_rows":459,"n_cols":5,"rows_kept":459,"cut":false,"hidden":true,"merged":[]}
["SERIES","TRABAJADORES EN ALTA LABORAL AFILIADOS A LA SEGURIDAD SOCIAL. TOTAL.","TRABAJADORES EN ALTA LABORAL AFILIADOS A LA S.S. TOTAL (CVE)","TRABAJADORES EN ALTA LABORAL AFILIADOS A LA S.S.(MEDIA MENSUAL).TOTAL","AFILIADOS TOTALES. DATOS MEDIOS MENSUALES (CVE)"]
["PERIODOS",190000,"190000.D","190000M","190000M.D"]
[19821,10502.499,10582.9537895946,"-","-"]
[19822,10543.143,10612.9219002016,"-","-"]
[19823,10587.169,10641.282047467799,"-","-"]
[19824,10604.946,10658.998849063501,"-","-"]
[19825,10712.094999999999,10677.910736567999,"-","-"]
[19826,10745.843999999999,10686.7431046086,"-","-"]
[19827,10760.887000000001,10683.4798467702,"-","-"]
[19828,10758.371999999999,10683.758765533301,"-","-"]
[19829,10728.648999999999,10692.066095853001,"-","-"]
[198210,10712.266,10693.440198530499,"-","-"]
[198211,10694.039000000001,10700.7890577376,"-","-"]
[198212,10536.76,10544.924935377499,"-","-"]
[19831,10424.351000000001,10510.471703040401,"-","-"]
[19832,10441.25,10514.007986668499,"-","-"]
[19833,10461.528,10523.0901821838,"-","-"]
[19834,10464.696,10504.958353882899,"-","-"]
[19835,10524.241,10519.854220789901,"-","-"]
[19836,10569.285,10533.047104740899,"-","-"]
[19837,10605.111999999999,10526.1824733419,"-","-"]
[19838,10625.865,10545.738479036299,"-","-"]
[19839,10591.451999999999,10546.1636096112,"-","-"]
[198310,10566.828,10549.322454319299,"-","-"]
[198311,10562.731,10560.306353661201,"-","-"]
[198312,10556.47,10552.462174865999,"-","-"]
[19841,10516.056,10595.2886278882,"-","-"]
[19842,10513.334000000001,10589.1043360768,"-","-"]
[19843,10517.909,10576.680440202101,"-","-"]
[19844,10511.477999999999,10577.287769041401,"-","-"]
[19845,10564.05,10562.9451159409,"-","-"]
[19846,10602.072,10547.773118761899,"-","-"]
[19847,10628.434999999999,10559.9904220793,"-","-"]
[19848,10643.126,10555.115337294599,"-","-"]
[19849,10603.769,10533.4623521841,"-","-"]
[198410,10546.302,10531.5683358981,"-","-"]
[198411,10515.587,10519.0824911118,"-","-"]
[198412,10509.584000000001,10519.6228761107,"-","-"]
[19851,10457.344999999999,10539.528023717699,"-","-"]
[19852,10433.718000000001,10515.0031805872,"-","-"]
[19853,10422.878000000001,10497.032184460701,"-","-"]
[19854,10452.983,10508.8924093965,"-","-"]
[19855,10498.49,10503.697733336199,"-","-"]
[19856,10544.541999999999,10491.8310408508,"-","-"]
[19857,10599.396000000001,10517.953383362001,"-","-"]
[19858,10651.951999999999,10541.0944717687,"-","-"]
[19859,10634.484,10582.1004861733,"-","-"]
[198510,10623.956,10597.7551698935,"-","-"]
[198511,10628.706,10607.6476977903,"-","-"]
[198512,10613.195,10637.444117610499,"-","-"]
[19861,10535.823,10654.234158436901,"-","-"]
[19862,10578.628000000001,10675.2205985418,"-","-"]
[19863,10613.624,10703.081424857101,"-","-"]
[19864,10682.319,10733.346402130401,"-","-"]
[19865,10785.322,10762.346542600901,"-","-"]
[19866,10869.477000000001,10816.6775518661,"-","-"]
[19867,10948.323,10839.621111569,"-","-"]
[19868,10965.691999999999,10844.886471637799,"-","-"]
[19869,10932.316999999999,10869.7626031949,"-","-"]
[198610,10930.687,10905.8097573625,"-","-"]
[198611,10935.585999999999,10914.8684881227,"-","-"]
[198612,10907.608,10940.851778127801,"-","-"]
[19871,10807.519,10938.1887909343,"-","-"]
[19872,10867.058999999999,10974.044964357499,"-","-"]
[19873,10900.977999999999,11006.9362720226,"-","-"]
[19874,10975.483,11034.5931083629,"-","-"]
[19875,11110.012000000001,11073.590959334701,"-","-"]
[19876,11189.700999999999,11116.2216631842,"-","-"]
[19877,11266.474,11155.558741655201,"-","-"]
[19878,11305.724,11190.4766382457,"-","-"]
[19879,11279.861999999999,11218.458887127201,"-","-"]
[198710,11276.173000000001,11241.7081710891,"-","-"]
[198711,11296.249,11297.8306962975,"-","-"]
[198712,11291.912,11332.6108051847,"-","-"]
[19881,11206.333000000001,11347.709574504899,"-","-"]
[19882,11298.052,11413.297774275699,"-","-"]
[19883,11356.352999999999,11452.322315773999,"-","-"]
[19884,11496.759,11511.7818753473,"-","-"]
[19885,11564.998,11543.379558762301,"-","-"]
[19886,11644.141,11568.422206134201,"-","-"]
[19887,11729.295,11590.450673294499,"-","-"]
[19888,11738.296,11640.285956276701,"-","-"]
[19889,11737.424999999999,11687.788132579701,"-","-"]
[198810,11740.468999999999,11722.798054213101,"-","-"]
[198811,11781.629000000001,11771.3196782258,"-","-"]
[198812,11776.913,11811.6309267831,"-","-"]
[19891,11712.563,11876.9097385066,"-","-"]
[19892,11807.085999999999,11918.5699193113,"-","-"]
[19893,11885.977999999999,11978.667733051599,"-","-"]
[19894,11980.998,12004.874494882901,"-","-"]
[19895,12087.297,12064.2903982106,"-","-"]
[19896,12208.088,12122.7113805601,"-","-"]
[19897,12297.521000000001,12161.760483894301,"-","-"]
[19898,12310.816000000001,12205.0978831557,"-","-"]
[19899,12311.38,12241.815881254801,"-","-"]
[198910,12303.096,12296.6685313587,"-","-"]
[198911,12328.148999999999,12324.287800632101,"-","-"]
[198912,12304.35,12340.433427341501,"-","-"]
[19901,12230.950999999999,12386.6223537553,"-","-"]
[19902,12298.546,12409.192565510401,"-","-"]
[19903,12369.686,12441.0616145891,"-","-"]
[19904,12415.897000000001,12472.440810414,"-","-"]
[19905,12518.7,12493.630281477201,"-","-"]
[19906,12607.243,12504.1289510183,"-","-"]
[19907,12652.874,12525.684442465899,"-","-"]
[19908,12649.948,12547.617162989,"-","-"]
[19909,12617.565000000001,12560.186300921499,"-","-"]
[199010,12587.608,12591.2909526036,"-","-"]
[199011,12625.058000000001,12616.100568596299,"-","-"]
[199012,12587.744000000001,12630.571742665001,"-","-"]
[19911,12501.674999999999,12651.223852032501,"-","-"]
[19912,12547.096,12654.6389179161,"-","-"]
[19913,12567.763000000001,12639.442542603399,"-","-"]
[19914,12602.482,12646.099662345399,"-","-"]
[19915,12661.156999999999,12637.319224746399,"-","-"]
[19916,12725.858,12626.206924469299,"-","-"]
[19917,12781.785,12637.4801417573,"-","-"]
[19918,12768.996999999999,12634.8590192224,"-","-"]
[19919,12688.284,12662.5385266676,"-","-"]
[199110,12646.955,12662.2852287264,"-","-"]
[199111,12673.638000000001,12653.669244565201,"-","-"]
[199112,12614.031000000001,12677.4321057038,"-","-"]
[19921,12491.518,12661.4934854447,"-","-"]
[19922,12551.118,12649.025250143701,"-","-"]
[19923,12542.078,12644.379884330199,"-","-"]
[19924,12584.15,12634.1382313261,"-","-"]
[19925,12657.807000000001,12593.963163140799,"-","-"]
[19926,12690.041999999999,12592.400526318899,"-","-"]
[19927,12743.734,12569.1485269605,"-","-"]
[19928,12670.683999999999,12523.3393979791,"-","-"]
[19929,12504.587,12455.2641539504,"-","-"]
[199210,12397.787,12391.417811245001,"-","-"]
[199211,12332.74,12351.604605714299,"-","-"]
[199212,12234.096,12309.3962698013,"-","-"]
[19931,12110.855,12271.8767492016,"-","-"]
[19932,12098.306,12228.661081395499,"-","-"]
[19933,12060.897000000001,12168.768263145501,"-","-"]
[19934,12085.907999999999,12146.565518888199,"-","-"]
[19935,12197.793,12140.961160806301,"-","-"]
[19936,12200.892,12098.828700845401,"-","-"]
[19937,12274.237999999999,12076.415446217101,"-","-"]
[19938,12193.606,12061.6598840306,"-","-"]
[19939,12083.64,12041.392773454299,"-","-"]
[199310,12034.004000000001,12020.1315661595,"-","-"]
[199311,12004.385,12002.0614009128,"-","-"]
[199312,11916.436,11993.8853150333,"-","-"]
[19941,11763.561,11940.6661544697,"-","-"]
[19942,11834.790999999999,11965.7477329133,"-","-"]
[19943,11912.323,11994.116880063601,"-","-"]
[19944,11937.528,11977.1099529726,"-","-"]
[19945,12028.205,11992.8464906915,"-","-"]
[19946,12116.706,12025.9509584966,"-","-"]
[19947,12226.353999999999,12039.1037990613,"-","-"]
[19948,12188.397000000001,12074.290128569,"-","-"]
[19949,12134.593000000001,12094.6950200678,"-","-"]
[199410,12125.683999999999,12121.4814823701,"-","-"]
[199411,12177.939,12161.304767339199,"-","-"]
[199412,12109.602000000001,12178.144249278201,"-","-"]
[19951,12060.716,12233.7427167399,"-","-"]
[19952,12111.565000000001,12237.6890711046,"-","-"]
[19953,12201.267,12278.4085574439,"-","-"]
[19954,12246.742,12276.3722520676,"-","-"]
[19955,12351.305,12306.199088481,"-","-"]
[19956,12401.458000000001,12301.5485134384,"-","-"]
[19957,12488.895,12309.4320966336,"-","-"]
[19958,12434.472,12331.9356546126,"-","-"]
[19959,12389.86,12329.283763015599,"-","-"]
[199510,12339.982,12350.494741123601,"-","-"]
[199511,12371.58,12370.4938706382,"-","-"]
[199512,12293.553,12378.464313807001,"-","-"]
[19961,12232.496999999999,12407.691117034299,"-","-"]
[19962,12288.704,12416.9976615388,"-","-"]
[19963,12338.65,12398.750463119901,"-","-"]
[19964,12402.766,12435.9376200076,"-","-"]
[19965,12504.922,12458.20373599,"-","-"]
[19966,12601.596,12474.277288851299,"-","-"]
[19967,12696.837,12523.4523074932,"-","-"]
[19968,12641.235000000001,12536.5771466642,"-","-"]
[19969,12597.192999999999,12571.3663848989,"-","-"]
[199610,12594.862999999999,12591.280780617901,"-","-"]
[199611,12638.084999999999,12604.6121918633,"-","-"]
[199612,12534.661,12659.656114648,"-","-"]
[19971,12501.826999999999,12688.133203899501,"-","-"]
[19972,12588.418,12716.8351446578,"-","-"]
[19973,12700.021000000001,12765.7056619128,"-","-"]
[19974,12813.012000000001,12823.9431291233,"-","-"]
[19975,12922.174999999999,12850.342868399901,"-","-"]
[19976,13028.184999999999,12917.6076946126,"-","-"]
[19977,13137.213,12957.4414572225,"-","-"]
[19978,13087.637000000001,13003.0211402321,"-","-"]
[19979,13086.907999999999,13053.7371485319,"-","-"]
[199710,13114.594999999999,13106.8619514486,"-","-"]
[199711,13176.013999999999,13131.8227899473,"-","-"]
[199712,13029.432000000001,13168.380803726701,"-","-"]
[19981,13059.441000000001,13231.063774430901,"-","-"]
[19982,13183.323,13308.517555496301,"-","-"]
[19983,13320.707,13397.271064406001,"-","-"]
[19984,13422.407999999999,13442.7118720115,"-","-"]
[19985,13570.72,13489.8644504569,"-","-"]
[19986,13692.489,13567.9810649593,"-","-"]
[19987,13766.96,13595.1888672193,"-","-"]
[19988,13709.3,13663.971142133099,"-","-"]
[19989,13775.995000000001,13743.6273831499,"-","-"]
[199810,13834.276,13799.089701171,"-","-"]
[199811,13940.528,13906.487699409399,"-","-"]
[199812,13816.294,13948.357044497299,"-","-"]
[19991,13833.883,14006.5870192649,"-","-"]
[19992,13960.067999999999,14073.3074611554,"-","-"]
[19993,14015.664000000001,14100.4017745041,"-","-"]
[19994,14171.127,14179.074371185099,"-","-"]
[19995,14339.43,14257.3858729939,"-","-"]
[19996,14416.317999999999,14304.6090168051,"-","-"]
[19997,14615.953,14401.1157156425,"-","-"]
[19998,14438.307000000001,14435.200544842801,"-","-"]
[19999,14484.328,14479.3022341945,"-","-"]
[199910,14622.016,14575.453257025099,"-","-"]
[199911,14663.585999999999,14619.5737731559,"-","-"]
[199912,14578.325999999999,14709.104649438201,"-","-"]
[20001,14560.936,14747.113888710801,"-","-"]
[20002,14693.97,14804.938939325801,"-","-"]
[20003,14800.362999999999,14870.1665357521,"-","-"]
[20004,14941.13,14920.258051012401,"-","-"]
[20005,15049.683000000001,14980.7237325145,"-","-"]
[20006,15127.02,15012.7638593719,"-","-"]
[20007,15274.812,15081.503323007,"-","-"]
[20008,15144.226000000001,15150.916644790301,"-","-"]
[20009,15295.859,15246.0896648979,"-","-"]
[200010,15265.933000000001,15271.632373201701,"-","-"]
[200011,15364.569,15323.5035428555,"-","-"]
[200012,15236.218000000001,15344.939968666,"-","-"]
[20011,15204.072,15407.603358849699,15194.299220000001,"-"]
[20012,15349.933999999999,15465.983003466499,15326.583350000001,"-"]
[20013,15514.507,15540.7817997889,15455.386399999999,"-"]
[20014,15556.128000000001,15566.531112742599,15551.821040000001,"-"]
[20015,15679.793,15598.195718557099,15688.072270000001,"-"]
[20016,15827.450999999999,15654.292607748701,15802.40655,"-"]
[20017,15844.14,15672.759937360999,15941.613600000001,"-"]
[20018,15676.271000000001,15687.867471635,15829.41001,"-"]
[20019,15756.672,15732.619970588999,15807.57264,"-"]
[200110,15765.272999999999,15783.3939145533,15845.33253,"-"]
[200111,15876.29,15834.5896082666,15885.774659999999,"-"]
[200112,15748.752,15886.0615847012,15901.91526,"-"]
[20021,15727.566000000001,15918.669628894901,15716.52001,"-"]
[20022,15822.157999999999,15934.541131693601,15834.338250000001,"-"]
[20023,15912.352000000001,15946.461481108099,15927.218199999999,"-"]
[20024,16023.486999999999,16013.262531873401,16025.75418,"-"]
[20025,16154.714,16062.6173770072,16183.5224,"-"]
[20026,16290.433999999999,16118.389533794199,16260.26576,"-"]
[20027,16326.630999999999,16158.536971591901,16419.23907,"-"]
[20028,16276.57,16241.726623873799,16321.804819999999,"-"]
[20029,16187.368,16223.354645274099,16293.662039999999,"-"]
[200210,16236.87,16253.863414199501,16340.2446,"-"]
[200211,16369.029,16292.738253129701,16376.76268,"-"]
[200212,16188.39,16360.6281489004,16380.197690000001,"-"]
[20031,16207.199000000001,16399.514466193599,16217.20948,"-"]
[20032,16335.717000000001,16440.599806465299,16365.39565,"-"]
[20033,16455.09,16498.118743494899,16482.972570000002,"-"]
[20034,16559.933000000001,16539.1020010297,16594.317070000001,"-"]
[20035,16707.449000000001,16570.792984416101,16735.79104,"-"]
[20036,16734.940999999999,16609.524144139999,16818.07216,"-"]
[20037,16817.78,16636.873959934499,16941.956129999999,"-"]
[20038,16660.731,16646.885785092501,16810.036199999999,"-"]
[20039,16680.559000000001,16701.136470245001,16785.475829999999,"-"]
[200310,16738.305,16747.923332369799,16830.08265,"-"]
[200311,16866.901000000002,16788.555526778699,16850.2356,"-"]
[200312,16589.561000000002,16782.020568281201,16826.22421,"-"]
[20041,16713.456999999999,16868.948217085799,16640.851449999998,"-"]
[20042,16839.767,16945.419999152698,16808.648850000001,"-"]
[20043,16894.919999999998,16970.596983126899,16930.836650000001,"-"]
[20044,16998.996999999999,16990.702139215598,17023.372149999999,"-"]
[20045,17135.324000000001,17006.579094282599,17174.293949999999,"-"]
[20046,17156.671999999999,17018.046397654001,17276.512780000001,"-"]
[20047,17280.887999999999,17059.9901298023,17414.516309999999,"-"]
[20048,17073.043000000001,17106.455328547701,17260.174650000001,"-"]
[20049,17143.75,17153.053816389998,17247.118719999999,"-"]
[200410,17264.423999999999,17216.371385825001,17314.217049999999,"-"]
[200411,17318.241999999998,17268.9839501805,17349.47424,"-"]
[200412,17161.919999999998,17336.6561574105,17340.36105,"-"]
[20051,17188.172999999999,17372.114156321401,17180.940449999998,"-"]
[20052,17290.314999999999,17418.067818414202,17320.3838,"-"]
[20053,17383.847000000002,17470.140760285401,17430.544379999999,"-"]
[20054,17576.953000000001,17548.012817261799,17575.463009999999,"-"]
[20055,17789.125,17689.719390855,17789.65554,"-"]
[20056,17942.395,17827.3763333723,18019.758109999999,"-"]
[20057,18157.010999999999,17933.66867703,18260.394069999998,"-"]
[20058,17968.475999999999,18012.644806329601,18168.312590000001,"-"]
[20059,18094.407999999999,18066.6522022217,18196.939539999999,"-"]
[200510,18194.803,18149.547104295401,18294.813399999999,"-"]
[200511,18283.384999999998,18208.464452165099,18330.429810000001,"-"]
[200512,18156.182000000001,18269.419516044301,18316.322950000002,"-"]
[20061,18123.841,18321.845180869699,18154.960289999999,"-"]
[20062,18238.966,18372.939638550299,18286.89675,"-"]
[20063,18360.036,18438.1436641902,18415.427049999998,"-"]
[20064,18559.178,18517.153320539001,18540.308850000001,"-"]
[20065,18640.330999999998,18538.0952584591,18696.526290000002,"-"]
[20066,18642.858,18536.195172121101,18807.67037,"-"]
[20067,18771.167000000001,18597.980743518299,18944.956340000001,"-"]
[20068,18583.552,18664.6911453471,18760.546600000001,"-"]
[20069,18814.067999999999,18741.131265341501,18777.097109999999,"-"]
[200610,18767.751,18772.096740395398,18866.35901,"-"]
[200611,18884.115000000002,18834.362148947301,18922.822339999999,"-"]
[200612,18770.258999999998,18873.161136464299,18925.995790000001,"-"]
[20071,18757.058000000001,18951.892935321601,18778.596860000001,"-"]
[20072,18871.589,18999.547150146798,18915.997350000001,"-"]
[20073,19085.11,19089.584598629899,19058.951270000001,"-"]
[20074,19109.008000000002,19103.011564669901,19151.21601,"-"]
[20075,19234.064999999999,19112.141007655799,19303.188689999999,"-"]
[20076,19358.772000000001,19192.956372713601,19377.776300000001,"-"]
[20077,19302.685000000001,19168.4654878078,19493.050200000001,"-"]
[20078,19047.968000000001,19158.474078484702,19286.18519,"-"]
[20079,19307.990000000002,19239.79263104,19290.985349999999,"-"]
[200710,19232.271000000001,19242.796809855001,19371.683499999999,"-"]
[200711,19325.697,19275.263273644501,19393.158909999998,"-"]
[200712,19195.755000000001,19306.811641926699,19372.77708,"-"]
[20081,19111.058000000001,19308.857940745002,19161.851009999998,19431.951000000001]
[20082,19176.237000000001,19298.290971075701,19245.226760000001,19446.580999999998]
[20083,19224.988000000001,19274.720634180299,19314.41013,19433.768]
[20084,19251.454000000002,19234.049108961299,19356.269420000001,19396.920999999998]
[20085,19384.099999999999,19196.344394743901,19409.64157,19315.514999999999]
[20086,19184.842000000001,19102.631913297901,19358.953440000001,19217.588]
[20087,19169.826000000001,19011.7226135733,19382.222559999998,19143.213]
[20088,19055.34,19072.365901039899,19137.55615,19064.325000000001]
[20089,18837.302,18802.9921801688,19020.359469999999,18981.144]
[200810,18706.422999999999,18676.872452405802,18918.47321,18863.591]
[200811,18659.607,18563.963603120399,18721.38665,18704.064999999999]
[200812,18305.613000000001,18419.7713750742,18531.311740000001,18550.109]
[20091,18150.678,18312.642333857599,18181.742699999999,18422.567999999999]
[20092,18075.776999999998,18208.0420381695,18112.6106,18300.428]
[20093,17967.287,18092.435998287401,18058.121780000001,18184.378000000001]
[20094,17955.063999999998,17991.76359939,18034.183249999998,18085.472000000002]
[20095,18100.170999999998,17949.205616322801,18103.487349999999,18019.960999999999]
[20096,17917.981,17875.353644164799,18097.98602,17969.620999999999]
[20097,17958.362000000001,17813.900176518498,18143.55401,17932.600999999999]
[20098,17796.399000000001,17810.3730186705,18001.31004,17924.762999999999]
[20099,17791.858,17758.505750350301,17935.094550000002,17889.237000000001]
[200910,17870.659,17771.980080602501,17908.945329999999,17852.615000000002]
[200911,17777.152999999998,17729.321064699499,17847.66906,17833.797999999999]
[200912,17640.018,17700.562774971801,17803.838940000001,17808.978999999999]
[20101,17546.714,17695.2693250376,17546.011050000001,17773.053]
[20102,17550.412,17677.287193372998,17572.351149999999,17757.983]
[20103,17479.448,17613.942782907401,17594.808389999998,17725.254000000001]
[20104,17604.183000000001,17608.733096632201,17648.660100000001,17699.28]
[20105,17699.572,17582.6299283466,17761.897379999999,17678.272000000001]
[20106,17587.252,17555.537920746199,17785.781719999999,17657.71]
[20107,17795.844000000001,17583.670638243599,17848.322629999999,17642.144]
[20108,17509.438999999998,17544.473559250499,17716.46427,17638.697]
[20109,17554.774000000001,17539.8037774759,17671.479630000002,17623.725999999999]
[201010,17636.974999999999,17553.815554193599,17666.14905,17613.718000000001]
[201011,17539.607,17500.336245465202,17612.70938,17606.636999999999]
[201012,17478.095000000001,17513.3493722864,17584.981629999998,17588.452000000001]
[20111,17276.53,17463.8560519411,17361.838500000002,17581.631000000001]
[20112,17298.626,17449.642183311302,17347.094300000001,17543.909]
[20113,17325.399000000001,17442.820579577601,17392.75417,17525.967000000001]
[20114,17498.964,17448.3185106909,17474.20074,17520.312000000002]
[20115,17497.25,17407.043220622101,17592.190640000001,17500.195]
[20116,17362.368999999999,17328.2894531325,17586.578649999999,17454.642]
[20117,17591.402999999998,17367.917843564399,17637.351630000001,17434.346000000001]
[20118,17287.083999999999,17301.6796969924,17500.517370000001,17422.018]
[20119,17255.382000000001,17218.412346850098,17435.56163,17385.018]
[201110,17206.525000000001,17182.495280350398,17360.312549999999,17314.292000000001]
[201111,17204.03,17157.3311760051,17248.530060000001,17253.728999999999]
[201112,17111.792000000001,17099.7042190875,17229.9215,17224.271000000001]
[20121,16819.724999999999,17039.623039284299,16958.26714,17173.968000000001]
[20122,16809.794000000002,16984.0383445886,16897.111570000001,17095.073]
[20123,16885.758999999998,16951.753873002999,16902.530449999998,17031.009999999998]
[20124,16863.39,16878.933810145802,16919.07921,16963.22]
[20125,16893.798999999999,16811.2925384796,16996.51036,16903.385999999999]
[20126,16966.419999999998,16828.4936659142,17027.842570000001,16884.601999999999]
[20127,16875.349999999999,16739.9439414464,17032.738450000001,16843.300999999999]
[20128,16682.421999999999,16690.134511157601,16895.976900000001,16821.84]
[20129,16793.649000000001,16701.752616752099,16809.80315,16764.344000000001]
[201210,16557.981,16593.045423589101,16736.726630000001,16695.713]
[201211,16381.816999999999,16349.477733043999,16531.048139999999,16542.933000000001]
[201212,16332.487999999999,16329.052367381901,16442.681229999998,16437.616000000002]
[20131,16083.78,16287.677288131499,16179.438039999999,16389.626]
[20132,16094.638000000001,16254.1021196654,16150.7466,16342.522000000001]
[20133,16169.814,16229.4605132784,16181.27483,16303.712]
[20134,16198.707,16197.8825277793,16232.3523,16269.556]
[20135,16281.978999999999,16179.3099528323,16367.012580000001,16259.708000000001]
[20136,16346.688,16212.778555520699,16393.8655,16247.994000000001]
[20137,16284.726000000001,16187.1981312592,16426.755775000001,16241.915999999999]
[20138,16271.446,16233.534204219501,16327.687180000001,16263.808999999999]
[20139,16240.307000000001,16223.9127361801,16305.445369999999,16273.255999999999]
[201310,16190.225,16226.3643586997,16360.372509999999,16328.877]
[201311,16311.593000000001,16248.3479305153,16293.5432,16309.800999999999]
[201312,16258.041999999999,16289.1673409551,16357.64005,16354.486000000001]
[20141,16101.625,16305.2630608938,16173.60952,16387.724999999999]
[20142,16168.48,16316.8869821689,16212.3038,16405.216]
[20143,16269.721,16338.4355584281,16296.28822,16418.012999999999]
[20144,16420.852999999999,16385.4734856498,16430.052950000001,16452.903999999999]
[20145,16643.365000000002,16446.562148024299,16628.373220000001,16498.089]
[20146,16555.787,16474.650991332801,16684.995080000001,16526.634999999998]
[20147,16605.098000000002,16510.904938416799,16747.102642999998,16554.62]
[20148,16611.116000000002,16591.765024452001,16649.520499999999,16597.548999999999]
[20149,16565.853999999999,16575.320165346398,16661.702949999999,16639.839]
[201410,16575.092000000001,16613.5457129071,16690.51973,16667.309000000001]
[201411,16731.189999999999,16675.984154456699,16695.751700000001,16720.286]
[201412,16651.883999999998,16707.8704029332,16775.214469999999,16775.237000000001]
[20151,16589.692999999999,16764.164364204,16575.312249999999,16802.282999999999]
[20152,16705.373,16846.2378718367,16672.221600000001,16871.826000000001]
[20153,16826.434000000001,16904.303674878302,16832.80054,16952.958999999999]
[20154,16980.815999999999,16928.1153911642,17008.295900000001,17020.187999999998]
[20155,17248.258000000002,17007.9828250342,17221.310399999998,17070.077000000001]
[20156,17075.016,16984.333247922699,17256.395,17081.023000000001]
[20157,17127.907999999999,17029.9043066958,17315.187999999998,17108.786]
[20158,16983.303,17038.6222950052,17180.899000000001,17140.462]
[20159,17072.550999999999,17084.222941113399,17189.814999999999,17176.862000000001]
[201510,17209.036,17187.745539600099,17221.467000000001,17196.805]
[201511,17208.793000000001,17208.679422715799,17223.085999999999,17255.36]
[201512,17180.59,17243.0166173615,17308.400000000001,17315.357]
[20161,17112.223999999998,17281.698706535499,17104.357,17342.252]
[20162,17136.666000000001,17303.382358687701,17167.712,17380.687000000002]
[20163,17263.972000000002,17336.213736260401,17305.797999999999,17428.109]
[20164,17536.669999999998,17393.388483687901,17463.835999999999,17464.929]
[20165,17598.892,17408.126783456199,17661.84,17503.633000000002]
[20166,17569.07,17473.074675042801,17760.271000000001,17566.61]
[20167,17805.681,17667.5665651337,17844.991999999998,17625.002]
[20168,17452.445,17577.933869897199,17699.994999999999,17667.402999999998]
[20169,17603.312999999998,17593.042181974201,17712.021000000001,17712.791000000001]
[201610,17666.174999999999,17665.666228812599,17813.356,17782.48]
[201611,17734.106,17717.1400666722,17780.524000000001,17817.287]
[201612,17741.897000000001,17778.447710648299,17849.055,17862.100999999999]
[20171,17603.834999999999,17825.9354602737,17674.174999999999,17921.254000000001]
[20172,17728.907999999999,17887.695282250999,17748.255000000001,17970.023000000001]
[20173,17852.833999999999,17928.461629692501,17910.007000000001,18037.755000000001]
[20174,18184,18032.131584581501,18122.222000000002,18117.441999999999]
[20175,18261.899000000001,18064.6671575076,18345.414000000001,18173.382000000001]
[20176,18196.843000000001,18063.6847415591,18433.107,18223.407999999999]
[20177,18276.938999999998,18153.909952253602,18489.329000000002,18260.766]
[20178,18040.192999999999,18201.979474359901,18309.844000000001,18286.793000000001]
[20179,18400.141,18297.035375953001,18336.161,18339.446]
[201710,18281.362000000001,18321.315292257801,18430.528999999999,18399.09]
[201711,18364.819,18373.539081648101,18417.756000000001,18453.718000000001]
[201712,18331.107,18376.589057918402,18460.201000000001,18480.006000000001]
[20181,18211.901000000002,18444.20950759,18282.030999999999,18538.763999999999]
[20182,18314.467000000001,18486.466937028799,18363.513999999999,18590.954000000002]
[20183,18542.644,18553.334431299299,18502.088,18630.217000000001]
[20184,18659.703000000001,18572.377538053799,18678.460999999999,18675.831999999999]
[20185,18832.942999999999,18634.585293386001,18915.668000000001,18732.723000000002]
[20186,18967.952000000001,18735.9059314484,19006.990000000002,18781.983]
[20187,18812.915000000001,18725.623632873001,19042.810000000001,18806.547999999999]
[20188,18535.421999999999,18736.5797943299,18839.813999999998,18821.678]
[20189,18956.018,18830.5219862228,18862.713,18873.492999999999]
[201810,18792.718000000001,18847.3243528475,18993.072800000002,18954.552]
[201811,18871.968000000001,18890.930716252999,18945.624189999999,18989.134999999998]
[201812,18914.562999999998,18971.2738288566,19024.16517,19045.416000000001]
["2019-01-01",18730.629000000001,18959.504344546502,18819.3,19083.594000000001]
["2019-02-01",18846.670999999998,19022.446010111798,18888.472000000002,19122.427]
["2019-03-01",19096.989000000001,19097.474075841499,19043.576000000001,19175.463]
["2019-04-01",19182.644,19084.640553828001,19230.362000000001,19227.654999999999]
["2019-05-01",19327.792000000001,19132.372038758898,19442.113000000001,19254.204000000002]
["2019-06-01",19458.688999999998,19227.822458522802,19517.697,19286.936000000002]
["2019-07-01",19290.343000000001,19203.910041684401,19533.210999999999,19291.27]
["2019-08-01",19254.762999999999,19413.843919848001,19320.22709,19301.663]
["2019-09-01",19223.637999999999,19153.9177394285,19323.45147,19334.473999999998]
["2019-10-01",19181.445,null,19429.992999999999]
["2019-11-01",19415.312999999998,null,19376.878000000001]
["2019-12-01",19261.635999999999,null,19408.538]
["2020-01-01",19041.595000000001,null,19164.493999999999]

{"sheet":"chart","index":18,"n_rows":230,"n_cols":6,"rows_kept":230,"cut":false,"hidden":true,"merged":[]}
[null,"Afiliados (fin de mes)","Afiliados (media del mes)"]
["2001-01-01",{"$f":"DescargaSeries_201910021213!B231*1000","v":15204072},{"$f":"DescargaSeries_201910021213!D231*1000","v":15194299.220000001}]
["2001-02-01",{"$f":"DescargaSeries_201910021213!B232*1000","v":15349934},{"$f":"DescargaSeries_201910021213!D232*1000","v":15326583.350000001}]
["2001-03-01",{"$f":"DescargaSeries_201910021213!B233*1000","v":15514507},{"$f":"DescargaSeries_201910021213!D233*1000","v":15455386.399999999}]
["2001-04-01",{"$f":"DescargaSeries_201910021213!B234*1000","v":15556128},{"$f":"DescargaSeries_201910021213!D234*1000","v":15551821.040000001}]
["2001-05-01",{"$f":"DescargaSeries_201910021213!B235*1000","v":15679793},{"$f":"DescargaSeries_201910021213!D235*1000","v":15688072.270000001}]
["2001-06-01",{"$f":"DescargaSeries_201910021213!B236*1000","v":15827451},{"$f":"DescargaSeries_201910021213!D236*1000","v":15802406.549999999}]
["2001-07-01",{"$f":"DescargaSeries_201910021213!B237*1000","v":15844140},{"$f":"DescargaSeries_201910021213!D237*1000","v":15941613.600000001}]
["2001-08-01",{"$f":"DescargaSeries_201910021213!B238*1000","v":15676271},{"$f":"DescargaSeries_201910021213!D238*1000","v":15829410.01}]
["2001-09-01",{"$f":"DescargaSeries_201910021213!B239*1000","v":15756672},{"$f":"DescargaSeries_201910021213!D239*1000","v":15807572.640000001}]
["2001-10-01",{"$f":"DescargaSeries_201910021213!B240*1000","v":15765273},{"$f":"DescargaSeries_201910021213!D240*1000","v":15845332.529999999}]
["2001-11-01",{"$f":"DescargaSeries_201910021213!B241*1000","v":15876290},{"$f":"DescargaSeries_201910021213!D241*1000","v":15885774.659999998}]
["2001-12-01",{"$f":"DescargaSeries_201910021213!B242*1000","v":15748752},{"$f":"DescargaSeries_201910021213!D242*1000","v":15901915.26},null,"Afiliados (fin de mes) % i.a.","Afiliados (media del mes) % i.a."]
["2002-01-01",{"$f":"DescargaSeries_201910021213!B243*1000","v":15727566},{"$f":"DescargaSeries_201910021213!D243*1000","v":15716520.01},{"$f":"A14","v":"2002-01-01"},{"$f":"((B14/B2)-1)*100","v":3.4431170807399436},{"$f":"((C14/C2)-1)*100","v":3.4369521255222413}]
["2002-02-01",{"$f":"DescargaSeries_201910021213!B244*1000","v":15822158},{"$f":"DescargaSeries_201910021213!D244*1000","v":15834338.25},{"$f":"A15","v":"2002-02-01"},{"$f":"((B15/B3)-1)*100","v":3.0763910776424153},3.3129033940888064]
["2002-03-01",{"$f":"DescargaSeries_201910021213!B245*1000","v":15912352},{"$f":"DescargaSeries_201910021213!D245*1000","v":15927218.199999999},"2002-03-01",2.5643418769284665,3.0528631752616775]
["2002-04-01",{"$f":"DescargaSeries_201910021213!B246*1000","v":16023487},{"$f":"DescargaSeries_201910021213!D246*1000","v":16025754.18},"2002-04-01",3.0043401545680304,3.0474446611816086]
["2002-05-01",{"$f":"DescargaSeries_201910021213!B247*1000","v":16154714},{"$f":"DescargaSeries_201910021213!D247*1000","v":16183522.4},"2002-05-01",3.028872893921486,3.1581326339721105]
["2002-06-01",{"$f":"DescargaSeries_201910021213!B248*1000","v":16290434},{"$f":"DescargaSeries_201910021213!D248*1000","v":16260265.76},"2002-06-01",2.9251899121343072,2.8974017884636716]
["2002-07-01",{"$f":"DescargaSeries_201910021213!B249*1000","v":16326631},{"$f":"DescargaSeries_201910021213!D249*1000","v":16419239.07},"2002-07-01",3.0452331272003308,2.9960923780011806]
["2002-08-01",{"$f":"DescargaSeries_201910021213!B250*1000","v":16276570},{"$f":"DescargaSeries_201910021213!D250*1000","v":16321804.82},"2002-08-01",3.8293481912885952,3.110632737979091]
["2002-09-01",{"$f":"DescargaSeries_201910021213!B251*1000","v":16187368},{"$f":"DescargaSeries_201910021213!D251*1000","v":16293662.039999999},"2002-09-01",2.7334198490645667,3.0750413809264021]
["2002-10-01",{"$f":"DescargaSeries_201910021213!B252*1000","v":16236870},{"$f":"DescargaSeries_201910021213!D252*1000","v":16340244.6},"2002-10-01",2.9913658964231038,3.1233933971595906]
["2002-11-01",{"$f":"DescargaSeries_201910021213!B253*1000","v":16369029},{"$f":"DescargaSeries_201910021213!D253*1000","v":16376762.68},"2002-11-01",3.103615517227265,3.0907401779801003]
["2002-12-01",{"$f":"DescargaSeries_201910021213!B254*1000","v":16188390},{"$f":"DescargaSeries_201910021213!D254*1000","v":16380197.690000001},"2002-12-01",2.7915735799255659,3.0077032997596342]
["2003-01-01",{"$f":"DescargaSeries_201910021213!B255*1000","v":16207199},{"$f":"DescargaSeries_201910021213!D255*1000","v":16217209.48},"2003-01-01",3.0496327276579249,3.1857527600348323]
["2003-02-01",{"$f":"DescargaSeries_201910021213!B256*1000","v":16335717},{"$f":"DescargaSeries_201910021213!D256*1000","v":16365395.65},"2003-02-01",3.2458214612697045,3.3538338743016372]
["2003-03-01",{"$f":"DescargaSeries_201910021213!B257*1000","v":16455090},{"$f":"DescargaSeries_201910021213!D257*1000","v":16482972.570000002},"2003-03-01",3.4107968451175585,3.4893373282222084]
["2003-04-01",{"$f":"DescargaSeries_201910021213!B258*1000","v":16559933},{"$f":"DescargaSeries_201910021213!D258*1000","v":16594317.07},"2003-04-01",3.3478730316316208,3.5478073831280987]
["2003-05-01",{"$f":"DescargaSeries_201910021213!B259*1000","v":16707449},{"$f":"DescargaSeries_201910021213!D259*1000","v":16735791.040000001},"2003-05-01",3.4215090406428672,3.4125366922592937]
["2003-06-01",{"$f":"DescargaSeries_201910021213!B260*1000","v":16734940.999999998},{"$f":"DescargaSeries_201910021213!D260*1000","v":16818072.16},"2003-06-01",{"$f":"((B31/B19)-1)*100","v":2.7286381688787387},3.4304875961633785]
["2003-07-01",{"$f":"DescargaSeries_201910021213!B261*1000","v":16817780},{"$f":"DescargaSeries_201910021213!D261*1000","v":16941956.129999999},"2003-07-01",3.0082691279051943,3.1835644622232762]
["2003-08-01",{"$f":"DescargaSeries_201910021213!B262*1000","v":16660731},{"$f":"DescargaSeries_201910021213!D262*1000","v":16810036.199999999},"2003-08-01",2.3602085697416619,2.9912830436603643]
["2003-09-01",{"$f":"DescargaSeries_201910021213!B263*1000","v":16680559.000000002},{"$f":"DescargaSeries_201910021213!D263*1000","v":16785475.829999998},"2003-09-01",3.0467646129994863,3.0184361796177228]
["2003-10-01",{"$f":"DescargaSeries_201910021213!B264*1000","v":16738305},{"$f":"DescargaSeries_201910021213!D264*1000","v":16830082.649999999},"2003-10-01",3.0882491514682364,2.997740009350891]
["2003-11-01",{"$f":"DescargaSeries_201910021213!B265*1000","v":16866901},{"$f":"DescargaSeries_201910021213!D265*1000","v":16850235.600000001},"2003-11-01",3.0415487687143861,2.891126465294791]
["2003-12-01",{"$f":"DescargaSeries_201910021213!B266*1000","v":16589561.000000002},{"$f":"DescargaSeries_201910021213!D266*1000","v":16826224.210000001},"2003-12-01",2.478140198006118,2.7229617642056558]
["2004-01-01",{"$f":"DescargaSeries_201910021213!B267*1000","v":16713456.999999998},{"$f":"DescargaSeries_201910021213!D267*1000","v":16640851.449999997},"2004-01-01",3.1236612816316844,2.6122988083890464]
["2004-02-01",{"$f":"DescargaSeries_201910021213!B268*1000","v":16839767},{"$f":"DescargaSeries_201910021213!D268*1000","v":16808648.850000001},"2004-02-01",3.0855701038405625,2.7084783617804087]
["2004-03-01",{"$f":"DescargaSeries_201910021213!B269*1000","v":16894920},{"$f":"DescargaSeries_201910021213!D269*1000","v":16930836.650000002},"2004-03-01",2.6729115428721473,2.7171317436706754]
["2004-04-01",{"$f":"DescargaSeries_201910021213!B270*1000","v":16998997},{"$f":"DescargaSeries_201910021213!D270*1000","v":17023372.149999999},"2004-04-01",2.6513633841392936,2.5855543086835686]
["2004-05-01",{"$f":"DescargaSeries_201910021213!B271*1000","v":17135324},{"$f":"DescargaSeries_201910021213!D271*1000","v":17174293.949999999},"2004-05-01",2.5609834272126264,2.6201504843836654]
["2004-06-01",{"$f":"DescargaSeries_201910021213!B272*1000","v":17156672},{"$f":"DescargaSeries_201910021213!D272*1000","v":17276512.780000001},"2004-06-01",2.520062664099032,2.7258809192789224]
["2004-07-01",{"$f":"DescargaSeries_201910021213!B273*1000","v":17280888},{"$f":"DescargaSeries_201910021213!D273*1000","v":17414516.309999999},"2004-07-01",2.7536809257821204,2.7892893617119663]
["2004-08-01",{"$f":"DescargaSeries_201910021213!B274*1000","v":17073043},{"$f":"DescargaSeries_201910021213!D274*1000","v":17260174.650000002},"2004-08-01",2.4747533586611636,2.6777958396068335]
["2004-09-01",{"$f":"DescargaSeries_201910021213!B275*1000","v":17143750},{"$f":"DescargaSeries_201910021213!D275*1000","v":17247118.719999999},"2004-09-01",2.7768313999548599,2.7502520314313994]
["2004-10-01",{"$f":"DescargaSeries_201910021213!B276*1000","v":17264424},{"$f":"DescargaSeries_201910021213!D276*1000","v":17314217.050000001},"2004-10-01",{"$f":"((B47/B35)-1)*100","v":3.1432035681032255},2.8766014408134977]
["2004-11-01",{"$f":"DescargaSeries_201910021213!B277*1000","v":17318242},{"$f":"DescargaSeries_201910021213!D277*1000","v":17349474.239999998},"2004-11-01",2.6758976056123096,2.9627991670335918]
["2004-12-01",{"$f":"DescargaSeries_201910021213!B278*1000","v":17161920},{"$f":"DescargaSeries_201910021213!D278*1000","v":17340361.050000001},"2004-12-01",3.4501154069116025,3.055568697904576]
["2005-01-01",{"$f":"DescargaSeries_201910021213!B279*1000","v":17188173},{"$f":"DescargaSeries_201910021213!D279*1000","v":17180940.449999999},"2005-01-01",2.8403220231457915,3.2455610917673461]
["2005-02-01",{"$f":"DescargaSeries_201910021213!B280*1000","v":17290315},{"$f":"DescargaSeries_201910021213!D280*1000","v":17320383.800000001},"2005-02-01",2.6755002013982843,3.0444740357580713]
["2005-03-01",{"$f":"DescargaSeries_201910021213!B281*1000","v":17383847},{"$f":"DescargaSeries_201910021213!D281*1000","v":17430544.379999999},"2005-03-01",2.8939290627004954,2.9514650712786583]
["2005-04-01",{"$f":"DescargaSeries_201910021213!B282*1000","v":17576953},{"$f":"DescargaSeries_201910021213!D282*1000","v":17575463.009999998},"2005-04-01",3.3999417730351977,3.2431345278438162]
["2005-05-01",{"$f":"DescargaSeries_201910021213!B283*1000","v":17789125},{"$f":"DescargaSeries_201910021213!D283*1000","v":17789655.539999999},"2005-05-01",3.8155158315068993,3.583038649457837]
["2005-06-01",{"$f":"DescargaSeries_201910021213!B284*1000","v":17942395},{"$f":"DescargaSeries_201910021213!D284*1000","v":18019758.109999999},"2005-06-01",4.5796935442957709,4.302056436183177]
["2005-07-01",{"$f":"DescargaSeries_201910021213!B285*1000","v":18157011},{"$f":"DescargaSeries_201910021213!D285*1000","v":18260394.07},"2005-07-01",5.069895713692496,4.857314121979206]
["2005-08-01",{"$f":"DescargaSeries_201910021213!B286*1000","v":17968476},{"$f":"DescargaSeries_201910021213!D286*1000","v":18168312.59},"2005-08-01",5.2447182379848689,5.261464373421032]
["2005-09-01",{"$f":"DescargaSeries_201910021213!B287*1000","v":18094408},{"$f":"DescargaSeries_201910021213!D287*1000","v":18196939.539999999},"2005-09-01",5.5452161866569538,5.5071275116728602]
["2005-10-01",{"$f":"DescargaSeries_201910021213!B288*1000","v":18194803},{"$f":"DescargaSeries_201910021213!D288*1000","v":18294813.399999999},"2005-10-01",5.3889953119779621,5.6635327324835449]
["2005-11-01",{"$f":"DescargaSeries_201910021213!B289*1000","v":18283385},{"$f":"DescargaSeries_201910021213!D289*1000","v":18330429.810000002},"2005-11-01",5.5729848329870935,5.6540939306297]
["2005-12-01",{"$f":"DescargaSeries_201910021213!B290*1000","v":18156182},{"$f":"DescargaSeries_201910021213!D290*1000","v":18316322.950000003},"2005-12-01",5.7934193843113047,5.6282674690905754]
["2006-01-01",{"$f":"DescargaSeries_201910021213!B291*1000","v":18123841},{"$f":"DescargaSeries_201910021213!D291*1000","v":18154960.289999999},"2006-01-01",5.443673390999737,5.6691881497092256]
["2006-02-01",{"$f":"DescargaSeries_201910021213!B292*1000","v":18238966},{"$f":"DescargaSeries_201910021213!D292*1000","v":18286896.75},"2006-02-01",{"$f":"((B63/B51)-1)*100","v":5.4866033383428769},5.5802051568857314]
["2006-03-01",{"$f":"DescargaSeries_201910021213!B293*1000","v":18360036},{"$f":"DescargaSeries_201910021213!D293*1000","v":18415427.049999997},"2006-03-01",5.6154946600714961,5.6503265103416078]
["2006-04-01",{"$f":"DescargaSeries_201910021213!B294*1000","v":18559178},{"$f":"DescargaSeries_201910021213!D294*1000","v":18540308.850000001},"2006-04-01",5.58814147139155,5.4897321308180036]
["2006-05-01",{"$f":"DescargaSeries_201910021213!B295*1000","v":18640331},{"$f":"DescargaSeries_201910021213!D295*1000","v":18696526.290000003},"2006-05-01",4.7849795872478174,5.0977420443071964]
["2006-06-01",{"$f":"DescargaSeries_201910021213!B296*1000","v":18642858},{"$f":"DescargaSeries_201910021213!D296*1000","v":18807670.370000001},"2006-06-01",3.9039548510664268,4.3724907692448634]
["2006-07-01",{"$f":"DescargaSeries_201910021213!B297*1000","v":18771167},{"$f":"DescargaSeries_201910021213!D297*1000","v":18944956.34},"2006-07-01",3.3824730292888017,3.7488910007953624]
["2006-08-01",{"$f":"DescargaSeries_201910021213!B298*1000","v":18583552},{"$f":"DescargaSeries_201910021213!D298*1000","v":18760546.600000001},"2006-08-01",3.4230838497377292,3.2597083910036462]
["2006-09-01",{"$f":"DescargaSeries_201910021213!B299*1000","v":18814068},{"$f":"DescargaSeries_201910021213!D299*1000","v":18777097.109999999},"2006-09-01",3.9772508722031752,3.1882150771821438]
["2006-10-01",{"$f":"DescargaSeries_201910021213!B300*1000","v":18767751},{"$f":"DescargaSeries_201910021213!D300*1000","v":18866359.010000002},"2006-10-01",3.1489651193255641,3.1240854853430866]
["2006-11-01",{"$f":"DescargaSeries_201910021213!B301*1000","v":18884115},{"$f":"DescargaSeries_201910021213!D301*1000","v":18922822.34},"2006-11-01",3.2856607242039759,3.2317438060116999]
["2006-12-01",{"$f":"DescargaSeries_201910021213!B302*1000","v":18770259},{"$f":"DescargaSeries_201910021213!D302*1000","v":18925995.789999999},"2006-12-01",3.382192357402003,3.3285766016699192]
["2007-01-01",{"$f":"DescargaSeries_201910021213!B303*1000","v":18757058},{"$f":"DescargaSeries_201910021213!D303*1000","v":18778596.860000003},"2007-01-01",3.4938344471241001,3.4350753735523876]
["2007-02-01",{"$f":"DescargaSeries_201910021213!B304*1000","v":18871589},{"$f":"DescargaSeries_201910021213!D304*1000","v":18915997.350000001},"2007-02-01",3.4685244766616607,3.4401714440696507]
["2007-03-01",{"$f":"DescargaSeries_201910021213!B305*1000","v":19085110},{"$f":"DescargaSeries_201910021213!D305*1000","v":19058951.27},"2007-03-01",3.9491970495046935,3.4944843703746953]
["2007-04-01",{"$f":"DescargaSeries_201910021213!B306*1000","v":19109008},{"$f":"DescargaSeries_201910021213!D306*1000","v":19151216.010000002},"2007-04-01",2.9625773296640512,3.2950214850385295]
["2007-05-01",{"$f":"DescargaSeries_201910021213!B307*1000","v":19234065},{"$f":"DescargaSeries_201910021213!D307*1000","v":19303188.689999998},"2007-05-01",3.1852116789127916,3.2447867084511417]
["2007-06-01",{"$f":"DescargaSeries_201910021213!B308*1000","v":19358772},{"$f":"DescargaSeries_201910021213!D308*1000","v":19377776.300000001},{"$f":"A79","v":"2007-06-01"},{"$f":"((B79/B67)-1)*100","v":3.8401515475792403},3.0312416093243089]
["2007-07-01",{"$f":"DescargaSeries_201910021213!B309*1000","v":19302685},{"$f":"DescargaSeries_201910021213!D309*1000","v":19493050.200000003},"2007-07-01",2.8315660928273756,2.8930858966550899]
["2007-08-01",{"$f":"DescargaSeries_201910021213!B310*1000","v":19047968},{"$f":"DescargaSeries_201910021213!D310*1000","v":19286185.190000001},"2007-08-01",2.4990701454705722,2.8018298251501816]
["2007-09-01",{"$f":"DescargaSeries_201910021213!B311*1000","v":19307990},{"$f":"DescargaSeries_201910021213!D311*1000","v":19290985.349999998},"2007-09-01",2.6252801892711286,2.7367821393772251]
["2007-10-01",{"$f":"DescargaSeries_201910021213!B312*1000","v":19232271},{"$f":"DescargaSeries_201910021213!D312*1000","v":19371683.5},"2007-10-01",2.4750967763798704,2.6784420339512893]
["2007-11-01",{"$f":"DescargaSeries_201910021213!B313*1000","v":19325697},{"$f":"DescargaSeries_201910021213!D313*1000","v":19393158.909999996},"2007-11-01",2.3383780494876216,2.485551898914018]
["2007-12-01",{"$f":"DescargaSeries_201910021213!B314*1000","v":19195755},{"$f":"DescargaSeries_201910021213!D314*1000","v":19372777.079999998},"2007-12-01",2.2668627001896979,2.360675205455065]
["2008-01-01",{"$f":"DescargaSeries_201910021213!B315*1000","v":19111058},{"$f":"DescargaSeries_201910021213!D315*1000","v":19161851.009999998},"2008-01-01",1.8872895738766715,2.0409094079673062]
["2008-02-01",{"$f":"DescargaSeries_201910021213!B316*1000","v":19176237},{"$f":"DescargaSeries_201910021213!D316*1000","v":19245226.760000002},"2008-02-01",1.6143208714433088,1.7404813709175126]
["2008-03-01",{"$f":"DescargaSeries_201910021213!B317*1000","v":19224988},{"$f":"DescargaSeries_201910021213!D317*1000","v":19314410.129999999},"2008-03-01",0.73291691795331904,1.3403615780376521]
["2008-04-01",{"$f":"DescargaSeries_201910021213!B318*1000","v":19251454},{"$f":"DescargaSeries_201910021213!D318*1000","v":19356269.420000002},"2008-04-01",0.74543900970682753,1.0707069978894701]
["2008-05-01",{"$f":"DescargaSeries_201910021213!B319*1000","v":19384100},{"$f":"DescargaSeries_201910021213!D319*1000","v":19409641.57},"2008-05-01",0.78004831531972574,0.55147821279470932]
["2008-06-01",{"$f":"DescargaSeries_201910021213!B320*1000","v":19184842},{"$f":"DescargaSeries_201910021213!D320*1000","v":19358953.440000001},"2008-06-01",-0.8984557491559908,-9.7136326215097046E-2]
["2008-07-01",{"$f":"DescargaSeries_201910021213!B321*1000","v":19169826},{"$f":"DescargaSeries_201910021213!D321*1000","v":19382222.559999999},"2008-07-01",-0.68829284630609333,-0.56854950283770078]
["2008-08-01",{"$f":"DescargaSeries_201910021213!B322*1000","v":19055340},{"$f":"DescargaSeries_201910021213!D322*1000","v":19137556.149999999},"2008-08-01",3.8702290974024223E-2,-0.77065027912864847]
["2008-09-01",{"$f":"DescargaSeries_201910021213!B323*1000","v":18837302},{"$f":"DescargaSeries_201910021213!D323*1000","v":19020359.469999999},"2008-09-01",-2.4377887081980076,-1.4028618812879867]
["2008-10-01",{"$f":"DescargaSeries_201910021213!B324*1000","v":18706423},{"$f":"DescargaSeries_201910021213!D324*1000","v":18918473.210000001},"2008-10-01",{"$f":"((B95/B83)-1)*100","v":-2.7341960811596344},-2.3395503545161622]
["2008-11-01",{"$f":"DescargaSeries_201910021213!B325*1000","v":18659607},{"$f":"DescargaSeries_201910021213!D325*1000","v":18721386.649999999},"2008-11-01",-3.4466544725398562,-3.4639651184088516]
["2008-12-01",{"$f":"DescargaSeries_201910021213!B326*1000","v":18305613},{"$f":"DescargaSeries_201910021213!D326*1000","v":18531311.740000002},"2008-12-01",-4.6371815018476763,-4.3435452569611455]
["2009-01-01",{"$f":"DescargaSeries_201910021213!B327*1000","v":18150678},{"$f":"DescargaSeries_201910021213!D327*1000","v":18181742.699999999},"2009-01-01",-5.0252581515895178,-5.1148936994057088]
["2009-02-01",{"$f":"DescargaSeries_201910021213!B328*1000","v":18075777},{"$f":"DescargaSeries_201910021213!D328*1000","v":18112610.600000001},"2009-02-01",-5.7386649945972206,-5.8851796038801307]
["2009-03-01",{"$f":"DescargaSeries_201910021213!B329*1000","v":17967287},{"$f":"DescargaSeries_201910021213!D329*1000","v":18058121.780000001},"2009-03-01",-6.542011885781152,-6.5044096171939287]
["2009-04-01",{"$f":"DescargaSeries_201910021213!B330*1000","v":17955064},{"$f":"DescargaSeries_201910021213!D330*1000","v":18034183.25},"2009-04-01",-6.7339848719997981,-6.8302736509440525]
["2009-05-01",{"$f":"DescargaSeries_201910021213!B331*1000","v":18100171},{"$f":"DescargaSeries_201910021213!D331*1000","v":18103487.349999998},"2009-05-01",-6.623619358133725,-6.7294092747123386]
["2009-06-01",{"$f":"DescargaSeries_201910021213!B332*1000","v":17917981},{"$f":"DescargaSeries_201910021213!D332*1000","v":18097986.02},"2009-06-01",-6.6034476593552327,-6.5136135788960381]
["2009-07-01",{"$f":"DescargaSeries_201910021213!B333*1000","v":17958362},{"$f":"DescargaSeries_201910021213!D333*1000","v":18143554.010000002},"2009-07-01",-6.3196400426378414,-6.3907456751440606]
["2009-08-01",{"$f":"DescargaSeries_201910021213!B334*1000","v":17796399},{"$f":"DescargaSeries_201910021213!D334*1000","v":18001310.039999999},"2009-08-01",-6.6067621989426613,-5.9372581383647542]
["2009-09-01",{"$f":"DescargaSeries_201910021213!B335*1000","v":17791858},{"$f":"DescargaSeries_201910021213!D335*1000","v":17935094.550000001},"2009-09-01",-5.5498605904391152,-5.7058065685443022]
["2009-10-01",{"$f":"DescargaSeries_201910021213!B336*1000","v":17870659},{"$f":"DescargaSeries_201910021213!D336*1000","v":17908945.329999998},"2009-10-01",-4.467791624299311,-5.3362016521839699]
["2009-11-01",{"$f":"DescargaSeries_201910021213!B337*1000","v":17777153},{"$f":"DescargaSeries_201910021213!D337*1000","v":17847669.059999999},"2009-11-01",-4.7292207172423328,-4.6669491225961091]
["2009-12-01",{"$f":"DescargaSeries_201910021213!B338*1000","v":17640018},{"$f":"DescargaSeries_201910021213!D338*1000","v":17803838.940000001},"2009-12-01",-3.6360159039743767,-3.9256411537762048]
["2010-01-01",{"$f":"DescargaSeries_201910021213!B339*1000","v":17546714},{"$f":"DescargaSeries_201910021213!D339*1000","v":17546011.050000001},"2010-01-01",-3.3275010443136077,-3.4965385908799496]
["2010-02-01",{"$f":"DescargaSeries_201910021213!B340*1000","v":17550412},{"$f":"DescargaSeries_201910021213!D340*1000","v":17572351.149999999},"2010-02-01",{"$f":"((B111/B99)-1)*100","v":-2.9064587375690731},-2.9827806820956204]
["2010-03-01",{"$f":"DescargaSeries_201910021213!B341*1000","v":17479448},{"$f":"DescargaSeries_201910021213!D341*1000","v":17594808.389999997},"2010-03-01",-2.7151511522023331,-2.5656787325088248]
["2010-04-01",{"$f":"DescargaSeries_201910021213!B342*1000","v":17604183},{"$f":"DescargaSeries_201910021213!D342*1000","v":17648660.100000001},"2010-04-01",-1.9542174842707372,-2.1377355694774725]
["2010-05-01",{"$f":"DescargaSeries_201910021213!B343*1000","v":17699572},{"$f":"DescargaSeries_201910021213!D343*1000","v":17761897.379999999},"2010-05-01",-2.2132332340948579,-1.8868738569312149]
["2010-06-01",{"$f":"DescargaSeries_201910021213!B344*1000","v":17587252},{"$f":"DescargaSeries_201910021213!D344*1000","v":17785781.719999999},"2010-06-01",-1.8457938983192368,-1.7250775840747412]
["2010-07-01",{"$f":"DescargaSeries_201910021213!B345*1000","v":17795844},{"$f":"DescargaSeries_201910021213!D345*1000","v":17848322.629999999},"2010-07-01",-0.90497117721538567,-1.6271970741635444]
["2010-08-01",{"$f":"DescargaSeries_201910021213!B346*1000","v":17509439},{"$f":"DescargaSeries_201910021213!D346*1000","v":17716464.27},"2010-08-01",-1.6124610377638793,-1.5823613357419775]
["2010-09-01",{"$f":"DescargaSeries_201910021213!B347*1000","v":17554774},{"$f":"DescargaSeries_201910021213!D347*1000","v":17671479.630000003},"2010-09-01",-1.3325421099921075,-1.469827322432482]
["2010-10-01",{"$f":"DescargaSeries_201910021213!B348*1000","v":17636975},{"$f":"DescargaSeries_201910021213!D348*1000","v":17666149.050000001},"2010-10-01",-1.307640641567831,-1.355726289438608]
["2010-11-01",{"$f":"DescargaSeries_201910021213!B349*1000","v":17539607},{"$f":"DescargaSeries_201910021213!D349*1000","v":17612709.379999999},"2010-11-01",-1.3362432105973321,-1.3164726397050242]
["2010-12-01",{"$f":"DescargaSeries_201910021213!B350*1000","v":17478095},{"$f":"DescargaSeries_201910021213!D350*1000","v":17584981.629999999},"2010-12-01",-0.91792990233909855,-1.2292703317389297]
["2011-01-01",{"$f":"DescargaSeries_201910021213!B351*1000","v":17276530},{"$f":"DescargaSeries_201910021213!D351*1000","v":17361838.5},"2011-01-01",-1.5397982778997843,-1.0496548159873664]
["2011-02-01",{"$f":"DescargaSeries_201910021213!B352*1000","v":17298626},{"$f":"DescargaSeries_201910021213!D352*1000","v":17347094.300000001},"2011-02-01",-1.4346443832771616,-1.281882248295485]
["2011-03-01",{"$f":"DescargaSeries_201910021213!B353*1000","v":17325399},{"$f":"DescargaSeries_201910021213!D353*1000","v":17392754.170000002},"2011-03-01",-0.88131501635521081,-1.1483740858174496]
["2011-04-01",{"$f":"DescargaSeries_201910021213!B354*1000","v":17498964},{"$f":"DescargaSeries_201910021213!D354*1000","v":17474200.740000002},"2011-04-01",-0.5976931732645574,-0.98851334328774465]
["2011-05-01",{"$f":"DescargaSeries_201910021213!B355*1000","v":17497250},{"$f":"DescargaSeries_201910021213!D355*1000","v":17592190.640000001},"2011-05-01",-1.1430897877078627,-0.95545389306825879]
["2011-06-01",{"$f":"DescargaSeries_201910021213!B356*1000","v":17362369},{"$f":"DescargaSeries_201910021213!D356*1000","v":17586578.649999999},"2011-06-01",{"$f":"((B127/B115)-1)*100","v":-1.2786704824608197},-1.1200130145305742]
["2011-07-01",{"$f":"DescargaSeries_201910021213!B357*1000","v":17591403},{"$f":"DescargaSeries_201910021213!D357*1000","v":17637351.630000003},"2011-07-01",-1.1488131723339401,-1.1820214390644734]
["2011-08-01",{"$f":"DescargaSeries_201910021213!B358*1000","v":17287084},{"$f":"DescargaSeries_201910021213!D358*1000","v":17500517.370000001},"2011-08-01",-1.2699150441084939,-1.2189051760495451]
["2011-09-01",{"$f":"DescargaSeries_201910021213!B359*1000","v":17255382},{"$f":"DescargaSeries_201910021213!D359*1000","v":17435561.629999999},"2011-09-01",-1.705473394302881,-1.3350212033150677]
["2011-10-01",{"$f":"DescargaSeries_201910021213!B360*1000","v":17206525},{"$f":"DescargaSeries_201910021213!D360*1000","v":17360312.549999997},"2011-10-01",-2.4406112726247042,-1.7312007225479875]
["2011-11-01",{"$f":"DescargaSeries_201910021213!B361*1000","v":17204030},{"$f":"DescargaSeries_201910021213!D361*1000","v":17248530.060000002},"2011-11-01",-1.9132526743615208,-2.0677075408598866]
["2011-12-01",{"$f":"DescargaSeries_201910021213!B362*1000","v":17111792},{"$f":"DescargaSeries_201910021213!D362*1000","v":17229921.5},"2011-12-01",-2.0957833219238164,-2.0191100421411035]
["2012-01-01",{"$f":"DescargaSeries_201910021213!B363*1000","v":16819725},{"$f":"DescargaSeries_201910021213!D363*1000","v":16958267.140000001},"2012-01-01",-2.644078411579176,-2.3244736437330604]
["2012-02-01",{"$f":"DescargaSeries_201910021213!B364*1000","v":16809794},{"$f":"DescargaSeries_201910021213!D364*1000","v":16897111.57},"2012-02-01",-2.8258429311090905,-2.5939948340512609]
["2012-03-01",{"$f":"DescargaSeries_201910021213!B365*1000","v":16885759},{"$f":"DescargaSeries_201910021213!D365*1000","v":16902530.449999999},"2012-03-01",-2.5375461771472096,-2.8185514220948837]
["2012-04-01",{"$f":"DescargaSeries_201910021213!B366*1000","v":16863390},{"$f":"DescargaSeries_201910021213!D366*1000","v":16919079.210000001},"2012-04-01",-3.6320664469050801,-3.1768064145519359]
["2012-05-01",{"$f":"DescargaSeries_201910021213!B367*1000","v":16893799},{"$f":"DescargaSeries_201910021213!D367*1000","v":16996510.359999999},"2012-05-01",-3.4488333881038447,-3.3860494817830267]
["2012-06-01",{"$f":"DescargaSeries_201910021213!B368*1000","v":16966420},{"$f":"DescargaSeries_201910021213!D368*1000","v":17027842.57},"2012-06-01",-2.2805010076677901,-3.1770595697986903]
["2012-07-01",{"$f":"DescargaSeries_201910021213!B369*1000","v":16875350},{"$f":"DescargaSeries_201910021213!D369*1000","v":17032738.449999999},"2012-07-01",-4.070471240980611,-3.42802702289835]
["2012-08-01",{"$f":"DescargaSeries_201910021213!B370*1000","v":16682421.999999998},{"$f":"DescargaSeries_201910021213!D370*1000","v":16895976.900000002},"2012-08-01",-3.49776746616145,-3.4544148451080892]
["2012-09-01",{"$f":"DescargaSeries_201910021213!B371*1000","v":16793649},{"$f":"DescargaSeries_201910021213!D371*1000","v":16809803.149999999},"2012-09-01",-2.6758781694893763,-3.5889780511762059]
["2012-10-01",{"$f":"DescargaSeries_201910021213!B372*1000","v":16557981},{"$f":"DescargaSeries_201910021213!D372*1000","v":16736726.630000001},{"$f":"A143","v":"2012-10-01"},{"$f":"((B143/B131)-1)*100","v":-3.7691747752669369},-3.5920201217805592]
["2012-11-01",{"$f":"DescargaSeries_201910021213!B373*1000","v":16381817},{"$f":"DescargaSeries_201910021213!D373*1000","v":16531048.139999999},"2012-11-01",-4.7791883645866733,-4.159669940013444]
["2012-12-01",{"$f":"DescargaSeries_201910021213!B374*1000","v":16332488},{"$f":"DescargaSeries_201910021213!D374*1000","v":16442681.229999999},"2012-12-01",-4.5541928045876201,-4.5690299285461089]
["2013-01-01",{"$f":"DescargaSeries_201910021213!B375*1000","v":16083780},{"$f":"DescargaSeries_201910021213!D375*1000","v":16179438.039999999},"2013-01-01",-4.3754877086278121,-4.5926219558303334]
["2013-02-01",{"$f":"DescargaSeries_201910021213!B376*1000","v":16094638},{"$f":"DescargaSeries_201910021213!D376*1000","v":16150746.6},"2013-02-01",-4.254400738045927,-4.41711571180684]
["2013-03-01",{"$f":"DescargaSeries_201910021213!B377*1000","v":16169814},{"$f":"DescargaSeries_201910021213!D377*1000","v":16181274.83},"2013-03-01",-4.2399337808860071,-4.2671458107031546]
["2013-04-01",{"$f":"DescargaSeries_201910021213!B378*1000","v":16198707},{"$f":"DescargaSeries_201910021213!D378*1000","v":16232352.300000001},"2013-04-01",-3.9415740251515285,-4.0588905665392865]
["2013-05-01",{"$f":"DescargaSeries_201910021213!B379*1000","v":16281979},{"$f":"DescargaSeries_201910021213!D379*1000","v":16367012.58},"2013-05-01",-3.6215655223552745,-3.7036883846549795]
["2013-06-01",{"$f":"DescargaSeries_201910021213!B380*1000","v":16346688},{"$f":"DescargaSeries_201910021213!D380*1000","v":16393865.5},"2013-06-01",-3.6526975048360222,-3.7231790662485609]
["2013-07-01",{"$f":"DescargaSeries_201910021213!B381*1000","v":16284726},{"$f":"DescargaSeries_201910021213!D381*1000","v":16426755.775000002},"2013-07-01",-3.4999214831099801,-3.5577524822498319]
["2013-08-01",{"$f":"DescargaSeries_201910021213!B382*1000","v":16271446},{"$f":"DescargaSeries_201910021213!D382*1000","v":16327687.180000002},"2013-08-01",-2.4635271784876234,-3.3634617481040796]
["2013-09-01",{"$f":"DescargaSeries_201910021213!B383*1000","v":16240307},{"$f":"DescargaSeries_201910021213!D383*1000","v":16305445.369999999},"2013-09-01",-3.2949479889689215,-3.0003788592848579]
["2013-10-01",{"$f":"DescargaSeries_201910021213!B384*1000","v":16190225},{"$f":"DescargaSeries_201910021213!D384*1000","v":16360372.51},"2013-10-01",-2.2210195796214527,-2.2486722064600118]
["2013-11-01",{"$f":"DescargaSeries_201910021213!B385*1000","v":16311593},{"$f":"DescargaSeries_201910021213!D385*1000","v":16293543.199999999},"2013-11-01",-0.42867039718488265,-1.4367203941854756]
["2013-12-01",{"$f":"DescargaSeries_201910021213!B386*1000","v":16258042},{"$f":"DescargaSeries_201910021213!D386*1000","v":16357640.050000001},"2013-12-01",-0.45581542750865456,-0.51719776604827183]
["2014-01-01",{"$f":"DescargaSeries_201910021213!B387*1000","v":16101625},{"$f":"DescargaSeries_201910021213!D387*1000","v":16173609.52},"2014-01-01",0.1109502865619838,-3.6024242532961548E-2]
["2014-02-01",{"$f":"DescargaSeries_201910021213!B388*1000","v":16168480},{"$f":"DescargaSeries_201910021213!D388*1000","v":16212303.799999999},"2014-02-01",{"$f":"((B159/B147)-1)*100","v":0.45879876266865516},0.38114151329697865]
["2014-03-01",{"$f":"DescargaSeries_201910021213!B389*1000","v":16269721},{"$f":"DescargaSeries_201910021213!D389*1000","v":16296288.220000001},"2014-03-01",0.61786115783397655,0.7107807710352132]
["2014-04-01",{"$f":"DescargaSeries_201910021213!B390*1000","v":16420853},{"$f":"DescargaSeries_201910021213!D390*1000","v":16430052.950000001},"2014-04-01",1.3713810614637278,1.2179420847094447]
["2014-05-01",{"$f":"DescargaSeries_201910021213!B391*1000","v":16643365.000000002},{"$f":"DescargaSeries_201910021213!D391*1000","v":16628373.220000001},"2014-05-01",2.2195459163778741,1.5968744370574717]
["2014-06-01",{"$f":"DescargaSeries_201910021213!B392*1000","v":16555787},{"$f":"DescargaSeries_201910021213!D392*1000","v":16684995.08},"2014-06-01",1.279152082672641,1.7758446291998631]
["2014-07-01",{"$f":"DescargaSeries_201910021213!B393*1000","v":16605098.000000002},{"$f":"DescargaSeries_201910021213!D393*1000","v":16747102.642999999},"2014-07-01",1.9673158762388843,1.9501529844836218]
["2014-08-01",{"$f":"DescargaSeries_201910021213!B394*1000","v":16611116.000000002},{"$f":"DescargaSeries_201910021213!D394*1000","v":16649520.499999998},"2014-08-01",2.087521908009915,1.9710894534666012]
["2014-09-01",{"$f":"DescargaSeries_201910021213!B395*1000","v":16565854},{"$f":"DescargaSeries_201910021213!D395*1000","v":16661702.949999999},"2014-09-01",2.0045618595756931,2.1848994119195941]
["2014-10-01",{"$f":"DescargaSeries_201910021213!B396*1000","v":16575092},{"$f":"DescargaSeries_201910021213!D396*1000","v":16690519.73},"2014-10-01",2.3771565867676259,2.0179688439135646]
["2014-11-01",{"$f":"DescargaSeries_201910021213!B397*1000","v":16731189.999999998},{"$f":"DescargaSeries_201910021213!D397*1000","v":16695751.700000001},"2014-11-01",2.5723851741519033,2.4685146445004191]
["2014-12-01",{"$f":"DescargaSeries_201910021213!B398*1000","v":16651883.999999998},{"$f":"DescargaSeries_201910021213!D398*1000","v":16775214.469999999},"2014-12-01",2.4224442279088487,2.5527791217046403]
["2015-01-01",{"$f":"DescargaSeries_201910021213!B399*1000","v":16589693},{"$f":"DescargaSeries_201910021213!D399*1000","v":16575312.249999998},"2015-01-01",3.0311723195640239,2.4836925208516991]
["2015-02-01",{"$f":"DescargaSeries_201910021213!B400*1000","v":16705373},{"$f":"DescargaSeries_201910021213!D400*1000","v":16672221.600000001},"2015-02-01",3.3206151722363408,2.8368441997737692]
["2015-03-01",{"$f":"DescargaSeries_201910021213!B401*1000","v":16826434},{"$f":"DescargaSeries_201910021213!D401*1000","v":16832800.539999999},"2015-03-01",3.4217734895392482,3.292236322511477]
["2015-04-01",{"$f":"DescargaSeries_201910021213!B402*1000","v":16980816},{"$f":"DescargaSeries_201910021213!D402*1000","v":17008295.900000002},"2015-04-01",3.4100725461704062,3.5194223156779447]
["2015-05-01",{"$f":"DescargaSeries_201910021213!B403*1000","v":17248258},{"$f":"DescargaSeries_201910021213!D403*1000","v":17221310.399999999},"2015-05-01",3.6344393095987471,3.5658159229120079]
["2015-06-01",{"$f":"DescargaSeries_201910021213!B404*1000","v":17075016},{"$f":"DescargaSeries_201910021213!D404*1000","v":17256395},"2015-06-01",{"$f":"((B175/B163)-1)*100","v":3.1362387061394381},3.4246334341742068]
["2015-07-01",{"$f":"DescargaSeries_201910021213!B405*1000","v":17127908},{"$f":"DescargaSeries_201910021213!D405*1000","v":17315188},"2015-07-01",3.1484909032153841,3.3921411309761673]
["2015-08-01",{"$f":"DescargaSeries_201910021213!B406*1000","v":16983303},{"$f":"DescargaSeries_201910021213!D406*1000","v":17180899},"2015-08-01",2.2405899760136405,3.1915543753947784]
["2015-09-01",{"$f":"DescargaSeries_201910021213!B407*1000","v":17072551},{"$f":"DescargaSeries_201910021213!D407*1000","v":17189815},"2015-09-01",3.0586832408398656,3.1696162846307496]
["2015-10-01",{"$f":"DescargaSeries_201910021213!B408*1000","v":17209036},{"$f":"DescargaSeries_201910021213!D408*1000","v":17221467},"2015-10-01",3.8246786201850291,3.1811308370802927]
["2015-11-01",{"$f":"DescargaSeries_201910021213!B409*1000","v":17208793},{"$f":"DescargaSeries_201910021213!D409*1000","v":17223086},"2015-11-01",2.8545668299744476,3.1584939059676964]
["2015-12-01",{"$f":"DescargaSeries_201910021213!B410*1000","v":17180590},{"$f":"DescargaSeries_201910021213!D410*1000","v":17308400},"2015-12-01",3.175052144249868,3.1784125976661803]
["2016-01-01",{"$f":"DescargaSeries_201910021213!B411*1000","v":17112224},{"$f":"DescargaSeries_201910021213!D411*1000","v":17104357},"2016-01-01",3.1497327889069338,3.1917634010182994]
["2016-02-01",{"$f":"DescargaSeries_201910021213!B412*1000","v":17136666},{"$f":"DescargaSeries_201910021213!D412*1000","v":17167712},"2016-02-01",2.581762167178181,2.9719518603327444]
["2016-03-01",{"$f":"DescargaSeries_201910021213!B413*1000","v":17263972},{"$f":"DescargaSeries_201910021213!D413*1000","v":17305798},"2016-03-01",2.600301406703287,2.8099748397541591]
["2016-04-01",{"$f":"DescargaSeries_201910021213!B414*1000","v":17536670},{"$f":"DescargaSeries_201910021213!D414*1000","v":17463836},"2016-04-01",3.2734233737648388,2.6783406325850523]
["2016-05-01",{"$f":"DescargaSeries_201910021213!B415*1000","v":17598892},{"$f":"DescargaSeries_201910021213!D415*1000","v":17661840},"2016-05-01",2.0328661595855113,2.5580492411309219]
["2016-06-01",{"$f":"DescargaSeries_201910021213!B416*1000","v":17569070},{"$f":"DescargaSeries_201910021213!D416*1000","v":17760271},"2016-06-01",2.8934321349977088,2.9199377969732376]
["2016-07-01",{"$f":"DescargaSeries_201910021213!B417*1000","v":17805681},{"$f":"DescargaSeries_201910021213!D417*1000","v":17844992},"2016-07-01",3.9571265796149779,3.0597646413079715]
["2016-08-01",{"$f":"DescargaSeries_201910021213!B418*1000","v":17452445},{"$f":"DescargaSeries_201910021213!D418*1000","v":17699995},"2016-08-01",2.7623719602718033,3.0213552853084025]
["2016-09-01",{"$f":"DescargaSeries_201910021213!B419*1000","v":17603313},{"$f":"DescargaSeries_201910021213!D419*1000","v":17712021},"2016-09-01",3.1088617043814937,3.037880279688876]
["2016-10-01",{"$f":"DescargaSeries_201910021213!B420*1000","v":17666175},{"$f":"DescargaSeries_201910021213!D420*1000","v":17813356},"2016-10-01",{"$f":"((B191/B179)-1)*100","v":2.6563893526633242},3.4369255534386189]
["2016-11-01",{"$f":"DescargaSeries_201910021213!B421*1000","v":17734106},{"$f":"DescargaSeries_201910021213!D421*1000","v":17780524},"2016-11-01",3.0525848035942937,3.236574444324325]
["2016-12-01",{"$f":"DescargaSeries_201910021213!B422*1000","v":17741897},{"$f":"DescargaSeries_201910021213!D422*1000","v":17849055},"2016-12-01",3.2670996746910319,3.1236567215918276]
["2017-01-01",{"$f":"DescargaSeries_201910021213!B423*1000","v":17603835},{"$f":"DescargaSeries_201910021213!D423*1000","v":17674175},"2017-01-01",2.8728644505822354,3.331420175572819]
["2017-02-01",{"$f":"DescargaSeries_201910021213!B424*1000","v":17728908},{"$f":"DescargaSeries_201910021213!D424*1000","v":17748255},"2017-02-01",3.4559931319195991,3.3815979671606877]
["2017-03-01",{"$f":"DescargaSeries_201910021213!B425*1000","v":17852834},{"$f":"DescargaSeries_201910021213!D425*1000","v":17910007},"2017-03-01",3.41092999919137,3.4913674596224853]
["2017-04-01",{"$f":"DescargaSeries_201910021213!B426*1000","v":18184000},{"$f":"DescargaSeries_201910021213!D426*1000","v":18122222},"2017-04-01",3.6912937290831227,3.7699964658394647]
["2017-05-01",{"$f":"DescargaSeries_201910021213!B427*1000","v":18261899},{"$f":"DescargaSeries_201910021213!D427*1000","v":18345414},"2017-05-01",3.7673223973418324,3.870344199698339]
["2017-06-01",{"$f":"DescargaSeries_201910021213!B428*1000","v":18196843},{"$f":"DescargaSeries_201910021213!D428*1000","v":18433107},"2017-06-01",3.5731714883030286,3.7884331832549245]
["2017-07-01",{"$f":"DescargaSeries_201910021213!B429*1000","v":18276939},{"$f":"DescargaSeries_201910021213!D429*1000","v":18489329},"2017-07-01",2.6466721491865464,3.6107441236174376]
["2017-08-01",{"$f":"DescargaSeries_201910021213!B430*1000","v":18040193},{"$f":"DescargaSeries_201910021213!D430*1000","v":18309844},"2017-08-01",3.367711515492533,3.4454755495693545]
["2017-09-01",{"$f":"DescargaSeries_201910021213!B431*1000","v":18400141},{"$f":"DescargaSeries_201910021213!D431*1000","v":18336161},"2017-09-01",4.5265797409839825,3.523821476950606]
["2017-10-01",{"$f":"DescargaSeries_201910021213!B432*1000","v":18281362},{"$f":"DescargaSeries_201910021213!D432*1000","v":18430529},"2017-10-01",3.4822874787552971,3.4646643787953346]
["2017-11-01",{"$f":"DescargaSeries_201910021213!B433*1000","v":18364819},{"$f":"DescargaSeries_201910021213!D433*1000","v":18417756},"2017-11-01",3.5564972939712947,3.5838763806960827]
["2017-12-01",{"$f":"DescargaSeries_201910021213!B434*1000","v":18331107},{"$f":"DescargaSeries_201910021213!D434*1000","v":18460201},"2017-12-01",3.321009021752297,3.4239683837603785]
["2018-01-01",{"$f":"DescargaSeries_201910021213!B435*1000","v":18211901},{"$f":"DescargaSeries_201910021213!D435*1000","v":18282031},"2018-01-01",3.4541677992323772,3.439232665739711]
["2018-02-01",{"$f":"DescargaSeries_201910021213!B436*1000","v":18314467},{"$f":"DescargaSeries_201910021213!D436*1000","v":18363514},{"$f":"A207","v":"2018-02-01"},{"$f":"((B207/B195)-1)*100","v":3.3028486582478811},3.4665886871695362]
["2018-03-01",{"$f":"DescargaSeries_201910021213!B437*1000","v":18542644},{"$f":"DescargaSeries_201910021213!D437*1000","v":18502088},"2018-03-01",3.8638683359740078,3.3058669379637973]
["2018-04-01",{"$f":"DescargaSeries_201910021213!B438*1000","v":18659703},{"$f":"DescargaSeries_201910021213!D438*1000","v":18678461},"2018-04-01",2.6160525736911522,3.0693752675582608]
["2018-05-01",{"$f":"DescargaSeries_201910021213!B439*1000","v":18832943},{"$f":"DescargaSeries_201910021213!D439*1000","v":18915668},"2018-05-01",3.126969435106397,3.10842807908287]
["2018-06-01",{"$f":"DescargaSeries_201910021213!B440*1000","v":18967952},{"$f":"DescargaSeries_201910021213!D440*1000","v":19006990},"2018-06-01",4.2375976975786322,3.1133275578555386]
["2018-07-01",{"$f":"DescargaSeries_201910021213!B441*1000","v":18812915},{"$f":"DescargaSeries_201910021213!D441*1000","v":19042810},"2018-07-01",2.9325260646763551,2.9935158815119767]
["2018-08-01",{"$f":"DescargaSeries_201910021213!B442*1000","v":18535422},{"$f":"DescargaSeries_201910021213!D442*1000","v":18839814},"2018-08-01",2.7451424715910777,2.8944539341787978]
["2018-09-01",{"$f":"DescargaSeries_201910021213!B443*1000","v":18956018},{"$f":"DescargaSeries_201910021213!D443*1000","v":18862713},"2018-09-01",3.0210475017555583,2.8716589039548657]
["2018-10-01",{"$f":"DescargaSeries_201910021213!B444*1000","v":18792718},{"$f":"DescargaSeries_201910021213!D444*1000","v":18993072.800000001},"2018-10-01",2.797143888950937,3.0522390323142634]
["2018-11-01",{"$f":"DescargaSeries_201910021213!B445*1000","v":18871968},{"$f":"DescargaSeries_201910021213!D445*1000","v":18945624.189999998},"2018-11-01",2.7615246303271501,2.8660830885152144]
["2018-12-01",{"$f":"DescargaSeries_201910021213!B446*1000","v":18914563},{"$f":"DescargaSeries_201910021213!D446*1000","v":19024165.170000002},"2018-12-01",3.1828737893461634,3.055027244827957]
["2019-01-01",{"$f":"DescargaSeries_201910021213!B447*1000","v":18730629},{"$f":"DescargaSeries_201910021213!D447*1000","v":18819300},"2019-01-01",2.8482913453131475,2.9387818016499478]
["2019-02-01",{"$f":"DescargaSeries_201910021213!B448*1000","v":18846671},{"$f":"DescargaSeries_201910021213!D448*1000","v":18888472},"2019-02-01",2.9059213134621897,2.8587012267913492]
["2019-03-01",{"$f":"DescargaSeries_201910021213!B449*1000","v":19096989},{"$f":"DescargaSeries_201910021213!D449*1000","v":19043576},"2019-03-01",2.9895682622176123,2.9266318482541021]
["2019-04-01",{"$f":"DescargaSeries_201910021213!B450*1000","v":19182644},{"$f":"DescargaSeries_201910021213!D450*1000","v":19230362},"2019-04-01",2.8025151311357854,2.9547455756659957]
["2019-05-01",{"$f":"DescargaSeries_201910021213!B451*1000","v":19327792},{"$f":"DescargaSeries_201910021213!D451*1000","v":19442113},"2019-05-01",2.6275712723178746,2.7831160919085773]
["2019-06-01",{"$f":"DescargaSeries_201910021213!B452*1000","v":19458689},{"$f":"DescargaSeries_201910021213!D452*1000","v":19517697},"2019-06-01",{"$f":"((B223/B211)-1)*100","v":2.5871902248592704},2.6869430667349148]
["2019-07-01",{"$f":"DescargaSeries_201910021213!B453*1000","v":19290343},{"$f":"DescargaSeries_201910021213!D453*1000","v":19533211},"2019-07-01",2.5377672731737855,2.5752554376166081]
["2019-08-01",{"$f":"DescargaSeries_201910021213!B454*1000","v":19254763},{"$f":"DescargaSeries_201910021213!D454*1000","v":19320227.09},"2019-08-01",3.8808989619982803,2.5499884977632892]
["2019-09-01",{"$f":"DescargaSeries_201910021213!B455*1000","v":19223638},{"$f":"DescargaSeries_201910021213!D455*1000","v":19323451.469999999},"2019-09-01",1.4117943969033986,2.4425885608289732]
["2019-10-01",{"$f":"DescargaSeries_201910021213!B456*1000","v":19181445},{"$f":"DescargaSeries_201910021213!D456*1000","v":19429993},"2019-10-01",{"$f":"((B227/B215)-1)*100","v":2.0684980214144666},{"$f":"((C227/C215)-1)*100","v":2.3004187084461725}]
["2019-11-01",{"$f":"DescargaSeries_201910021213!B457*1000","v":19415313},{"$f":"DescargaSeries_201910021213!D457*1000","v":19376878},"2019-11-01",{"$f":"((B228/B216)-1)*100","v":2.8791114948901964},{"$f":"((C228/C216)-1)*100","v":2.2762713208870133}]
["2019-12-01",{"$f":"DescargaSeries_201910021213!B458*1000","v":19261636},{"$f":"DescargaSeries_201910021213!D458*1000","v":19408538},"2019-12-01",{"$f":"((B229/B217)-1)*100","v":1.8349511960704668},{"$f":"((C229/C217)-1)*100","v":2.0204451893959252}]
["2020-01-01",{"$f":"DescargaSeries_201910021213!B459*1000","v":19041595},{"$f":"DescargaSeries_201910021213!D459*1000","v":19164494},{"$f":"A230","v":"2020-01-01"},{"$f":"((B230/B218)-1)*100","v":1.6602005196942438},{"$f":"((C230/C218)-1)*100","v":1.8342552592285566}]

{"sheet":"ine-parados","index":19,"n_rows":82,"n_cols":4,"rows_kept":82,"cut":false,"hidden":true,"merged":[[5,0,5,10],[0,0,0,10],[1,0,1,10],[3,0,3,10],[4,0,4,10]]}
["Resultados nacionales"]
["Parados"]
["http://ine.es/dyngs/INEbase/es/operacion.htm?c=Estadistica_C&cid=1254736176918&menu=resultados&secc=1254736195129&idp=1254735976595"]
["Parados por sexo y grupo de edad. Valores absolutos y porcentajes respecto del total de cada sexo"]
["Unidades: Miles Personas"]
[""]
[" ","Valor absoluto"]
[" ","Ambos sexos","Hombres","Mujeres"]
[" ","Total","Total","Total"]
["2002T1",2152.8000000000002,936.1,1216.7]
["2002T2",2103.3000000000002,887.1,1216.2]
["2002T3",2196,953.3,1242.7]
["2002T4",2232.4,992,1240.5]
["2003T1",2328.5,1011.9,1316.6]
["2003T2",2216,964.8,1251.2]
["2003T3",2247.5,989.8,1257.5999999999999]
["2003T4",2276.6999999999998,1014.4,1262.2]
["2004T1",2309.8000000000002,1027.3,1282.5]
["2004T2",2247.6,992.4,1255.2]
["2004T3",2199.8000000000002,989.1,1210.7]
["2004T4",2176.9,947.9,1228.9000000000001]
["2005T1",2121.3000000000002,958.7,1162.7]
["2005T2",1969.1,915.1,1054]
["2005T3",1783.5,815.8,967.7]
["2005T4",1860.3,838.3,1022]
["2006T1",1942.8,856.6,1086.3]
["2006T2",1834.4,802.4,1032.0999999999999]
["2006T3",1766.9,767.7,999.2]
["2006T4",1819.4,775.7,1043.8]
["2007T1",1863.2,807.3,1055.9000000000001]
["2007T2",1773.2,792.5,980.7]
["2007T3",1806.2,811.6,994.6]
["2007T4",1942,894.4,1047.5999999999999]
["2008T1",2190.5,1030.3,1160.0999999999999]
["2008T2",2385.6999999999998,1190.8,1194.9000000000001]
["2008T3",2600.6999999999998,1357.8,1242.9000000000001]
["2008T4",3206.8,1699.6,1507.2]
["2009T1",4018.2,2207.9,1810.3]
["2009T2",4139.6000000000004,2296.1,1843.5]
["2009T3",4121.3999999999996,2290.5,1830.9]
["2009T4",4335,2403.8000000000002,1931.2]
["2010T1",4617.7,2559.4,2058.3000000000002]
["2010T2",4655.3,2545.8000000000002,2109.5]
["2010T3",4585.3999999999996,2485.1999999999998,2100.1]
["2010T4",4702.2,2552.5,2149.6999999999998]
["2011T1",4921.2,2645.2,2276]
["2011T2",4844.2,2624.5,2219.6999999999998]
["2011T3",4998,2696.2,2301.8000000000002]
["2011T4",5287.3,2857.7,2429.6]
["2012T1",5667.9,3052.5,2615.4]
["2012T2",5731,3124.5,2606.5]
["2012T3",5824.2,3136.6,2687.6]
["2012T4",6021,3212,2809]
["2013T1",6278.2,3358.4,2919.9]
["2013T2",6047.3,3194.4,2852.9]
["2013T3",5943.4,3160.8,2782.6]
["2013T4",5935.6,3108.8,2826.8]
["2014T1",5933.3,3116.6,2816.7]
["2014T2",5622.9,2932.2,2690.7]
["2014T3",5427.7,2793.5,2634.2]
["2014T4",5457.7,2823.7,2634]
["2015T1",5444.6,2802.3,2642.4]
["2015T2",5149,2588.5,2560.5]
["2015T3",4850.8,2458.8000000000002,2392]
["2015T4",4779.5,2387.6,2391.9]
["2016T1",4791.3999999999996,2378,2413.5]
["2016T2",4574.7,2249.6,2325.1]
["2016T3",4320.8,2129.4,2191.4]
["2016T4",4237.8,2095.1,2142.6999999999998]
["2017T1",4255,2090.6,2164.5]
["2017T2",3914.3,1901.4,2012.9]
["2017T3",3731.7,1810.7,1921.1]
["2017T4",3766.7,1820.6,1946]
["2018T1",3796.1,1840.7,1955.4]
["2018T2",3490.1,1673.9,1816.2]
["2018T3",3326,1609.6,1716.4]
["2018T4",3304.3,1574.1,1730.2]
[]
["Notas:"]
[]
["Fuente: "]
["Instituto Nacional de Estadística"]

{"sheet":"ine-paro","index":20,"n_rows":82,"n_cols":4,"rows_kept":82,"cut":false,"hidden":true,"merged":[[5,0,5,10],[0,0,0,10],[1,0,1,10],[2,0,2,10],[3,0,3,10],[4,0,4,10]]}
["Resultados nacionales"]
["Parados"]
[]
["Tasas de paro por sexo y grupo de edad"]
["Unidades: Tasas"]
[""]
[" ","Ambos sexos","Hombres","Mujeres"]
["Total"]
["    2002T1",11.55,8.36,16.350000000000001]
["    2002T2",11.15,7.86,16.04]
["    2002T3",11.49,8.33,16.2]
["    2002T4",11.61,8.65,16]
["    2003T1",11.99,8.76,16.73]
["    2003T2",11.28,8.27,15.68]
["    2003T3",11.3,8.39,15.54]
["    2003T4",11.37,8.58,15.41]
["    2004T1",11.5,8.68,15.55]
["    2004T2",11.09,8.33,15.03]
["    2004T3",10.74,8.1999999999999993,14.36]
["    2004T4",10.53,7.83,14.35]
["    2005T1",10.17,7.84,13.46]
["    2005T2",9.32,7.41,12]
["    2005T3",8.41,6.56,11.04]
["    2005T4",8.7100000000000009,6.73,11.47]
["    2006T1",9.0299999999999994,6.86,12.03]
["    2006T2",8.44,6.38,11.28]
["    2006T3",8.08,6.05,10.91]
["    2006T4",8.26,6.12,11.17]
["    2007T1",8.42,6.34,11.23]
["    2007T2",7.93,6.15,10.35]
["    2007T3",8.01,6.25,10.39]
["    2007T4",8.57,6.89,10.82]
["    2008T1",9.6,7.9,11.88]
["    2008T2",10.36,9.06,12.08]
["    2008T3",11.23,10.29,12.48]
["    2008T4",13.79,12.96,14.85]
["    2009T1",17.239999999999998,16.850000000000001,17.760000000000002]
["    2009T2",17.77,17.559999999999999,18.04]
["    2009T3",17.75,17.62,17.91]
["    2009T4",18.66,18.559999999999999,18.8]
["    2010T1",19.84,19.8,19.899999999999999]
["    2010T2",19.89,19.559999999999999,20.3]
["    2010T3",19.59,19.12,20.18]
["    2010T4",20.11,19.8,20.51]
["    2011T1",21.08,20.6,21.66]
["    2011T2",20.64,20.420000000000002,20.92]
["    2011T3",21.28,20.9,21.75]
["    2011T4",22.56,22.26,22.92]
["    2012T1",24.19,23.96,24.46]
["    2012T2",24.4,24.43,24.36]
["    2012T3",24.79,24.54,25.1]
["    2012T4",25.77,25.4,26.22]
["    2013T1",26.94,26.66,27.26]
["    2013T2",26.06,25.5,26.71]
["    2013T3",25.65,25.19,26.18]
["    2013T4",25.73,25.04,26.53]
["    2014T1",25.93,25.37,26.57]
["    2014T2",24.47,23.7,25.38]
["    2014T3",23.67,22.53,25.01]
["    2014T4",23.7,22.8,24.74]
["    2015T1",23.78,22.74,24.98]
["    2015T2",22.37,20.96,24.01]
["    2015T3",21.18,19.899999999999999,22.69]
["    2015T4",20.9,19.489999999999998,22.52]
["    2016T1",21,19.45,22.78]
["    2016T2",20,18.41,21.82]
["    2016T3",18.91,17.39,20.66]
["    2016T4",18.63,17.22,20.25]
["    2017T1",18.75,17.22,20.51]
["    2017T2",17.22,15.64,19.04]
["    2017T3",16.38,14.8,18.21]
["    2017T4",16.55,14.97,18.350000000000001]
["    2018T1",16.739999999999998,15.18,18.54]
["    2018T2",15.28,13.72,17.079999999999998]
["    2018T3",14.55,13.12,16.22]
["    2018T4",14.45,12.87,16.260000000000002]
[]
[]
["Notas:"]
[]
["Fuente: "]
["Instituto Nacional de Estadística"]

{"sheet":"ine-activos","index":21,"n_rows":81,"n_cols":4,"rows_kept":81,"cut":false,"hidden":true,"merged":[[0,0,0,10],[1,0,1,10],[2,0,2,10],[3,0,3,10]]}
[""]
["Activos por sexo y grupo de edad. Valores absolutos y porcentajes respecto del total de cada sexo"]
["Unidades: Miles Personas"]
[""]
[" ","Ambos sexos","Hombres","Mujeres"]
[" ","Valor absoluto","Valor absoluto","Valor absoluto"]
["Total"]
["    2002T1",18635.099999999999,11192.3,7442.7]
["    2002T2",18870.2,11289.4,7580.8]
["    2002T3",19115.3,11445.1,7670.2]
["    2002T4",19224.3,11472.8,7751.5]
["    2003T1",19421.2,11552.5,7868.7]
["    2003T2",19639.2,11661.4,7977.8]
["    2003T3",19893.5,11800.2,8093.3]
["    2003T4",20017.099999999999,11826.2,8190.9]
["    2004T1",20080,11830.3,8249.7000000000007]
["    2004T2",20266.5,11917.6,8348.9]
["    2004T3",20488.900000000001,12058.1,8430.7999999999993]
["    2004T4",20667.7,12103,8564.6]
["    2005T1",20857.400000000001,12222.2,8635.2000000000007]
["    2005T2",21129.7,12348.9,8780.7999999999993]
["    2005T3",21205.599999999999,12436.5,8769.1]
["    2005T4",21369.5,12460.3,8909.2000000000007]
["    2006T1",21521.3,12493.8,9027.4]
["    2006T2",21726,12575.1,9151]
["    2006T3",21857.8,12696.6,9161.2000000000007]
["    2006T4",22014.799999999999,12670.8,9344]
["    2007T1",22130.799999999999,12731,9399.7000000000007]
["    2007T2",22354.1,12875.7,9478.4]
["    2007T3",22559.599999999999,12987.5,9572.1]
["    2007T4",22659.9,12981,9678.7999999999993]
["    2008T1",22810.400000000001,13044.4,9766]
["    2008T2",23032.6,13141,9891.6]
["    2008T3",23157.1,13199.4,9957.7999999999993]
["    2008T4",23262.1,13114.5,10147.700000000001]
["    2009T1",23302.6,13107.2,10195.5]
["    2009T2",23293.8,13073.2,10220.6]
["    2009T3",23219.8,12995.7,10224.1]
["    2009T4",23225.4,12954.6,10270.799999999999]
["    2010T1",23270.5,12928.8,10341.799999999999]
["    2010T2",23406.400000000001,13016,10390.4]
["    2010T3",23404.400000000001,12999.3,10405]
["    2010T4",23377.1,12893.6,10483.5]
["    2011T1",23347.3,12841.7,10505.7]
["    2011T2",23466.2,12853.6,10612.6]
["    2011T3",23482.5,12900.2,10582.2]
["    2011T4",23440.3,12838,10602.3]
["    2012T1",23433,12740.6,10692.4]
["    2012T2",23489.5,12787.6,10701.9]
["    2012T3",23491.9,12782.4,10709.6]
["    2012T4",23360.400000000001,12647.7,10712.7]
["    2013T1",23308.400000000001,12596.6,10711.8]
["    2013T2",23207.9,12527.6,10680.3]
["    2013T3",23173.4,12545.6,10627.8]
["    2013T4",23070.9,12415.6,10655.2]
["    2014T1",22883.9,12282.1,10601.8]
["    2014T2",22975.9,12373.2,10602.7]
["    2014T3",22931.7,12399.3,10532.4]
["    2014T4",23026.799999999999,12382,10644.9]
["    2015T1",22899.4,12322.4,10577]
["    2015T2",23015.5,12349.9,10665.7]
["    2015T3",22899.5,12355.3,10544.2]
["    2015T4",22873.7,12250.9,10622.8]
["    2016T1",22821,12225.3,10595.7]
["    2016T2",22875.7,12220.7,10654.9]
["    2016T3",22848.3,12242.1,10606.2]
["    2016T4",22745.9,12166.9,10578.9]
["    2017T1",22693.3,12139.1,10554.2]
["    2017T2",22727.599999999999,12158.3,10569.4]
["    2017T3",22780.9,12231.2,10549.8]
["    2017T4",22765,12159.8,10605.2]
["    2018T1",22670.3,12124.8,10545.5]
["    2018T2",22834.2,12202.2,10631.9]
["    2018T3",22854,12272,10582]
["    2018T4",22868.799999999999,12227.2,10641.6]
[]
[]
["Notas:"]
[]
["Fuente: "]
["Instituto Nacional de Estadística"]

{"sheet":"ine-activos (tasa)","index":22,"n_rows":80,"n_cols":4,"rows_kept":80,"cut":false,"hidden":true,"merged":[[3,0,3,10],[0,0,0,10],[1,0,1,10],[2,0,2,10]]}
[""]
["Tasas de actividad por sexo y grupo de edad"]
["Unidades: Tasas"]
[""]
[" ","Ambos sexos","Hombres","Mujeres"]
[" ","Total","Total","Total"]
["2002T1",54.06,66.69,42.08]
["2002T2",54.48,66.900000000000006,42.67]
["2002T3",54.92,67.47,42.99]
["2002T4",54.95,67.260000000000005,43.24]
["2003T1",55.28,67.41,43.73]
["2003T2",55.65,67.72,44.15]
["2003T3",56.15,68.23,44.62]
["2003T4",56.25,68.069999999999993,44.98]
["2004T1",56.24,67.83,45.17]
["2004T2",56.55,68.05,45.56]
["2004T3",56.93,68.540000000000006,45.83]
["2004T4",57.12,68.37,46.34]
["2005T1",57.38,68.67,46.55]
["2005T2",57.86,69,47.15]
["2005T3",57.86,69.23,46.93]
["2005T4",58.08,69.08,47.49]
["2006T1",58.3,69.03,47.97]
["2006T2",58.63,69.2,48.46]
["2006T3",58.74,69.569999999999993,48.32]
["2006T4",58.88,69.08,49.06]
["2007T1",58.9,69.040000000000006,49.13]
["2007T2",59.23,69.48,49.34]
["2007T3",59.5,69.739999999999995,49.61]
["2007T4",59.47,69.34,49.94]
["2008T1",59.67,69.42,50.25]
["2008T2",60.07,69.709999999999994,50.75]
["2008T3",60.23,69.83,50.95]
["2008T4",60.35,69.209999999999994,51.78]
["2009T1",60.39,69.11,51.95]
["2009T2",60.3,68.88,52.01]
["2009T3",60.05,68.430000000000007,51.96]
["2009T4",59.99,68.16,52.12]
["2010T1",60.09,68.02,52.45]
["2010T2",60.41,68.459999999999994,52.65]
["2010T3",60.37,68.349999999999994,52.68]
["2010T4",60.25,67.760000000000005,53.01]
["2011T1",60.16,67.5,53.1]
["2011T2",60.44,67.55,53.6]
["2011T3",60.44,67.77,53.4]
["2011T4",60.29,67.42,53.44]
["2012T1",60.31,66.989999999999995,53.91]
["2012T2",60.5,67.319999999999993,53.97]
["2012T3",60.55,67.37,54.02]
["2012T4",60.23,66.72,54.03]
["2013T1",60.18,66.569999999999993,54.07]
["2013T2",60,66.319999999999993,53.96]
["2013T3",60.04,66.61,53.78]
["2013T4",59.86,66.05,53.96]
["2014T1",59.46,65.48,53.75]
["2014T2",59.63,65.86,53.71]
["2014T3",59.53,66.02,53.35]
["2014T4",59.77,65.95,53.9]
["2015T1",59.45,65.66,53.55]
["2015T2",59.79,65.84,54.03]
["2015T3",59.5,65.900000000000006,53.42]
["2015T4",59.43,65.37,53.79]
["2016T1",59.29,65.25,53.64]
["2016T2",59.41,65.209999999999994,53.91]
["2016T3",59.28,65.260000000000005,53.61]
["2016T4",58.95,64.8,53.41]
["2017T1",58.78,64.62,53.24]
["2017T2",58.84,64.7,53.28]
["2017T3",58.92,65.040000000000006,53.13]
["2017T4",58.8,64.569999999999993,53.33]
["2018T1",58.46,64.290000000000006,52.94]
["2018T2",58.8,64.62,53.29]
["2018T3",58.73,64.86,52.93]
["2018T4",58.61,64.45,53.08]
[]
[]
["Notas:"]
[]
["Fuente: "]
["Instituto Nacional de Estadística"]

{"sheet":"ine-ocupados","index":23,"n_rows":81,"n_cols":4,"rows_kept":81,"cut":false,"hidden":true,"merged":[[3,0,3,10],[0,0,0,10],[1,0,1,10],[2,0,2,10]]}
[""]
["Ocupados por sexo y grupo de edad. Valores absolutos y porcentajes respecto del total de cada sexo"]
["Unidades: Miles Personas"]
[""]
[" ","Ambos sexos","Hombres","Mujeres"]
[" ","Total","Total","Total"]
[" ","Valor absoluto","Valor absoluto","Valor absoluto"]
["2002T1",16482.3,10256.299999999999,6226]
["2002T2",16766.900000000001,10402.299999999999,6364.6]
["2002T3",16919.3,10491.8,6427.5]
["2002T4",16991.900000000001,10480.799999999999,6511.1]
["2003T1",17092.7,10540.6,6552.2]
["2003T2",17423.2,10696.6,6726.6]
["2003T3",17646,10810.3,6835.7]
["2003T4",17740.5,10811.8,6928.6]
["2004T1",17770.2,10803,6967.2]
["2004T2",18018.900000000001,10925.2,7093.7]
["2004T3",18289.099999999999,11069,7220.1]
["2004T4",18490.8,11155.1,7335.7]
["2005T1",18736.099999999999,11263.6,7472.5]
["2005T2",19160.599999999999,11433.8,7726.8]
["2005T3",19422.099999999999,11620.7,7801.4]
["2005T4",19509.2,11622,7887.2]
["2006T1",19578.400000000001,11637.3,7941.2]
["2006T2",19891.599999999999,11772.7,8118.9]
["2006T3",20091,11928.9,8162]
["2006T4",20195.400000000001,11895.2,8300.2000000000007]
["2007T1",20267.5,11923.7,8343.7999999999993]
["2007T2",20580.900000000001,12083.3,8497.7000000000007]
["2007T3",20753.400000000001,12175.9,8577.5]
["2007T4",20717.900000000001,12086.6,8631.2999999999993]
["2008T1",20620,12014,8605.9]
["2008T2",20646.900000000001,11950.2,8696.7999999999993]
["2008T3",20556.400000000001,11841.6,8714.9]
["2008T4",20055.3,11414.9,8640.4]
["2009T1",19284.400000000001,10899.2,8385.2000000000007]
["2009T2",19154.2,10777.1,8377.2000000000007]
["2009T3",19098.400000000001,10705.3,8393.2000000000007]
["2009T4",18890.400000000001,10550.8,8339.7000000000007]
["2010T1",18652.900000000001,10369.299999999999,8283.5]
["2010T2",18751.099999999999,10470.200000000001,8280.9]
["2010T3",18819,10514.1,8304.9]
["2010T4",18674.900000000001,10341.1,8333.7999999999993]
["2011T1",18426.2,10196.5,8229.7000000000007]
["2011T2",18622,10229.1,8392.9]
["2011T3",18484.5,10204,8280.4]
["2011T4",18153,9980.2999999999993,8172.8]
["2012T1",17765.099999999999,9688,8077.1]
["2012T2",17758.5,9663.1,8095.4]
["2012T3",17667.7,9645.7999999999993,8021.9]
["2012T4",17339.400000000001,9435.7000000000007,7903.7]
["2013T1",17030.2,9238.2999999999993,7791.9]
["2013T2",17160.599999999999,9333.2000000000007,7827.4]
["2013T3",17230,9384.7999999999993,7845.2]
["2013T4",17135.2,9306.7999999999993,7828.4]
["2014T1",16950.599999999999,9165.6,7785]
["2014T2",17353,9441,7912.1]
["2014T3",17504,9605.9,7898.1]
["2014T4",17569.099999999999,9558.2999999999993,8010.8]
["2015T1",17454.8,9520.2000000000007,7934.6]
["2015T2",17866.5,9761.4,8105.2]
["2015T3",18048.7,9896.5,8152.2]
["2015T4",18094.2,9863.2999999999993,8230.7999999999993]
["2016T1",18029.599999999999,9847.4,8182.2]
["2016T2",18301,9971.1,8329.9]
["2016T3",18527.5,10112.799999999999,8414.7999999999993]
["2016T4",18508.099999999999,10071.9,8436.2000000000007]
["2017T1",18438.3,10048.5,8389.7999999999993]
["2017T2",18813.3,10256.9,8556.4]
["2017T3",19049.2,10420.5,8628.7000000000007]
["2017T4",18998.400000000001,10339.200000000001,8659.1]
["2018T1",18874.2,10284,8590.2000000000007]
["2018T2",19344.099999999999,10528.3,8815.7000000000007]
["2018T3",19528,10662.4,8865.6]
["2018T4",19564.599999999999,10653.1,8911.5]
[]
[]
["Notas:"]
[]
["Fuente: "]
["Instituto Nacional de Estadística"]

{"sheet":"ine-temporales","index":24,"n_rows":84,"n_cols":4,"rows_kept":84,"cut":false,"hidden":true,"merged":[[5,0,5,10],[0,0,0,10],[1,0,1,10],[2,0,2,10],[3,0,3,10],[4,0,4,10]]}
["Resultados nacionales"]
["Ocupados"]
[""]
["Ocupados por tipo de contrato o relación laboral de los asalariados, sexo y tipo de jornada"]
["Unidades: Miles Personas"]
[""]
[" ","Total asalariados ","Asalariados con contrato indefinido","Asalariados con contrato temporal"]
[" ","Ambos sexos","Ambos sexos","Ambos sexos"]
[" ","Total","Total","Total"]
["2002T1",13303.4,9039.2000000000007,4264.3]
["2002T2",13585.1,9209.2999999999993,4375.7]
["2002T3",13777.5,9374.7000000000007,4402.8]
["2002T4",13869.6,9453.2000000000007,4416.3999999999996]
["2003T1",13938.2,9568,4370.2]
["2003T2",14252,9701,4550.8999999999996]
["2003T3",14468.6,9816.4,4652.2]
["2003T4",14546.4,9858.9,4687.5]
["2004T1",14535.6,9914.9,4620.7]
["2004T2",14751.9,10005.700000000001,4746.1000000000004]
["2004T3",15020.3,10042,4978.2]
["2004T4",15211.6,10199,5012.6000000000004]
["2005T1",15211.3,10358.299999999999,4853.1000000000004]
["2005T2",15689.7,10457.5,5232.2]
["2005T3",15969.3,10467.200000000001,5502.1]
["2005T4",16025.2,10613.7,5411.5]
["2006T1",16068.5,10726.7,5341.8]
["2006T2",16300.2,10705.9,5594.3]
["2006T3",16548.7,10831.7,5717]
["2006T4",16644.900000000001,11036.9,5608]
["2007T1",16701.3,11386.1,5315.2]
["2007T2",16981.400000000001,11590.8,5390.6]
["2007T3",17094.599999999999,11652.4,5442.2]
["2007T4",17095,11826.3,5268.7]
["2008T1",17010.099999999999,11906.7,5103.3999999999996]
["2008T2",17037.5,12050.4,4987.2]
["2008T3",16920.099999999999,11954.6,4965.5]
["2008T4",16477.2,11907.4,4569.8]
["2009T1",16013,11981.2,4031.9]
["2009T2",15923.1,11936.7,3986.4]
["2009T3",15863.8,11790.3,4073.4]
["2009T4",15724.6,11802.7,3921.9]
["2010T1",15489.6,11736.3,3753.3]
["2010T2",15619.9,11759.7,3860.2]
["2010T3",15705.1,11724.1,3981.1]
["2010T4",15554.7,11719.3,3835.4]
["2011T1",15367.4,11593.1,3774.3]
["2011T2",15579.5,11634.7,3944.9]
["2011T3",15479.3,11478.1,4001.2]
["2011T4",15150.5,11393.6,3756.9]
["2012T1",14723.7,11260.5,3463.2]
["2012T2",14720.3,11271.8,3448.5]
["2012T3",14560.9,11086.8,3474.1]
["2012T4",14288.7,11028.7,3260]
["2013T1",13987,10917.6,3069.4]
["2013T2",14072.2,10851.2,3221]
["2013T3",14123.9,10726.5,3397.3]
["2013T4",14093.4,10759.2,3334.3]
["2014T1",13929.5,10707.6,3221.9]
["2014T2",14317.5,10887.8,3429.7]
["2014T3",14413.1,10861.1,3552.1]
["2014T4",14483.1,10972,3511.1]
["2015T1",14393.9,10997.3,3396.6]
["2015T2",14762.3,11058,3704.2]
["2015T3",14948.9,11039.2,3909.7]
["2015T4",14988.8,11142.6,3846.2]
["2016T1",14935.1,11194.9,3740.2]
["2016T2",15187.8,11281.3,3906.4]
["2016T3",15404.6,11252.3,4152.3]
["2016T4",15385.4,11312.5,4072.9]
["2017T1",15340.8,11390.5,3950.3]
["2017T2",15690.3,11484.1,4206.1000000000004]
["2017T3",15906.7,11551.6,4355.1000000000004]
["2017T4",15922.6,11670.4,4252.2]
["2018T1",15792.2,11669,4123.3]
["2018T2",16257.3,11900.3,4357]
["2018T3",16433.599999999999,11925.7,4507.8999999999996]
["2018T4",16453.599999999999,12034.1,4419.5]
[]
[]
["Notas:"]
["'Ruptura de serie en la variable situación profesional en T1-2009. Para más información consultar <a href=\"http://www.ine.es/daco/daco42/daco4211/enlaces_epa.pdf\">documento adjunto</a> 'Cambio preguntas situación profesional EPA-2009'"]
[]
["Fuente: "]
["Instituto Nacional de Estadística"]

{"sheet":"ine-etcl","index":25,"n_rows":92,"n_cols":31,"rows_kept":92,"cut":false,"hidden":true,"merged":[[8,17,8,20],[8,22,8,25],[8,27,8,30],[10,17,10,20],[10,22,10,25],[10,27,10,30],[10,6,10,9],[10,11,10,14],[5,0,5,12],[0,0,0,12],[1,0,1,12],[3,0,3,12],[4,0,4,12],[10,1,10,4],[8,1,8,14]]}
["Resultados nacionales (desde el trimestre 1/2008)"]
["Componentes del coste salarial"]
["http://ine.es/dyngs/INEbase/es/operacion.htm?c=Estadistica_C&cid=1254736045053&menu=resultados&idp=1254735976596"]
["Coste salarial por trabajador, tipo de jornada, sectores de actividad"]
["Unidades: Euros"]
[""]
[" ","Coste salarial total"]
[" ","Ambas jornadas"]
[" ","Coste salarial total",null,null,null,null,null,null,null,null,null,null,null,null,null,null," ","Coste salarial ordinario",null,null,null,null,"Coste salarial ordinario",null,null,null,null,"Coste salarial ordinario"]
[" ","B_S Industria, construcción y servicios (excepto actividades de los hogares como empleadores y de organizaciones y organismos extraterritoriales)","Industria","Construcción","Servicios",null,"B_S Industria, construcción y servicios (excepto actividades de los hogares como empleadores y de organizaciones y organismos extraterritoriales)","Industria","Construcción","Servicios",null,"B_S Industria, construcción y servicios (excepto actividades de los hogares como empleadores y de organizaciones y organismos extraterritoriales)","Industria","Construcción","Servicios",null," ","B_S Industria, construcción y servicios (excepto actividades de los hogares como empleadores y de organizaciones y organismos extraterritoriales)","Industria","Construcción","Servicios",null,"B_S Industria, construcción y servicios (excepto actividades de los hogares como empleadores y de organizaciones y organismos extraterritoriales)","Industria","Construcción","Servicios",null,"B_S Industria, construcción y servicios (excepto actividades de los hogares como empleadores y de organizaciones y organismos extraterritoriales)","Industria","Construcción","Servicios"]
[null,"Ambas jornadas",null,null,null,null,"Jornada a tiempo completo",null,null,null,null,"Jornada a tiempo parcial",null,null,null,null," ","Ambas jornadas",null,null,null,null,"Jornada a tiempo completo",null,null,null,null,"Jornada a tiempo parcial"]
["2000T1",1264.3599999999999,1372.25,1119.8499999999999,1251.76,null,1379.27,1419.72,1144.77,1419.81,null,446.09,422.75,480.97,447.06,null,"2000T1",1155.22,1266.46,1081.33,1125.83,null,1257.1500000000001,1309.3399999999999,1105.23,1271.1600000000001,null,429.43,408.53,468.59,429.92]
["2000T2",1333.83,1478.94,1246.5999999999999,1293.5899999999999,null,1452.56,1528.37,1277.3900000000001,1460.46,null,476.43,473.82,535.58000000000004,473.62,null,"2000T2",1161.81,1276.99,1090.0899999999999,1130.4000000000001,null,1261.97,1318.84,1116.73,1271.3,null,438.57,426.05,474.81,438.07]
["2000T3",1298.22,1445.35,1167.45,1267.04,null,1405.98,1489.56,1195.78,1418.72,null,476.21,479.45,494.21,474.9,null,"2000T3",1174.93,1285.8699999999999,1102.1400000000001,1145.95,null,1270.3800000000001,1324.08,1128.5899999999999,1280.2,null,446.76,450.91,473.75,444.87]
["2000T4",1444.37,1607.15,1338.46,1401.68,null,1571.51,1657.63,1367.37,1581.26,null,510.7,516,627.08000000000004,504.46,null,"2000T4",1176.21,1287.68,1096.83,1148.4000000000001,null,1275.5,1327.06,1121.1400000000001,1289.05,null,447.07,436.55,498.58,445.67]
["2001T1",1303.49,1420.28,1162.08,1288.94,null,1415.17,1462.27,1188.1300000000001,1451.94,null,467.7,466.71,501.06,466.11,null,"2001T1",1188.57,1304.77,1129.3,1156.03,null,1287.71,1342.6,1154.53,1296.99,null,446.57,445.56,489.02,444.52]
["2001T2",1369.61,1526.08,1293.1300000000001,1325.28,null,1489.6,1572.76,1322.61,1494.76,null,500.98,519.48,559.33000000000004,496.16,null,"2001T2",1194.56,1314.47,1135.1400000000001,1160.76,null,1296,1353.76,1160.83,1304.48,null,460.15,467.18,495.45,457.67]
["2001T3",1347.9,1498.98,1221.92,1317,null,1457.1,1540.97,1250.32,1471.18,null,512.34,545.58000000000004,521.30999999999995,508.51,null,"2001T3",1219.6099999999999,1336.13,1160.6199999999999,1187.5999999999999,null,1316.09,1372.6,1187.32,1322.99,null,481.37,507.92,501.81,477.63]
["2001T4",1498.49,1669.22,1373.48,1459.76,null,1626.91,1717.57,1404.65,1643.21,null,544.59,580.41999999999996,605.84,537.82000000000005,null,"2001T4",1222.8800000000001,1338.56,1153.69,1193.2,null,1324.21,1376,1180.4100000000001,1337.81,null,470.26,495.44,495.57,466.43]
["2002T1",1354.62,1479.99,1207.05,1341.63,null,1472.19,1521.04,1239.54,1513.35,null,499.58,530.79999999999995,493.59,497.04,null,"2002T1",1235.08,1366.17,1176.3599999999999,1199.19,null,1339.16,1403.66,1207.93,1346.26,null,478.13,499.43,482.99,475.86]
["2002T2",1422.96,1596.69,1348.4,1374.84,null,1546.23,1642.3,1382.91,1547.8,null,542.76,576.08000000000004,568.87,538.16,null,"2002T2",1239.9100000000001,1377.73,1177.43,1202.49,null,1344.77,1416.17,1207.81,1350.07,null,491.1,517.67999999999995,491.11,488.61]
["2002T3",1396.89,1572.16,1279.6300000000001,1358.4,null,1511.71,1615.22,1311.85,1518.72,null,546,576.41,526.44000000000005,544.26,null,"2002T3",1265.2,1401.52,1209.6199999999999,1227.4100000000001,null,1366.81,1439.02,1239.92,1368.53,null,512.23,534.54999999999995,501.41,510.76]
["2002T4",1554.54,1749.47,1452.05,1504.41,null,1687.81,1799.65,1484.52,1692.48,null,591.84,640.44000000000005,622.46,585.66999999999996,null,"2002T4",1266.74,1399.95,1212.18,1229,null,1372.8,1439.16,1239.8499999999999,1378.79,null,500.63,533.27,505.19,497.28]
["2003T1",1422.77,1555.36,1272.5,1408.36,null,1548.11,1602.02,1296.99,1592.93,null,533.02,568.32000000000005,536.12,529.49,null,"2003T1",1279.57,1401.72,1236.75,1244.23,null,1389.24,1442.86,1260.55,1401.08,null,501.08,531.44000000000005,521.04999999999995,497.31]
["2003T2",1484.64,1676.41,1430.4,1427.4,null,1618.36,1731.25,1458.34,1614.3,null,566.70000000000005,618.05999999999995,599.41999999999996,560.13,null,"2003T2",1280.55,1419.33,1235.5999999999999,1240.44,null,1393.49,1464.66,1259.32,1399.96,null,505.22,544.49,530.15,500.2]
["2003T3",1443.33,1629.05,1345.67,1398.8,null,1564.46,1681.45,1371.71,1566.66,null,571.64,609.80999999999995,578.91999999999996,567.35,null,"2003T3",1302.1500000000001,1432.42,1265.1500000000001,1263.8900000000001,null,1409.71,1477.39,1289.99,1413.11,null,528.12,557.66999999999996,533.59,524.80999999999995]
["2003T4",1610.53,1813.64,1537.65,1553.57,null,1759.4,1873.28,1570.79,1761.11,null,617.70000000000005,663,632.55999999999995,612.61,null,"2003T4",1301.23,1430.18,1267.48,1262.28,null,1417.74,1475.64,1295.22,1425.57,null,524.16999999999996,553.23,509.77,521.94000000000005]
["2004T1",1479.3,1608.61,1373.88,1457.9,null,1622.72,1662.45,1400.77,1667.15,null,562.74,606.36,557.4,558.79999999999995,null,"2004T1",1313.13,1440.29,1294.02,1272.67,null,1435.9,1486.83,1318.79,1446.98,null,528.55999999999995,573.86,541.97,523.72]
["2004T2",1535,1717.16,1497.32,1480.43,null,1682.84,1779.89,1527.59,1686.13,null,606.71,654.91999999999996,612.97,601.54,null,"2004T2",1309.54,1450.17,1286.9100000000001,1265.93,null,1432.21,1501.09,1312.63,1437.12,null,539.32000000000005,587.97,535.61,534.5]
["2004T3",1472.23,1668.54,1399.26,1421.45,null,1601.64,1725.71,1427.37,1599.01,null,608.25,660.38,592.47,603.54999999999995,null,"2004T3",1329.1,1465.84,1316.64,1285.06,null,1443.61,1514.44,1342.91,1442.43,null,564.64,608.74,562.78,560.16999999999996]
["2004T4",1648.71,1865.9,1586.24,1587.58,null,1808.42,1934.02,1619.88,1808.04,null,651,702.03,668.95,645.1,null,"2004T4",1322.99,1460.43,1296.92,1281.3,null,1446.13,1512.36,1323.93,1452,null,553.78,573.04999999999995,560.54999999999995,551.54999999999995]
["2005T1",1506.35,1666.2,1385.42,1481.11,null,1657.84,1729.21,1413.06,1698.21,null,589.73,626.46,593.04999999999995,586.01,null,"2005T1",1341.33,1479.73,1323.9,1299.19,null,1471.46,1533.68,1349.95,1481.03,null,553.89,589.49,577.16,549.47]
["2005T2",1588.21,1783.96,1549.6,1533.15,null,1747.81,1852.45,1583.38,1754.26,null,630.25,666.98,666.56,625.08000000000004,null,"2005T2",1348.21,1501.24,1323.83,1303.79,null,1478.39,1556.8,1352.23,1484.06,null,566.80999999999995,594.97,581.30999999999995,563.42999999999995]
["2005T3",1502.25,1711.17,1427.56,1452.91,null,1645.97,1776.98,1458.1,1649.69,null,621.54,647.62,637.74,618.24,null,"2005T3",1359.07,1512.81,1333.11,1315.94,null,1486.45,1569.21,1361.71,1490.49,null,578.48,601.22,593.74,575.55999999999995]
["2005T4",1691.15,1935.8,1623.28,1629.23,null,1868.52,2011.56,1662.01,1872.66,null,674.02,718.65,681.02,669.6,null,"2005T4",1362.15,1518.34,1345.34,1316.46,null,1498.93,1576.08,1376.85,1504.16,null,577.76,590.76,578.97,576.52]
["2006T1",1566.06,1731.83,1422.88,1551.63,null,1721.1,1801.92,1454.98,1763.86,null,628.74,655.75,643.33000000000004,625.63,null,"2006T1",1407.96,1531.2,1350.44,1386.57,null,1543.09,1591.08,1379.98,1569.79,null,590.98,611.85,632.86,587.16]
["2006T2",1669.42,1835.91,1573.6,1644.98,null,1834.55,1911.14,1609.28,1868.23,null,686,696.79,685.88,685.05,null,"2006T2",1418.81,1554.89,1364.37,1393.67,null,1554.93,1616.23,1394.92,1576.68,null,608.16999999999996,626.02,604.30999999999995,606.75]
["2006T3",1574.36,1774.91,1475.7,1541.4,null,1719.6,1850.79,1506.5,1732.57,null,665.29,666.38,665.67,665.17,null,"2006T3",1439.32,1569.68,1385.34,1415.74,null,1569.99,1634.42,1413.6,1589.28,null,621.47,623.98,641.78,620.35]
["2006T4",1778,2000.1,1655.89,1744.64,null,1958.18,2081.21,1691.4,1987.24,null,716.6,772.81,744.44,710.55,null,"2006T4",1444.56,1579.29,1389.95,1420.21,null,1585.89,1641.91,1419.57,1610.39,null,612.05999999999995,631.67999999999995,629.74,609.62]
["2007T1",1633.84,1799.7,1494.43,1621.07,null,1801.13,1872.29,1525.52,1852.99,null,663.98,672.24,695.68,661.93,null,"2007T1",1468.04,1599.74,1413.75,1445.24,null,1613.48,1661.67,1442.75,1644.33,null,624.84,637.91,668.66,621.87]
["2007T2",1731.68,1898.27,1632.31,1709.74,null,1912.75,1976.28,1666.05,1957.86,null,702.55,719.74,774.29,698.13,null,"2007T2",1476.28,1611.69,1421.28,1452.83,null,1624.98,1675.85,1450.97,1654.94,null,631.16999999999996,642.36,666.11,628.78]
["2007T3",1635.72,1826.3,1536.73,1606.66,null,1788.53,1901.49,1569.89,1808.43,null,705.37,705.9,704.15,705.38,null,"2007T3",1501.04,1622.28,1455.61,1478.88,null,1640.25,1687.34,1487.1,1663.78,null,653.4,652.89,664.71,652.95000000000005]
["2007T4",1851.4,2067.34,1744.76,1816.83,null,2043.04,2151.75,1783.29,2073.0700000000002,null,761.95,806.88,785.07,757.25,null,"2007T4",1505.8,1636.34,1454.71,1482.19,null,1656.46,1702.07,1487.21,1683.67,null,649.35,654.87,645.47,649.04]
["    2008T1",1719.02,1895.69,1575.95,1703.08,null,1899.36,1975.86,1615.81,1941.39,null,693.36,704.66,786.77,687.92,null,"2008T1",1538.43,1673.29,1476.71,1517.18,null,1694.11,1741.65,1512.47,1721.46,null,652.99,657.71,768.55,647.02]
["    2008T2",1818.35,1990.71,1747.62,1789.86,null,2013.65,2076.85,1794.53,null,null,739.34,759.91,842.59,732.84,null,"2008T2",1553.51,1691.45,1512.07,1527.92,null,1714.7,1762.88,1551.36,1736.61,null,662.94,670.89,754.19,658.03]
["    2008T3",1722.45,1909.6,1629.8,1694.21,null,1890.24,1992.24,1675.82,1906.44,null,737.58,738,811.97,733.65,null,"2008T3",1575.3,1704.94,1526.27,1553.06,null,1726.57,1777.46,1568.86,1745.05,null,687.44,676.72,769.41,684.08]
["    2008T4",1940.29,2160.83,1859.61,1902,null,2155.27,2257.87,1914.22,2175.33,null,785.1,811.84,900.22,777.56,null,"2008T4",1577.65,1707.23,1538.13,1553.82,null,1746.43,1782.53,1582.37,1769.31,null,670.72,660.6,760.93,667.32]
["    2009T1",1768.87,1918.6,1647.86,1753.42,null,1974.15,2009.72,1694.61,2015.35,null,696.55,701.72,789.77,692.42,null,"2009T1",1603.15,1724.92,1569.62,1580.65,null,1782.92,1803.94,1613.32,1808.07,null,664.03,669.69,767.51,659.45]
["    2009T2",1893.28,2038.81,1848.86,1867.27,null,2112.65,2138.87,1900.59,2142.66,null,754.42,746.82,915.07,748.77,null,"2009T2",1607.17,1723.12,1572.38,1586.36,null,1786.94,1805.1,1615.99,1811.91,null,673.87,664.55,785.22,670.28]
["    2009T3",1776.61,1948.19,1710.39,1748.39,null,1967.63,2045.4,1762.34,1982.46,null,747.39,738.61,818.21,745.19,null,"2009T3",1621.76,1734.15,1587.62,1601.95,null,1792.25,1818.24,1633.72,1812.26,null,703.14,687.75,795.78,700.6]
["    2009T4",1993.15,2215.34,1957.63,1949.74,null,2239.6999999999998,2325.56,2023.02,2253.4899999999998,null,794.68,847.66,968.58,783.27,null,"2009T4",1612.53,1740.83,1584.1,1588.56,null,1803.81,1825.53,1635.44,1825.94,null,682.71,689.83,807.54,676.95]
["    2010T1",1802,1971.46,1679.29,1780.89,null,2038.3,2073.8200000000002,1736.37,2073.84,null,713.87,766.83,753.58,708.42,null,"2010T1",1618.75,1753.83,1568,1596.15,null,1823.67,1841.3,1620.4,1849.17,null,675.13,724.47,718.25,669.85]
["    2010T2",1926.75,2100.67,1874.34,1896.5,null,2183.98,2210.11,1935.61,2214.09,null,767.7,833.12,887.68,758.74,null,"2010T2",1614.18,1764.68,1561.5,1588.9,null,1820.62,1853.6,1612.72,1843.08,null,684,734.84,736.71,678.37]
["    2010T3",1779.27,2005.01,1695.45,1741.73,null,1993.17,2106.87,1751.45,1999.54,null,760.89,794.92,778.79,757.62,null,"2010T3",1620.35,1779.39,1570.21,1592.84,null,1811.81,1866.87,1620.87,1825.36,null,708.78,740.09,740.92,705.26]
["    2010T4",1992.9,2277.2800000000002,1969.86,1935.81,null,2265.86,2394.02,2043.87,2264.86,null,804.33,897.45,907.61,794.02,null,"2010T4",1608.64,1786.34,1560.63,1576.86,null,1820.13,1875.68,1619.49,1834.28,null,687.72,730.41,715.86,683.64]
["    2011T1",1819.62,2031.26,1718.29,1787.05,null,2079.63,2141.59,1788.12,2102.64,null,722.6,778.27,737.48,718.06,null,"2011T1",1621.98,1790.12,1585.01,1591.38,null,1844.68,1883.4,1646.72,1861.13,null,682.32,730.81,718.28,677.64]
["    2011T2",1938.78,2165.6799999999998,1933.53,1893.14,null,2215.89,2285.04,2003.11,2227.02,null,791.19,878.02,925.65,780.63,null,"2011T2",1627.17,1807.15,1583.01,1595.27,null,1851.69,1904.06,1638.85,1866.89,null,697.36,761.66,774.18,690.23]
["    2011T3",1800.84,2061.5700000000002,1728.5,1755.11,null,2039.7,2174.5,1799.77,2036.56,null,770.74,849.57,786.15,764.06,null,"2011T3",1641.19,1819.66,1598,1609.24,null,1854.79,1917.06,1662.27,1863.24,null,720,774.28,748.18,714.84]
["    2011T4",2020.13,2330.65,2017.8,1957.24,null,2320.9299999999998,2464.65,2110.98,2311.0500000000002,null,822.3,927.42,856.05,813.37,null,"2011T4",1632.65,1816.88,1581.85,1600.2,null,1866.34,1917.41,1651.95,1879.5,null,702.03,764.12,707.94,697.19]
["    2012T1",1841.89,2069.19,1740.94,1805.38,null,2125.61,2186.2399999999998,1818.3,2143.88,null,735.28,838.63,782.46,726.48,null,"2012T1",1641.99,1827.09,1615.51,1607.37,null,1884.66,1927.73,1684.42,1895.7,null,695.52,768.95,761.74,688.37]
["    2012T2",1939.73,2211.73,1975.15,1882.97,null,2243.2800000000002,2339.2199999999998,2075.64,2237.7399999999998,null,782.43,864.95,845.28,774.81,null,"2012T2",1635.93,1831.34,1607.62,1599.73,null,1881.08,1933.18,1684.07,1889.02,null,701.26,755.5,748.1,696.1]
["    2012T3",1805.63,2082.4499999999998,1748.95,1755.73,null,2065.2800000000002,2201.33,1836.06,2056.06,null,769.46,847.37,787.91,763.1,null,"2012T3",1644.48,1834.79,1605.1,1610.21,null,1875.97,1936.37,1682.47,1880.95,null,720.69,779.46,751.61,715.39]
["    2012T4",1946.91,2325.2199999999998,2026.13,1865.84,null,2256.62,2460.08,2142.09,2219.5100000000002,null,802.96,943.32,893.5,790.22,null,"2012T4",1633.16,1833.38,1599.53,1596.5,null,1885.98,1936.37,1686.42,1893.85,null,699.34,778.05,750.78,692.17]
["    2013T1",1809.22,2098.5500000000002,1732.59,1758.73,null,2108.21,2222.79,1810.85,2108.34,null,740.24,837.6,791.15,732.43,null,"2013T1",1633.32,1853.27,1619.86,1591.63,null,1893.92,1959.31,1690.97,1897.04,null,701.63,777.01,764.59,695.05]
["    2013T2",1928.72,2251.7399999999998,2004.96,1860.61,null,2254.04,2387.06,2100.75,2236.3000000000002,null,796.25,876.02,884.25,788.97,null,"2013T2",1632.35,1854.56,1629.19,1589.56,null,1896.71,1959.56,1703.3,1899.32,null,712.11,787.09,762.09,705.99]
["    2013T3",1801.42,2126.34,1757.38,1741.71,null,2080.41,2250.52,1845.01,2061.41,null,782.33,863.47,802.75,776.17,null,"2013T3",1641.23,1870.54,1605.7,1599.41,null,1889.68,1976.43,1683.74,1887.63,null,733.67,793.66,755.51,728.95]
["    2013T4",1995.68,2379.41,2036.85,1918.96,null,2340.36,2518.23,2144.7800000000002,2315.44,null,817.58,963.77,885.79,806.44,null,"2013T4",1627.93,1863.52,1596,1584.91,null,1897.1,1969.34,1678.23,1899.33,null,707.92,784.38,719.01,702.66]
["    2014T1",1805.76,2128.11,1731.88,1749.09,null,2123.34,2256.15,1826.23,2116.85,null,740.25,816.04,695.34,736.36,null,"2014T1",1632.94,1887.85,1622.7,1584.88,null,1910.96,1997.16,1708.62,1907.55,null,700.17,767.79,678.69,696.31]
["    2014T2",1929.58,2300.0700000000002,2013.52,1854.13,null,2276.9499999999998,2441.33,2125.35,2250.9499999999998,null,794.2,873.84,811.91,788.84,null,"2014T2",1632.1,1891.1,1636.54,1582.98,null,1912.17,2000.24,1722.27,1907.35,null,716.7,789.16,715.42,712.2]
["    2014T3",1800.46,2161.58,1778.14,1734.07,null,2096.0500000000002,2288.89,1875.77,2069.42,null,788.57,858.74,770.68,784.47,null,"2014T3",1640.82,1898.82,1628.64,1593.14,null,1904.65,2006.93,1715.63,1896.44,null,737.68,792.56,731.04,734.31]
["    2014T4",1991.84,2400.7800000000002,2058.25,1909.9,null,2353.14,2551.17,2165.3200000000002,2321.89,null,821.71,945,873.47,812.65,null,"2014T4",1628.75,1894.35,1624.93,1578.62,null,1910.28,2006.22,1707.67,1904.39,null,717.01,811.49,709.37,711.02]
["    2015T1",1831.7,2141.04,1748.98,1778.86,null,2160.7600000000002,2273.9299999999998,1834.29,2161.83,null,749.64,821.69,787.93,744.25,null,"2015T1",1638.57,1891.75,1633.51,1591.1,null,1921.66,2004.06,1710.91,1920.16,null,707.67,776.81,761.52,702.15]
["    2015T2",1941.74,2304.29,1984.85,1871.37,null,2295.61,2449.2399999999998,2092.6799999999998,2276.91,null,801.63,881.18,858.93,795.4,null,"2015T2",1634.66,1894.26,1631.74,1586.52,null,1917.29,2006.29,1715.52,1913.53,null,724.06,794.36,756.88,718.94]
["    2015T3",1809.88,2166.59,1775.57,1745.6,null,2104.84,2294.13,1875.3,2079.9699999999998,null,810.07,867.16,792.52,806.85,null,"2015T3",1644.15,1897.32,1629.88,1597.86,null,1907.75,2005.11,1718.38,1900.78,null,750.63,799.08,757.51,747.39]
["    2015T4",2026.14,2416.1999999999998,2019.53,1953.13,null,2395.62,2564.1999999999998,2131.9699999999998,2377.94,null,837.52,924.77,919.14,830.26,null,"2015T4",1641.46,1893.2,1626.14,1595.08,null,1925.39,2002.3,1716.25,1924.78,null,728.05,793.7,744.33,723.61]
["    2016T1",1832.26,2161.7600000000002,1719.93,1778.41,null,2171.44,2289.2199999999998,1818.61,2173.39,null,753.41,856.16,774.93,746.77,null,"2016T1",1635.02,1895.54,1603.72,1588.59,null,1924.52,2002.67,1693.54,1925.55,null,714.17,798.08,743.63,708.48]
["    2016T2",1943.01,2312.65,1966.09,1873.21,null,2305,2453.71,2077.1999999999998,2289.5100000000002,null,805.13,888.52,857,799.03,null,"2016T2",1630.53,1898.47,1617.88,1581.9,null,1918.74,2007.21,1705.29,1916.09,null,724.55,800.64,745.39,719.56]
["    2016T3",1804.01,2161.6999999999998,1745.8,1741.9,null,2104.6999999999998,2285.31,1842.45,2084.92,null,803.65,874.95,807.39,799.24,null,"2016T3",1642.64,1898,1607.25,1597.89,null,1910.13,2003.13,1694.72,1906.59,null,752.75,803.52,758.01,749.55]
["    2016T4",2010.73,2428.02,1987.12,1934.69,null,2380.3200000000002,2572.5500000000002,2097.75,2359.35,null,841.38,951.05,869.67,834.22,null,"2016T4",1636.2,1899.63,1598.27,1589.77,null,1922.78,2006.83,1683.6,1923.51,null,729.5,804.22,736.36,724.9]
["    2017T1",1829.13,2178.73,1702.05,1773.14,null,2168.86,2313.16,1784.13,2168.9,null,754.71,866.97,783.28,747.19,null,"2017T1",1635.49,1902.01,1600.06,1588.58,null,1926.5,2014.63,1674.97,1927.97,null,715.15,803.08,761.63,708.77]
["    2017T2",1942.01,2319.0700000000002,1944,1872.63,null,2298.35,2463.9299999999998,2038.11,2283.29,null,820.68,894.35,883.03,814.95,null,"2017T2",1629.39,1904.41,1609.52,1580.28,null,1913.36,2016.64,1684.98,1909.88,null,735.77,800.57,758.76,731.37]
["    2017T3",1809.12,2166.46,1744.02,1747.9,null,2103.23,2292.86,1827.65,2083.65,null,819.13,872.3,837.11,815.45,null,"2017T3",1650.11,1909.4,1608.31,1605.32,null,1911.92,2017.43,1684.48,1907.38,null,768.86,803.38,782.35,766.43]
["    2017T4",2020.14,2453.2600000000002,1982.08,1943.34,null,2390.29,2599.56,2072.2600000000002,2370.4,null,847.56,972.82,934.65,838.4,null,"2017T4",1641.91,1919.86,1607.01,1593.36,null,1927.41,2028.13,1678.28,1926.46,null,737.52,824.32,779.31,731.55]
["    2018T1",1844.24,2182.7600000000002,1723.44,1791.02,null,2186.86,2309.9499999999998,1806.77,2193.4899999999998,null,775.43,903.94,812.47,767.09,null,"2018T1",1647.46,1916.34,1611.48,1600.85,null,1940.54,2022.96,1687.04,1944.88,null,733.22,844.28,785.5,725.58]
["    2018T2",1951.81,2341.44,1958.95,1880.83,null,2314.06,2481.89,2051.1,2300.4299999999998,null,831.79,952,891.28,823.55,null,"2018T2",1646.51,1925.72,1613.23,1598.47,null,1935.76,2034.22,1683.83,1936.99,null,752.22,852.29,795.2,745.49]
["    2018T3",1842.62,2184.5700000000002,1757.25,1786.95,null,2144.7199999999998,2306.59,1836.12,2136.4499999999998,null,836.47,913.22,861.08,831.38,null,"2018T3",1670.35,1925,1619.88,1627.94,null,1935.69,2028.15,1690.15,1937.3,null,786.65,850.38,821.51,782.11]
[]
[]
["Notas:",null,null,null,null,null,null,null,null,null,null,null,null,null,null,null,"Notas:"]
[]
["Fuente: ",null,null,null,null,null,null,null,null,null,null,null,null,null,null,null,"Fuente: "]
["Instituto Nacional de Estadística",null,null,null,null,null,null,null,null,null,null,null,null,null,null,null,"Instituto Nacional de Estadística"]

{"sheet":"duracion","index":26,"n_rows":144,"n_cols":57,"rows_kept":144,"cut":false,"hidden":true,"merged":[[6,1,6,12],[73,54,76,54],[69,54,72,54],[21,54,24,54],[25,54,28,54],[29,54,32,54],[33,54,36,54],[37,54,40,54],[41,54,44,54],[108,0,111,0],[45,54,48,54],[49,54,52,54],[53,54,56,54],[57,54,60,54],[61,54,64,54],[65,54,68,54],[88,0,91,0],[92,0,95,0],[96,0,99,0],[100,0,103,0],[104,0,107,0],[136,0,139,0],[140,0,143,0],[112,0,115,0],[116,0,119,0],[120,0,123,0],[124,0,127,0],[128,0,131,0],[132,0,135,0]]}
["Resultados nacionales"]
["Ocupados"]
["Numeral. 3,96,",null,null,null,null,null,null,null,null,1]
["Asalariados con contrato o relación laboral temporal por duración del contrato, sexo y grupo de edad",null,null,null,null,null,null,null,null,null,null,null,null,null,null,null,null,null,null,null,null,null,null,null,null,null,null,null,null,null,null,null,null,null,null,null,null,null,"eq. A "]
["Unidades: Miles Personas",null,null,null,null,null,null,null,null,"dias",null,null,null,null,null,null,null,null,null,null,null,null,null,null,null,null,null,null,null,null,null,null,null,null,null,null,null,null,"días"]
["",null,1,{"$f":"(2+15*1)","v":17},{"$f":"(30*1+15*2)","v":60},{"$f":"(30*4+15*2)","v":150},{"$f":"(30*7+15*4)","v":270},{"$f":"(30*12+15*12)","v":540},{"$f":"(30*24+15*12)","v":900},{"$f":"(30*36)","v":1080},{"$f":"D6","v":17},{"$f":"E6","v":60},{"$f":"AVERAGE(E6:F6)","v":105},null,null,null,null,null,null,null,null,null,null,null,null,null,null,null,null,null,null,null,null,null,null,null,null,null,{"$f":"AM8*J6","v":184.13324299993872}]
[" ","Ambos sexos"]
[" ","Total","1 día","De 2 días a menos de 1 mes","De 1 a 3 meses","De 4 a 6 meses","De 7 a 11 meses","De 1 a menos de 2 años","De 2 a menos de 3 años","3 años o más","No sabe pero menos de 1 mes","No sabe pero más de 1 mes","No sabe la duración",null,null,null,null,null,null,null,null,null,null,null,null,null,null,null,null,null,null,null,null,null,null,null,null,null,{"$f":"AVERAGE(AM10:AM77)","v":0.17049374351846178},null,null,null,null,null,null,null,null,null,null,null,null,null,{"$f":"AVERAGE(BA10:BA77)","v":184.13324299993874}]
["Total",null,{"$f":"C6/$J$6","v":9.2592592592592596E-4},{"$f":"D6/$J$6","v":1.5740740740740739E-2},5.5555555555555552E-2,0.1388888888888889,0.25,0.5,0.83333333333333337,1,1.5740740740740739E-2,5.5555555555555552E-2,9.7222222222222224E-2,null,null,null,null,null,null,null,null,null,null,null,null,null,null,null,null,null,null,null,null,null,null,null,null,null,"rango fechas ponderado"]
["    2002T1",4264.3,5.7,39.6,430.1,762.3,185.9,380.2,54.6,114.7,"..","..",2291.1,null,{"$f":"C10/$B10","v":1.3366789390990314E-3},{"$f":"D10/$B10","v":9.2864010505827443E-3},0.10086063363271815,0.17876322022371782,4.3594493820791218E-2,8.9158830288675744E-2,1.2803977206106511E-2,2.6897732335905072E-2,{"$error":"#VALUE!"},{"$error":"#VALUE!"},{"$f":"M10/$B10","v":0.53727458199470013},null,{"$f":"O10*C$9","v":1.237665684350955E-6},{"$f":"P10*D$9","v":1.461748313517654E-4},5.6033685351510078E-3,2.4828225031071922E-2,1.0898623455197804E-2,4.4579415144337872E-2,1.066998100508876E-2,2.6897732335905072E-2,null,null,5.2235028805040294E-2,null,{"$f":"SUM(AA10:AK10)*1","v":0.17585978680882886},null,{"$f":"O10*C$6","v":1.3366789390990314E-3},{"$f":"P10*D$6","v":0.15786881785990664},6.0516380179630884,26.814483033557675,11.770513331613628,48.145768355884904,11.52357948549586,29.049550922777478,null,null,{"$f":"Y10*M$6","v":56.413831109443514},null,{"$f":"SUM(AO10:AY10)*1","v":189.92856975353516}]
["    2002T2",4375.7,2.4,48.2,446.9,784.1,202,389.3,53.4,114.6,"..","..",2335,null,{"$f":"C11/$B11","v":5.4848367118403912E-4},{"$f":"D11/$B11","v":1.1015380396279454E-2},{"$f":"E11/$B11","v":0.10213223027172795},{"$f":"F11/$B11","v":0.17919418607308546},{"$f":"G11/$B11","v":4.616404232465663E-2},{"$f":"H11/$B11","v":8.8968622163311015E-2},{"$f":"I11/$B11","v":1.220376168384487E-2},{"$f":"J11/$B11","v":2.6190095299037867E-2},{"$f":"K11/$B11","v":{"$error":"#VALUE!"}},{"$f":"L11/$B11","v":{"$error":"#VALUE!"}},{"$f":"M11/$B11","v":0.53362890508947147},null,{"$f":"O11*C$9","v":5.0785525109633256E-7},{"$f":"P11*D$9","v":1.7339024697847288E-4},{"$f":"Q11*E$9","v":5.6740127928737744E-3},{"$f":"R11*F$9","v":2.4888081399039648E-2},{"$f":"S11*G$9","v":1.1541010581164158E-2},{"$f":"T11*H$9","v":4.4484311081655507E-2},{"$f":"U11*I$9","v":1.016980140320406E-2},{"$f":"V11*J$9","v":2.6190095299037867E-2},null,null,{"$f":"Y11*M$9","v":5.1880587994809726E-2},null,{"$f":"SUM(AA11:AK11)*1","v":0.17500179865401433},null,{"$f":"O11*C$6","v":5.4848367118403912E-4},{"$f":"P11*D$6","v":0.1872614667367507},{"$f":"Q11*E$6","v":6.1279338163036767},{"$f":"R11*F$6","v":26.879127910962819},{"$f":"S11*G$6","v":12.46429142765729},{"$f":"T11*H$6","v":48.04305596818795},{"$f":"U11*I$6","v":10.983385515460384},{"$f":"V11*J$6","v":28.285302922960899},null,null,{"$f":"Y11*M$6","v":56.031035034394506},null,{"$f":"SUM(AO11:AY11)*1","v":189.00194254633547}]
["    2002T3",4402.8,2.2999999999999998,41.6,571,757.1,133,372.1,45.8,94.1,"..","..",2385.9,null,5.2239483964749696E-4,9.4485327518851643E-3,0.12969019714726993,0.17195875352048695,3.0208049423094394E-2,8.4514399927318976E-2,1.0402471154719723E-2,2.1372762787317159E-2,{"$error":"#VALUE!"},{"$error":"#VALUE!"},0.54190515126737526,null,4.836989255995342E-7,1.4872690442782201E-4,7.2050109526261069E-3,2.3883160211178745E-2,7.5520123557735984E-3,4.2257199963659488E-2,8.6687259622664371E-3,2.1372762787317159E-2,null,null,5.2685223039883704E-2,null,0.16377330587605865,null,5.2239483964749696E-4,0.1606250567820478,7.7814118288361955,25.793813028073043,8.1561733442354871,45.637775960752244,9.3622240392477512,23.08258381030253,null,null,56.900040883074404,null,176.87517034614334]
["    2002T4",4416.3999999999996,6.3,54.3,451.3,763.9,173.9,393.7,46.4,101.4,"..","..",2425.3000000000002,null,1.4265012227153337E-3,1.2295081967213115E-2,0.10218730187483019,0.17296893397337199,3.9375962322253426E-2,8.9145004981432852E-2,1.0506294719681189E-2,2.2959876822751565E-2,{"$error":"#VALUE!"},{"$error":"#VALUE!"},0.54915768499230155,null,1.3208344654771609E-6,1.9353369763205826E-4,5.6770723263794547E-3,2.4023463051857222E-2,9.8439905805633564E-3,4.4572502490716426E-2,8.7552455997343247E-3,2.2959876822751565E-2,null,null,5.3390330485362653E-2,null,0.16941733588946253,null,1.4265012227153337E-3,0.20901639344262296,6.131238112489811,25.945340096005797,10.631509827008426,48.138302689973742,9.4556652477130694,24.796666968571692,null,null,57.661556924191665,null,182.97072276061954]
["    2003T1",4370.2,6.2,47.6,417.1,710.2,178.5,381.5,49.8,103,"..","..",2476.1999999999998,null,1.4186993730264063E-3,1.0891950025170474E-2,9.5441856207953882E-2,0.16250972495537963,4.0844812594389275E-2,8.7295775937028058E-2,1.1395359480115327E-2,2.3568715390599973E-2,{"$error":"#VALUE!"},{"$error":"#VALUE!"},0.56661022378838499,null,1.3136105305800059E-6,1.7144736150731302E-4,5.3023253448863262E-3,2.2570795132691616E-2,1.0211203148597319E-2,4.3647887968514029E-2,9.4961329000961062E-3,2.3568715390599973E-2,null,null,5.5087105090537429E-2,null,0.17005692594796068,null,1.4186993730264063E-3,0.18516315042789805,5.7265113724772325,24.376458743306944,11.028099400485104,47.139719005995154,10.255823532103793,25.454212621847972,null,null,59.494073497780427,null,183.66148002379754]
["    2003T2",4550.8999999999996,4.8,49.1,413.7,739,191.5,365.7,48.8,102.8,"..","..",2635.5,null,1.0547364257619373E-3,1.0789074688523151E-2,9.0905095695356972E-2,0.16238546221626493,4.2079588652793959E-2,8.0357731437737598E-2,1.0723153661913029E-2,2.2588938451734823E-2,{"$error":"#VALUE!"},{"$error":"#VALUE!"},0.5791162187699137,null,9.7660780163142359E-7,1.6982802750453106E-4,5.050283094186498E-3,2.2553536418925685E-2,1.051989716319849E-2,4.0178865718868799E-2,8.9359613849275248E-3,2.2588938451734823E-2,null,null,5.6302965713741611E-2,null,0.1663012525808896,null,1.0547364257619373E-3,0.18341426970489355,5.4543057417214182,24.357819332439739,11.36148893625437,43.393174976378305,9.6508382957217265,24.396053527873608,null,null,60.80720297084094,null,179.60535278736074]
["    2003T3",4652.2,3.2,49.2,566.9,748,154.5,350.8,60.3,90.8,"..","..",2628.3,null,6.8784661020592419E-4,1.0575641631916084E-2,0.12185632603929324,0.16078414513563477,3.3210094149004776E-2,7.5405184643824438E-2,1.2961609561067882E-2,1.9517647564593097E-2,{"$error":"#VALUE!"},{"$error":"#VALUE!"},0.56495851425132204,null,6.3689500944992981E-7,1.6646843309497538E-4,6.769795891071846E-3,2.2331131268838164E-2,8.3025235372511941E-3,3.7702592321912219E-2,1.0801341300889902E-2,1.9517647564593097E-2,null,null,5.4926522218878532E-2,null,0.16051865943153937,null,6.8784661020592419E-4,0.17978590774257341,7.3113795623575939,24.117621770345217,8.96672542023129,40.718799707665198,11.665448604961094,21.079059369760543,null,null,59.320643996388817,null,173.36015218606252]
["    2003T4",4687.5,5.8,49.5,460.5,715.8,207.2,333.8,49.4,86.5,"..","..",2778.9,null,1.2373333333333333E-3,1.056E-2,9.8239999999999994E-2,0.15270399999999998,4.4202666666666661E-2,7.1210666666666672E-2,1.0538666666666667E-2,1.8453333333333332E-2,{"$error":"#VALUE!"},{"$error":"#VALUE!"},0.59283200000000003,null,1.145679012345679E-6,1.662222222222222E-4,5.4577777777777775E-3,2.1208888888888888E-2,1.1050666666666665E-2,3.5605333333333336E-2,8.7822222222222225E-3,1.8453333333333332E-2,null,null,5.7636444444444448E-2,null,0.15836203456790124,null,1.2373333333333333E-3,0.17952000000000001,5.8943999999999992,22.905599999999996,11.934719999999999,38.453760000000003,9.4847999999999999,19.929599999999997,null,null,62.24736,null,171.03099733333335]
["    2004T1",4620.7,9,53.7,436.5,675,191.6,337.8,55.6,100,"..","..",2761.5,null,1.9477568333802239E-3,1.1621615772502003E-2,9.4466206418940851E-2,0.14608176250351679,4.1465578808405651E-2,7.3105806479537738E-2,1.203280888177116E-2,2.1641742593113598E-2,{"$error":"#VALUE!"},{"$error":"#VALUE!"},0.59763672170883197,null,1.8034785494261334E-6,1.8293284086345744E-4,5.2481225788300473E-3,2.0289133681044E-2,1.0366394702101413E-2,3.6552903239768869E-2,1.0027340734809301E-2,2.1641742593113598E-2,null,null,5.8103570166136445E-2,null,0.16241394401521658,null,1.9477568333802239E-3,0.19756746813253406,5.6679723851364514,21.912264375527517,11.195706278269526,39.477135498950382,10.829527993594045,23.373082000562686,null,null,62.751855779427359,null,175.40705953643391]
["    2004T2",4746.1000000000004,6.5,50.4,407.9,715.9,198.7,355.3,55.1,125.6,"..","..",2830.7,null,1.3695455215861443E-3,1.0619245275067949E-2,8.5944248962305889E-2,0.1508396367543878,4.186595309833336E-2,7.4861465203008778E-2,1.1609532036830239E-2,2.6463833463264572E-2,{"$error":"#VALUE!"},{"$error":"#VALUE!"},0.5964265396852152,null,1.268097705172356E-6,1.6715478673718064E-4,4.7746804979058822E-3,2.0949949549220529E-2,1.046648827458334E-2,3.7430732601504389E-2,9.6746100306918659E-3,2.6463833463264572E-2,null,null,5.7985913580507031E-2,null,0.16791463088211994,null,1.3695455215861443E-3,0.18052716967615512,5.1566549377383533,22.625945513158172,11.303807336550006,40.425191209624742,10.448578833147215,28.580940140325737,null,null,62.624786666947593,null,181.34780135268954]
["    2004T3",4978.2,3.5,54.8,597.79999999999995,740.9,176.4,358.9,60.9,113.4,"..","..",2871.6,null,7.0306536499136233E-4,1.1007994857579044E-2,0.12008356434052468,0.14882889397774296,3.5434494395564661E-2,7.2094331284399987E-2,1.2233337350849706E-2,2.2779317825720142E-2,{"$error":"#VALUE!"},{"$error":"#VALUE!"},0.57683500060262749,null,6.5098644906607626E-7,1.7327399312855901E-4,6.6713091300291483E-3,2.0670679719130967E-2,8.8586235988911653E-3,3.6047165642199994E-2,1.0194447792374755E-2,2.2779317825720142E-2,null,null,5.6081180614144341E-2,null,0.16147664930206812,null,7.0306536499136233E-4,0.18713591257884377,7.2050138604314808,22.324334096661445,9.5673134868024583,38.930938893575991,11.010003615764735,24.601663251777754,null,null,60.567675063275885,null,174.39478124623358]
["    2004T4",5012.6000000000004,3.2,53.2,448.8,712.7,214.4,344.6,61.7,114.1,"..","..",3060,null,6.3839125403981965E-4,1.0613254598412001E-2,8.9534373379084708E-2,0.14218170211068107,4.2772214020667915E-2,6.8746758169413072E-2,1.2308981366955272E-2,2.2762638151857317E-2,{"$error":"#VALUE!"},{"$error":"#VALUE!"},0.61046163667557751,null,5.9110301299983299E-7,1.6706048904907778E-4,4.9741318543935946E-3,1.9747458626483482E-2,1.0693053505166979E-2,3.4373379084706536E-2,1.0257484472462728E-2,2.2762638151857317E-2,null,null,5.935043689901448E-2,null,0.16232623418614719,null,6.3839125403981965E-4,0.18042532817300402,5.3720624027450823,21.327255316602159,11.548497785580336,37.123249411483059,11.078083230259745,24.583649204005901,null,null,64.098471850935638,null,175.31233292103894,null,null,null,"días promedio contratos temporales"]
["    2005T1",4853.1000000000004,21,135.9,662.5,1074.9000000000001,356.5,518.4,97.1,178.4,46.7,955.4,806.3,null,4.3271311120726954E-3,2.8002719910984731E-2,0.13651068389276955,0.22148729677937812,7.3458201973995996E-2,0.10681832230945168,2.0007830046774224E-2,3.6760009066369947E-2,9.6227153777997572E-3,0.19686386021305968,0.16614122931734354,null,4.0066028815487923E-6,4.4078355415438924E-4,7.5839268829316414E-3,3.0762124552691408E-2,1.8364550493498999E-2,5.340916115472584E-2,1.6673191705645189E-2,3.6760009066369947E-2,{"$f":"W22*K$9","v":1.5146866798388506E-4},{"$f":"X22*L$9","v":1.093688112294776E-2},1.6152619516963954E-2,null,0.19123872332079456,null,4.3271311120726954E-3,0.47604623848674044,8.1906410335661732,33.22309451690672,19.83371453297892,57.68189404710391,18.007047042096801,39.700809791679546,{"$f":"W22*K$6","v":0.16358616142259588},{"$f":"X22*L$6","v":11.811831612783582},17.444829078321071,null,206.53782118645813,null,2005,"1T",{"$f":"BA22","v":206.53782118645813}]
["    2005T2",5232.2,18.8,110.3,651.6,1171.3,373.2,544.70000000000005,90.1,148.6,33.1,1138,952.6,null,3.59313481900539E-3,2.1080998432781623E-2,0.12453652383318681,0.2238637666755858,7.1327548641106991E-2,0.10410534765490617,1.7220289744275832E-2,2.8401055005542603E-2,6.3262107717594902E-3,0.21749933106532626,0.18206490577577311,null,3.3269766842642499E-6,3.3183053088637737E-4,6.9186957685103776E-3,3.1092189816053585E-2,1.7831887160276748E-2,5.2052673827453086E-2,1.4350241453563194E-2,2.8401055005542603E-2,9.9579243629547515E-5,1.2083296170295903E-2,1.7700754728200162E-2,null,0.18086553068109584,null,3.59313481900539E-3,0.35837697335728758,7.4721914299912084,33.579565001337869,19.258438133098888,56.21688773364933,15.498260769848249,30.67313940598601,0.10754558311991133,13.049959863919575,19.116815106456176,null,195.3347731355835,null,null,"2T",{"$f":"BA23","v":195.3347731355835}]
["    2005T3",5502.1,12.8,112.2,917.6,1228.5999999999999,254,588.70000000000005,76.400000000000006,160.9,51,1305.3,794.7,null,2.3263844713836534E-3,2.0392213881972338E-2,0.16677268679231566,0.22329655949546534,4.6164191854019369E-2,0.10699551080496537,1.3885607313571182E-2,2.9243379800439832E-2,9.2691881281692437E-3,0.23723669144508458,0.14443576089129606,null,2.1540596957256051E-6,3.2098855184586086E-4,9.265149266239758E-3,3.1013411041036856E-2,1.1541047963504842E-2,5.3497755402482687E-2,1.1571339427975986E-2,2.9243379800439832E-2,1.45903887202664E-4,1.3179816191393587E-2,1.4042365642209339E-2,null,0.17382331123402714,null,2.3263844713836534E-3,0.34666763599352973,10.006361207538939,33.494483924319802,12.46433180058523,57.777575834681301,12.497046582214065,31.582850184475021,0.15757619817887714,14.234201486705075,15.165754893586087,null,187.72917613274933,null,null,"3T",187.72917613274933]
["    2005T4",5411.5,14.2,131.19999999999999,679.2,1136,348.1,572.4,69.599999999999994,150.80000000000001,45.3,1462.8,801.9,null,2.6240413933290214E-3,2.4244664141180816E-2,0.12551048692599096,0.20992331146632173,6.4325972466044545E-2,0.10577473898179802,1.2861498660260555E-2,2.7866580430564541E-2,8.3710616280144139E-3,0.27031322184237272,0.14818442206412269,null,2.4296679567861309E-6,3.8162897259266093E-4,6.972804829221719E-3,2.9156015481433574E-2,1.6081493116511136E-2,5.2887369490899012E-2,1.071791555021713E-2,2.7866580430564541E-2,1.3176671081133797E-4,1.501740121346515E-2,1.4406818811789707E-2,null,0.17362222427546276,null,2.6240413933290214E-3,0.41215929040007387,7.5306292155594576,31.488496719948259,17.368012565832029,57.11835905017093,11.5753487942345,30.095906865009702,0.14230804767624503,16.218793310542363,15.559364316732882,null,187.51200221749977,null,null,"4T",187.51200221749977]
["    2006T1",5341.8,19.899999999999999,142.69999999999999,583.4,1063.2,349,538.4,68.599999999999994,155.30000000000001,41.6,1511.9,867.9,null,3.7253360290538766E-3,2.671384177618031E-2,0.1092141225804036,0.19903403347186341,6.5333782620090611E-2,0.10078999588153804,1.2842113145381705E-2,2.9072597251862668E-2,7.7876371260623758E-3,0.28303193680032951,0.16247332359878691,null,3.449385212086923E-6,4.2049565758802337E-4,6.0674512544668666E-3,2.7643615759981029E-2,1.6333445655022653E-2,5.0394997940769022E-2,1.0701760954484755E-2,2.9072597251862668E-2,1.2258317698431517E-4,1.5723996488907193E-2,1.5796017572104283E-2,null,0.17228041109738287,null,3.7253360290538766E-3,0.45413531019506526,6.5528473548242161,29.855105020779511,17.640121307424465,54.42659777603054,11.557901830843536,31.398405032011681,0.13238983114306038,16.981916208019772,17.059698977872625,null,186.06284398517354,null,2006,"1T",186.06284398517354]
["    2006T2",5594.3,22.1,131.19999999999999,664.1,1087.7,358,533.1,73.8,171.3,46.5,1675.5,830.9,null,3.9504495647355344E-3,2.3452442664855296E-2,0.11871011565343297,0.19443004486709686,6.3993707881236261E-2,9.5293423663371651E-2,1.3191998998981104E-2,3.0620452961049642E-2,8.3120318896019157E-3,0.29950127808662386,0.14852617843161789,null,3.6578236710514208E-6,3.6915881972457405E-4,6.5950064251907199E-3,2.70041728982079E-2,1.5998426970309065E-2,4.7646711831685826E-2,1.099333249915092E-2,3.0620452961049642E-2,1.3083753900299311E-4,1.6638959893701323E-2,1.4440045125296183E-2,null,0.17044076278699019,null,3.9504495647355344E-3,0.39869152530254004,7.1226069392059781,29.164506730064531,17.278301127933791,51.458448778220692,11.872799099082995,33.070089197933612,0.14130454212323257,17.97007668519743,15.595248735319878,null,184.07602380994939,null,null,"2T",184.07602380994939]
["    2006T3",5717,16,132.80000000000001,922.3,1069.9000000000001,276.2,527.29999999999995,83.3,161.30000000000001,38,1662,827.7,null,2.7986706314500611E-3,2.3228966241035511E-2,0.16132587021164946,0.1871436067867763,4.8312051775406678E-2,9.2233688997726077E-2,1.457057897498688E-2,2.8214098303305932E-2,6.6468427496938955E-3,0.29071191184187511,0.144778730103201,null,2.5913616957870939E-6,3.6564113527555892E-4,8.9625483450916366E-3,2.5992167609274489E-2,1.207801294385167E-2,4.6116844498863038E-2,1.2142149145822401E-2,2.8214098303305932E-2,1.046262284674039E-4,1.615066176899306E-2,1.4075709871144542E-2,null,0.16420505121178552,null,2.7986706314500611E-3,0.39489242609760367,9.679552212698967,28.071541018016447,13.044253979359803,49.806192058772083,13.113521077488192,30.471226167570407,0.11299632674479622,17.442714710512508,15.201766660836105,null,177.34145530872837,null,null,"3T",177.34145530872837]
["    2006T4",5608,23.4,117.6,738.3,997.7,314.7,517,92.1,161,31.5,1792.1,822.4,null,4.1726105563480737E-3,2.0970042796005704E-2,0.13165121255349499,0.17790656205420829,5.6116262482168326E-2,9.2189728958630535E-2,1.6422967189728958E-2,2.8708987161198289E-2,5.6169757489301E-3,0.31956134094151212,0.14664764621968615,null,3.8635282929148829E-6,3.3008400697416383E-4,7.3139562529719437E-3,2.4709244729751154E-2,1.4029065620542082E-2,4.6094864479315267E-2,1.36858059914408E-2,2.8708987161198289E-2,8.8415359010936756E-5,1.7753407830084004E-2,1.4257410049136153E-2,null,0.16697510500871771,null,4.1726105563480737E-3,0.35649072753209698,7.8990727532096994,26.685984308131243,15.151390870185448,49.782453637660488,14.780670470756062,31.005706134094151,9.5488587731811694E-2,19.173680456490729,15.398002853067046,null,180.33311340941512,null,null,"4T",180.33311340941512]
["    2007T1",5315.2,20.100000000000001,121,601.4,1012.3,343.1,504.5,91.1,174.1,36.4,1598,813.3,null,3.7816074653823002E-3,2.2764900662251657E-2,0.11314720048163757,0.19045379289584588,6.45507224563516E-2,9.4916465984346776E-2,1.7139524382901866E-2,3.2755117399157131E-2,6.8482841661649608E-3,0.30064720048163757,0.15301399759181217,null,3.5014883938725003E-6,3.5833639931322052E-4,6.2859555823131978E-3,2.6451915679978597E-2,1.61376806140879E-2,4.7458232992173388E-2,1.4282936985751556E-2,3.2755117399157131E-2,1.0779706557852252E-4,1.6702622248979865E-2,1.4876360876981739E-2,null,0.175420457332709,null,3.7816074653823002E-3,0.38700331125827819,6.7888320288982538,28.568068934376882,17.428695063214931,51.25489163154726,15.425571944611679,35.375526791089705,0.11642083082480434,18.038832028898256,16.066469747140278,null,189.45409391932571,null,2007,"1T",189.45409391932571]
["    2007T2",5390.6,24.9,104.7,586.29999999999995,995.7,329.7,484.5,89.3,144.4,40.5,1700.9,889.5,null,4.6191518569361472E-3,1.9422698771936333E-2,0.10876340296070937,0.18471042184543465,6.1162022780395495E-2,8.9878677698215406E-2,1.6565873928690682E-2,2.6787370608095572E-2,7.5130783215226499E-3,0.31553073869328091,0.1650094609134419,null,4.2769924601260623E-6,3.0572766585455335E-4,6.0424112755949645E-3,2.5654225256310368E-2,1.5290505695098874E-2,4.4939338849107703E-2,1.3804894940575569E-2,2.6787370608095572E-2,1.1826141802396763E-4,1.7529485482960048E-2,1.6042586477695742E-2,null,0.16651908466177748,null,4.6191518569361472E-3,0.33018587912291764,6.5258041776425619,27.706563276815199,16.513746150706783,48.534485957036317,14.909286535821613,28.930360256743217,0.12772233146588505,18.931844321596856,17.3259933959114,null,179.8406114347197,null,null,"2T",179.8406114347197]
["    2007T3",5442.2,19,125.2,852.4,961.5,222.4,477.4,74.3,162,29.2,1710.4,808.5,null,3.4912351622505607E-3,2.3005402227040537E-2,0.1566278343317041,0.17667487413178495,4.0865826320238142E-2,8.7721877182021971E-2,1.365256697659035E-2,2.9767373488662673E-2,5.3654771967219144E-3,0.31428466429017682,0.14856124361471465,null,3.2326251502320008E-6,3.6212207209230471E-4,8.701546351761338E-3,2.4538176962747911E-2,1.0216456580059536E-2,4.3860938591010985E-2,1.1377139147158625E-2,2.9767373488662673E-2,8.4456585503956048E-5,1.7460259127232043E-2,1.4443454240319479E-2,null,0.16081515577169908,null,3.4912351622505607E-3,0.39109183785968915,9.3976700599022465,26.501231119767745,11.033773106464299,47.369813678291862,12.287310278931315,32.148763367755684,9.121311234427254E-2,18.857079857410611,15.598930579545039,null,173.68036823343499,null,null,"3T",173.68036823343499]
["    2007T4",5268.7,18.600000000000001,119.2,663.7,893.3,295.5,476.2,69.5,155.19999999999999,35.9,1767.2,774.4,null,3.5302826124091334E-3,2.2624176741890791E-2,0.12597035321806138,0.16954846546586444,5.6085941503596713E-2,9.0382826883291897E-2,1.3191109761421224E-2,2.945698179816653E-2,6.8138250422305315E-3,0.33541480820695807,0.14698122876610928,null,3.2687801966751235E-6,3.5612130056679946E-4,6.9983529565589651E-3,2.3548397981370064E-2,1.4021485375899178E-2,4.5191413441645949E-2,1.0992591467851021E-2,2.945698179816653E-2,1.0725465344251761E-4,1.863415601149767E-2,1.4289841685593958E-2,null,0.16359986545278934,null,3.5302826124091334E-3,0.38461100461214343,7.5582211930836829,25.432269819879664,15.143204205971113,48.806726516977626,11.871998785279102,31.813540342019852,0.11583502571791904,20.124888492417483,15.433029020441474,null,176.68785468901248,null,null,"4T",176.68785468901248]
["    2008T1",5103.3999999999996,17.7,103.7,540.79999999999995,868.7,321.39999999999998,475.8,73.900000000000006,137.19999999999999,27.8,1805,731.3,null,3.4682760512599444E-3,2.0319786808794139E-2,0.1059685699729592,0.17021985343104598,6.2977622761296384E-2,9.3231963005055457E-2,1.4480542383509036E-2,2.6884038092252222E-2,5.4473488262726816E-3,0.35368577810871188,0.14329662577889252,null,3.2113667141295783E-6,3.1984849606435216E-4,5.8871427762755106E-3,2.3641646309867499E-2,1.5744405690324096E-2,4.6615981502527729E-2,1.2067118652924197E-2,2.6884038092252222E-2,8.5745305598736651E-5,1.9649209894928438E-2,1.3931616395170106E-2,null,0.16482996448264703,null,3.4682760512599444E-3,0.34543637574950037,6.3581141983775522,25.532978014656898,17.003958145550023,50.345260022729946,13.032488145158132,29.034761139632401,9.2604930046635586E-2,21.221146686522712,15.046145706783713,null,178.01636164125875,null,2008,"1T",178.01636164125875]
["    2008T2",4987.2,14.4,92.9,546.6,892.9,308.39999999999998,439,71.8,140.9,28.4,1780.5,671.3,null,2.8873917228103949E-3,1.8627686878408729E-2,0.10960057747834458,0.17903833814565287,6.1838306063522613E-2,8.8025344882900231E-2,1.4396855951235162E-2,2.8252325954443377E-2,5.6945781199871674E-3,0.35701395572666028,0.13460458774462625,null,2.6735108544540695E-6,2.9321358975272995E-4,6.088920971019143E-3,2.48664358535629E-2,1.5459576515880653E-2,4.4012672441450115E-2,1.1997379959362635E-2,2.8252325954443377E-2,8.9636877814612808E-5,1.9834108651481126E-2,1.3086557141838663E-2,null,0.16398350146746038,null,2.8873917228103949E-3,0.31667067693294837,6.5760346487006744,26.855750721847929,16.696342637151105,47.533686236766123,12.957170356111646,30.512512030798845,9.6807828039781843E-2,21.420837343599615,14.133481713185756,null,177.10218158485725,null,null,"2T",177.10218158485725]
["    2008T3",4965.5,23,110.4,759.3,873,238.4,479.5,71.900000000000006,134.4,30.6,1620.8,624.20000000000005,null,4.6319605276407211E-3,2.2233410532675461E-2,0.15291511428859128,0.17581311046218911,4.8011277816936863E-2,9.6566307521901124E-2,1.4479911388581212E-2,2.7066760648474474E-2,6.1625213976437424E-3,0.32641224448695999,0.125707380928406,null,4.2888523404080751E-6,3.4997035097729889E-4,8.4952841271439591E-3,2.4418487564192935E-2,1.2002819454234216E-2,4.8283153760950562E-2,1.2066592823817677E-2,2.7066760648474474E-2,9.7002651629577423E-5,1.8134013582608886E-2,1.2221550923595028E-2,null,0.16313992473996503,null,4.6319605276407211E-3,0.37796797905548285,9.1749068573154773,26.371966569328368,12.963045010572953,52.145806061826605,13.031920249723091,29.232101500352432,0.10476286375994362,19.5847346692176,13.199274997482631,null,176.1911187191622,null,null,"3T",176.1911187191622]
["    2008T4",4569.8,25.5,106.1,552.4,747.4,292.8,471.7,74.2,135.4,27.1,1513.2,624.1,null,5.5801129152260494E-3,2.3217646286489559E-2,0.12088056370081841,0.16355201540548819,6.4072825944242642E-2,0.10322114753380891,1.6237034443520502E-2,2.9629305440063022E-2,5.9302376471618012E-3,0.33113046522823758,0.1365705282506893,null,5.1667712178018974E-6,3.6546295080585413E-4,6.7155868722676895E-3,2.2715557695206695E-2,1.6018206486060661E-2,5.1610573766904456E-2,1.3530862036267086E-2,2.9629305440063022E-2,9.3346333334954268E-5,1.8396136957124307E-2,1.3277690246594793E-2,null,0.17235789555584732,null,5.5801129152260494E-3,0.39469998687032248,7.2528338220491051,24.532802310823229,17.299663004945515,55.739419668256815,14.613330999168452,31.999649875268066,0.10081404000175062,19.867827913694256,14.339905466322376,null,186.14652720031512,null,null,"4T",186.14652720031512]
["    2009T1",4031.9,26.2,90.2,430.6,677.6,262.89999999999998,411.7,72.599999999999994,126.4,11.1,1413.7,508.9,null,6.4981770381209846E-3,2.2371586596889804E-2,0.10679828368759146,0.16805972370346486,6.5204990203130031E-2,0.10211066742726754,1.8006398968228376E-2,3.1349983878568417E-2,2.7530444703489669E-3,0.35062873583174187,0.12621840819464766,null,6.0168305908527639E-6,3.521453445806728E-4,5.9332379826439697E-3,2.3341628292147899E-2,1.6301247550782508E-2,5.1055333713633771E-2,1.5005332473523647E-2,3.1349983878568417E-2,4.3334959255492993E-5,1.9479374212874549E-2,1.227123413003519E-2,null,0.17513886936863696,null,6.4981770381209846E-3,0.38031697214712668,6.4078970212554882,25.208958555519729,17.605347354845108,55.13976041072447,16.205759071405538,33.857982588853893,4.6801755995932434E-2,21.037724149904513,13.252932860438005,null,189.14997891812791,null,2009,"1T",189.14997891812791]
["    2009T2",3986.4,25.8,109,435.7,653.1,270.2,386.1,74.7,131.6,9.8000000000000007,1371.9,518.5,null,6.4720048163756771E-3,2.7342966084687937E-2,0.1092966084687939,0.16383202889825407,6.7780453542042943E-2,9.6854304635761598E-2,1.8738711619506323E-2,3.3012241621513144E-2,2.4583584186233195E-3,0.34414509331727877,0.13006722857716235,null,5.9925970521997015E-6,4.3039854022193969E-4,6.0720338038218824E-3,2.2754448458090843E-2,1.6945113385510736E-2,4.8427152317880799E-2,1.561559301625527E-2,3.3012241621513144E-2,3.8696382515367061E-5,1.9119171850959932E-2,1.2645425000557452E-2,null,0.17506626697437955,null,6.4720048163756771E-3,0.46483042343969494,6.5577965081276339,24.574804334738111,18.300722456351593,52.301324503311264,16.86484045755569,35.653220951234196,4.1792093116596429E-2,20.648705599036727,13.657059000602047,null,189.07156833232995,null,null,"2T",189.07156833232995]
["    2009T3",4073.4,20,125.7,713.6,673.5,183.7,394.1,68,146.1,8.1999999999999993,1241.8,498.7,null,4.909903274905484E-3,3.0858742082780968E-2,0.17518534884862769,0.16534099278244219,4.5097461580006867E-2,9.6749644032012569E-2,1.6693671134678647E-2,3.5866843423184559E-2,2.0130603427112484E-3,0.30485589433888149,0.12242843815976824,null,4.5462067360235963E-6,4.8573945871044111E-4,9.732519380479315E-3,2.2964026775339194E-2,1.1274365395001717E-2,4.8374822016006284E-2,1.3911392612232206E-2,3.5866843423184559E-2,3.168706095008446E-5,1.6936438574382304E-2,1.1902764821088579E-2,null,0.17148514572411069,null,4.909903274905484E-3,0.52459861540727648,10.511120930917661,24.801148917366326,12.176314626601854,52.244807777286788,15.024304021210781,38.736190897039322,3.4222025826091219E-2,18.291353660332888,12.854986006775665,null,185.20395738203956,null,null,"3T",185.20395738203956]
["    2009T4",3921.9,25.3,115.3,524,598.20000000000005,247.4,368.5,65.3,145.69999999999999,9.5,1286.3,536.29999999999995,null,6.4509548943114305E-3,2.9399015783166321E-2,0.1336087100639996,0.15252811137458885,6.3081669598918894E-2,9.3959560417144747E-2,1.6650093067135826E-2,3.7150360794512859E-2,2.4222953160457942E-3,0.32797878579260048,0.13674494505214307,null,5.9731063836216955E-6,4.627622854757661E-4,7.4227061146666445E-3,2.1184459913137343E-2,1.5770417399729723E-2,4.6979780208572373E-2,1.3875077555946523E-2,3.7150360794512859E-2,3.81287225673875E-5,1.8221043655144469E-2,1.3294647435625022E-2,null,0.17440535719176173,null,6.4509548943114305E-3,0.49978326831382747,8.0165226038399755,22.879216706188327,17.032050791708102,50.738162625258163,14.985083760422244,40.122389658073885,4.1179020372778499E-2,19.678727147556028,14.358219230475022,null,188.35778576710265,null,null,"4T",188.35778576710265]
["    2010T1",3753.3,15.9,104.7,420.7,585.5,246,353.2,56.1,150.5,8.6,1268.2,543.70000000000005,null,4.2362720805690993E-3,2.789545200223803E-2,0.1120880292009698,0.15599605680334638,6.5542322755974741E-2,9.4103855274025511E-2,1.4946846774838141E-2,4.0098047051927634E-2,2.2913169743958646E-3,0.33788932406149252,0.14485919057895719,null,3.922474148675092E-6,4.3909507781300601E-4,6.2271127333872111E-3,2.1666119000464775E-2,1.6385580688993685E-2,4.7051927637012755E-2,1.2455705645698452E-2,4.0098047051927634E-2,3.6067026448823788E-5,1.8771629114527361E-2,1.4083532417398615E-2,null,0.177218738867821,null,4.2362720805690993E-3,0.47422268403804652,6.725281752058188,23.399408520501957,17.69642714411318,50.816081847973777,13.452162097354327,43.305890816081842,3.8952388564729698E-2,20.27335944368955,15.210215010790504,null,191.39623797724664,null,2010,"1T",191.39623797724664]
["    2010T2",3860.2,25.2,119.7,451.2,598.5,250.3,321.10000000000002,54.3,138.19999999999999,6.3,1324.4,571.1,null,6.5281591627376822E-3,3.1008756023003993E-2,0.11688513548520803,0.15504378011501996,6.4841199937827068E-2,8.3182218537899602E-2,1.4066628672089529E-2,3.5801253821045542E-2,1.6320397906844206E-3,0.34309103155276932,0.14794570229521789,null,6.044591817349706E-6,4.8810078925098872E-4,6.4936186380671126E-3,2.1533858349308328E-2,1.6210299984456767E-2,4.1591109268949801E-2,1.1722190560074609E-2,3.5801253821045542E-2,2.5689515223736248E-5,1.9060612864042738E-2,1.4383609945368405E-2,null,0.1673163883276054,null,6.5281591627376822E-3,0.5271488523910679,7.0131081291124815,23.256567017252994,17.507123983213308,44.918398010465786,12.659965804880576,38.665354126729184,2.7744676441635148E-2,20.585461893166158,15.534298740997878,null,180.70169939381381,null,null,"2T",180.70169939381381]
["    2010T3",3981.1,16,111.7,710.4,611,170.5,336.9,57.1,139.5,5.9,1278.5,543.5,null,4.0189897264575119E-3,2.8057572027831504E-2,0.17844314385471352,0.15347517017909623,4.2827359272562864E-2,8.4624852427720984E-2,1.4342769586295245E-2,3.5040566677551434E-2,1.4820024616312075E-3,0.32114239782974557,0.1365200572706036,null,3.7212867837569555E-6,4.4164696710475513E-4,9.9135079919285291E-3,2.1315995858207811E-2,1.0706839818140716E-2,4.2312426213860492E-2,1.1952307988579372E-2,3.5040566677551434E-2,2.3327816525676414E-5,1.7841244323874753E-2,1.3272783345753127E-2,null,0.1628243682883104,null,4.0189897264575119E-3,0.47697872447313555,10.706588631282811,23.021275526864436,11.563387003591973,45.697420310969335,12.908492627665721,37.843812011755546,2.5194041847730528E-2,19.268543869784736,14.334606013413378,null,175.85031775137526,null,null,"3T",175.85031775137526]
["    2010T4",3835.4,18,113,515.79999999999995,597.29999999999995,240.9,316.89999999999998,55,null,10,1287.5999999999999,538.4,null,4.6931219690253953E-3,2.9462376805548314E-2,0.13448401731240547,0.15573343067215933,6.2809615685456538E-2,8.2625019554674869E-2,1.4340094905355373E-2,0,2.6072899827918861E-3,0.3357146581842832,0.14037649267351515,null,4.3454833046531443E-6,4.6375963490214936E-4,7.4713342951336368E-3,2.1629643148911019E-2,1.5702403921364134E-2,4.1312509777337435E-2,1.1950079087796144E-2,0,4.1040675655057463E-5,1.8650814343571288E-2,1.364771456548064E-2,null,0.13087364493345616,null,4.6931219690253953E-3,0.50086040569432133,8.069041038744329,23.360014600823899,16.958596235073266,44.617510559524426,12.906085414819836,0,4.4323929707462066E-2,20.142879491056991,14.73953173071909,null,141.34353652813266,null,null,"4T",141.34353652813266]
["    2011T1",3774.3,23.8,111.5,422.3,606.5,262.60000000000002,307.3,59.1,166.2,7.4,1284,523.70000000000005,null,6.3058050499430361E-3,2.9541901809607078E-2,0.11188829716768672,0.16069204885674163,6.9575815382984921E-2,8.1419071086029193E-2,1.5658532708051825E-2,4.4034655432795479E-2,1.9606284609066582E-3,0.34019553294650662,0.13875420607794822,null,5.8387083795768859E-6,4.6501141737344471E-4,6.2160165093159284E-3,2.2318340118991895E-2,1.739395384574623E-2,4.0709535543014597E-2,1.3048777256709854E-2,4.4034655432795479E-2,3.0861744292049245E-5,1.8899751830361477E-2,1.34899922575783E-2,null,0.17661273466455882,null,6.3058050499430361E-3,0.50221233076332028,6.7132978300612036,24.103807328511245,18.785470153405928,43.966298386455762,14.092679437246643,47.557427867419115,3.333068383541319E-2,20.411731976790396,14.569191638184563,null,190.74175343772356,null,2011,"1T",190.74175343772356]
["    2011T2",3944.9,21,119.8,465,684,257.3,334.3,66.599999999999994,151.19999999999999,11.4,1262.7,571.5,null,5.3233288549773125E-3,3.036832365839438E-2,0.11787371036021192,0.17338842556211817,6.5223453065983927E-2,8.4742325534234081E-2,1.6882557225785189E-2,3.8327967755836648E-2,2.8898070927019697E-3,0.32008415929427869,0.144870592410454,null,4.929008199053067E-6,4.7801990943768926E-4,6.5485394644562173E-3,2.4081725772516414E-2,1.6305863266495982E-2,4.237116276711704E-2,1.4068797688154324E-2,3.8327967755836648E-2,4.5487704236975444E-5,1.7782453294126591E-2,1.408464092879414E-2,null,0.17409958755937108,null,5.3233288549773125E-3,0.5162615021927045,7.0724226216127155,26.008263834317727,17.610332327815659,45.760855788486403,15.19430150320667,41.394205176303579,4.9126720575933487E-2,19.205049557656722,15.21141220309767,null,188.02755456412075,null,null,"2T",188.02755456412075]
["    2011T3",4001.2,13.6,137.19999999999999,694.9,693,161.30000000000001,341,66.3,140.9,4.4000000000000004,1202.9000000000001,545.79999999999995,null,3.3989803059082278E-3,3.4289713086074175E-2,0.17367289813056083,0.17319804058782365,4.0312906128161553E-2,8.5224432670198941E-2,1.657002899130261E-2,3.5214435669299216E-2,1.099670098970309E-3,0.3006348095571329,0.13640907727681695,null,3.1472039869520629E-6,5.3974548376227861E-4,9.6484943405867121E-3,2.4055283414975509E-2,1.0078226532040388E-2,4.261221633509947E-2,1.3808357492752176E-2,3.5214435669299216E-2,1.7309621928236344E-5,1.6701933864285159E-2,1.3261993624134981E-2,null,0.16594114358285111,null,3.3989803059082278E-3,0.582925122463261,10.42037388783365,25.979706088173547,10.88448465460362,46.021193641907431,14.913026092172348,38.031590522843153,1.8694391682495252E-2,18.038088573427974,14.322953114065779,null,179.21643506947916,null,null,"3T",179.21643506947916]
["    2011T4",3756.9,25.4,136.5,466.5,578.79999999999995,226.9,338.1,48.5,134.30000000000001,5.6,1220.5999999999999,575.70000000000005,null,6.760893289680321E-3,3.6333147009502513E-2,0.12417152439511299,0.1540631903963374,6.0395538875136413E-2,8.999441028507546E-2,1.2909579706673054E-2,3.5747557826931779E-2,1.4905906465436929E-3,0.32489552556629131,0.15323804200271501,null,6.2600863793336304E-6,5.7191064737179876E-4,6.8984180219507215E-3,2.1397665332824639E-2,1.5098884718784103E-2,4.499720514253773E-2,1.0757983088894212E-2,3.5747557826931779E-2,2.3463000917817385E-5,1.8049751420349515E-2,1.4898142972486181E-2,null,0.16844724225942781,null,6.760893289680321E-3,0.61766349916154273,7.4502914637067796,23.109478559450608,16.306795496286831,48.596981553940751,11.618621736005748,38.607362453086324,2.534004099124278E-2,19.493731533977478,16.089994410285076,null,181.92302164018204,null,null,"4T",181.92302164018204]
["    2012T1",3463.2,29.3,100.6,386.8,503,233.4,344.5,45.6,130.80000000000001,4.7,1140.4000000000001,544.20000000000005,null,8.4603834603834607E-3,2.9048279048279047E-2,0.1116886116886117,0.14524139524139526,6.7394317394317393E-2,9.9474474474474481E-2,1.3167013167013169E-2,3.7768537768537773E-2,1.3571263571263573E-3,0.32929082929082931,0.15713790713790715,null,7.8336883892439448E-6,4.5724142946365165E-4,6.2049228715895383E-3,2.0172416005749344E-2,1.6848579348579348E-2,4.973723723723724E-2,1.0972510972510974E-2,3.7768537768537773E-2,2.1362174139951919E-5,1.8293934960601627E-2,1.5277296527296529E-2,null,0.17576187298409524,null,8.4603834603834607E-3,0.49382074382074381,6.7013167013167019,21.786209286209289,18.196465696465697,53.716216216216218,11.850311850311853,40.790020790020797,2.3071148071148073E-2,19.757449757449759,16.49948024948025,null,189.82282282282284,null,2012,"1T",189.82282282282284]
["    2012T2",3448.5,32.9,115.7,385.1,530.20000000000005,248.9,317,36.6,122,10.8,1099.4000000000001,550,null,9.5403798753081054E-3,3.3550819196752214E-2,0.11167174133681311,0.15374800637958533,7.2176308539944903E-2,9.1924024938379006E-2,1.0613310134841236E-2,3.5377700449470785E-2,3.1317964332318402E-3,0.31880527765695232,0.15948963317384371,null,8.8336850697297279E-6,5.2811474661554401E-4,6.2039856298229503E-3,2.1353889774942406E-2,1.8044077134986226E-2,4.5962012469189503E-2,8.844425112367698E-3,3.5377700449470785E-2,4.9296795708278961E-5,1.7711404314275127E-2,1.5505936558568139E-2,null,0.16958967667101638,null,9.5403798753081054E-3,0.57036392634478761,6.7003044802087866,23.062200956937801,19.487603305785125,49.638973466724664,9.5519791213571121,38.207916485428449,5.3240539364941282E-2,19.128316659417138,16.746411483253588,null,183.15685080469771,null,null,"2T",183.15685080469771]
["    2012T3",3474.1,24.3,125.6,643.1,516.9,156.69999999999999,307.39999999999998,47.8,124.5,6.1,995.4,526.4,null,6.9946173109582338E-3,3.6153248323306755E-2,0.18511269105667655,0.14878673613309923,4.5105207103998159E-2,8.848334820529058E-2,1.3758959154889035E-2,3.5836619556144041E-2,1.7558504360841657E-3,0.28652024984888175,0.15152125730404997,null,6.4764975101465132E-6,5.6907890879279144E-4,1.0284038392037585E-2,2.0664824462930449E-2,1.127630177599954E-2,4.424167410264529E-2,1.1465799295740863E-2,3.5836619556144041E-2,2.7638386493917422E-5,1.5917791658271209E-2,1.4731233349004858E-2,null,0.16502147638557069,null,6.9946173109582338E-3,0.61460522149621488,11.106761463400593,22.318010419964885,12.178405918079504,47.78100803085691,12.383063239400132,38.703549120635564,2.9849457413430817E-2,17.191214990932906,15.909732016925247,null,178.22319449641634,null,null,"3T",178.22319449641634]
["    2012T4",3260,30.3,122.5,438,478.3,221.1,286.10000000000002,39.799999999999997,116.9,7.8,1018.7,500.6,null,9.2944785276073624E-3,3.7576687116564415E-2,0.1343558282208589,0.14671779141104294,6.7822085889570546E-2,8.7760736196319022E-2,1.2208588957055214E-2,3.5858895705521476E-2,2.3926380368098159E-3,0.31248466257668711,0.15355828220858897,null,8.6059986366734835E-6,5.914848897977732E-4,7.4642126789366053E-3,2.037747102931152E-2,1.6955521472392637E-2,4.3880368098159511E-2,1.0173824130879345E-2,3.5858895705521476E-2,3.7661895023858207E-5,1.7360259032038174E-2,1.4929277436946151E-2,null,0.1676375823676437,null,9.2944785276073624E-3,0.63880368098159501,8.0613496932515343,22.007668711656439,18.311963190184048,47.390797546012273,10.987730061349692,38.727607361963194,4.0674846625766869E-2,18.749079754601226,16.123619631901843,null,181.04858895705522,null,null,"4T",181.04858895705522]
["    2013T1",3069.4,31.1,112.8,345.3,439.2,227.8,284.2,30.6,120.6,7,980,490.8,null,1.0132273408483742E-2,3.6749853391542318E-2,0.11249755652570535,0.1430898546947286,7.4216459242848767E-2,9.2591385938619916E-2,9.9693751221737147E-3,3.9291066657978754E-2,2.280576008340392E-3,0.31928064116765492,0.15990095784192351,null,9.3817346374849463E-6,5.7846991449649944E-4,6.2498642514280745E-3,1.9873590929823416E-2,1.8554114810712192E-2,4.6295692969309958E-2,8.30781260181143E-3,3.9291066657978754E-2,3.5897955686839499E-5,1.7737813398203049E-2,1.5545926456853675E-2,null,0.17247963168094138,null,1.0132273408483742E-2,0.62474750765621945,6.7498533915423211,21.463478204209288,20.038443995569168,49.999348406854757,8.9724376099563425,42.434351990617053,3.8769792141786663E-2,19.156838470059295,16.78960057340197,null,186.27800221541668,null,2013,"1T",186.27800221541668]
["    2013T2",3221,40.5,124.8,387.7,499.8,244.3,291.10000000000002,34.6,133,5.4,954.9,505,null,1.2573734864948774E-2,3.87457311393977E-2,0.12036634585532444,0.1551692021111456,7.5846010555728038E-2,9.0375659733002184E-2,1.0742005588326607E-2,4.1291524371313254E-2,1.67649798199317E-3,0.29646072648245886,0.15678360757528717,null,1.1642347097174792E-5,6.0988650867570444E-4,6.6870192141846906E-3,2.1551278070992445E-2,1.896150263893201E-2,4.5187829866501092E-2,8.9516713236055066E-3,4.1291524371313254E-2,2.6389320086929527E-5,1.6470040360136603E-2,1.5242850736486253E-2,null,0.17499163475801169,null,1.2573734864948774E-2,0.65867742936976093,7.2219807513194665,23.275380316671839,20.47842285004657,48.802856255821176,9.6678050294939464,44.594846321018316,2.850046569388389E-2,17.787643588947532,16.462278795405155,null,188.9909655386526,null,null,"2T",188.9909655386526]
["    2013T3",3397.3,30.2,140.6,691.1,538.79999999999995,156.80000000000001,284.60000000000002,32.700000000000003,206.7,20.5,1135.4000000000001,159.9,null,8.8894121802607952E-3,4.138580637565125E-2,0.20342625025755748,0.15859653254054687,4.6154299002148763E-2,8.3772407500073587E-2,9.6252906720042386E-3,6.0842433697347889E-2,6.0342036322962346E-3,0.33420657581020224,4.7066788331910636E-2,null,8.2309372039451818E-6,6.5144324850562149E-4,1.1301458347642082E-2,2.2027296186187068E-2,1.1538574750537191E-2,4.1886203750036793E-2,8.0210755600035322E-3,6.0842433697347889E-2,9.4982834952811094E-5,1.8567031989455678E-2,4.5759377544913118E-3,null,0.1795146690563639,null,8.8894121802607952E-3,0.70355870838607126,12.205575015453448,23.78947988108203,12.461660730580165,45.237100050039736,8.6627616048038156,65.709828393135723,0.10258146174903598,20.052394548612135,4.9420127748506166,null,193.87584258087304,null,null,"3T",193.87584258087304]
["    2013T4",3334.3,34.799999999999997,133.6,464.4,508.6,223.9,294.5,28.6,194.3,19.5,1276.3,155.80000000000001,null,1.0436973277749451E-2,4.006838016975077E-2,0.13927960891341509,0.1525357646282578,6.7150526347359268E-2,8.8324385928080854E-2,8.577512521368803E-3,5.827310080076778E-2,5.8483039918423652E-3,0.38277899409171334,4.6726449329694386E-2,null,9.6638641460643068E-6,6.3070598415348425E-4,7.7377560507452823E-3,2.1185522865035805E-2,1.6787631586839817E-2,4.4162192964040427E-2,7.1479271011406697E-3,5.827310080076778E-2,9.2056636908629814E-5,2.1265499671761851E-2,4.5428492403869541E-3,null,0.18183490676592673,null,1.0436973277749451E-2,0.6811624628857631,8.3567765348049061,22.880364694238668,18.130642113787001,47.695168401163663,7.7197612692319231,62.934948864829202,9.9421167861320214E-2,22.966739645502802,4.906277179617911,null,196.38169930720093,null,null,"4T",196.38169930720093]
["    2014T1",3221.9,29.4,113.5,371.2,500.3,229.2,305.10000000000002,30.2,158.30000000000001,22.7,1305.2,156.9,null,9.1250504360780894E-3,3.5227660697104195E-2,0.11521152115211521,0.15528104534591389,7.1138148297588369E-2,9.4695676464198145E-2,9.3733511282162695E-3,4.9132499456842241E-2,7.0455321394208379E-3,0.40510257922343956,4.8697973245600421E-2,null,8.4491207741463786E-6,5.5450947393589933E-4,6.4006400640064E-3,2.1566811853599151E-2,1.7784537074397092E-2,4.7347838232099072E-2,7.8111259401802248E-3,4.9132499456842241E-2,1.1090189478717984E-4,2.250569884574664E-2,4.7345251766555962E-3,null,0.17795753713302365,null,9.1250504360780894E-3,0.59887023185077126,6.9126912691269125,23.292156801887081,19.207300040348859,51.135665290666999,8.4360160153946424,53.063099413389622,0.11977404637015425,24.306154753406375,5.1132871907880437,null,192.19414010366555,null,2014,"1T",192.19414010366555]
["    2014T2",3429.7,43.2,134.69999999999999,432.7,566.4,245.2,315.89999999999998,38.700000000000003,156.9,27.4,1325.6,143,null,1.2595853864769515E-2,3.9274572120010495E-2,0.12616263813161502,0.16514563956031139,7.1493133510219548E-2,9.2107181386127071E-2,1.1283785753856024E-2,4.5747441467183722E-2,7.9890369420065888E-3,0.38650610840598304,4.1694608857917606E-2,null,1.1662827652564366E-5,6.1821085744460957E-4,7.0090354517563895E-3,2.2936894383376583E-2,1.7873283377554887E-2,4.6053590693063536E-2,9.4031547948800198E-3,4.5747441467183722E-2,1.2575335927232593E-4,2.1472561578110168E-2,4.0536425278531003E-3,null,0.1753052313181479,null,1.2595853864769515E-2,0.66766772604017843,7.5697582878969012,24.771845934046709,19.303146047759277,49.737877948508618,10.155407178470421,49.407236784558421,0.13581362801411201,23.190366504358984,4.3779339300813485,null,189.32964982359977,null,null,"2T",189.32964982359977]
["    2014T3",3552.1,37.700000000000003,133.1,688.4,581.1,153.9,305.7,30,141.1,31.1,1327.6,122.3,null,1.0613439936938713E-2,3.747079192590299E-2,0.19380085020128937,0.16359336730384844,4.3326482925593317E-2,8.6061766279102503E-2,8.4457081726302761E-3,3.9722980771937727E-2,8.7553841389600533E-3,0.37375073899946509,3.4430336983756089E-2,null,9.8272592008691788E-6,5.8981802105588033E-4,1.0766713900071631E-2,2.2721301014423396E-2,1.0831620731398329E-2,4.3030883139551251E-2,7.0380901438585634E-3,3.9722980771937727E-2,1.3781623181696379E-4,2.0763929944414727E-2,3.3473938734207309E-3,null,0.15896037503115007,null,1.0613439936938713E-2,0.6370034627403508,11.628051012077362,24.539005095577267,11.698150389910195,46.47335379071535,7.6011373553672481,42.900819233692744,0.1488415303623209,22.425044339967904,3.6151853832943894,null,171.67720503364208,null,null,"3T",171.67720503364208]
["    2014T4",3511.1,38.9,145.9,472.1,556.70000000000005,231.1,322.5,33.6,164.6,28.6,1376.9,140.19999999999999,null,1.1079148984648686E-2,4.155392896812965E-2,0.13445928626356413,0.15855429922246592,6.5819828543761214E-2,9.1851556492267381E-2,9.569650536868788E-3,4.6879895189541741E-2,8.1455953974537906E-3,0.39215630429210224,3.9930506109196545E-2,null,1.0258471282082116E-5,6.5408962264648521E-4,7.4699603479757848E-3,2.2021430447564713E-2,1.6454957135940303E-2,4.592577824613369E-2,7.9747087807239912E-3,4.6879895189541741E-2,1.2821770533029113E-4,2.1786461349561234E-2,3.8821325383941088E-3,null,0.17318788983509439,null,1.1079148984648686E-2,0.7064167924582041,8.0675571758138478,23.783144883369886,17.771353706815528,49.599840505824389,8.6126854831819095,50.630286804705079,0.13847512175671445,23.529378257526133,4.1927031414656373,null,187.04292102190198,null,null,"4T",187.04292102190198]
["    2015T1",3396.6,28.7,123.5,356.4,560.1,243.1,337.5,28.9,159.5,24.9,1343,191,null,8.4496260966849205E-3,3.6359889301065776E-2,0.10492845786963434,0.16490019431195904,7.1571571571571568E-2,9.9364069952305248E-2,8.5085085085085076E-3,4.6958723429311663E-2,7.3308602720367428E-3,0.39539539539539542,5.6232703291526825E-2,null,7.8237278673008531E-6,5.7233159085010943E-4,5.8293587705352404E-3,2.2902804765549869E-2,1.7892892892892892E-2,4.9682034976152624E-2,7.0904237570904236E-3,4.6958723429311663E-2,1.153931709487265E-4,2.1966410855299743E-2,5.4670683755651079E-3,null,0.17848526631206366,null,8.4496260966849205E-3,0.61811811811811823,6.2957074721780604,24.735029146793856,19.324324324324323,53.656597774244837,7.6576576576576567,50.715421303656598,0.12462462462462463,23.723723723723726,5.9044338456103169,null,192.76408761702882,null,2015,"1T",192.76408761702882]
["    2015T2",3704.2,26.2,136.19999999999999,441,615.70000000000005,252.6,335.5,35.299999999999997,153.69999999999999,37.4,1447.4,223.2,null,7.0730522110037256E-3,3.6769072944225475E-2,0.11905404675773447,0.16621672695858758,6.8192862156471037E-2,9.0572863236326337E-2,9.5297230171157068E-3,4.1493439879056203E-2,1.0096647049295394E-2,0.39074564008422874,6.02559257059554E-2,null,6.5491224175960427E-6,5.7877244449243794E-4,6.6141137087630253E-3,2.3085656522026054E-2,1.7048215539117759E-2,4.5286431618163168E-2,7.941435847596422E-3,4.1493439879056203E-2,1.5892870355372379E-4,2.1708091115790484E-2,5.8582149991901087E-3,null,0.16977984950016697,null,7.0730522110037256E-3,0.6250742400518331,7.1432428054640678,24.932509043788137,18.412072782247179,48.909346147616219,8.5767507154041365,44.812915069380701,0.1716429998380217,23.444738405053723,6.326872199125317,null,183.36223746018032,null,null,"2T",183.36223746018032]
["    2015T3",3909.7,26.6,147.9,707.2,642.6,189.3,356.4,35.6,154.80000000000001,27.3,1390.8,231.3,null,6.803591068368418E-3,3.782898943652966E-2,0.18088344374248666,0.16436043686216334,4.8418037189554189E-2,9.1157889352124197E-2,9.1055579711998378E-3,3.9593830728700416E-2,6.982632938588639E-3,0.35573061871754869,5.9160549402767479E-2,null,6.299621359600387E-6,5.9545631520463351E-4,1.0049080207915924E-2,2.2827838453078241E-2,1.2104509297388547E-2,4.5578944676062098E-2,7.5879649759998651E-3,3.9593830728700416E-2,1.0991181477408042E-4,1.9762812150974925E-2,5.7517200808246162E-3,null,0.16396836832228295,null,6.803591068368418E-3,0.64309282042100424,10.853006624549199,24.654065529324502,13.07287004117963,49.225260250147066,8.1950021740798533,42.76133718699645,0.11870475995600686,21.343837123052921,6.2118576872905855,null,177.08583778806562,null,null,"3T",177.08583778806562]
["    2015T4",3846.2,33.5,145.6,491.6,585.29999999999995,252.5,368.1,34.1,183.6,24,1477,250.9,null,8.7098954812542262E-3,3.78555457334512E-2,0.1278144662264053,0.15217617388591337,6.5649212209453495E-2,9.5704851541781516E-2,8.8658936092766896E-3,4.7735427174873904E-2,6.2399251208985493E-3,0.38401539181529826,6.5233217201393592E-2,null,8.0647180381983587E-6,5.958743309895096E-4,7.1008036792447387E-3,2.1135579706376858E-2,1.6412303052363374E-2,4.7852425770890758E-2,7.3882446743972416E-3,4.7735427174873904E-2,9.8221043569699383E-5,2.1334188434183235E-2,6.342118339024377E-3,null,0.17600325092395191,null,8.7098954812542262E-3,0.64354427746867038,7.6688679735843177,22.826426082887004,17.725287296552445,51.680619832562016,7.9793042483490204,51.554261348863818,0.10607872705527534,23.040923508917896,6.8494878061463274,null,190.08351099786802,null,null,"4T",190.08351099786802]
["    2016T1",3740.2,35.799999999999997,116.9,412,544.1,285.89999999999998,369.2,37.799999999999997,190.4,27.3,1494.1,226.7,null,9.571680658788299E-3,3.12550131009037E-2,0.11015453719052458,0.14547350409069035,7.6439762579541201E-2,9.8711298861023478E-2,1.0106411421849098E-2,5.0906368643388059E-2,7.299074915779905E-3,0.39947061654456978,6.061173199294155E-2,null,8.8626672766558332E-6,4.9197705806978043E-4,6.1196965105846986E-3,2.0204653345929215E-2,1.91099406448853E-2,4.9355649430511739E-2,8.4220095182075821E-3,5.0906368643388059E-2,1.1489284589653553E-4,2.2192812030253875E-2,5.8928072770915397E-3,null,0.18281966997209501,null,9.571680658788299E-3,0.53133522271536293,6.6092722314314747,21.821025613603553,20.638735896476124,53.304101384952681,9.0957702796641886,54.978878134859102,0.12408427356825838,23.968236992674186,6.3642318592588625,null,197.44524356986258,null,2016,"1T",197.44524356986258]
["    2016T2",3906.4,43.5,127.5,434.3,597.70000000000005,268.10000000000002,357.2,45.7,188.1,22.6,1605,216.6,null,1.113557239402007E-2,3.2638746672127787E-2,0.11117653082121647,0.15300532459553554,6.8630964570960476E-2,9.1439688715953302E-2,1.1698750767970511E-2,4.8151750972762641E-2,5.7853778414908869E-3,0.41086422281384394,5.544747081712062E-2,null,1.0310715179648213E-5,5.1375804946867808E-4,6.1764739345120251E-3,2.1250739527157714E-2,1.7157741142740119E-2,4.5719844357976651E-2,9.7489589733087603E-3,4.8151750972762641E-2,9.1066132690134324E-5,2.2825790156324664E-2,5.3907263294422827E-3,null,0.17703716029156333,null,1.113557239402007E-2,0.55485869342617233,6.6705918492729879,22.95079868933033,18.530360434159327,49.377431906614781,10.528875691173459,52.003891050583654,9.8351423305345076E-2,24.651853368830636,5.8219844357976651,null,191.20013311488839,null,null,"2T",191.20013311488839]
["    2016T3",4152.3,34.299999999999997,126.3,723.6,645.20000000000005,173.9,355,42.4,190.5,24.4,1588.6,248.1,null,8.260482142427087E-3,3.0416877393251929E-2,0.17426486525540061,0.15538376321556727,4.1880403631722178E-2,8.5494786022204561E-2,1.0211208246032319E-2,4.5878187992197096E-2,5.8762613491318057E-3,0.38258314668978632,5.9750018062278733E-2,null,7.6485945763213767E-6,4.7878418119007662E-4,9.6813814030778118E-3,2.1581078224384345E-2,1.0470100907930545E-2,4.274739301110228E-2,8.5093402050269336E-3,4.5878187992197096E-2,9.2496706421519158E-5,2.1254619260543683E-2,5.8090295338326546E-3,null,0.16651006002028329,null,8.260482142427087E-3,0.51708691568528276,10.455891915324036,23.307564482335088,11.307708980564987,46.167184451990465,9.1900874214290873,49.548443031572866,9.9896442935240692E-2,22.954988801387181,6.2737518965392667,null,179.83086482190592,null,null,"3T",179.83086482190592]
["    2016T4",4072.9,33.1,147,500,565.70000000000005,235.4,375,50.2,191.8,25.2,1667.9,281.60000000000002,null,8.1268874757543762E-3,3.6092219303199197E-2,0.12276265069115372,0.13889366299197134,5.7796655945395174E-2,9.2071988018365289E-2,1.2325370129391834E-2,4.709175280512657E-2,6.1872375948341472E-3,0.40951165017555058,6.9139924869257782E-2,null,7.5248958108836819E-6,5.6811826680961688E-4,6.8201472606196504E-3,1.9290786526662686E-2,1.4449163986348794E-2,4.6035994009182644E-2,1.0271141774493196E-2,4.709175280512657E-2,9.7391702881648599E-5,2.2750647231975032E-2,6.7219371400667289E-3,null,0.17410460559997742,null,8.1268874757543762E-3,0.61356772815438632,7.3657590414692233,20.8340494487957,15.605097105256696,49.718873529917254,11.092833116452651,50.859093029536695,0.10518303911218051,24.570699010533033,7.2596921112720674,null,188.03297404797567,null,null,"4T",188.03297404797567]
["    2017T1",3950.3,32.700000000000003,127.4,412.8,558.4,280.10000000000002,372.6,47.2,186.3,26.6,1602.7,303.5,null,8.27785231501405E-3,3.2250715135559327E-2,0.10449839252714983,0.14135635268207478,7.0906007138698324E-2,9.4321950231627982E-2,1.1948459610662482E-2,4.7160975115813991E-2,6.7336657975343647E-3,0.4057160215679822,7.6829607877882691E-2,null,7.6646780694574533E-6,5.0765014565232267E-4,5.8054662515083242E-3,1.9632826761399276E-2,1.7726501784674581E-2,4.7160975115813991E-2,9.9570496755520682E-3,4.7160975115813991E-2,1.0599288755378166E-4,2.2539778975999011E-2,7.4695452103497066E-3,null,0.17807442660238651,null,8.27785231501405E-3,0.54826215730450856,6.2699035516289898,21.203452902311216,19.144621927448547,50.933853125079111,10.753613649596234,50.933853125079111,0.11447231855808421,24.342961294078933,8.0671088271776821,null,192.32038073057745,null,2017,"1T",192.32038073057745]
["    2017T2",4206.1000000000004,32.700000000000003,138,498,669.1,309.60000000000002,350.4,49,186.6,25.6,1631.7,315.60000000000002,null,7.7744228620337131E-3,3.2809490977389978E-2,0.11839946744014644,0.15907848125341764,7.3607379757970562E-2,8.3307577090416293E-2,1.1649746796319631E-2,4.4364137799862098E-2,6.0863983262404598E-3,0.38793656831744366,7.5033879365683176E-2,null,7.1985396870682533E-6,5.164456913107681E-4,6.5777481911192467E-3,2.2094233507419118E-2,1.840184493949264E-2,4.1653788545208147E-2,9.708122330266359E-3,4.4364137799862098E-2,9.5804418098229452E-5,2.1552031573191313E-2,7.2949604938858641E-3,null,0.17226631602954082,null,7.7744228620337131E-3,0.55776134661562959,7.1039680464087862,23.861772188012647,19.87399253465205,44.986091628824795,10.484772116687667,47.913268823851062,0.10346877154608781,23.27619409904662,7.8785573333967331,null,186.04762131190412,null,null,"2T",186.04762131190412]
["    2017T3",4355.1000000000004,20.9,132.9,778.9,725.1,205.5,366.8,51.3,200.2,28.3,1542.9,302.2,null,4.7989713209799995E-3,3.0515946820968518E-2,0.17884778765125942,0.1664944547771578,4.7186057725425362E-2,8.4223094762462397E-2,1.1779293242405455E-2,4.5969093706229473E-2,6.4981286308006701E-3,0.35427429909760971,6.93899106794333E-2,null,4.44349196387037E-6,4.8034360736709698E-4,9.9359882028477453E-3,2.3124229830160808E-2,1.1796514431356341E-2,4.2111547381231199E-2,9.8160777020045459E-3,4.5969093706229473E-2,1.0228535807741795E-4,1.9681905505422762E-2,6.7462413160560156E-3,null,0.16976867053271727,null,4.7989713209799995E-3,0.51877109595646476,10.730867259075564,24.97416821657367,12.740235585864848,45.480471171729697,10.601363918164909,49.646621202727829,0.11046818672361139,21.256457945856582,7.2859406213404965,null,183.35016417533467,null,null,"3T",183.35016417533467]
["    2017T4",4252.2,28.9,139.9,507.9,613.29999999999995,284.89999999999998,390.4,47.8,189,28.4,1711.6,310.2,null,6.7964818211749215E-3,3.2900616151639153E-2,0.11944405249047552,0.14423122148534875,6.7000611448191527E-2,9.1811297681200318E-2,1.1241239828794505E-2,4.4447580076195856E-2,6.6788956304971543E-3,0.40252104792813131,7.2950472696486524E-2,null,6.2930387233101128E-6,5.1788006905357923E-4,6.6357806939153063E-3,2.0032114095187327E-2,1.6750152862047882E-2,4.5905648840600159E-2,9.367699857328755E-3,4.4447580076195856E-2,1.0513076455412187E-4,2.2362280440451739E-2,7.0924070677139675E-3,null,0.17322296780577201,null,6.7964818211749215E-3,0.55931047457786565,7.1666431494285305,21.634683222802312,18.090165091011713,49.578100747848175,10.117115845915055,48.003386482291525,0.11354122571845163,24.15126287568788,7.6597996331310849,null,187.08080523023378,null,null,"4T",187.08080523023378]
["    2018T1",4123.3,27.2,113.5,405.1,586.9,296.60000000000002,402.4,49.8,209.4,24.8,1698.9,308.60000000000002,null,6.5966580166371587E-3,2.7526495767952852E-2,9.8246550093371812E-2,0.14233744816045399,7.1932675284359621E-2,9.7591734775543851E-2,1.2077704751048916E-2,5.0784565760434601E-2,6.0145999563456457E-3,0.41202434942885552,7.4842965585817184E-2,null,6.1080166820714438E-6,4.33287433384443E-4,5.4581416718539897E-3,1.9769090022285277E-2,1.7983168821089905E-2,4.8795867387771925E-2,1.006475395920743E-2,5.0784565760434601E-2,9.4674258572107378E-5,2.2890241634936418E-2,7.2763994319544481E-3,null,0.18355629839817261,null,6.5966580166371587E-3,0.46795042805519849,5.8947930056023088,21.350617224068099,19.421822326777097,52.699536778793679,10.869934275944024,54.847331021269369,0.10224819925787598,24.721460965731332,7.8585113865108047,null,198.24080227002639,null,2018,"1T",198.24080227002639]
["    2018T2",4357,29,130.80000000000001,442.6,637,290.10000000000002,439.3,50,212,72.2,1710.3,343.7,null,{"$f":"C75/$B75","v":6.655955932981409E-3},{"$f":"D75/$B75","v":3.0020656414964427E-2},{"$f":"E75/$B75","v":0.10158365848060592},{"$f":"F75/$B75","v":0.14620151480376406},{"$f":"G75/$B75","v":6.6582510901996794E-2},{"$f":"H75/$B75","v":0.10082625659857701},{"$f":"I75/$B75","v":1.1475786091347258E-2},{"$f":"J75/$B75","v":4.8657333027312372E-2},{"$f":"K75/$B75","v":1.6571035115905439E-2},{"$f":"L75/$B75","v":0.39254073904062425},{"$f":"M75/$B75","v":7.888455359192105E-2},null,{"$f":"O75*C$9","v":6.1629221601679715E-6},{"$f":"P75*D$9","v":4.7254736949481037E-4},{"$f":"Q75*E$9","v":5.6435365822558843E-3},{"$f":"R75*F$9","v":2.0305765944967233E-2},{"$f":"S75*G$9","v":1.6645627725499199E-2},{"$f":"T75*H$9","v":5.0413128299288505E-2},{"$f":"U75*I$9","v":9.563155076122716E-3},{"$f":"V75*J$9","v":4.8657333027312372E-2},{"$f":"W75*K$9","v":2.6084036756517819E-4},{"$f":"X75*L$9","v":2.1807818835590236E-2},{"$f":"Y75*M$9","v":7.6693315992145466E-3},null,{"$f":"SUM(AA75:AK75)*1","v":0.18144524774947085},null,{"$f":"O75*C$6","v":6.655955932981409E-3},{"$f":"P75*D$6","v":0.51035115905439521},{"$f":"Q75*E$6","v":6.095019508836355},{"$f":"R75*F$6","v":21.93022722056461},{"$f":"S75*G$6","v":17.977277943539136},{"$f":"T75*H$6","v":54.446178563231584},{"$f":"U75*I$6","v":10.328207482212532},{"$f":"V75*J$6","v":52.549919669497363},{"$f":"W75*K$6","v":0.28170759697039249},{"$f":"X75*L$6","v":23.552444342437454},{"$f":"Y75*M$6","v":8.2828781271517098},null,{"$f":"SUM(AO75:AY75)*1","v":195.9608675694285},null,null,"2T",195.9608675694285]
["    2018T3",4507.8999999999996,22.2,130.1,669.2,677.9,209.6,432.5,53.2,183.7,72.2,1775.7,281.7,null,4.9246877703587036E-3,2.8860444996561593E-2,0.14845049801459662,0.15038044322189933,4.6496151201224523E-2,9.5942678409015297E-2,1.1801504026265003E-2,4.0750682135806029E-2,1.6016326892788219E-2,0.39390847179396177,6.2490294815767879E-2,null,4.5598960836654668E-6,4.5428478235328426E-4,8.247249889699812E-3,2.0886172669708242E-2,1.1624037800306131E-2,4.7971339204507649E-2,9.8345866885541696E-3,4.0750682135806029E-2,2.5210884923833305E-4,2.188380398855343E-2,6.0754453293107658E-3,null,0.16798427123412149,null,4.9246877703587036E-3,0.49062756494154708,8.9070298808757968,22.557066483284899,12.553960824330622,51.809046340868264,10.621353623638504,44.010736706670514,0.27227755717739971,23.634508307637706,6.5614809556556271,null,181.42301293285124,null,null,"3T",181.42301293285124]
["    2018T4",4419.5,34.299999999999997,116,456.9,602.9,284.89999999999998,420.9,58.8,171.6,76.8,1910.8,285.60000000000002,null,7.7610589433193796E-3,2.6247313044462043E-2,0.10338273560357505,0.13641814684919107,6.4464305916958925E-2,9.523701776219029E-2,1.3304672474261793E-2,3.8827921710600746E-2,1.7377531394954179E-2,0.43235660142550059,6.462269487498587E-2,null,7.1861656882586847E-6,4.1315214977393953E-4,5.743485311309725E-3,1.8946964840165427E-2,1.6116076479239731E-2,4.7618508881095145E-2,1.1087227061884829E-2,3.8827921710600746E-2,2.7353521640205647E-4,2.4019811190305586E-2,6.2827620017347372E-3,null,0.16933663100820018,null,7.7610589433193796E-3,0.44620432175585473,6.2029641362145034,20.462722027378661,17.405362597578911,51.427989591582758,11.974205226835613,41.934155447448809,0.29541803371422104,25.941396085530034,6.7853829618735162,null,182.8835614888562,null,null,"4T",182.8835614888562]
[]
[]
["Notas:"]
["'Ruptura de serie en la variable situación profesional en T1-2009. Para más información consultar <a href=\"http://www.ine.es/daco/daco42/daco4211/enlaces_epa.pdf\">documento adjunto</a> 'Cambio preguntas situación profesional EPA-2009'"]
["Con el fin de unificar los códigos antiguos de la variable \"Duración del contrato o relación laboral\" con los de 2005 en adelante, a fecha 21 de Diciembre de 2016 se han corregido los datos del T2 de 2002 al T4 de 2004 para las categorías: \"No sabe pero menos de 1 mes\", \"No sabe pero más de 1 mes\" y \"No sabe la duración\" "]
[]
["Fuente: "]
["Instituto Nacional de Estadística"]
[]
[]
[null,null,"< 6M",">6M","de 1A a 2A","de 2A a 3A ",">3A"]
[2005,"1T",{"$f":"(C22+D22+E22+F22+K22+L22+M22)/B22*1","v":0.76295563660340804},{"$f":"G22/B22*1","v":7.3458201973995996E-2},{"$f":"H22/B22*1","v":0.10681832230945168},{"$f":"I22/B22*1","v":2.0007830046774224E-2},{"$f":"J22/B22*1","v":3.6760009066369947E-2}]
[null,"2T",{"$f":"(C23+D23+E23+F23+K23+L23+M23)/B23*1","v":0.77896487137341841},{"$f":"G23/B23*1","v":7.1327548641106991E-2},{"$f":"H23/B23*1","v":0.10410534765490617},{"$f":"I23/B23*1","v":1.7220289744275832E-2},{"$f":"J23/B23*1","v":2.8401055005542603E-2}]
[null,"3T",0.80372948510568687,4.6164191854019369E-2,0.10699551080496537,1.3885607313571182E-2,2.9243379800439832E-2]
[null,"4T",0.78917120946133223,6.4325972466044545E-2,0.10577473898179802,1.2861498660260555E-2,2.7866580430564541E-2]
[2006,"1T",0.79198023138267981,6.5333782620090611E-2,0.10078999588153804,1.2842113145381705E-2,2.9072597251862668E-2]
[null,"2T",0.79688254115796431,6.3993707881236261E-2,9.5293423663371651E-2,1.3191998998981104E-2,3.0620452961049642E-2]
[null,"3T",0.81663459856568132,4.8312051775406678E-2,9.2233688997726077E-2,1.457057897498688E-2,2.8214098303305932E-2]
[null,"4T",0.80652639087018541,5.6116262482168326E-2,9.2189728958630535E-2,1.6422967189728958E-2,2.8708987161198289E-2]
[2007,"1T",0.79065698374473214,6.45507224563516E-2,9.4916465984346776E-2,1.7139524382901866E-2,3.2755117399157131E-2]
[null,"2T",0.80556895336326195,6.1162022780395495E-2,8.9878677698215406E-2,1.6565873928690682E-2,2.6787370608095572E-2]
[null,"3T",0.82801073095439348,4.0865826320238142E-2,8.7721877182021971E-2,1.365256697659035E-2,2.9767373488662673E-2]
[null,"4T",0.81088314005352369,5.6085941503596713E-2,9.0382826883291897E-2,1.3191109761421224E-2,2.945698179816653E-2]
[2008,"1T",0.80240623897793628,6.2977622761296384E-2,9.3231963005055457E-2,1.4480542383509036E-2,2.6884038092252222E-2]
[null,"2T",0.80746711581649022,6.1838306063522613E-2,8.8025344882900231E-2,1.4396855951235162E-2,2.8252325954443377E-2]
[null,"3T",0.81387574262410622,4.8011277816936863E-2,9.6566307521901124E-2,1.4479911388581212E-2,2.7066760648474474E-2]
[null,"4T",0.78686156943411079,6.4072825944242642E-2,0.10322114753380891,1.6237034443520502E-2,2.9629305440063022E-2]
[2009,"1T",0.78332795952280554,6.5204990203130031E-2,0.10211066742726754,1.8006398968228376E-2,3.1349983878568417E-2]
[null,"2T",0.78361428858117599,6.7780453542042943E-2,9.6854304635761598E-2,1.8738711619506323E-2,3.3012241621513144E-2]
[null,"3T",0.80559237983011733,4.5097461580006867E-2,9.6749644032012569E-2,1.6693671134678647E-2,3.5866843423184559E-2]
[null,"4T",0.78913281827685577,6.3081669598918894E-2,9.3959560417144747E-2,1.6650093067135826E-2,3.7150360794512859E-2]
[2010,"1T",0.78525564170196893,6.5542322755974741E-2,9.4103855274025511E-2,1.4946846774838141E-2,4.0098047051927634E-2]
[null,"2T",0.80213460442464124,6.4841199937827068E-2,8.3182218537899602E-2,1.4066628672089529E-2,3.5801253821045542E-2]
[null,"3T",0.82313933335007916,4.2827359272562864E-2,8.4624852427720984E-2,1.4342769586295245E-2,3.5040566677551434E-2]
[null,"4T",0.80307138759972885,6.2809615685456538E-2,8.2625019554674869E-2,1.4340094905355373E-2,0]
[2011,"1T",0.78933842036933988,6.9575815382984921E-2,8.1419071086029193E-2,1.5658532708051825E-2,4.4034655432795479E-2]
[null,"2T",0.79479834723313647,6.5223453065983927E-2,8.4742325534234081E-2,1.6882557225785189E-2,3.8327967755836648E-2]
[null,"3T",0.8227031890432871,4.0312906128161553E-2,8.5224432670198941E-2,1.657002899130261E-2,3.5214435669299216E-2]
[null,"4T",0.80095291330618312,6.0395538875136413E-2,8.999441028507546E-2,1.2909579706673054E-2,3.5747557826931779E-2]
[2012,"1T",0.78222453222453225,6.7394317394317393E-2,9.9474474474474481E-2,1.3167013167013169E-2,3.7768537768537773E-2]
[null,"2T",0.78993765405248673,7.2176308539944903E-2,9.1924024938379006E-2,1.0613310134841236E-2,3.5377700449470785E-2]
[null,"3T",0.81684465041305665,4.5105207103998159E-2,8.848334820529058E-2,1.3758959154889035E-2,3.5836619556144041E-2]
[null,"4T",0.79638036809815949,6.7822085889570546E-2,8.7760736196319022E-2,1.2208588957055214E-2,3.5858895705521476E-2]
[2013,"1T",0.78393171303837894,7.4216459242848767E-2,9.2591385938619916E-2,9.9693751221737147E-3,3.9291066657978754E-2]
[null,"2T",0.78177584601055572,7.5846010555728038E-2,9.0375659733002184E-2,1.0742005588326607E-2,4.1291524371313254E-2]
[null,"3T",0.79960556912842551,4.6154299002148763E-2,8.3772407500073587E-2,9.6252906720042386E-3,6.0842433697347889E-2]
[null,"4T",0.77767447440242321,6.7150526347359268E-2,8.8324385928080854E-2,8.577512521368803E-3,5.827310080076778E-2]
[2014,"1T",0.77569136223967228,7.1138148297588369E-2,9.4695676464198145E-2,9.3733511282162695E-3,4.9132499456842241E-2]
[null,"2T",0.77936845788261366,7.1493133510219548E-2,9.2107181386127071E-2,1.1283785753856024E-2,4.5747441467183722E-2]
[null,"3T",0.82241490949016083,4.3326482925593317E-2,8.6061766279102503E-2,8.4457081726302761E-3,3.9722980771937727E-2]
[null,"4T",0.7858790692375609,6.5819828543761214E-2,9.1851556492267381E-2,9.569650536868788E-3,4.6879895189541741E-2]
[2015,"1T",0.77359712653830315,7.1571571571571568E-2,9.9364069952305248E-2,8.5085085085085076E-3,4.6958723429311663E-2]
[null,"2T",0.79021111171103076,6.8192862156471037E-2,9.0572863236326337E-2,9.5297230171157068E-3,4.1493439879056203E-2]
[null,"3T",0.81175026216845292,4.8418037189554189E-2,9.1157889352124197E-2,9.1055579711998378E-3,3.9593830728700416E-2]
[null,"4T",0.78204461546461446,6.5649212209453495E-2,9.5704851541781516E-2,8.8658936092766896E-3,4.7735427174873904E-2]
[2016,"1T",0.76383615849419806,7.6439762579541201E-2,9.8711298861023478E-2,1.0106411421849098E-2,5.0906368643388059E-2]
[null,"2T",0.7800532459553553,6.8630964570960476E-2,9.1439688715953302E-2,1.1698750767970511E-2,4.8151750972762641E-2]
[null,"3T",0.8165354141078438,4.1880403631722178E-2,8.5494786022204561E-2,1.0211208246032319E-2,4.5878187992197096E-2]
[null,"4T",0.79071423310172118,5.7796655945395174E-2,9.2071988018365289E-2,1.2325370129391834E-2,4.709175280512657E-2]
[2017,"1T",0.7756626079031973,7.0906007138698324E-2,9.4321950231627982E-2,1.1948459610662482E-2,4.7160975115813991E-2]
[null,"2T",0.78711870854235511,7.3607379757970562E-2,8.3307577090416293E-2,1.1649746796319631E-2,4.4364137799862098E-2]
[null,"3T",0.81081949897820937,4.7186057725425362E-2,8.4223094762462397E-2,1.1779293242405455E-2,4.5969093706229473E-2]
[null,"4T",0.78552278820375332,6.7000611448191527E-2,9.1811297681200318E-2,1.1241239828794505E-2,4.4447580076195856E-2]
[2018,"1T",0.76758906700943408,7.1932675284359621E-2,9.7591734775543851E-2,1.2077704751048916E-2,5.0784565760434601E-2]
[null,"2T",0.77245811338076653,6.6582510901996794E-2,0.10082625659857701,1.1475786091347258E-2,4.8657333027312372E-2]
[null,"3T",0.80503116750593406,4.6496151201224523E-2,9.5942678409015297E-2,1.1801504026265003E-2,4.0750682135806029E-2]
[null,"4T",0.78816608213598816,6.4464305916958925E-2,9.523701776219029E-2,1.3304672474261793E-2,3.8827921710600746E-2]

{"sheet":"rotacion","index":27,"n_rows":28,"n_cols":18,"rows_kept":28,"cut":false,"hidden":true,"merged":[]}
[null,null,null,null,null,null,null,null,null,null,null,null,null,null,null,"Hablan de Rotacion",null,"Año 2017 y 2019¡8."]
[]
[null,null,1,2,3,4,7.5,12.5,25,"ajuste con este nº. Dias (25)"]
[]
[null,"TOTAL",1,2,3,4,"5 a 10","11 a 15",">15","check"]
[2014,6305869,3369110,1311075,595531,308926,511532,101243,108452,{"$f":"SUM(C6:I6)","v":6305869},{"$f":"J6-B6","v":0}]
[2015,6758624,3511188,1421548,662056,347841,576576,114167,125248,{"$f":"SUM(C7:I7)","v":6758624},{"$f":"J7-B7","v":0}]
[2016,"no esta descargable"]
[2017,7460693,3751898,1574656,752287,403973,684452,138095,155332,{"$f":"SUM(C9:I9)","v":7460693},{"$f":"J9-B9","v":0},null,null,null,null,"Hablan de Estabilidad"]
[2018,7735697,3920270,1620547,773153,412584,702129,142867,164147,{"$f":"SUM(C10:I10)","v":7735697},{"$f":"J10-B10","v":0},null,null,null,null,"pero no dejan claro como se calcula la Tasa. "]
[]
[]
[]
[null,"estructura"]
[2014,null,{"$f":"C6/$B6","v":0.53428163509264148},{"$f":"D6/$B6","v":0.20791345332419686},9.4440750354947117E-2,4.8990234335664122E-2,8.1119985207431369E-2,1.6055360490362231E-2,1.7198581194756819E-2]
[2015,null,{"$f":"C7/$B7","v":0.51951225574909921},{"$f":"D7/$B7","v":0.21033097861339822},9.7957217327077226E-2,5.1466245200206436E-2,8.5309672501384895E-2,1.689204784879289E-2,1.8531582760041097E-2]
[2016]
[2017,null,{"$f":"C9/$B9","v":0.50288867267424087},{"$f":"D9/$B9","v":0.21106028622274098},0.1008333944313216,5.4146846680328486E-2,9.1741075527434254E-2,1.8509674637463301E-2,2.0820049826470545E-2]
[2018,null,{"$f":"C10/$B10","v":0.50677657100581885},{"$f":"D10/$B10","v":0.20948946164773516},9.9946132843620944E-2,5.333507762778196E-2,9.0764801154957331E-2,1.8468536190080868E-2,2.1219419530004859E-2]
[null,null,null,null,null,null,null,null,null,"desviacion"]
[2014,{"$f":"SUM(C21:I21)","v":2.6684481552027166},{"$f":"C15*C$3","v":0.53428163509264148},0.41582690664839372,0.28332225106484132,0.19596093734265649,0.60839988905573528,0.20069200612952789,0.42996452986892048,{"$f":"K21-B21","v":-1.8448155202716698E-2},2.65,null,"estos datos son media ANUALES"]
[2015,2.7541735566292784,{"$f":"C16*C$3","v":0.51951225574909921},0.42066195722679645,0.29387165198123166,0.20586498080082574,0.63982254376038672,0.21115059810991113,0.46328956900102741,{"$f":"K22-B22","v":-2.7541735566292784},null,null,"pero en cada mes habria un indice de rotación "]
[2016,null,null,null,null,null,null,null,null,null,null,null,"diferente, por ejemplo, este es dic-17"]
[2017,{"$f":"SUM(C24:I24)","v":2.8840270602208133},{"$f":"C18*C$3","v":0.50288867267424087},0.42212057244548196,0.30250018329396478,0.21658738672131395,0.68805806645575696,0.23137093296829125,0.52050124566176359,-4.0270602208134498E-3,2.88]
[2018,{"$f":"SUM(C25:I25)","v":2.8810124026315918},{"$f":"C19*C$3","v":0.50677657100581885},0.41897892329547032,0.2998383985308628,0.21334031051112784,0.68073600866217998,0.23085670237601086,0.53048548825012143,-1.0124026315918577E-3,2.88]
[null,null,null,null,null,null,null,null,null,null,"teorico"]
[null,null,null,null,null,null,null,null,null,null,"según paper "]
[null,null,null,null,null,null,null,null,null,null,"RMT ministerio y Observatorio"]