{"text_format":"1","workbook":"xlsx","n_sheets":6,"sheets":["Dashboard","Ayuda y Version","pBlock","pAccel0","pAccel1","empresa_ccaa"],"not_rendered":{"charts":12,"images":7,"macros":1,"external_links":0,"defined_names":6,"comments":0,"pivot_tables":0},"unopened":[],"bounds":{"document_bytes":16777216,"sheet_cells":100000,"rows_first":2000,"rows_last":500,"rows_between":2000,"halvings":0,"cell_chars":16384,"cell_head_chars":4096},"cells_cut":0,"cells_raw":0,"read":"whole","date_system":"1900"}

{"sheet":"Dashboard","index":0,"n_rows":49,"n_cols":25,"rows_kept":49,"cut":false,"hidden":false,"merged":[]}
[]
[]
[null,null,null,null,null,null,null,null,null,null,null,null,2020]
[null,null,null,null,null,null,null,null,null,null,null,null,"JULIO",null,null,null,null,"Empresa - Sector","Empresa - Sector"]
["Acumulado a:",{"$f":"M4","v":"JULIO"},null,null,"Datos acumulados",null,"Cuota Negocio / Total ASEMPLEO",null,null,{"$f":"empresa_ccaa!L5","v":"iEMPRESA"},null,"¿▲\"sin\" mi Empresa?",null,null,null,null,null,null,"p.p."]
["Total","Facturación, €",null,"(a)",{"$f":"J5","v":"iEMPRESA"},null,null,null,"Cuota de Facturación","∆",null,"(b)","∆ (a-b)",null,null,null,null,null,"Puntos porcentuales"]
[null,2019,2020,"% i.a.",{"$f":"B7","v":2019},{"$f":"C7","v":2020},"% i.a.",{"$f":"E7","v":2019},{"$f":"F7","v":2020},"Dif.P.P.",null,"% i.a.","Dif.P.P.",null,null,null,null,"Dif. Ritmo","Importancia Relativa",null,null,"Empresa"]
["Nacional",{"$f":"empresa_ccaa!F12","v":2414807825.7982144},{"$f":"empresa_ccaa!G12","v":2029308345.3391447},{"$f":"((C8/B8)-1)","v":-0.15963981743832678},{"$f":"empresa_ccaa!K12","v":36222117.386973202},{"$f":"empresa_ccaa!L12","v":32697937.143410198},{"$f":"IF(E8>0,((F8/E8)-1),\"n.a.\")","v":-9.7293601197108059E-2},{"$f":"E8/B8","v":1.4999999999999994E-2},{"$f":"F8/C8","v":1.611284811325487E-2},{"$f":"(I8-H8)*100","v":0.11128481132548756},null,{"$f":"((C8-F8)/(B8-E8))-1","v":-0.16058925220342135},{"$f":"(D8-L8)*100","v":9.4943476509457003E-2},null,null,null,null,{"$f":"IF(G8=\"n.a.\",\"n.a.\",(G8-D8)*100)","v":6.2346216241218722},{"$f":"empresa_ccaa!M12-empresa_ccaa!H12","v":0},null,"criterio_rank","peso","Comunidad","% i.a.","Total_Regional"]
["ANDALUCIA",{"$f":"empresa_ccaa!F13","v":199825095.45802876},{"$f":"empresa_ccaa!G13","v":186108785.66741389},{"$f":"((C9/B9)-1)","v":-6.8641577571501022E-2},{"$f":"empresa_ccaa!K13","v":2997376.4318704312},{"$f":"empresa_ccaa!L13","v":2977740.5706786225},-6.5510160762675129E-3,{"$f":"E9/B9","v":1.4999999999999999E-2},{"$f":"F9/C9","v":1.6E-2},{"$f":"(I9-H9)*100","v":0.10000000000000009},null,{"$f":"((C9-F9)/(B9-E9))-1","v":-6.9587119117113683E-2},9.4554154561266035E-2,null,null,null,null,{"$f":"IF(G9=\"n.a.\",\"n.a.\",(G9-D9)*100)","v":6.2090561495233505},{"$f":"empresa_ccaa!M13-empresa_ccaa!H13","v":-6.4230429065324779E-4},null,{"$f":"IF(V9=$V$27,1,0)","v":0},{"$f":"I9","v":1.6E-2},{"$f":"A9","v":"ANDALUCIA"},{"$f":"G9","v":-6.5510160762675129E-3},{"$f":"D9","v":-6.8641577571501022E-2}]
["ARAGON",{"$f":"empresa_ccaa!F14","v":120275082.62900406},{"$f":"empresa_ccaa!G14","v":91943938.07458216},{"$f":"((C10/B10)-1)","v":-0.23555290036100884},{"$f":"empresa_ccaa!K14","v":1804126.2394350609},{"$f":"empresa_ccaa!L14","v":1471103.0091933145},-0.18458976038507613,1.4999999999999999E-2,1.6E-2,0.10000000000000009,null,-0.23632898878703834,7.7608842602949757E-2,null,null,null,null,5.0963139975932714,{"$f":"empresa_ccaa!M14-empresa_ccaa!H14","v":-3.1731971015273863E-4},null,{"$f":"IF(V10=$V$27,1,0)","v":0},1.6E-2,"ARAGON",{"$f":"G10","v":-0.18458976038507613},{"$f":"D10","v":-0.23555290036100884}]
["ASTURIAS",{"$f":"empresa_ccaa!F15","v":39555211.976874866},{"$f":"empresa_ccaa!G15","v":35194606.277453132},-0.11024098927774861,{"$f":"empresa_ccaa!K15","v":593328.1796531229},{"$f":"empresa_ccaa!L15","v":563113.7004392501},-5.092372189626504E-2,1.4999999999999998E-2,1.6E-2,0.10000000000000026,null,-0.11114429791807579,9.0330864032717173E-2,null,null,null,null,5.9317267381483578,{"$f":"empresa_ccaa!M15-empresa_ccaa!H15","v":-1.2146469355969747E-4},null,0,1.6E-2,"ASTURIAS",-5.092372189626504E-2,-0.11024098927774861]
["BALEARES",{"$f":"empresa_ccaa!F16","v":10389206.70676465},{"$f":"empresa_ccaa!G16","v":4887464.5960569121},-0.52956325405725424,{"$f":"empresa_ccaa!K16","v":155838.10060146975},{"$f":"empresa_ccaa!L16","v":78199.433536910597},{"$f":"IF(E12>0,((F12/E12)-1),\"n.a.\")","v":-0.49820080432773783},1.5000000000000001E-2,1.6E-2,9.9999999999999922E-2,null,-0.53004085481455654,4.776007573022989E-2,null,null,null,null,3.1362449729516406,{"$f":"empresa_ccaa!M16-empresa_ccaa!H16","v":-1.686776617882595E-5},null,0,1.6E-2,"BALEARES",-0.49820080432773783,-0.52956325405725424]
["CANARIAS",{"$f":"empresa_ccaa!F17","v":56189362.437400326},{"$f":"empresa_ccaa!G17","v":30896251.92142912},-0.45014055007564568,{"$f":"empresa_ccaa!K17","v":842840.43656100484},{"$f":"empresa_ccaa!L17","v":494340.03074286593},-0.41348325341402203,1.4999999999999999E-2,1.6E-2,0.10000000000000009,null,-0.45069878301973132,5.5823294408563484E-2,null,null,null,null,3.6657296661623651,{"$f":"empresa_ccaa!M17-empresa_ccaa!H17","v":-1.0663008252442818E-4},null,0,1.6E-2,"CANARIAS",-0.41348325341402203,-0.45014055007564568]
["CANTABRIA",{"$f":"empresa_ccaa!F18","v":61408923.893834323},{"$f":"empresa_ccaa!G18","v":53744372.772952974},-0.12481168264944786,{"$f":"empresa_ccaa!K18","v":921133.85840751475},{"$f":"empresa_ccaa!L18","v":859909.96436724765},-6.6465794826077618E-2,1.4999999999999998E-2,1.6E-2,0.10000000000000026,null,-0.12570019870767191,8.8851605822404256E-2,null,null,null,null,5.8345887823370246,{"$f":"empresa_ccaa!M18-empresa_ccaa!H18","v":-1.8548421078961805E-4},null,0,1.6E-2,"CANTABRIA",-6.6465794826077618E-2,-0.12481168264944786]
["CASTILLA-LA MANCHA",{"$f":"empresa_ccaa!F19","v":103277001.60736996},{"$f":"empresa_ccaa!G19","v":108820511.07917398},5.3676127167971766E-2,{"$f":"empresa_ccaa!K19","v":1549155.0241105494},{"$f":"empresa_ccaa!L19","v":1741128.1772667838},0.12392120231250336,1.4999999999999999E-2,1.6E-2,0.10000000000000009,null,5.260640521145632E-2,0.10697219565154459,null,null,null,null,7.0245075144531599,{"$f":"empresa_ccaa!M19-empresa_ccaa!H19","v":-3.7556465121501431E-4},null,0,1.6E-2,"CASTILLA-LA MANCHA",0.12392120231250336,5.3676127167971766E-2]
["CASTILLA Y LEÓN",{"$f":"empresa_ccaa!F20","v":149447152.01958421},{"$f":"empresa_ccaa!G20","v":125158526.76684345},-0.16252317240249492,{"$f":"empresa_ccaa!K20","v":2241707.2802937631},{"$f":"empresa_ccaa!L20","v":2002536.4282694953},-0.10669138389599464,1.4999999999999999E-2,1.6E-2,{"$f":"(I16-H16)*100","v":0.10000000000000009},null,-0.16337340268431977,8.5023028182484861E-2,null,null,null,null,5.5831788506500279,{"$f":"empresa_ccaa!M20-empresa_ccaa!H20","v":-4.3195090691657695E-4},null,0,1.6E-2,"CASTILLA Y LEÓN",-0.10669138389599464,-0.16252317240249492]
["CATALUÑA",{"$f":"empresa_ccaa!F21","v":579479966.71172118},{"$f":"empresa_ccaa!G21","v":458007235.9677543},-0.20962369317660456,{"$f":"empresa_ccaa!K21","v":8692199.500675818},{"$f":"empresa_ccaa!L21","v":7557119.393467946},{"$f":"IF(E17>0,((F17/E17)-1),\"n.a.\")","v":-0.13058606249426508},1.5000000000000001E-2,1.6500000000000001E-2,{"$f":"(I17-H17)*100","v":0.14999999999999997},null,-0.21082731191796011,0.12036187413555499,null,null,null,null,7.9037630682339488,{"$f":"empresa_ccaa!M21-empresa_ccaa!H21","v":5.4229220874129069E-3},null,{"$f":"IF(V17=$V$27,1,0)","v":1},{"$f":"I17","v":1.6500000000000001E-2},"CATALUÑA",-0.13058606249426508,-0.20962369317660456]
["COMUNIDAD VALENCIANA",{"$f":"empresa_ccaa!F22","v":195389741.73763841},{"$f":"empresa_ccaa!G22","v":158863905.51877326},-0.18693835149191507,{"$f":"empresa_ccaa!K22","v":2930846.1260645762},{"$f":"empresa_ccaa!L22","v":2541822.4883003724},-0.13273424159137592,1.4999999999999999E-2,1.6E-2,{"$f":"(I18-H18)*100","v":0.10000000000000009},null,-0.18776379478989291,8.2544329797784588E-2,null,null,null,null,5.4204109900539148,{"$f":"empresa_ccaa!M22-empresa_ccaa!H22","v":-5.4827593323286683E-4},null,0,1.6E-2,"COMUNIDAD VALENCIANA",-0.13273424159137592,-0.18693835149191507]
["EXTREMADURA",{"$f":"empresa_ccaa!F23","v":14950140.227640595},{"$f":"empresa_ccaa!G23","v":18024224.320784509},0.20562242536430442,{"$f":"empresa_ccaa!K23","v":224252.10341460892},{"$f":"empresa_ccaa!L23","v":288387.58913255215},0.28599725372192486,1.4999999999999999E-2,1.6E-2,0.10000000000000009,null,0.20439844320657419,0.12239821577302301,null,null,null,null,8.0374828357620451,{"$f":"empresa_ccaa!M23-empresa_ccaa!H23","v":-6.2205750123077441E-5},null,0,1.6E-2,"EXTREMADURA",0.28599725372192486,0.20562242536430442]
["GALICIA",{"$f":"empresa_ccaa!F24","v":122362049.55532874},{"$f":"empresa_ccaa!G24","v":116754204.28930527},-4.5829938991727603E-2,{"$f":"empresa_ccaa!K24","v":1835430.7433299311},{"$f":"empresa_ccaa!L24","v":1868067.2686288843},1.7781398408823978E-2,1.4999999999999999E-2,1.6E-2,0.10000000000000009,null,-4.6798639561279165E-2,9.6870056955156159E-2,null,null,null,null,6.3611337400551582,{"$f":"empresa_ccaa!M24-empresa_ccaa!H24","v":-4.0294565405869787E-4},null,0,1.6E-2,"GALICIA",1.7781398408823978E-2,-4.5829938991727603E-2]
["MADRID",{"$f":"empresa_ccaa!F25","v":387592997.28582382},{"$f":"empresa_ccaa!G25","v":328177056.46235985},-0.15329467054238011,{"$f":"empresa_ccaa!K25","v":5813894.9592873575},{"$f":"empresa_ccaa!L25","v":5250832.9033977576},-9.6847648578538781E-2,1.5000000000000001E-2,1.6E-2,9.9999999999999922E-2,null,-0.15415426986162639,8.5959931924628474E-2,null,null,null,null,5.6447021963841326,{"$f":"empresa_ccaa!M25-empresa_ccaa!H25","v":-1.1326146194753917E-3},null,0,1.6E-2,"MADRID",-9.6847648578538781E-2,-0.15329467054238011]
["MURCIA",{"$f":"empresa_ccaa!F26","v":148798097.38591987},{"$f":"empresa_ccaa!G26","v":151365347.02402675},1.7253242368069577E-2,{"$f":"empresa_ccaa!K26","v":2231971.4607887981},{"$f":"empresa_ccaa!L26","v":2421845.5523844282},8.5070125192607593E-2,1.4999999999999999E-2,1.6E-2,0.10000000000000009,null,1.6220497959573921E-2,0.10327444084956561,null,null,null,null,6.7816882824538016,{"$f":"empresa_ccaa!M26-empresa_ccaa!H26","v":-5.2239668052797561E-4},null,0,1.6E-2,"MURCIA",8.5070125192607593E-2,1.7253242368069577E-2]
["NAVARRA",{"$f":"empresa_ccaa!F27","v":86095776.480627909},{"$f":"empresa_ccaa!G27","v":62326241.594396882},-0.27608247300701583,{"$f":"empresa_ccaa!K27","v":1291436.6472094187},{"$f":"empresa_ccaa!L27","v":997219.86551035009},-0.22782130454081695,1.5000000000000001E-2,1.6E-2,9.9999999999999922E-2,null,-0.2768174146587854,7.3494165176957171E-2,null,null,null,null,4.8261168466198878,{"$f":"empresa_ccaa!M27-empresa_ccaa!H27","v":-2.1510221697922105E-4},null,0,1.6E-2,"NAVARRA",-0.22782130454081695,-0.27608247300701583]
["PAIS VASCO",{"$f":"empresa_ccaa!F28","v":116880744.14616734},{"$f":"empresa_ccaa!G28","v":80802645.27733475},-0.30867444532791877,{"$f":"empresa_ccaa!K28","v":1753211.16219251},{"$f":"empresa_ccaa!L28","v":1292842.3244373561},-0.2625860750164466,1.4999999999999999E-2,1.6E-2,0.10000000000000009,null,-0.30937629868291572,7.0185335499695078E-2,null,null,null,null,4.6088370311472175,{"$f":"empresa_ccaa!M28-empresa_ccaa!H28","v":-2.7886854224341145E-4},null,0,1.6E-2,"PAIS VASCO",-0.2625860750164466,-0.30867444532791877]
["RIOJA (LA)",{"$f":"empresa_ccaa!F29","v":22891275.538484916},{"$f":"empresa_ccaa!G29","v":18233027.728503484},-0.20349446242739788,{"$f":"empresa_ccaa!K29","v":343369.13307727373},{"$f":"empresa_ccaa!L29","v":291728.44365605578},-0.15039409325589104,1.4999999999999999E-2,1.6E-2,0.10000000000000009,null,-0.20430309749092346,8.0863506352557568E-2,null,null,null,null,5.3100369171506845,{"$f":"empresa_ccaa!M29-empresa_ccaa!H29","v":-6.2926378782275985E-5},null,0,1.6E-2,"RIOJA (LA)",-0.15039409325589104,-0.20349446242739788]
[null,null,null,null,null,null,null,null,null,null,null,null,null,null,null,null,null,null,null,null,"codifico=1","máximo"]
[null,null,null,null,null,null,null,null,null,null,null,null,null,null,null,null,null,null,null,null,{"$f":"DMAX(U8:W25,V8,U8:U25)*1","v":1.6500000000000001E-2},{"$f":"MAX(V9:V25)","v":1.6500000000000001E-2}]
[null,null,null,null,null,null,null,null,null,{"$f":"I6","v":"Cuota de Facturación"},null,null,null,null,null,null,null,null,null,"geo data",{"$f":"VLOOKUP(1,U8:Y25,3,0)","v":"CATALUÑA"}]
[null,null,null,null,null,null,null,null,null,null,null,null,{"$f":"I7","v":2020},null,null,null,null,null,null,null,"el dato a buscar debe estar en la primera columna. "]
[null,"% i.a.",null,null,null,"% i.a.",null,null,null,null,null,null,null,null,null,null,null,null,null,null,{"$f":"VLOOKUP(1,U8:Y25,4,0)*1","v":-0.13058606249426508}]
[null,{"$f":"C7","v":2020},null,null,null,{"$f":"B31","v":2020},null,null,null,null,null,null,null,null,null,null,null,null,null,null,{"$f":"VLOOKUP(1,U8:Y25,5,0)*1","v":-0.20962369317660456}]
[null,"Total",null,null,null,"Empresa",null,null,null,{"$f":"J5","v":"iEMPRESA"}]
[null,null,null,null,null,null,null,null,null,null,null,null,"Ámbito"]
["Ámbito",{"$f":"F34","v":"Nacional"},null,null,null,{"$f":"J34","v":"Nacional"},null,null,null,"Nacional",null,null,"Nacional"]
[]
[]
[]
[null,null,null,null,null,null,null,null,null,{"$f":"U28","v":"CATALUÑA"},null,null,"CCAA"]
[null,null,null,null,null,null,null,null,null,null,null,null,"Líder para la"]
[null,"% i.a.",null,null,null,"% i.a.",null,null,null,null,null,null,"Empresa"]
[null,{"$f":"B31","v":2020},null,null,null,{"$f":"B41","v":2020}]
[null,"Total",null,null,null,"Empresa",null,null,null,{"$f":"J32","v":"iEMPRESA"}]
[]
["Ámbito",{"$f":"F44","v":"CATALUÑA"},null,null,null,{"$f":"J44","v":"CATALUÑA"},null,null,null,{"$f":"J38","v":"CATALUÑA"}]
[]
[]
[]
["Fuente: Cifras consolidadas del sector. Valores absolutos 2015-2020 y cifras de evolución de 2016 a la fecha. ASEMPLEO ©."]
["Nota de Confidencialidad: Este informe comparativo contiene datos redondeados que son ficticeos y serán reemplazados por los que la Empresa introduzca en \"empresa_ccaa\"."]

{"sheet":"Ayuda y Version","index":1,"n_rows":2,"n_cols":8,"rows_kept":2,"cut":false,"hidden":true,"merged":[]}
[]
[null,null,null,null,null,null,"Versión de plantilla:",2.5]

{"sheet":"pBlock","index":2,"n_rows":5,"n_cols":3,"rows_kept":5,"cut":false,"hidden":true,"merged":[]}
[]
[]
[]
[null,"Block Test"]
[null,"Info1","Info2"]

{"sheet":"pAccel0","index":3,"n_rows":30,"n_cols":42,"rows_kept":30,"cut":false,"hidden":true,"merged":[]}
["Gauge Configuration",null,null,null,null,null,null,null,null,null,null,null,null,null,"Gauge Configuration",null,null,null,null,null,null,null,null,null,null,"Gauge Configuration",null,null,null,null,null,null,null,null,null,null,"Gauge Configuration"]
[null,null,null,null,null,"Decal",null,null,null,null,null,null,null,null,null,null,null,null,null,"Decal",null,null,null,null,null,null,null,null,null,null,"Decal",null,null,null,null,null,null,null,null,null,null,"Decal"]
["Title:",{"$f":"Dashboard!#REF!","v":{"$error":"#REF!"}},null,null,null,0,null,null,null,null,null,null,null,null,"Title:",{"$f":"pAccel0!B3","v":{"$error":"#REF!"}},null,null,null,0,null,null,null,null,null,"Title:","Empresa",null,null,null,0,null,null,null,null,null,"Title:","CCAA",null,null,null,0]
["Real Value:",{"$f":"Dashboard!#REF!","v":{"$error":"#REF!"}},null,null,null,null,null,null,null,null,null,null,null,null,"Real Value:",{"$f":"Dashboard!I8","v":1.611284811325487E-2},null,null,null,null,null,null,null,null,null,"Real Value:",{"$f":"Dashboard!I8","v":1.611284811325487E-2},null,null,null,null,null,null,null,null,null,"Real Value:",{"$f":"Dashboard!U27","v":1.6500000000000001E-2}]
[]
["Color bands",null,null,null,null,null,null,null,null,null,null,null,null,null,"Color bands",null,null,null,null,null,null,null,null,null,null,"Color bands",null,null,null,null,null,null,null,null,null,null,"Color bands"]
["Red:",2,null,null,null,null,null,null,null,null,null,null,null,null,"Red:",2,null,null,null,null,null,null,null,null,null,"Red:",2,null,null,null,null,null,null,null,null,null,"Red:",2]
["Yellow:",15,null,null,null,null,null,null,null,null,null,null,null,null,"Yellow:",15,null,null,null,null,null,null,null,null,null,"Yellow:",15,null,null,null,null,null,null,null,null,null,"Yellow:",15]
["Green:",23,null,null,null,null,null,null,null,null,null,null,null,null,"Green:",23,null,null,null,null,null,null,null,null,null,"Green:",23,null,null,null,null,null,null,null,null,null,"Green:",23]
[]
["Advanced Parameters",null,null,null,null,null,null,null,null,null,null,null,null,null,"Advanced Parameters",null,null,null,null,null,null,null,null,null,null,"Advanced Parameters",null,null,null,null,null,null,null,null,null,null,"Advanced Parameters"]
[null,"Value to 100%",{"$f":"IF(ISERROR((B4-F3/100)*B27),0,(B4-F3/100)*B27)","v":0},null,null,null,null,null,null,null,null,null,null,null,null,"Value to 100%",{"$f":"IF(ISERROR((P4-T3/100)*P27),0,(P4-T3/100)*P27)","v":4.0282120283137171E-2},null,null,null,null,null,null,null,null,null,"Value to 100%",{"$f":"IF(ISERROR((AA4-AE3/100)*AA27),0,(AA4-AE3/100)*AA27)","v":4.0282120283137171E-2},null,null,null,null,null,null,null,null,null,"Value to 100%",{"$f":"IF(ISERROR((AL4-AP3/100)*AL27),0,(AL4-AP3/100)*AL27)","v":4.1250000000000002E-2}]
[null,"Relative value",{"$f":"IF(C12>100%,102%,IF(C12<0%,-2%,C12))*1.506-0.253","v":-0.253},null,null,null,null,null,null,null,null,null,null,null,null,"Relative value",{"$f":"IF(Q12>100%,102%,IF(Q12<0%,-2%,Q12))*1.506-0.253","v":-0.19233512685359544},null,null,null,null,null,null,null,null,null,"Relative value",{"$f":"IF(AB12>100%,102%,IF(AB12<0%,-2%,AB12))*1.506-0.253","v":-0.19233512685359544},null,null,null,null,null,null,null,null,null,"Relative value",{"$f":"IF(AM12>100%,102%,IF(AM12<0%,-2%,AM12))*1.506-0.253","v":-0.19087750000000001}]
[]
["Angle",null,{"$f":"C13*PI()","v":-0.79482294135821763},null,null,null,null,null,null,null,null,null,null,null,"Angle",null,{"$f":"Q13*PI()","v":-0.60423862155051633},null,null,null,null,null,null,null,null,"Angle",null,{"$f":"AB13*PI()","v":-0.60423862155051633},null,null,null,null,null,null,null,null,"Angle",null,{"$f":"AM13*PI()","v":-0.59965935173558571}]
["x",0,{"$f":"-COS(C15)","v":-0.70041115078380645},null,null,null,null,null,null,null,null,null,null,null,"x",0,{"$f":"-COS(Q15)","v":-0.82293490237724143},null,null,null,null,null,null,null,null,"x",0,{"$f":"-COS(AB15)","v":-0.82293490237724143},null,null,null,null,null,null,null,null,"x",0,{"$f":"-COS(AM15)","v":-0.82552791149805127}]
["y",0,{"$f":"SIN(C15)","v":-0.7137396022764213},null,null,null,null,null,null,null,null,null,null,null,"y",0,{"$f":"SIN(Q15)","v":-0.56813567609274462},null,null,null,null,null,null,null,null,"y",0,{"$f":"SIN(AB15)","v":-0.56813567609274462},null,null,null,null,null,null,null,null,"y",0,{"$f":"SIN(AM15)","v":-0.56436129149478853}]
[]
[null,null,null,"Value","Label",null,null,null,null,null,null,null,null,null,null,null,null,"Value","Label",null,null,null,null,null,null,null,null,null,"Value","Label",null,null,null,null,null,null,null,null,null,"Value","Label"]
[null,null,70,10,{"$f":"B26+F3","v":4},null,null,null,null,null,null,null,null,null,null,null,70,10,{"$f":"P26+T3","v":4},null,null,null,null,null,null,null,null,70,10,{"$f":"AA26+AE3","v":4},null,null,null,null,null,null,null,null,70,10,{"$f":"AL26+AP3","v":4}]
[null,null,{"$f":"B7*$C$20/$B$25","v":3.5},10,{"$f":"E20+$B$26","v":8},null,null,null,null,null,null,null,null,null,null,null,{"$f":"P7*$C$20/$B$25","v":3.5},10,{"$f":"S20+$B$26","v":8},null,null,null,null,null,null,null,null,{"$f":"AA7*$AB$20/$AA$25","v":3.5},10,{"$f":"AD20+$AA$26","v":8},null,null,null,null,null,null,null,null,{"$f":"AL7*$AM$20/$AL$25","v":3.5},10,{"$f":"AO20+$AL$26","v":8}]
[null,null,{"$f":"B8*$C$20/$B$25","v":26.25},10,12,null,null,null,null,null,null,null,null,null,null,null,{"$f":"P8*$C$20/$B$25","v":26.25},10,12,null,null,null,null,null,null,null,null,{"$f":"AA8*$AB$20/$AA$25","v":26.25},10,12,null,null,null,null,null,null,null,null,{"$f":"AL8*$AM$20/$AL$25","v":26.25},10,{"$f":"AO21+$AL$26","v":12}]
[null,null,{"$f":"B9*$C$20/$B$25","v":40.25},10,16,null,null,null,null,null,null,null,null,null,null,null,{"$f":"P9*$C$20/$B$25","v":40.25},10,16,null,null,null,null,null,null,null,null,{"$f":"AA9*$AB$20/$AA$25","v":40.25},10,16,null,null,null,null,null,null,null,null,40.25,10,16]
["White",null,23,10,20,null,null,null,null,null,null,null,null,null,"White",null,23,10,20,null,null,null,null,null,null,"White",null,23,10,20,null,null,null,null,null,null,"White",null,23,10,20]
["Total",{"$f":"SUM(B7:B24)","v":40},{"$f":"SUM(C21:C24)","v":93},10,24,null,null,null,null,null,null,null,null,null,"Total",{"$f":"SUM(P7:P24)","v":40},{"$f":"SUM(Q21:Q24)","v":93},10,24,null,null,null,null,null,null,"Total",{"$f":"SUM(AA7:AA24)","v":40},{"$f":"SUM(AB21:AB24)","v":93},10,24,null,null,null,null,null,null,"Total",{"$f":"SUM(AL7:AL24)","v":40},{"$f":"SUM(AM21:AM24)","v":93},10,24]
["Increment",{"$f":"B25/10","v":4},null,10,28,null,null,null,null,null,null,null,null,null,"Increment",{"$f":"P25/10","v":4},null,10,28,null,null,null,null,null,null,"Increment",{"$f":"AA25/10","v":4},null,10,28,null,null,null,null,null,null,"Increment",{"$f":"AL25/10","v":4},null,10,28]
["Conversion",{"$f":"100/B25","v":2.5},null,10,32,null,null,null,null,null,null,null,null,null,"Conversion",{"$f":"100/P25","v":2.5},null,10,32,null,null,null,null,null,null,"Conversion",{"$f":"100/AA25","v":2.5},null,10,32,null,null,null,null,null,null,"Conversion",{"$f":"100/AL25","v":2.5},null,10,32]
[null,null,null,10,36,null,null,null,null,null,null,null,null,null,null,null,null,10,36,null,null,null,null,null,null,null,null,null,10,36,null,null,null,null,null,null,null,null,null,10,36]
[null,null,null,10,40,null,null,null,null,null,null,null,null,null,null,null,null,10,40,null,null,null,null,null,null,null,null,null,10,40,null,null,null,null,null,null,null,null,null,10,40]
[null,null,null,33,{"$f":"F3","v":0},null,null,null,null,null,null,null,null,null,null,null,null,33,{"$f":"T3","v":0},null,null,null,null,null,null,null,null,null,33,{"$f":"AE3","v":0},null,null,null,null,null,null,null,null,null,33,{"$f":"AP3","v":0}]

{"sheet":"pAccel1","index":4,"n_rows":35,"n_cols":64,"rows_kept":35,"cut":false,"hidden":true,"merged":[]}
["Gauge Configuration",null,null,null,null,null,null,null,null,null,null,null,null,null,null,null,"Gauge Configuration",null,null,null,null,null,null,"Gauge Configuration",null,null,null,null,null,null,"Gauge Configuration",null,null,null,null,null,null,"Gauge Configuration",null,null,null,null,null,null,"Gauge Configuration",null,null,null,null,null,null,"Gauge Configuration",null,null,null,null,null,null,"Gauge Configuration"]
[null,null,null,null,null,"Decal",null,null,null,null,null,null,null,null,null,null,null,null,null,null,null,"Decal",null,null,null,null,null,null,"Decal",null,null,null,null,null,null,"Decal",null,null,null,null,null,null,"Decal",null,null,null,null,null,null,"Decal",null,null,null,null,null,null,"Decal",null,null,null,null,null,null,"Decal"]
["Title:","CPDs",null,null,null,100,null,null,null,null,null,null,null,null,null,null,"Title:","Facturación",null,null,null,100,null,"Title:","CPDs",null,null,null,100,null,"Title:","Facturación",null,null,null,100,null,"Title:","Facturación",null,null,null,100,null,"Title:","Facturación",null,null,null,100,null,"Title:","Facturación",null,null,null,100,null,"Title:","Facturación",null,null,null,100]
["Real Value:",{"$f":"Dashboard!#REF!","v":{"$error":"#REF!"}},{"$f":"Dashboard!#REF!","v":{"$error":"#REF!"}},null,null,null,null,null,null,null,null,null,null,null,null,null,"Real Value:",{"$f":"Dashboard!#REF!","v":{"$error":"#REF!"}},null,null,null,null,null,"Real Value:",{"$f":"Dashboard!#REF!","v":{"$error":"#REF!"}},null,null,null,null,null,"Real Value:",{"$f":"Dashboard!#REF!","v":{"$error":"#REF!"}},null,null,null,null,null,"Real Value:",{"$f":"Dashboard!D8","v":-0.15963981743832678},null,null,null,null,null,"Real Value:",{"$f":"Dashboard!$G$8","v":-9.7293601197108059E-2},null,null,null,null,null,"Real Value:",{"$f":"Dashboard!U31","v":-0.20962369317660456},null,null,null,null,null,"Real Value:",{"$f":"Dashboard!U30","v":-0.13058606249426508}]
[]
["Color bands"]
["Red:",-50]
["Yellow:",0]
["Green:",50]
[]
["Advanced Parameters",null,null,null,null,null,null,null,null,null,null,null,null,null,null,null,"Advanced Parameters",null,null,null,null,null,null,"Advanced Parameters",null,null,null,null,null,null,"Advanced Parameters",null,null,null,null,null,null,"Advanced Parameters",null,null,null,null,null,null,"Advanced Parameters",null,null,null,null,null,null,"Advanced Parameters",null,null,null,null,null,null,"Advanced Parameters"]
[null,"Value to 100%",{"$f":"IF(ISERROR((B4-F3/100)*B27),0,(B4-F3/100)*B27)","v":0},null,{"$f":"IF(ISERROR((C4-F3/100)*B27),0,(C4-F3/100)*B27)","v":0},null,null,null,null,null,null,null,null,null,null,null,null,"Value to 100%",{"$f":"IF(ISERROR((R4-V3/100)*R27),0,(R4-V3/100)*R27)","v":0},null,null,null,null,null,"Value to 100%",{"$f":"IF(ISERROR((Y4-AC3/100)*Y27),0,(Y4-AC3/100)*Y27)","v":0},null,null,null,null,null,"Value to 100%",{"$f":"IF(ISERROR((AF4-AJ3/100)*AF27),0,(AF4-AJ3/100)*AF27)","v":0},null,null,null,null,null,"Value to 100%",{"$f":"IF(ISERROR((AM4-AQ3/100)*AM27),0,(AM4-AQ3/100)*AM27)","v":-2.3192796348766533},null,null,null,null,null,"Value to 100%",{"$f":"IF(ISERROR((AT4-AX3/100)*AT27),0,(AT4-AX3/100)*AT27)","v":-2.1945872023942163},null,null,null,null,null,"Value to 100%",{"$f":"IF(ISERROR((BA4-BE3/100)*BA27),0,(BA4-BE3/100)*BA27)","v":-2.4192473863532094},null,null,null,null,null,"Value to 100%",{"$f":"IF(ISERROR((BH4-BL3/100)*BH27),0,(BH4-BL3/100)*BH27)","v":-2.2611721249885299}]
[null,"Relative value",{"$f":"IF(B4<-100%,-100%,IF(B4>100%,100%,2*B4/1))","v":{"$error":"#REF!"}},"ojo1, todo en porcentaje, por 2, y con 1 al final en lugar de 100.",{"$f":"IF(C4<-100%,-100%,IF(C4>100%,100%,2*C4/1))","v":{"$error":"#REF!"}},null,null,null,"Todos los negritas tienen dato 50, en lugar de 100 para que la escala recorra menos. ",null,null,null,null,null,null,null,null,"Relative value",{"$f":"IF(R4<-100%,-100%,IF(R4>100%,100%,2*R4/1))","v":{"$error":"#REF!"}},null,null,null,null,null,"Relative value",{"$f":"IF(Y4<-100%,-100%,IF(Y4>100%,100%,2*Y4/1))","v":{"$error":"#REF!"}},null,null,null,null,null,"Relative value",{"$f":"IF(AF4<-100%,-100%,IF(AF4>100%,100%,2*AF4/1))","v":{"$error":"#REF!"}},null,null,null,null,null,"Relative value",{"$f":"IF(AM4<-100%,-100%,IF(AM4>100%,100%,2*AM4/1))","v":-0.31927963487665356},null,null,null,null,null,"Relative value",{"$f":"IF(AT4<-100%,-100%,IF(AT4>100%,100%,2*AT4/1))","v":-0.19458720239421612},null,null,null,null,null,"Relative value",{"$f":"IF(BA4<-100%,-100%,IF(BA4>100%,100%,2*BA4/1))","v":-0.41924738635320913},null,null,null,null,null,"Relative value",{"$f":"IF(BH4<-100%,-100%,IF(BH4>100%,100%,2*BH4/1))","v":-0.26117212498853015}]
[]
["Angle",null,{"$f":"C13*PI()/2","v":{"$error":"#REF!"}},null,{"$f":"E13*PI()/2","v":{"$error":"#REF!"}},null,null,null,null,null,null,null,null,null,null,null,"Angle",null,{"$f":"S13*PI()/2","v":{"$error":"#REF!"}},null,null,null,null,"Angle",null,{"$f":"Z13*PI()/2","v":{"$error":"#REF!"}},null,null,null,null,"Angle",null,{"$f":"AG13*PI()/2","v":{"$error":"#REF!"}},null,null,null,null,"Angle",null,{"$f":"AN13*PI()/2","v":-0.5015232776846632},null,null,null,null,"Angle",null,{"$f":"AU13*PI()/2","v":-0.30565686276212978},null,null,null,null,"Angle",null,{"$f":"BB13*PI()/2","v":-0.65855225450198174},null,null,null,null,"Angle",null,{"$f":"BI13*PI()/2","v":-0.41024821459320077}]
["x",0,{"$f":"SIN(C15)","v":{"$error":"#REF!"}},{"$f":"B16","v":0},{"$f":"SIN(E15)","v":{"$error":"#REF!"}},null,null,null,null,null,null,null,null,null,null,null,"x",0,{"$f":"SIN(S15)","v":{"$error":"#REF!"}},null,null,null,null,"x",0,{"$f":"SIN(Z15)","v":{"$error":"#REF!"}},null,null,null,null,"x",0,{"$f":"SIN(AG15)","v":{"$error":"#REF!"}},null,null,null,null,"x",0,{"$f":"SIN(AN15)","v":-0.48076178379681334},null,null,null,null,"x",0,{"$f":"SIN(AU15)","v":-0.30091965692456951},null,null,null,null,"x",0,{"$f":"SIN(BB15)","v":-0.61197250214010246},null,null,null,null,"x",0,{"$f":"SIN(BI15)","v":-0.39883695847477996}]
["y",0,{"$f":"-COS(C15)","v":{"$error":"#REF!"}},{"$f":"B17","v":0},{"$f":"-COS(E15)","v":{"$error":"#REF!"}},null,null,null,null,null,null,null,null,null,null,null,"y",0,{"$f":"-COS(S15)","v":{"$error":"#REF!"}},null,null,null,null,"y",0,{"$f":"-COS(Z15)","v":{"$error":"#REF!"}},null,null,null,null,"y",0,{"$f":"-COS(AG15)","v":{"$error":"#REF!"}},null,null,null,null,"y",0,{"$f":"-COS(AN15)","v":-0.87685124578830709},null,null,null,null,"y",0,{"$f":"-COS(AU15)","v":-0.95364949539985566},null,null,null,null,"y",0,{"$f":"-COS(BB15)","v":-0.7908790404508026},null,null,null,null,"y",0,{"$f":"-COS(BI15)","v":-0.91702185391330049}]
[]
[null,null,null,"Value","Label"]
[null,null,50,0,50]
[null,null,{"$f":"E21","v":40},{"$f":"D31/D33","v":5},{"$f":"E20+$B$26","v":40}]
[null,null,{"$f":"E22","v":30},{"$f":"D21","v":5},{"$f":"E21+$B$26","v":30}]
[null,null,20,{"$f":"D22","v":5},20]
["White",null,10,5,10,null,null,null,null,null,null,null,null,null,null,null,"White",null,null,null,null,null,null,"White",null,null,null,null,null,null,"White",null,null,null,null,null,null,"White",null,null,null,null,null,null,"White",null,null,null,null,null,null,"White",null,null,null,null,null,null,"White"]
["Total",50,0,5,0,null,null,null,null,null,null,null,null,null,null,null,"Total",50,null,null,null,null,null,"Total",50,null,null,null,null,null,"Total",50,null,null,null,null,null,"Total",50,null,null,null,null,null,"Total",50,null,null,null,null,null,"Total",50,null,null,null,null,null,"Total",50]
["Increment",-10,-10,5,-10,null,null,null,null,null,null,null,null,null,null,null,"Increment",-10,null,null,null,null,null,"Increment",-10,null,null,null,null,null,"Increment",-10,null,null,null,null,null,"Increment",-10,null,null,null,null,null,"Increment",-10,null,null,null,null,null,"Increment",-10,null,null,null,null,null,"Increment",-10]
["Conversion",{"$f":"100/B25","v":2},-20,5,-20,null,null,null,null,null,null,null,null,null,null,null,"Conversion",{"$f":"100/R25","v":2},null,null,null,null,null,"Conversion",{"$f":"100/Y25","v":2},null,null,null,null,null,"Conversion",{"$f":"100/AF25","v":2},null,null,null,null,null,"Conversion",{"$f":"100/AM25","v":2},null,null,null,null,null,"Conversion",{"$f":"100/AT25","v":2},null,null,null,null,null,"Conversion",{"$f":"100/BA25","v":2},null,null,null,null,null,"Conversion",{"$f":"100/BH25","v":2}]
[null,null,-30,5,-30]
[null,null,-40,5,-40]
[null,null,-50,5,-50]
[null,null,null,50]
[]
[null,null,null,10]
[]
[null,null,null,{"$f":"SUM(D20:D30)","v":50}]

{"sheet":"empresa_ccaa","index":5,"n_rows":83,"n_cols":14,"rows_kept":83,"cut":false,"hidden":false,"merged":[]}
[]
[]
[null,null,null,null,null,null,null,null,null,null,null,null,{"$f":"Dashboard!M3","v":2020}]
[null,null,null,null,null,null,null,null,null,null,null,null,{"$f":"Dashboard!M4","v":"JULIO"}]
[null,null,null,null,null,null,null,null,null,null,"Empresa",{"$f":"L9","v":"iEMPRESA"}]
[]
[]
[]
[null,null,"Facturación, €",null,null,"ASEMPLEO","ASEMPLEO",null,null,null,"Empresa = ","iEMPRESA"]
[null,null,"Dato acumulado a",null,{"$f":"M4","v":"JULIO"},{"$f":"Dashboard!B7","v":2019},{"$f":"Dashboard!C7","v":2020},null,null,"Facturación",{"$f":"F10","v":2019},{"$f":"G10","v":2020}]
[null,null,null,null,null,null,null,"Estructura (%)",null,"Datos acumulados ",null,null,"Estructura (%)","check"]
[null,null,null,null,null,{"$f":"E65","v":2414807825.7982144},{"$f":"B65","v":2029308345.3391447},{"$f":"G12/G$12","v":1},"TOTAL",null,{"$f":"SUM(K13:K29)","v":36222117.386973202},{"$f":"SUM(L13:L29)","v":32697937.143410198},{"$f":"L12/L$12","v":1},{"$f":"L12/K12-1","v":-9.7293601197108059E-2}]
[null,null,null,null,null,199825095.45802876,{"$f":"B66","v":186108785.66741389},{"$f":"G13/G$12","v":9.1710452033996234E-2},"ANDALUCIA",null,{"$f":"F13*0.015","v":2997376.4318704312},{"$f":"G13*0.016","v":2977740.5706786225},{"$f":"L13/L$12","v":9.1068147743342986E-2},{"$f":"L13/K13-1","v":-6.5510160762675129E-3}]
[null,null,null,null,null,120275082.62900406,91943938.07458216,{"$f":"G14/G$12","v":4.5308017525161358E-2},"ARAGON",null,{"$f":"F14*0.015","v":1804126.2394350609},{"$f":"G14*0.016","v":1471103.0091933145},{"$f":"L14/L$12","v":4.4990697815008619E-2},-0.18458976038507613]
[null,null,null,null,null,39555211.976874866,35194606.277453132,1.7343153571652656E-2,"ASTURIAS",null,593328.1796531229,563113.7004392501,{"$f":"L15/L$12","v":1.7221688878092958E-2},-5.092372189626504E-2]
[null,null,null,null,null,10389206.70676465,{"$f":"B69","v":4887464.5960569121},2.4084386225889701E-3,"BALEARES",null,155838.10060146975,78199.433536910597,2.3915708564101442E-3,-0.49820080432773783]
[null,null,null,null,null,56189362.437400326,30896251.92142912,1.5225015948113907E-2,"CANARIAS",null,842840.43656100484,494340.03074286593,1.5118385865589478E-2,-0.41348325341402203]
[null,null,null,null,null,61408923.893834323,53744372.772952974,2.64840840458728E-2,"CANTABRIA",null,921133.85840751475,859909.96436724765,2.6298599835083182E-2,-6.6465794826077618E-2]
[null,null,null,null,null,103277001.60736996,108820511.07917398,5.3624433826978395E-2,"CASTILLA-LA MANCHA",null,1549155.0241105494,1741128.1772667838,5.324886917576338E-2,0.12392120231250336]
[null,null,null,null,null,149447152.01958421,125158526.76684345,6.1675460535262593E-2,"CASTILLA Y LEÓN",null,2241707.2802937631,2002536.4282694953,6.1243509628346016E-2,-0.10669138389599464]
[null,null,null,null,null,579479966.71172118,458007235.9677543,0.22569622650973262,"CATALUÑA",null,{"$f":"F21*0.015","v":8692199.500675818},{"$f":"G21*0.0165","v":7557119.393467946},{"$f":"L21/L$12","v":0.23111914859714552},-0.13058606249426508]
[null,null,null,null,null,195389741.73763841,158863905.51877326,7.8284754450277189E-2,"COMUNIDAD VALENCIANA",null,{"$f":"F22*0.015","v":2930846.1260645762},2541822.4883003724,7.7736478517044322E-2,-0.13273424159137592]
[null,null,null,null,null,14950140.227640595,18024224.320784509,8.8819544660041511E-3,"EXTREMADURA",null,224252.10341460892,288387.58913255215,8.8197487158810737E-3,0.28599725372192486]
[null,null,null,null,null,122362049.55532874,116754204.28930527,5.7533989133520723E-2,"GALICIA",null,1835430.7433299311,1868067.2686288843,5.7131043479462025E-2,1.7781398408823978E-2]
[null,null,null,null,null,387592997.28582382,328177056.46235985,0.16171867484609087,"MADRID",null,5813894.9592873575,5250832.9033977576,0.16058606022661548,-9.6847648578538781E-2]
[null,null,null,null,null,148798097.38591987,151365347.02402675,7.4589624278478039E-2,"MURCIA",null,2231971.4607887981,2421845.5523844282,7.4067227597950064E-2,8.5070125192607593E-2]
[null,null,null,null,null,86095776.480627909,62326241.594396882,3.0713046510426049E-2,"NAVARRA",null,1291436.6472094187,997219.86551035009,3.0497944293446828E-2,-0.22782130454081695]
[null,null,null,null,null,116880744.14616734,80802645.27733475,3.9817825350652043E-2,"PAIS VASCO",null,1753211.16219251,1292842.3244373561,3.9538956808408632E-2,-0.2625860750164466]
[null,null,null,null,null,22891275.538484916,18233027.728503484,8.984848345191386E-3,"RIOJA (LA)",null,343369.13307727373,291728.44365605578,8.92192196640911E-3,-0.15039409325589104]
[]
["Fuente: Cifras consolidadas del sector. ASEMPLEO ©."]
["Nota de Confidencialidad: Este informe comparativo se genera con los datos propios de la Empresa. "]
[]
[]
[]
[]
[]
[]
[]
[]
[]
[]
[]
[]
[]
[]
[]
[]
[]
[]
[]
[]
[]
[]
[]
[]
[]
[]
[]
["D03: ",null,null,"D03: ",null,null,"D03 : ","Variación Interanual (%)"]
["MES:","ACUMULADO A LA FECHA",null,{"$f":"A61","v":"MES:"},{"$f":"B61","v":"ACUMULADO A LA FECHA"},null,{"$f":"D61","v":"MES:"},"Tasa % i.a."]
[]
[null,"Facturación",null,null,"Facturación",null,null,"Facturación"]
[null,null,null,null,null,null,null,null,"check"]
["TOTAL",2029308345.3391447,null,"TOTAL",2414807825.7982144,null,"TOTAL",-0.15963981743832678,{"$f":"B65/E65-1","v":-0.15963981743832678}]
["ANDALUCIA",186108785.66741389,null,"ANDALUCIA",199825095.45802876,null,"ANDALUCIA",-6.8641577571501022E-2,{"$f":"B66/E66-1","v":-6.8641577571501022E-2}]
["ARAGON",91943938.07458216,null,"ARAGON",120275082.62900406,null,"ARAGON",-0.23555290036100884,-0.23555290036100884]
["ASTURIAS",35194606.277453132,null,"ASTURIAS",39555211.976874866,null,"ASTURIAS",-0.11024098927774861,-0.11024098927774861]
["BALEARES",4887464.5960569121,null,"BALEARES",10389206.70676465,null,"BALEARES",-0.52956325405725424,-0.52956325405725424]
["CANARIAS",30896251.92142912,null,"CANARIAS",56189362.437400326,null,"CANARIAS",-0.45014055007564568,-0.45014055007564568]
["CANTABRIA",53744372.772952974,null,"CANTABRIA",61408923.893834323,null,"CANTABRIA",-0.12481168264944786,-0.12481168264944786]
["CASTILLA-LA MANCHA",108820511.07917398,null,"CASTILLA-LA MANCHA",103277001.60736996,null,"CASTILLA-LA MANCHA",5.3676127167971766E-2,5.3676127167971766E-2]
["CASTILLA Y LEÓN",125158526.76684345,null,"CASTILLA Y LEÓN",149447152.01958421,null,"CASTILLA Y LEÓN",-0.16252317240249492,-0.16252317240249492]
["CATALUÑA",458007235.9677543,null,"CATALUÑA",579479966.71172118,null,"CATALUÑA",-0.20962369317660456,-0.20962369317660456]
["COMUNIDAD VALENCIANA",158863905.51877326,null,"COMUNIDAD VALENCIANA",195389741.73763841,null,"COMUNIDAD VALENCIANA",-0.18693835149191507,-0.18693835149191507]
["EXTREMADURA",18024224.320784509,null,"EXTREMADURA",14950140.227640595,null,"EXTREMADURA",0.20562242536430442,0.20562242536430442]
["GALICIA",116754204.28930527,null,"GALICIA",122362049.55532874,null,"GALICIA",-4.5829938991727603E-2,-4.5829938991727603E-2]
["MADRID",328177056.46235985,null,"MADRID",387592997.28582382,null,"MADRID",-0.15329467054238011,-0.15329467054238011]
["MURCIA",151365347.02402675,null,"MURCIA",148798097.38591987,null,"MURCIA",1.7253242368069577E-2,1.7253242368069577E-2]
["NAVARRA",62326241.594396882,null,"NAVARRA",86095776.480627909,null,"NAVARRA",-0.27608247300701583,-0.27608247300701583]
["PAIS VASCO",80802645.27733475,null,"PAIS VASCO",116880744.14616734,null,"PAIS VASCO",-0.30867444532791877,-0.30867444532791877]
["RIOJA (LA)",18233027.728503484,null,"RIOJA (LA)",22891275.538484916,null,"RIOJA (LA)",-0.20349446242739788,{"$f":"B82/E82-1","v":-0.20349446242739788}]
["Ceuta y Melilla",null,null,"Ceuta y Melilla",null,null,"Ceuta y Melilla"]